{"text_format":"1","workbook":"xlsx","n_sheets":6,"sheets":["Grain Drying Tool (EMC)","Data","Sheet1","EMC Table, 10 point interval","EMC Table, 5 points interval","EMC Table, 2 points interval"],"not_rendered":{"charts":0,"images":3,"macros":1,"external_links":0,"defined_names":22,"comments":0,"pivot_tables":0},"unopened":[],"bounds":{"document_bytes":16777216,"sheet_cells":100000,"rows_first":2000,"rows_last":500,"rows_between":2000,"halvings":0,"cell_chars":16384,"cell_head_chars":4096},"cells_cut":0,"cells_raw":0,"read":"whole","date_system":"1900"}

{"sheet":"Grain Drying Tool (EMC)","index":0,"n_rows":22,"n_cols":3,"rows_kept":22,"cut":false,"hidden":false,"merged":[[1,1,1,2],[14,1,14,2],[15,1,15,2],[20,0,20,13],[3,1,3,2],[2,1,2,2],[10,1,10,2],[11,1,11,2],[12,1,12,2]]}
[]
[null,"GRAIN DRYING TIPS FOR ARKANSAS FARMERS"]
[null,"Equilibrium Moisture Content"]
[null,"Samy Sadaka, Ph.D. P.E., Email: ssadaka@uaex.edu"]
[null,"Instructions","Value"]
[null,"1 - Enter grain type from drop down list in cell C4","Wheat Durum"]
[null,"2 - Enter air temperature in cell C5, ⁰F",50]
[null,"3 - Enter air relative humidity in cell C6, %",60]
[null,"This tool will provide the following"]
[null,"1 - EMC under the current air conditions, %",{"$f":"Sheet1!C5","v":12.583842133250783}]
[null,"2 - A ready to print compleate EMC table with 10 points interval"]
[null,"3 - A ready to print compleate EMC table with 5 points interval"]
[null,"4 - A ready to print compleate EMC table with 2 points interval"]
[null,"Please remember to enable macros"]
[null,"Reference:  ASABE Standard D245.5 OCT1995 (R2001) Moisture Relationships of Plant-based Agricultural Products.                           "]
[null,"Acknowledgement is given to Bodie Drake, former program technician, and Karl VanDevender, Professor- Extension Engineer, University of Arkansas-Division of Agriculture, for developing the 1st version of this spreadsheet."]
[]
[]
[]
[]
[{"$f":"'Grain Drying Tool (EMC)'!C6&\" Equilibrium Moisture Content Table\"","v":"Wheat Durum Equilibrium Moisture Content Table"}]
[1]

{"sheet":"Data","index":1,"n_rows":17,"n_cols":1,"rows_kept":17,"cut":false,"hidden":true,"merged":[]}
[]
["GrainType"]
[]
["Corn"]
["Sorghum"]
["Soybeans"]
["Rice Long Grain"]
["Rice Medium Grain"]
["Short Short Grain"]
["Wheat Durum"]
["Wheat Hard Red"]
["Peanuts"]
["Sunflower"]
["Canola"]
["Rapeseed"]
["Oats"]
["Barley"]

{"sheet":"Sheet1","index":2,"n_rows":49,"n_cols":4,"rows_kept":49,"cut":false,"hidden":true,"merged":[[11,1,13,3],[29,3,31,3]]}
[null,"Item","Value","Instructions/Comments"]
[null,"1 - Enter Grain Type from drop down list",{"$f":"'Grain Drying Tool (EMC)'!C6","v":"Wheat Durum"},"Select grain type from drop down list."]
[null,"2 - Enter Air Temperature (⁰F)",{"$f":"'Grain Drying Tool (EMC)'!C7","v":50},"Select this cell, enter the air temperature measured or expected at plenum, then press \"enter\" key."]
[null,"3 - Enter Air Relative Humidity (%)",{"$f":"'Grain Drying Tool (EMC)'!C8","v":60},"Select this cell, insert relative humidity value (%), then press \"enter\" key."]
[null,"EMC (% Wet basis)",{"$f":"IF(C35=1,EMC(C2,C3,C4),\"\")","v":12.583842133250783},"This is the value of calculated equilibrium moisture content."]
[null,"Will natural air drying occur?                                      Is additional heat needed to reach Target Grain Moisture?",{"$f":"IF(C35=1,IF(C5<=#REF!,C20,(IF(C5<#REF!,C21,C22))),\"\")","v":{"$error":"#REF!"}},{"$f":"IF(C35=1,IF(C5<=#REF!,D20,(IF(C5<#REF!,D21,D22))),\"\")","v":{"$error":"#REF!"}}]
[null,"Air Temperature Increase (⁰F) needed to reach target  moisture content.",{"$f":"IF(AND(C35=1,C36=1),C39,\"\")","v":{"$error":"#REF!"}},"With no change in moisture content this is temperature increase needed that results in EMC equaling the target gain moisture."]
[null,"Air Temperature (⁰F) after change",{"$f":"IF(AND(C35=1,C36=1),C3+C7,\"\")","v":{"$error":"#REF!"}},"This is the air temperature needed to reach the target moisture content."]
[null,"Relative Humidity (%) after heating",{"$f":"IF(AND(C35=1,C36=1),relhum(C8,HumRatRH(C3,C4,1),1),\"\")","v":{"$error":"#REF!"}},"The air relative humidity after adding heat."]
[null,"EMC (% Wet basis) after heating",{"$f":"IF(AND(C35=1,C36=1),EMC(C2,C8,C9),\"\")","v":{"$error":"#REF!"}},"The equilibrium moisture content after adding heat."]
[]
[null,"Developed by Samy Sadaka, University of Arkansas, Division of Agriculture, Biological and Agricultural Engineering Department from ASABE Standard D245.5 OCT1995 (R2001) Moisture Relationships of Plant-based Agricultural Products. (revision date 9/14/2013)"]
[]
[]
[]
[]
[null,"GrainType","Drying Questions Answers"]
[]
[null,"Corn","Answers","Additional Instructions"]
[null,"Sorghum","Yes                               No","No additional heat is needed."]
[null,"Soybeans","Yes                                Yes","Some drying will occur. However additional heat is needed."]
[null,"Rice Long Grain","No                                 Yes","Heat is needed to dry."]
[null,"Rice Medium Grain"]
[null,"Short Short Grain"]
[null,"Wheat Durum"]
[null,"Wheat Hard Red"]
[null,"Peanuts"]
[null,"Sunflower"]
[null,"Canola"]
[null,"Rapeseed"]
[null,"Oats"]
[null,"Barley"]
[]
[null,"Do Calcs?"]
[null,"Calc EMC & Answer",{"$f":"IF(OR(ISBLANK(C2),ISBLANK(C3),ISBLANK(C4),ISBLANK(#REF!),ISBLANK(#REF!)),0,1)","v":1}]
[null,"Calc Additional Heat",{"$f":"IF(#REF!>=C5,0,(IF(#REF!>C5,1,1)))","v":{"$error":"#REF!"}}]
[]
[]
[null,"Temp Change",1.7377757484165657]
[null,null,0]
[null,null,null,"Click Here To Go To Output"]
[]
[]
[]
[]
[]
[]
[]
[null,null,{"$f":"'Grain Drying Tool (EMC)'!C7","v":50}]

{"sheet":"EMC Table, 10 point interval","index":3,"n_rows":14,"n_cols":10,"rows_kept":14,"cut":false,"hidden":false,"merged":[[3,2,3,9],[0,0,0,9],[13,1,13,9],[5,0,12,0],[1,0,1,9],[2,0,2,9]]}
[]
["GRAIN DRYING TIPS FOR ARKANSAS FARMERS "]
[{"$f":"'Grain Drying Tool (EMC)'!C6&\" Equilibrium Moisture Content Table\"","v":"Wheat Durum Equilibrium Moisture Content Table"}]
[null,null,"Relative Humidity (%)"]
[null,null,20,30,40,50,60,70,80,90]
["Temperature (oF)",30,{"$f":"EMC('Grain Drying Tool (EMC)'!$C$6,$B6,C$5)","v":7.6539100536291151},{"$f":"EMC('Grain Drying Tool (EMC)'!$C$6,$B6,D$5)","v":9.0250237896773076},{"$f":"EMC('Grain Drying Tool (EMC)'!$C$6,$B6,E$5)","v":10.310028410058537},{"$f":"EMC('Grain Drying Tool (EMC)'!$C$6,$B6,F$5)","v":11.629139784496465},{"$f":"EMC('Grain Drying Tool (EMC)'!$C$6,$B6,G$5)","v":13.092387752023395},{"$f":"EMC('Grain Drying Tool (EMC)'!$C$6,$B6,H$5)","v":14.861906735557442},{"$f":"EMC('Grain Drying Tool (EMC)'!$C$6,$B6,I$5)","v":17.282599034429946},{"$f":"EMC('Grain Drying Tool (EMC)'!$C$6,$B6,J$5)","v":21.49566474788362}]
[null,40,{"$f":"EMC('Grain Drying Tool (EMC)'!$C$6,$B7,C$5)","v":7.496609462952553},{"$f":"EMC('Grain Drying Tool (EMC)'!$C$6,$B7,D$5)","v":8.8422426691540323},{"$f":"EMC('Grain Drying Tool (EMC)'!$C$6,$B7,E$5)","v":10.104112913110791},{"$f":"EMC('Grain Drying Tool (EMC)'!$C$6,$B7,F$5)","v":11.400227264323719},{"$f":"EMC('Grain Drying Tool (EMC)'!$C$6,$B7,G$5)","v":12.838856719407415},{"$f":"EMC('Grain Drying Tool (EMC)'!$C$6,$B7,H$5)","v":14.579857992507989},{"$f":"EMC('Grain Drying Tool (EMC)'!$C$6,$B7,I$5)","v":16.963763985315573},{"$f":"EMC('Grain Drying Tool (EMC)'!$C$6,$B7,J$5)","v":21.118949748637917}]
[null,50,{"$f":"EMC('Grain Drying Tool (EMC)'!$C$6,$B8,C$5)","v":7.3387720721726355},{"$f":"EMC('Grain Drying Tool (EMC)'!$C$6,$B8,D$5)","v":8.6587256056791233},{"$f":"EMC('Grain Drying Tool (EMC)'!$C$6,$B8,E$5)","v":9.897249734671286},{"$f":"EMC('Grain Drying Tool (EMC)'!$C$6,$B8,F$5)","v":11.170125731580637},{"$f":"EMC('Grain Drying Tool (EMC)'!$C$6,$B8,G$5)","v":12.583842133250783},{"$f":"EMC('Grain Drying Tool (EMC)'!$C$6,$B8,H$5)","v":14.295934274165864},{"$f":"EMC('Grain Drying Tool (EMC)'!$C$6,$B8,I$5)","v":16.642461519750118},{"$f":"EMC('Grain Drying Tool (EMC)'!$C$6,$B8,J$5)","v":20.73860186795547}]
[null,60,{"$f":"EMC('Grain Drying Tool (EMC)'!$C$6,$B9,C$5)","v":7.1803951287866772},{"$f":"EMC('Grain Drying Tool (EMC)'!$C$6,$B9,D$5)","v":8.474468145527366},{"$f":"EMC('Grain Drying Tool (EMC)'!$C$6,$B9,E$5)","v":9.6894323174023409},{"$f":"EMC('Grain Drying Tool (EMC)'!$C$6,$B9,F$5)","v":10.938825898229441},{"$f":"EMC('Grain Drying Tool (EMC)'!$C$6,$B9,G$5)","v":12.327330933676214},{"$f":"EMC('Grain Drying Tool (EMC)'!$C$6,$B9,H$5)","v":14.01011682177125},{"$f":"EMC('Grain Drying Tool (EMC)'!$C$6,$B9,I$5)","v":16.318662884026534},{"$f":"EMC('Grain Drying Tool (EMC)'!$C$6,$B9,J$5)","v":20.354568300241677}]
[null,70,{"$f":"EMC('Grain Drying Tool (EMC)'!$C$6,$B10,C$5)","v":7.0214758614414183},{"$f":"EMC('Grain Drying Tool (EMC)'!$C$6,$B10,D$5)","v":8.2894657989639331},{"$f":"EMC('Grain Drying Tool (EMC)'!$C$6,$B10,E$5)","v":9.4806540433297446},{"$f":"EMC('Grain Drying Tool (EMC)'!$C$6,$B10,F$5)","v":10.7063183792411},{"$f":"EMC('Grain Drying Tool (EMC)'!$C$6,$B10,G$5)","v":12.069309907065325},{"$f":"EMC('Grain Drying Tool (EMC)'!$C$6,$B10,H$5)","v":13.722386625490063},{"$f":"EMC('Grain Drying Tool (EMC)'!$C$6,$B10,I$5)","v":15.992338875925585},{"$f":"EMC('Grain Drying Tool (EMC)'!$C$6,$B10,J$5)","v":19.966795211514594}]
[null,80,{"$f":"EMC('Grain Drying Tool (EMC)'!$C$6,$B11,C$5)","v":6.8620114797713718},{"$f":"EMC('Grain Drying Tool (EMC)'!$C$6,$B11,D$5)","v":8.1037140398797192},{"$f":"EMC('Grain Drying Tool (EMC)'!$C$6,$B11,E$5)","v":9.2709082331402577},{"$f":"EMC('Grain Drying Tool (EMC)'!$C$6,$B11,F$5)","v":10.472593691325976},{"$f":"EMC('Grain Drying Tool (EMC)'!$C$6,$B11,G$5)","v":11.809765683789658},{"$f":"EMC('Grain Drying Tool (EMC)'!$C$6,$B11,H$5)","v":13.432724420199266},{"$f":"EMC('Grain Drying Tool (EMC)'!$C$6,$B11,I$5)","v":15.663459835936502},{"$f":"EMC('Grain Drying Tool (EMC)'!$C$6,$B11,J$5)","v":19.57522771424766}]
[null,90,{"$f":"EMC('Grain Drying Tool (EMC)'!$C$6,$B12,C$5)","v":6.7019991742355156},{"$f":"EMC('Grain Drying Tool (EMC)'!$C$6,$B12,D$5)","v":7.9172083054222266},{"$f":"EMC('Grain Drying Tool (EMC)'!$C$6,$B12,E$5)","v":9.0601881454692883},{"$f":"EMC('Grain Drying Tool (EMC)'!$C$6,$B12,F$5)","v":10.237642251644463},{"$f":"EMC('Grain Drying Tool (EMC)'!$C$6,$B12,G$5)","v":11.548684735901404},{"$f":"EMC('Grain Drying Tool (EMC)'!$C$6,$B12,H$5)","v":13.141110681186989},{"$f":"EMC('Grain Drying Tool (EMC)'!$C$6,$B12,I$5)","v":15.331995638270637},{"$f":"EMC('Grain Drying Tool (EMC)'!$C$6,$B12,J$5)","v":19.179809841470348}]
[null,100,{"$f":"EMC('Grain Drying Tool (EMC)'!$C$6,$B13,C$5)","v":6.5414361159522834},{"$f":"EMC('Grain Drying Tool (EMC)'!$C$6,$B13,D$5)","v":7.7299439956219542},{"$f":"EMC('Grain Drying Tool (EMC)'!$C$6,$B13,E$5)","v":8.8484869761786609},{"$f":"EMC('Grain Drying Tool (EMC)'!$C$6,$B13,F$5)","v":10.001454376497277},{"$f":"EMC('Grain Drying Tool (EMC)'!$C$6,$B13,G$5)","v":11.286053374782975},{"$f":"EMC('Grain Drying Tool (EMC)'!$C$6,$B13,H$5)","v":12.84752561976544},{"$f":"EMC('Grain Drying Tool (EMC)'!$C$6,$B13,I$5)","v":14.997915681662347},{"$f":"EMC('Grain Drying Tool (EMC)'!$C$6,$B13,J$5)","v":18.780484520100998}]
[null,"Samy Sadaka, PhD, PE., E mail:  ssadaka@uaex.edu"]

{"sheet":"EMC Table, 5 points interval","index":4,"n_rows":68,"n_cols":17,"rows_kept":68,"cut":false,"hidden":false,"merged":[[20,7,20,16],[5,0,19,0],[2,0,2,16],[0,0,0,16],[1,0,1,16],[3,2,3,16]]}
[]
["GRAIN DRYING TIPS FOR ARKANSAS FARMERS "]
[{"$f":"'Grain Drying Tool (EMC)'!C6&\" Equilibrium Moisture Content Table\"","v":"Wheat Durum Equilibrium Moisture Content Table"}]
[null,null,"Relative Humidity (%)"]
[null,null,20,25,30,35,40,45,50,55,60,65,70,75,80,85,90]
["Temperature (oF)",30,{"$f":"EMC('Grain Drying Tool (EMC)'!$C$6,$B6,C$5)","v":7.6539100536291151},{"$f":"EMC('Grain Drying Tool (EMC)'!$C$6,$B6,D$5)","v":8.3601401676636744},{"$f":"EMC('Grain Drying Tool (EMC)'!$C$6,$B6,E$5)","v":9.0250237896773076},{"$f":"EMC('Grain Drying Tool (EMC)'!$C$6,$B6,F$5)","v":9.669800690387893},{"$f":"EMC('Grain Drying Tool (EMC)'!$C$6,$B6,G$5)","v":10.310028410058537},{"$f":"EMC('Grain Drying Tool (EMC)'!$C$6,$B6,H$5)","v":10.95888671030592},{"$f":"EMC('Grain Drying Tool (EMC)'!$C$6,$B6,I$5)","v":11.629139784496465},{"$f":"EMC('Grain Drying Tool (EMC)'!$C$6,$B6,J$5)","v":12.334707292299596},{"$f":"EMC('Grain Drying Tool (EMC)'!$C$6,$B6,K$5)","v":13.092387752023395},{"$f":"EMC('Grain Drying Tool (EMC)'!$C$6,$B6,L$5)","v":13.924290454436026},{"$f":"EMC('Grain Drying Tool (EMC)'!$C$6,$B6,M$5)","v":14.861906735557442},{"$f":"EMC('Grain Drying Tool (EMC)'!$C$6,$B6,N$5)","v":15.953855975244405},{"$f":"EMC('Grain Drying Tool (EMC)'!$C$6,$B6,O$5)","v":17.282599034429946},{"$f":"EMC('Grain Drying Tool (EMC)'!$C$6,$B6,P$5)","v":19.00666335214002},{"$f":"EMC('Grain Drying Tool (EMC)'!$C$6,$B6,Q$5)","v":21.49566474788362}]
[null,35,{"$f":"EMC('Grain Drying Tool (EMC)'!$C$6,$B7,C$5)","v":7.5753266870042992},{"$f":"EMC('Grain Drying Tool (EMC)'!$C$6,$B7,D$5)","v":8.2749556160375111},{"$f":"EMC('Grain Drying Tool (EMC)'!$C$6,$B7,E$5)","v":8.9337249453235419},{"$f":"EMC('Grain Drying Tool (EMC)'!$C$6,$B7,F$5)","v":9.5726654980561605},{"$f":"EMC('Grain Drying Tool (EMC)'!$C$6,$B7,G$5)","v":10.207188714287129},{"$f":"EMC('Grain Drying Tool (EMC)'!$C$6,$B7,H$5)","v":10.850357812098087},{"$f":"EMC('Grain Drying Tool (EMC)'!$C$6,$B7,I$5)","v":11.514831574233439},{"$f":"EMC('Grain Drying Tool (EMC)'!$C$6,$B7,J$5)","v":12.21442232024773},{"$f":"EMC('Grain Drying Tool (EMC)'!$C$6,$B7,K$5)","v":12.965806869609938},{"$f":"EMC('Grain Drying Tool (EMC)'!$C$6,$B7,L$5)","v":13.790942818195594},{"$f":"EMC('Grain Drying Tool (EMC)'!$C$6,$B7,M$5)","v":14.721115573215867},{"$f":"EMC('Grain Drying Tool (EMC)'!$C$6,$B7,N$5)","v":15.804640737989056},{"$f":"EMC('Grain Drying Tool (EMC)'!$C$6,$B7,O$5)","v":17.123488157106557},{"$f":"EMC('Grain Drying Tool (EMC)'!$C$6,$B7,P$5)","v":18.835294276891492},{"$f":"EMC('Grain Drying Tool (EMC)'!$C$6,$B7,Q$5)","v":21.307758097589005}]
[null,40,{"$f":"EMC('Grain Drying Tool (EMC)'!$C$6,$B8,C$5)","v":7.496609462952553},{"$f":"EMC('Grain Drying Tool (EMC)'!$C$6,$B8,D$5)","v":8.1896125491238774},{"$f":"EMC('Grain Drying Tool (EMC)'!$C$6,$B8,E$5)","v":8.8422426691540323},{"$f":"EMC('Grain Drying Tool (EMC)'!$C$6,$B8,F$5)","v":9.4753211751649911},{"$f":"EMC('Grain Drying Tool (EMC)'!$C$6,$B8,G$5)","v":10.104112913110791},{"$f":"EMC('Grain Drying Tool (EMC)'!$C$6,$B8,H$5)","v":10.741564027362399},{"$f":"EMC('Grain Drying Tool (EMC)'!$C$6,$B8,I$5)","v":11.400227264323719},{"$f":"EMC('Grain Drying Tool (EMC)'!$C$6,$B8,J$5)","v":12.093806810227434},{"$f":"EMC('Grain Drying Tool (EMC)'!$C$6,$B8,K$5)","v":12.838856719407415},{"$f":"EMC('Grain Drying Tool (EMC)'!$C$6,$B8,L$5)","v":13.65718137922282},{"$f":"EMC('Grain Drying Tool (EMC)'!$C$6,$B8,M$5)","v":14.579857992507989},{"$f":"EMC('Grain Drying Tool (EMC)'!$C$6,$B8,N$5)","v":15.654894725952056},{"$f":"EMC('Grain Drying Tool (EMC)'!$C$6,$B8,O$5)","v":16.963763985315573},{"$f":"EMC('Grain Drying Tool (EMC)'!$C$6,$B8,P$5)","v":18.663198484369591},{"$f":"EMC('Grain Drying Tool (EMC)'!$C$6,$B8,Q$5)","v":21.118949748637917}]
[null,45,{"$f":"EMC('Grain Drying Tool (EMC)'!$C$6,$B9,C$5)","v":7.4177580391670048},{"$f":"EMC('Grain Drying Tool (EMC)'!$C$6,$B9,D$5)","v":8.1041105240520288},{"$f":"EMC('Grain Drying Tool (EMC)'!$C$6,$B9,E$5)","v":8.7505764078036261},{"$f":"EMC('Grain Drying Tool (EMC)'!$C$6,$B9,F$5)","v":9.3777670456042888},{"$f":"EMC('Grain Drying Tool (EMC)'!$C$6,$B9,G$5)","v":10.000800192498108},{"$f":"EMC('Grain Drying Tool (EMC)'!$C$6,$B9,H$5)","v":10.632504385150968},{"$f":"EMC('Grain Drying Tool (EMC)'!$C$6,$B9,I$5)","v":11.285325702767338},{"$f":"EMC('Grain Drying Tool (EMC)'!$C$6,$B9,J$5)","v":11.972859397907804},{"$f":"EMC('Grain Drying Tool (EMC)'!$C$6,$B9,K$5)","v":12.711535683187019},{"$f":"EMC('Grain Drying Tool (EMC)'!$C$6,$B9,L$5)","v":13.523004208363174},{"$f":"EMC('Grain Drying Tool (EMC)'!$C$6,$B9,M$5)","v":14.438131671835261},{"$f":"EMC('Grain Drying Tool (EMC)'!$C$6,$B9,N$5)","v":15.504615102052309},{"$f":"EMC('Grain Drying Tool (EMC)'!$C$6,$B9,O$5)","v":16.803422966285407},{"$f":"EMC('Grain Drying Tool (EMC)'!$C$6,$B9,P$5)","v":18.490371342115189},{"$f":"EMC('Grain Drying Tool (EMC)'!$C$6,$B9,Q$5)","v":20.929233195012966}]
[null,50,{"$f":"EMC('Grain Drying Tool (EMC)'!$C$6,$B10,C$5)","v":7.3387720721726355},{"$f":"EMC('Grain Drying Tool (EMC)'!$C$6,$B10,D$5)","v":8.0184490962999284},{"$f":"EMC('Grain Drying Tool (EMC)'!$C$6,$B10,E$5)","v":8.6587256056791233},{"$f":"EMC('Grain Drying Tool (EMC)'!$C$6,$B10,F$5)","v":9.2800024303463715},{"$f":"EMC('Grain Drying Tool (EMC)'!$C$6,$B10,G$5)","v":9.897249734671286},{"$f":"EMC('Grain Drying Tool (EMC)'!$C$6,$B10,H$5)","v":10.523177909764732},{"$f":"EMC('Grain Drying Tool (EMC)'!$C$6,$B10,I$5)","v":11.170125731580637},{"$f":"EMC('Grain Drying Tool (EMC)'!$C$6,$B10,J$5)","v":11.851578711439037},{"$f":"EMC('Grain Drying Tool (EMC)'!$C$6,$B10,K$5)","v":12.583842133250783},{"$f":"EMC('Grain Drying Tool (EMC)'!$C$6,$B10,L$5)","v":13.3884093644518},{"$f":"EMC('Grain Drying Tool (EMC)'!$C$6,$B10,M$5)","v":14.295934274165864},{"$f":"EMC('Grain Drying Tool (EMC)'!$C$6,$B10,N$5)","v":15.353799008953059},{"$f":"EMC('Grain Drying Tool (EMC)'!$C$6,$B10,O$5)","v":16.642461519750118},{"$f":"EMC('Grain Drying Tool (EMC)'!$C$6,$B10,P$5)","v":18.316808178212501},{"$f":"EMC('Grain Drying Tool (EMC)'!$C$6,$B10,Q$5)","v":20.73860186795547}]
[null,55,{"$f":"EMC('Grain Drying Tool (EMC)'!$C$6,$B11,C$5)","v":7.2596512173212941},{"$f":"EMC('Grain Drying Tool (EMC)'!$C$6,$B11,D$5)","v":7.9326278196865285},{"$f":"EMC('Grain Drying Tool (EMC)'!$C$6,$B11,E$5)","v":8.5666897049480504},{"$f":"EMC('Grain Drying Tool (EMC)'!$C$6,$B11,F$5)","v":9.1820266474302077},{"$f":"EMC('Grain Drying Tool (EMC)'!$C$6,$B11,G$5)","v":9.7934607180845266},{"$f":"EMC('Grain Drying Tool (EMC)'!$C$6,$B11,H$5)","v":10.413583620724333},{"$f":"EMC('Grain Drying Tool (EMC)'!$C$6,$B11,I$5)","v":11.054626186757357},{"$f":"EMC('Grain Drying Tool (EMC)'!$C$6,$B11,J$5)","v":11.729963371400542},{"$f":"EMC('Grain Drying Tool (EMC)'!$C$6,$B11,K$5)","v":12.455774432362189},{"$f":"EMC('Grain Drying Tool (EMC)'!$C$6,$B11,L$5)","v":13.253394894219898},{"$f":"EMC('Grain Drying Tool (EMC)'!$C$6,$B11,M$5)","v":14.153263446906214},{"$f":"EMC('Grain Drying Tool (EMC)'!$C$6,$B11,N$5)","v":15.202443568880792},{"$f":"EMC('Grain Drying Tool (EMC)'!$C$6,$B11,O$5)","v":16.480876037682901},{"$f":"EMC('Grain Drying Tool (EMC)'!$C$6,$B11,P$5)","v":18.14250428086811},{"$f":"EMC('Grain Drying Tool (EMC)'!$C$6,$B11,Q$5)","v":20.547049135207288}]
[null,60,{"$f":"EMC('Grain Drying Tool (EMC)'!$C$6,$B12,C$5)","v":7.1803951287866772},{"$f":"EMC('Grain Drying Tool (EMC)'!$C$6,$B12,D$5)","v":7.8466462463640356},{"$f":"EMC('Grain Drying Tool (EMC)'!$C$6,$B12,E$5)","v":8.474468145527366},{"$f":"EMC('Grain Drying Tool (EMC)'!$C$6,$B12,F$5)","v":9.0838390119455692},{"$f":"EMC('Grain Drying Tool (EMC)'!$C$6,$B12,G$5)","v":9.6894323174023409},{"$f":"EMC('Grain Drying Tool (EMC)'!$C$6,$B12,H$5)","v":10.303720532740837},{"$f":"EMC('Grain Drying Tool (EMC)'!$C$6,$B12,I$5)","v":10.938825898229441},{"$f":"EMC('Grain Drying Tool (EMC)'!$C$6,$B12,J$5)","v":11.608011990748661},{"$f":"EMC('Grain Drying Tool (EMC)'!$C$6,$B12,K$5)","v":12.327330933676214},{"$f":"EMC('Grain Drying Tool (EMC)'!$C$6,$B12,L$5)","v":13.117958832200252},{"$f":"EMC('Grain Drying Tool (EMC)'!$C$6,$B12,M$5)","v":14.01011682177125},{"$f":"EMC('Grain Drying Tool (EMC)'!$C$6,$B12,N$5)","v":15.05054588344219},{"$f":"EMC('Grain Drying Tool (EMC)'!$C$6,$B12,O$5)","v":16.318662884026534},{"$f":"EMC('Grain Drying Tool (EMC)'!$C$6,$B12,P$5)","v":17.967454897984581},{"$f":"EMC('Grain Drying Tool (EMC)'!$C$6,$B12,Q$5)","v":20.354568300241677}]
[null,65,{"$f":"EMC('Grain Drying Tool (EMC)'!$C$6,$B13,C$5)","v":7.1010034595592986},{"$f":"EMC('Grain Drying Tool (EMC)'!$C$6,$B13,D$5)","v":7.7605039268101095},{"$f":"EMC('Grain Drying Tool (EMC)'!$C$6,$B13,E$5)","v":8.3820603650721033},{"$f":"EMC('Grain Drying Tool (EMC)'!$C$6,$B13,F$5)","v":8.9854388360170603},{"$f":"EMC('Grain Drying Tool (EMC)'!$C$6,$B13,G$5)","v":9.5851637034776438},{"$f":"EMC('Grain Drying Tool (EMC)'!$C$6,$B13,H$5)","v":10.193587655686189},{"$f":"EMC('Grain Drying Tool (EMC)'!$C$6,$B13,I$5)","v":10.822723689827523},{"$f":"EMC('Grain Drying Tool (EMC)'!$C$6,$B13,J$5)","v":11.48572317476393},{"$f":"EMC('Grain Drying Tool (EMC)'!$C$6,$B13,K$5)","v":12.19850998066874},{"$f":"EMC('Grain Drying Tool (EMC)'!$C$6,$B13,L$5)","v":12.982099200631826},{"$f":"EMC('Grain Drying Tool (EMC)'!$C$6,$B13,M$5)","v":13.866492014653366},{"$f":"EMC('Grain Drying Tool (EMC)'!$C$6,$B13,N$5)","v":14.898103033439131},{"$f":"EMC('Grain Drying Tool (EMC)'!$C$6,$B13,O$5)","v":16.155818394420596},{"$f":"EMC('Grain Drying Tool (EMC)'!$C$6,$B13,P$5)","v":17.791655236728591},{"$f":"EMC('Grain Drying Tool (EMC)'!$C$6,$B13,Q$5)","v":20.161152601482936}]
[null,70,{"$f":"EMC('Grain Drying Tool (EMC)'!$C$6,$B14,C$5)","v":7.0214758614414183},{"$f":"EMC('Grain Drying Tool (EMC)'!$C$6,$B14,D$5)","v":7.6742004098200365},{"$f":"EMC('Grain Drying Tool (EMC)'!$C$6,$B14,E$5)","v":8.2894657989639331},{"$f":"EMC('Grain Drying Tool (EMC)'!$C$6,$B14,F$5)","v":8.886825428788061},{"$f":"EMC('Grain Drying Tool (EMC)'!$C$6,$B14,G$5)","v":9.4806540433297446},{"$f":"EMC('Grain Drying Tool (EMC)'!$C$6,$B14,H$5)","v":10.083183994563468},{"$f":"EMC('Grain Drying Tool (EMC)'!$C$6,$B14,I$5)","v":10.7063183792411},{"$f":"EMC('Grain Drying Tool (EMC)'!$C$6,$B14,J$5)","v":11.363095520997906},{"$f":"EMC('Grain Drying Tool (EMC)'!$C$6,$B14,K$5)","v":12.069309907065325},{"$f":"EMC('Grain Drying Tool (EMC)'!$C$6,$B14,L$5)","v":12.845814009363528},{"$f":"EMC('Grain Drying Tool (EMC)'!$C$6,$B14,M$5)","v":13.722386625490063},{"$f":"EMC('Grain Drying Tool (EMC)'!$C$6,$B14,N$5)","v":14.745112078681679},{"$f":"EMC('Grain Drying Tool (EMC)'!$C$6,$B14,O$5)","v":15.992338875925585},{"$f":"EMC('Grain Drying Tool (EMC)'!$C$6,$B14,P$5)","v":17.615100463093498},{"$f":"EMC('Grain Drying Tool (EMC)'!$C$6,$B14,Q$5)","v":19.966795211514594}]
[null,75,{"$f":"EMC('Grain Drying Tool (EMC)'!$C$6,$B15,C$5)","v":6.941811985041956},{"$f":"EMC('Grain Drying Tool (EMC)'!$C$6,$B15,D$5)","v":7.5877352424988533},{"$f":"EMC('Grain Drying Tool (EMC)'!$C$6,$B15,E$5)","v":8.1966838802996751},{"$f":"EMC('Grain Drying Tool (EMC)'!$C$6,$B15,F$5)","v":8.787998096404559},{"$f":"EMC('Grain Drying Tool (EMC)'!$C$6,$B15,G$5)","v":9.375902500122157},{"$f":"EMC('Grain Drying Tool (EMC)'!$C$6,$B15,H$5)","v":9.9725085494769257},{"$f":"EMC('Grain Drying Tool (EMC)'!$C$6,$B15,I$5)","v":10.589608777978412},{"$f":"EMC('Grain Drying Tool (EMC)'!$C$6,$B15,J$5)","v":11.240127619219562},{"$f":"EMC('Grain Drying Tool (EMC)'!$C$6,$B15,K$5)","v":11.939729036769377},{"$f":"EMC('Grain Drying Tool (EMC)'!$C$6,$B15,L$5)","v":12.709101255757002},{"$f":"EMC('Grain Drying Tool (EMC)'!$C$6,$B15,M$5)","v":13.577798238130265},{"$f":"EMC('Grain Drying Tool (EMC)'!$C$6,$B15,N$5)","v":14.59157005779903},{"$f":"EMC('Grain Drying Tool (EMC)'!$C$6,$B15,O$5)","v":15.828220606743709},{"$f":"EMC('Grain Drying Tool (EMC)'!$C$6,$B15,P$5)","v":17.43778570145626},{"$f":"EMC('Grain Drying Tool (EMC)'!$C$6,$B15,Q$5)","v":19.7714892362761}]
[null,80,{"$f":"EMC('Grain Drying Tool (EMC)'!$C$6,$B16,C$5)","v":6.8620114797713718},{"$f":"EMC('Grain Drying Tool (EMC)'!$C$6,$B16,D$5)","v":7.5011079702534156},{"$f":"EMC('Grain Drying Tool (EMC)'!$C$6,$B16,E$5)","v":8.1037140398797192},{"$f":"EMC('Grain Drying Tool (EMC)'!$C$6,$B16,F$5)","v":8.6889561419988741},{"$f":"EMC('Grain Drying Tool (EMC)'!$C$6,$B16,G$5)","v":9.2709082331402577},{"$f":"EMC('Grain Drying Tool (EMC)'!$C$6,$B16,H$5)","v":9.8615603156018103},{"$f":"EMC('Grain Drying Tool (EMC)'!$C$6,$B16,I$5)","v":10.472593691325976},{"$f":"EMC('Grain Drying Tool (EMC)'!$C$6,$B16,J$5)","v":11.116818051361221},{"$f":"EMC('Grain Drying Tool (EMC)'!$C$6,$B16,K$5)","v":11.809765683789658},{"$f":"EMC('Grain Drying Tool (EMC)'!$C$6,$B16,L$5)","v":12.571958924588563},{"$f":"EMC('Grain Drying Tool (EMC)'!$C$6,$B16,M$5)","v":13.432724420199266},{"$f":"EMC('Grain Drying Tool (EMC)'!$C$6,$B16,N$5)","v":14.437473988048474},{"$f":"EMC('Grain Drying Tool (EMC)'!$C$6,$B16,O$5)","v":15.663459835936502},{"$f":"EMC('Grain Drying Tool (EMC)'!$C$6,$B16,P$5)","v":17.259706034128616},{"$f":"EMC('Grain Drying Tool (EMC)'!$C$6,$B16,Q$5)","v":19.57522771424766}]
[null,85,{"$f":"EMC('Grain Drying Tool (EMC)'!$C$6,$B17,C$5)","v":6.7820739938365282},{"$f":"EMC('Grain Drying Tool (EMC)'!$C$6,$B17,D$5)","v":7.4143181367844413},{"$f":"EMC('Grain Drying Tool (EMC)'!$C$6,$B17,E$5)","v":8.0105557061963868},{"$f":"EMC('Grain Drying Tool (EMC)'!$C$6,$B17,F$5)","v":8.5896988656732791},{"$f":"EMC('Grain Drying Tool (EMC)'!$C$6,$B17,G$5)","v":9.165670397768805},{"$f":"EMC('Grain Drying Tool (EMC)'!$C$6,$B17,H$5)","v":9.7503382831539316},{"$f":"EMC('Grain Drying Tool (EMC)'!$C$6,$B17,I$5)","v":10.355271918307835},{"$f":"EMC('Grain Drying Tool (EMC)'!$C$6,$B17,J$5)","v":10.993165391464043},{"$f":"EMC('Grain Drying Tool (EMC)'!$C$6,$B17,K$5)","v":11.679418152167177},{"$f":"EMC('Grain Drying Tool (EMC)'!$C$6,$B17,L$5)","v":12.434384987950148},{"$f":"EMC('Grain Drying Tool (EMC)'!$C$6,$B17,M$5)","v":13.287162722962345},{"$f":"EMC('Grain Drying Tool (EMC)'!$C$6,$B17,N$5)","v":14.282820865122225},{"$f":"EMC('Grain Drying Tool (EMC)'!$C$6,$B17,O$5)","v":15.498052783138995},{"$f":"EMC('Grain Drying Tool (EMC)'!$C$6,$B17,P$5)","v":17.08085650090246},{"$f":"EMC('Grain Drying Tool (EMC)'!$C$6,$B17,Q$5)","v":19.378003615623051}]
[null,90,{"$f":"EMC('Grain Drying Tool (EMC)'!$C$6,$B18,C$5)","v":6.7019991742355156},{"$f":"EMC('Grain Drying Tool (EMC)'!$C$6,$B18,D$5)","v":7.3273652840784953},{"$f":"EMC('Grain Drying Tool (EMC)'!$C$6,$B18,E$5)","v":7.9172083054222266},{"$f":"EMC('Grain Drying Tool (EMC)'!$C$6,$B18,F$5)","v":8.4902255644835094},{"$f":"EMC('Grain Drying Tool (EMC)'!$C$6,$B18,G$5)","v":9.0601881454692883},{"$f":"EMC('Grain Drying Tool (EMC)'!$C$6,$B18,H$5)","v":9.6388414373590638},{"$f":"EMC('Grain Drying Tool (EMC)'!$C$6,$B18,I$5)","v":10.237642251644463},{"$f":"EMC('Grain Drying Tool (EMC)'!$C$6,$B18,J$5)","v":10.869168205623067},{"$f":"EMC('Grain Drying Tool (EMC)'!$C$6,$B18,K$5)","v":11.548684735901404},{"$f":"EMC('Grain Drying Tool (EMC)'!$C$6,$B18,L$5)","v":12.296377405149384},{"$f":"EMC('Grain Drying Tool (EMC)'!$C$6,$B18,M$5)","v":13.141110681186989},{"$f":"EMC('Grain Drying Tool (EMC)'!$C$6,$B18,N$5)","v":14.127607662952185},{"$f":"EMC('Grain Drying Tool (EMC)'!$C$6,$B18,O$5)","v":15.331995638270637},{"$f":"EMC('Grain Drying Tool (EMC)'!$C$6,$B18,P$5)","v":16.901232098589286},{"$f":"EMC('Grain Drying Tool (EMC)'!$C$6,$B18,Q$5)","v":19.179809841470348}]
[null,95,{"$f":"EMC('Grain Drying Tool (EMC)'!$C$6,$B19,C$5)","v":6.621786666752457},{"$f":"EMC('Grain Drying Tool (EMC)'!$C$6,$B19,D$5)","v":7.2402489523999272},{"$f":"EMC('Grain Drying Tool (EMC)'!$C$6,$B19,E$5)","v":7.8236712613982258},{"$f":"EMC('Grain Drying Tool (EMC)'!$C$6,$B19,F$5)","v":8.3905355324221826},{"$f":"EMC('Grain Drying Tool (EMC)'!$C$6,$B19,G$5)","v":8.954460623757118},{"$f":"EMC('Grain Drying Tool (EMC)'!$C$6,$B19,H$5)","v":9.5270687584220379},{"$f":"EMC('Grain Drying Tool (EMC)'!$C$6,$B19,I$5)","v":10.119703477711351},{"$f":"EMC('Grain Drying Tool (EMC)'!$C$6,$B19,J$5)","v":10.744825051931779},{"$f":"EMC('Grain Drying Tool (EMC)'!$C$6,$B19,K$5)","v":11.417563718875851},{"$f":"EMC('Grain Drying Tool (EMC)'!$C$6,$B19,L$5)","v":12.157934122608674},{"$f":"EMC('Grain Drying Tool (EMC)'!$C$6,$B19,M$5)","v":12.9945658130037},{"$f":"EMC('Grain Drying Tool (EMC)'!$C$6,$B19,N$5)","v":13.971831333512563},{"$f":"EMC('Grain Drying Tool (EMC)'!$C$6,$B19,O$5)","v":15.165284561242716},{"$f":"EMC('Grain Drying Tool (EMC)'!$C$6,$B19,P$5)","v":16.720827780553648},{"$f":"EMC('Grain Drying Tool (EMC)'!$C$6,$B19,Q$5)","v":18.980639222880107}]
[null,100,{"$f":"EMC('Grain Drying Tool (EMC)'!$C$6,$B20,C$5)","v":6.5414361159522834},{"$f":"EMC('Grain Drying Tool (EMC)'!$C$6,$B20,D$5)","v":7.1529686802827781},{"$f":"EMC('Grain Drying Tool (EMC)'!$C$6,$B20,E$5)","v":7.7299439956219542},{"$f":"EMC('Grain Drying Tool (EMC)'!$C$6,$B20,F$5)","v":8.2906280604020761},{"$f":"EMC('Grain Drying Tool (EMC)'!$C$6,$B20,G$5)","v":8.8484869761786609},{"$f":"EMC('Grain Drying Tool (EMC)'!$C$6,$B20,H$5)","v":9.4150192214956903},{"$f":"EMC('Grain Drying Tool (EMC)'!$C$6,$B20,I$5)","v":10.001454376497277},{"$f":"EMC('Grain Drying Tool (EMC)'!$C$6,$B20,J$5)","v":10.620134480426215},{"$f":"EMC('Grain Drying Tool (EMC)'!$C$6,$B20,K$5)","v":11.286053374782975},{"$f":"EMC('Grain Drying Tool (EMC)'!$C$6,$B20,L$5)","v":12.019053073763342},{"$f":"EMC('Grain Drying Tool (EMC)'!$C$6,$B20,M$5)","v":12.84752561976544},{"$f":"EMC('Grain Drying Tool (EMC)'!$C$6,$B20,N$5)","v":13.815488806620362},{"$f":"EMC('Grain Drying Tool (EMC)'!$C$6,$B20,O$5)","v":14.997915681662347},{"$f":"EMC('Grain Drying Tool (EMC)'!$C$6,$B20,P$5)","v":16.539638456240525},{"$f":"EMC('Grain Drying Tool (EMC)'!$C$6,$B20,Q$5)","v":18.780484520100998}]
[null,null,null,null,null,null,null,"Samy Sadaka, PhD, PE., E mail:  ssadaka@uaex.edu"]
[]
[]
[]
[]
[]
[]
[]
[]
[]
[]
[]
[]
[]
[]
[]
[]
[]
[]
[]
[]
[]
[]
[]
[]
[]
[]
[]
[]
[]
[]
[]
[]
[]
[null,null,"Corn"]
[null,null,"Sorghum"]
[null,null,"Soybeans"]
[null,null,"Rice Long Grain"]
[null,null,"Rice Medium Grain"]
[null,null,"Rice Short Grain"]
[null,null,"Wheat Durum"]
[null,null,"Wheat Hard Red"]
[null,null,"Peanuts"]
[null,null,"Sunflower"]
[null,null,"Canola"]
[null,null,"Rapeseed"]
[null,null,"Oats"]
[null,null,"Barley"]

{"sheet":"EMC Table, 2 points interval","index":5,"n_rows":42,"n_cols":39,"rows_kept":42,"cut":false,"hidden":false,"merged":[[0,0,0,37],[41,22,41,37],[5,0,40,0],[3,2,3,37],[1,0,1,37],[2,0,2,37]]}
[]
["GRAIN DRYING TIPS FOR ARKANSAS FARMERS "]
[{"$f":"'Grain Drying Tool (EMC)'!C6&\" Equilibrium Moisture Content Table\"","v":"Wheat Durum Equilibrium Moisture Content Table"}]
[null,null,"Relative Humidity (%)"]
[null,null,20,22,24,26,28,30,32,34,36,38,40,42,44,46,48,50,52,54,56,58,60,62,64,66,68,70,72,74,76,78,80,82,84,86,88,90]
["Temperature (oF)",30,{"$f":"EMC('Grain Drying Tool (EMC)'!$C$6,$B6,C$5)","v":7.6539100536291151},{"$f":"EMC('Grain Drying Tool (EMC)'!$C$6,$B6,D$5)","v":7.9431238878756387},{"$f":"EMC('Grain Drying Tool (EMC)'!$C$6,$B6,E$5)","v":8.2230397022909294},{"$f":"EMC('Grain Drying Tool (EMC)'!$C$6,$B6,F$5)","v":8.4956237886563617},{"$f":"EMC('Grain Drying Tool (EMC)'!$C$6,$B6,G$5)","v":8.7624955678052068},{"$f":"EMC('Grain Drying Tool (EMC)'!$C$6,$B6,H$5)","v":9.0250237896773076},{"$f":"EMC('Grain Drying Tool (EMC)'!$C$6,$B6,I$5)","v":9.2843940335399786},{"$f":"EMC('Grain Drying Tool (EMC)'!$C$6,$B6,J$5)","v":9.5416577074401356},{"$f":"EMC('Grain Drying Tool (EMC)'!$C$6,$B6,K$5)","v":9.7977688263293974},{"$f":"EMC('Grain Drying Tool (EMC)'!$C$6,$B6,L$5)","v":10.053612587089598},{"$f":"EMC('Grain Drying Tool (EMC)'!$C$6,$B6,M$5)","v":10.310028410058537},{"$f":"EMC('Grain Drying Tool (EMC)'!$C$6,$B6,N$5)","v":10.567829292255055},{"$f":"EMC('Grain Drying Tool (EMC)'!$C$6,$B6,O$5)","v":10.827818806963943},{"$f":"EMC('Grain Drying Tool (EMC)'!$C$6,$B6,P$5)","v":11.090806770216968},{"$f":"EMC('Grain Drying Tool (EMC)'!$C$6,$B6,Q$5)","v":11.357624410324664},{"$f":"EMC('Grain Drying Tool (EMC)'!$C$6,$B6,R$5)","v":11.629139784496465},{"$f":"EMC('Grain Drying Tool (EMC)'!$C$6,$B6,S$5)","v":11.906274167228409},{"$f":"EMC('Grain Drying Tool (EMC)'!$C$6,$B6,T$5)","v":12.190020181347769},{"$f":"EMC('Grain Drying Tool (EMC)'!$C$6,$B6,U$5)","v":12.481462557135277},{"$f":"EMC('Grain Drying Tool (EMC)'!$C$6,$B6,V$5)","v":12.781802600458185},{"$f":"EMC('Grain Drying Tool (EMC)'!$C$6,$B6,W$5)","v":13.092387752023395},{"$f":"EMC('Grain Drying Tool (EMC)'!$C$6,$B6,X$5)","v":13.414748068185007},{"$f":"EMC('Grain Drying Tool (EMC)'!$C$6,$B6,Y$5)","v":13.75064211626488},{"$f":"EMC('Grain Drying Tool (EMC)'!$C$6,$B6,Z$5)","v":14.10211576210013},{"$f":"EMC('Grain Drying Tool (EMC)'!$C$6,$B6,AA$5)","v":14.471578810695101},{"$f":"EMC('Grain Drying Tool (EMC)'!$C$6,$B6,AB$5)","v":14.861906735557442},{"$f":"EMC('Grain Drying Tool (EMC)'!$C$6,$B6,AC$5)","v":15.276578298699697},{"$f":"EMC('Grain Drying Tool (EMC)'!$C$6,$B6,AD$5)","v":15.719865600314732},{"$f":"EMC('Grain Drying Tool (EMC)'!$C$6,$B6,AE$5)","v":16.197102602284055},{"$f":"EMC('Grain Drying Tool (EMC)'!$C$6,$B6,AF$5)","v":16.715074460468387},{"$f":"EMC('Grain Drying Tool (EMC)'!$C$6,$B6,AG$5)","v":17.282599034429946},{"$f":"EMC('Grain Drying Tool (EMC)'!$C$6,$B6,AH$5)","v":17.911426098450793},{"$f":"EMC('Grain Drying Tool (EMC)'!$C$6,$B6,AI$5)","v":18.617686367244612},{"$f":"EMC('Grain Drying Tool (EMC)'!$C$6,$B6,AJ$5)","v":19.424346206775486},{"$f":"EMC('Grain Drying Tool (EMC)'!$C$6,$B6,AK$5)","v":20.36563218678118},{"$f":"EMC('Grain Drying Tool (EMC)'!$C$6,$B6,AL$5)","v":21.49566474788362}]
[null,32,{"$f":"EMC('Grain Drying Tool (EMC)'!$C$6,$B7,C$5)","v":7.6224927480112274},{"$f":"EMC('Grain Drying Tool (EMC)'!$C$6,$B7,D$5)","v":7.9106211291830588},{"$f":"EMC('Grain Drying Tool (EMC)'!$C$6,$B7,E$5)","v":8.1894934418541769},{"$f":"EMC('Grain Drying Tool (EMC)'!$C$6,$B7,F$5)","v":8.4610680280290609},{"$f":"EMC('Grain Drying Tool (EMC)'!$C$6,$B7,G$5)","v":8.7269578380178228},{"$f":"EMC('Grain Drying Tool (EMC)'!$C$6,$B7,H$5)","v":8.9885262284306737},{"$f":"EMC('Grain Drying Tool (EMC)'!$C$6,$B7,I$5)","v":9.2469541820841332},{"$f":"EMC('Grain Drying Tool (EMC)'!$C$6,$B7,J$5)","v":9.503289105795572},{"$f":"EMC('Grain Drying Tool (EMC)'!$C$6,$B7,K$5)","v":9.7584814590700688},{"$f":"EMC('Grain Drying Tool (EMC)'!$C$6,$B7,L$5)","v":10.013413215080021},{"$f":"EMC('Grain Drying Tool (EMC)'!$C$6,$B7,M$5)","v":10.268920812455763},{"$f":"EMC('Grain Drying Tool (EMC)'!$C$6,$B7,N$5)","v":10.525814435538381},{"$f":"EMC('Grain Drying Tool (EMC)'!$C$6,$B7,O$5)","v":10.784894952425399},{"$f":"EMC('Grain Drying Tool (EMC)'!$C$6,$B7,P$5)","v":11.046969527421817},{"$f":"EMC('Grain Drying Tool (EMC)'!$C$6,$B7,Q$5)","v":11.312866741010637},{"$f":"EMC('Grain Drying Tool (EMC)'!$C$6,$B7,R$5)","v":11.583451958868624},{"$f":"EMC('Grain Drying Tool (EMC)'!$C$6,$B7,S$5)","v":11.859643672365657},{"$f":"EMC('Grain Drying Tool (EMC)'!$C$6,$B7,T$5)","v":12.14243157925914},{"$f":"EMC('Grain Drying Tool (EMC)'!$C$6,$B7,U$5)","v":12.432897287699383},{"$f":"EMC('Grain Drying Tool (EMC)'!$C$6,$B7,V$5)","v":12.732238721847439},{"$f":"EMC('Grain Drying Tool (EMC)'!$C$6,$B7,W$5)","v":13.041799608017911},{"$f":"EMC('Grain Drying Tool (EMC)'!$C$6,$B7,X$5)","v":13.363105867706993},{"$f":"EMC('Grain Drying Tool (EMC)'!$C$6,$B7,Y$5)","v":13.697911405077992},{"$f":"EMC('Grain Drying Tool (EMC)'!$C$6,$B7,Z$5)","v":14.048256759282763},{"$f":"EMC('Grain Drying Tool (EMC)'!$C$6,$B7,AA$5)","v":14.416545572251458},{"$f":"EMC('Grain Drying Tool (EMC)'!$C$6,$B7,AB$5)","v":14.80564609288067},{"$f":"EMC('Grain Drying Tool (EMC)'!$C$6,$B7,AC$5)","v":15.219028498159151},{"$f":"EMC('Grain Drying Tool (EMC)'!$C$6,$B7,AD$5)","v":15.660954538076412},{"$f":"EMC('Grain Drying Tool (EMC)'!$C$6,$B7,AE$5)","v":16.136745498927333},{"$f":"EMC('Grain Drying Tool (EMC)'!$C$6,$B7,AF$5)","v":16.653170741336538},{"$f":"EMC('Grain Drying Tool (EMC)'!$C$6,$B7,AG$5)","v":17.219028052595178},{"$f":"EMC('Grain Drying Tool (EMC)'!$C$6,$B7,AH$5)","v":17.846041116913604},{"$f":"EMC('Grain Drying Tool (EMC)'!$C$6,$B7,AI$5)","v":18.550305823469877},{"$f":"EMC('Grain Drying Tool (EMC)'!$C$6,$B7,AJ$5)","v":19.354740540148185},{"$f":"EMC('Grain Drying Tool (EMC)'!$C$6,$B7,AK$5)","v":20.293503012199078},{"$f":"EMC('Grain Drying Tool (EMC)'!$C$6,$B7,AL$5)","v":21.420609877807017}]
[null,34,{"$f":"EMC('Grain Drying Tool (EMC)'!$C$6,$B8,C$5)","v":7.5910540579901014},{"$f":"EMC('Grain Drying Tool (EMC)'!$C$6,$B8,D$5)","v":7.8780954107183216},{"$f":"EMC('Grain Drying Tool (EMC)'!$C$6,$B8,E$5)","v":8.1559226488315986},{"$f":"EMC('Grain Drying Tool (EMC)'!$C$6,$B8,F$5)","v":8.4264861582307429},{"$f":"EMC('Grain Drying Tool (EMC)'!$C$6,$B8,G$5)","v":8.6913924129891136},{"$f":"EMC('Grain Drying Tool (EMC)'!$C$6,$B8,H$5)","v":8.951999371070956},{"$f":"EMC('Grain Drying Tool (EMC)'!$C$6,$B8,I$5)","v":9.2094834137596102},{"$f":"EMC('Grain Drying Tool (EMC)'!$C$6,$B8,J$5)","v":9.4648879416643794},{"$f":"EMC('Grain Drying Tool (EMC)'!$C$6,$B8,K$5)","v":9.7191598538597397},{"$f":"EMC('Grain Drying Tool (EMC)'!$C$6,$B8,L$5)","v":9.973177894721502},{"$f":"EMC('Grain Drying Tool (EMC)'!$C$6,$B8,M$5)","v":10.227775515890496},{"$f":"EMC('Grain Drying Tool (EMC)'!$C$6,$B8,N$5)","v":10.483760083461886},{"$f":"EMC('Grain Drying Tool (EMC)'!$C$6,$B8,O$5)","v":10.741929754396658},{"$f":"EMC('Grain Drying Tool (EMC)'!$C$6,$B8,P$5)","v":11.003089034839737},{"$f":"EMC('Grain Drying Tool (EMC)'!$C$6,$B8,Q$5)","v":11.268063850413927},{"$f":"EMC('Grain Drying Tool (EMC)'!$C$6,$B8,R$5)","v":11.537716867498656},{"$f":"EMC('Grain Drying Tool (EMC)'!$C$6,$B8,S$5)","v":11.812963785684971},{"$f":"EMC('Grain Drying Tool (EMC)'!$C$6,$B8,T$5)","v":12.094791367932949},{"$f":"EMC('Grain Drying Tool (EMC)'!$C$6,$B8,U$5)","v":12.384278089233064},{"$f":"EMC('Grain Drying Tool (EMC)'!$C$6,$B8,V$5)","v":12.682618479428665},{"$f":"EMC('Grain Drying Tool (EMC)'!$C$6,$B8,W$5)","v":12.991152535898312},{"$f":"EMC('Grain Drying Tool (EMC)'!$C$6,$B8,X$5)","v":13.311402028361064},{"$f":"EMC('Grain Drying Tool (EMC)'!$C$6,$B8,Y$5)","v":13.645116177958322},{"$f":"EMC('Grain Drying Tool (EMC)'!$C$6,$B8,Z$5)","v":13.994330173609706},{"$f":"EMC('Grain Drying Tool (EMC)'!$C$6,$B8,AA$5)","v":14.361441465964468},{"$f":"EMC('Grain Drying Tool (EMC)'!$C$6,$B8,AB$5)","v":14.749311045132522},{"$f":"EMC('Grain Drying Tool (EMC)'!$C$6,$B8,AC$5)","v":15.161400461146981},{"$f":"EMC('Grain Drying Tool (EMC)'!$C$6,$B8,AD$5)","v":15.601961061617153},{"$f":"EMC('Grain Drying Tool (EMC)'!$C$6,$B8,AE$5)","v":16.076301391285501},{"$f":"EMC('Grain Drying Tool (EMC)'!$C$6,$B8,AF$5)","v":16.591174930608915},{"$f":"EMC('Grain Drying Tool (EMC)'!$C$6,$B8,AG$5)","v":17.155359282920877},{"$f":"EMC('Grain Drying Tool (EMC)'!$C$6,$B8,AH$5)","v":17.780551891787088},{"$f":"EMC('Grain Drying Tool (EMC)'!$C$6,$B8,AI$5)","v":18.482813611702394},{"$f":"EMC('Grain Drying Tool (EMC)'!$C$6,$B8,AJ$5)","v":19.285014511164526},{"$f":"EMC('Grain Drying Tool (EMC)'!$C$6,$B8,AK$5)","v":20.221243056535027},{"$f":"EMC('Grain Drying Tool (EMC)'!$C$6,$B8,AL$5)","v":21.34541135644368}]
[null,36,{"$f":"EMC('Grain Drying Tool (EMC)'!$C$6,$B9,C$5)","v":7.5595939617251435},{"$f":"EMC('Grain Drying Tool (EMC)'!$C$6,$B9,D$5)","v":7.8455467081448411},{"$f":"EMC('Grain Drying Tool (EMC)'!$C$6,$B9,E$5)","v":8.1223272963021103},{"$f":"EMC('Grain Drying Tool (EMC)'!$C$6,$B9,F$5)","v":8.3918781496594068},{"$f":"EMC('Grain Drying Tool (EMC)'!$C$6,$B9,G$5)","v":8.6557992603313068},{"$f":"EMC('Grain Drying Tool (EMC)'!$C$6,$B9,H$5)","v":8.9154431823105895},{"$f":"EMC('Grain Drying Tool (EMC)'!$C$6,$B9,I$5)","v":9.1719816902550466},{"$f":"EMC('Grain Drying Tool (EMC)'!$C$6,$B9,J$5)","v":9.4264541735764915},{"$f":"EMC('Grain Drying Tool (EMC)'!$C$6,$B9,K$5)","v":9.6798039659226323},{"$f":"EMC('Grain Drying Tool (EMC)'!$C$6,$B9,L$5)","v":9.9329065777721706},{"$f":"EMC('Grain Drying Tool (EMC)'!$C$6,$B9,M$5)","v":10.186592468479486},{"$f":"EMC('Grain Drying Tool (EMC)'!$C$6,$B9,N$5)","v":10.441666180308959},{"$f":"EMC('Grain Drying Tool (EMC)'!$C$6,$B9,O$5)","v":10.698923153116976},{"$f":"EMC('Grain Drying Tool (EMC)'!$C$6,$B9,P$5)","v":10.959165228433834},{"$f":"EMC('Grain Drying Tool (EMC)'!$C$6,$B9,Q$5)","v":11.22321566996535},{"$f":"EMC('Grain Drying Tool (EMC)'!$C$6,$B9,R$5)","v":11.491934437001376},{"$f":"EMC('Grain Drying Tool (EMC)'!$C$6,$B9,S$5)","v":11.766234428669785},{"$f":"EMC('Grain Drying Tool (EMC)'!$C$6,$B9,T$5)","v":12.047099463369298},{"$f":"EMC('Grain Drying Tool (EMC)'!$C$6,$B9,U$5)","v":12.335604871858628},{"$f":"EMC('Grain Drying Tool (EMC)'!$C$6,$B9,V$5)","v":12.632941777002182},{"$f":"EMC('Grain Drying Tool (EMC)'!$C$6,$B9,W$5)","v":12.940446432640078},{"$f":"EMC('Grain Drying Tool (EMC)'!$C$6,$B9,X$5)","v":13.259636439725357},{"$f":"EMC('Grain Drying Tool (EMC)'!$C$6,$B9,Y$5)","v":13.592256316430703},{"$f":"EMC('Grain Drying Tool (EMC)'!$C$6,$B9,Z$5)","v":13.940335877795567},{"$f":"EMC('Grain Drying Tool (EMC)'!$C$6,$B9,AA$5)","v":14.306266354858181},{"$f":"EMC('Grain Drying Tool (EMC)'!$C$6,$B9,AB$5)","v":14.692901444613542},{"$f":"EMC('Grain Drying Tool (EMC)'!$C$6,$B9,AC$5)","v":15.103694028016006},{"$f":"EMC('Grain Drying Tool (EMC)'!$C$6,$B9,AD$5)","v":15.542884997874598},{"$f":"EMC('Grain Drying Tool (EMC)'!$C$6,$B9,AE$5)","v":16.015770091098894},{"$f":"EMC('Grain Drying Tool (EMC)'!$C$6,$B9,AF$5)","v":16.529086822631267},{"$f":"EMC('Grain Drying Tool (EMC)'!$C$6,$B9,AG$5)","v":17.091592499600676},{"$f":"EMC('Grain Drying Tool (EMC)'!$C$6,$B9,AH$5)","v":17.714958173578278},{"$f":"EMC('Grain Drying Tool (EMC)'!$C$6,$B9,AI$5)","v":18.415209454115324},{"$f":"EMC('Grain Drying Tool (EMC)'!$C$6,$B9,AJ$5)","v":19.215167807357862},{"$f":"EMC('Grain Drying Tool (EMC)'!$C$6,$B9,AK$5)","v":20.148851963777503},{"$f":"EMC('Grain Drying Tool (EMC)'!$C$6,$B9,AL$5)","v":21.270068770986441}]
[null,38,{"$f":"EMC('Grain Drying Tool (EMC)'!$C$6,$B10,C$5)","v":7.5281124373460093},{"$f":"EMC('Grain Drying Tool (EMC)'!$C$6,$B10,D$5)","v":7.8129749970916302},{"$f":"EMC('Grain Drying Tool (EMC)'!$C$6,$B10,E$5)","v":8.0887073573052142},{"$f":"EMC('Grain Drying Tool (EMC)'!$C$6,$B10,F$5)","v":8.3572439726682841},{"$f":"EMC('Grain Drying Tool (EMC)'!$C$6,$B10,G$5)","v":8.6201783476061014},{"$f":"EMC('Grain Drying Tool (EMC)'!$C$6,$B10,H$5)","v":8.8788576268053063},{"$f":"EMC('Grain Drying Tool (EMC)'!$C$6,$B10,I$5)","v":9.1344489731957719},{"$f":"EMC('Grain Drying Tool (EMC)'!$C$6,$B10,J$5)","v":9.3879877599913897},{"$f":"EMC('Grain Drying Tool (EMC)'!$C$6,$B10,K$5)","v":9.6404137504048517},{"$f":"EMC('Grain Drying Tool (EMC)'!$C$6,$B10,L$5)","v":9.8925992159038003},{"$f":"EMC('Grain Drying Tool (EMC)'!$C$6,$B10,M$5)","v":10.145371618244239},{"$f":"EMC('Grain Drying Tool (EMC)'!$C$6,$B10,N$5)","v":10.399532670258138},{"$f":"EMC('Grain Drying Tool (EMC)'!$C$6,$B10,O$5)","v":10.655875088710369},{"$f":"EMC('Grain Drying Tool (EMC)'!$C$6,$B10,P$5)","v":10.915198044040734},{"$f":"EMC('Grain Drying Tool (EMC)'!$C$6,$B10,Q$5)","v":11.178322130957021},{"$f":"EMC('Grain Drying Tool (EMC)'!$C$6,$B10,R$5)","v":11.446104593839589},{"$f":"EMC('Grain Drying Tool (EMC)'!$C$6,$B10,S$5)","v":11.719455522637016},{"$f":"EMC('Grain Drying Tool (EMC)'!$C$6,$B10,T$5)","v":11.999355781385896},{"$f":"EMC('Grain Drying Tool (EMC)'!$C$6,$B10,U$5)","v":12.286877545498569},{"$f":"EMC('Grain Drying Tool (EMC)'!$C$6,$B10,V$5)","v":12.583208518149261},{"$f":"EMC('Grain Drying Tool (EMC)'!$C$6,$B10,W$5)","v":12.889681194978387},{"$f":"EMC('Grain Drying Tool (EMC)'!$C$6,$B10,X$5)","v":13.207808991114087},{"$f":"EMC('Grain Drying Tool (EMC)'!$C$6,$B10,Y$5)","v":13.53933170172969},{"$f":"EMC('Grain Drying Tool (EMC)'!$C$6,$B10,Z$5)","v":13.886273744235103},{"$f":"EMC('Grain Drying Tool (EMC)'!$C$6,$B10,AA$5)","v":14.251020101603412},{"$f":"EMC('Grain Drying Tool (EMC)'!$C$6,$B10,AB$5)","v":14.63641714323307},{"$f":"EMC('Grain Drying Tool (EMC)'!$C$6,$B10,AC$5)","v":15.045909038684387},{"$f":"EMC('Grain Drying Tool (EMC)'!$C$6,$B10,AD$5)","v":15.4837261733015},{"$f":"EMC('Grain Drying Tool (EMC)'!$C$6,$B10,AE$5)","v":15.955151409564317},{"$f":"EMC('Grain Drying Tool (EMC)'!$C$6,$B10,AF$5)","v":16.466906211136561},{"$f":"EMC('Grain Drying Tool (EMC)'!$C$6,$B10,AG$5)","v":17.02772747613243},{"$f":"EMC('Grain Drying Tool (EMC)'!$C$6,$B10,AH$5)","v":17.649259711997402},{"$f":"EMC('Grain Drying Tool (EMC)'!$C$6,$B10,AI$5)","v":18.347493071959434},{"$f":"EMC('Grain Drying Tool (EMC)'!$C$6,$B10,AJ$5)","v":19.145200115179019},{"$f":"EMC('Grain Drying Tool (EMC)'!$C$6,$B10,AK$5)","v":20.076329376621647},{"$f":"EMC('Grain Drying Tool (EMC)'!$C$6,$B10,AL$5)","v":21.194581707044918}]
[null,40,{"$f":"EMC('Grain Drying Tool (EMC)'!$C$6,$B11,C$5)","v":7.496609462952553},{"$f":"EMC('Grain Drying Tool (EMC)'!$C$6,$B11,D$5)","v":7.7803802531532309},{"$f":"EMC('Grain Drying Tool (EMC)'!$C$6,$B11,E$5)","v":8.0550628048409454},{"$f":"EMC('Grain Drying Tool (EMC)'!$C$6,$B11,F$5)","v":8.3225835975657603},{"$f":"EMC('Grain Drying Tool (EMC)'!$C$6,$B11,G$5)","v":8.5845296423245845},{"$f":"EMC('Grain Drying Tool (EMC)'!$C$6,$B11,H$5)","v":8.8422426691540323},{"$f":"EMC('Grain Drying Tool (EMC)'!$C$6,$B11,I$5)","v":9.0968852241436498},{"$f":"EMC('Grain Drying Tool (EMC)'!$C$6,$B11,J$5)","v":9.3494886592979665},{"$f":"EMC('Grain Drying Tool (EMC)'!$C$6,$B11,K$5)","v":9.6009891623742334},{"$f":"EMC('Grain Drying Tool (EMC)'!$C$6,$B11,L$5)","v":9.8522557607016168},{"$f":"EMC('Grain Drying Tool (EMC)'!$C$6,$B11,M$5)","v":10.104112913110791},{"$f":"EMC('Grain Drying Tool (EMC)'!$C$6,$B11,N$5)","v":10.357359497382866},{"$f":"EMC('Grain Drying Tool (EMC)'!$C$6,$B11,O$5)","v":10.612785501185355},{"$f":"EMC('Grain Drying Tool (EMC)'!$C$6,$B11,P$5)","v":10.871187417370258},{"$f":"EMC('Grain Drying Tool (EMC)'!$C$6,$B11,Q$5)","v":11.133383164542002},{"$f":"EMC('Grain Drying Tool (EMC)'!$C$6,$B11,R$5)","v":11.400227264323719},{"$f":"EMC('Grain Drying Tool (EMC)'!$C$6,$B11,S$5)","v":11.67262698873664},{"$f":"EMC('Grain Drying Tool (EMC)'!$C$6,$B11,T$5)","v":11.951560237617569},{"$f":"EMC('Grain Drying Tool (EMC)'!$C$6,$B11,U$5)","v":12.23809601987498},{"$f":"EMC('Grain Drying Tool (EMC)'!$C$6,$B11,V$5)","v":12.533418606231509},{"$f":"EMC('Grain Drying Tool (EMC)'!$C$6,$B11,W$5)","v":12.838856719407415},{"$f":"EMC('Grain Drying Tool (EMC)'!$C$6,$B11,X$5)","v":13.155919571576792},{"$f":"EMC('Grain Drying Tool (EMC)'!$C$6,$B11,Y$5)","v":13.486342214798702},{"$f":"EMC('Grain Drying Tool (EMC)'!$C$6,$B11,Z$5)","v":13.832143645002226},{"$f":"EMC('Grain Drying Tool (EMC)'!$C$6,$B11,AA$5)","v":14.195702568516607},{"$f":"EMC('Grain Drying Tool (EMC)'!$C$6,$B11,AB$5)","v":14.579857992507989},{"$f":"EMC('Grain Drying Tool (EMC)'!$C$6,$B11,AC$5)","v":14.988045332634156},{"$f":"EMC('Grain Drying Tool (EMC)'!$C$6,$B11,AD$5)","v":15.424484413864022},{"$f":"EMC('Grain Drying Tool (EMC)'!$C$6,$B11,AE$5)","v":15.894445157333081},{"$f":"EMC('Grain Drying Tool (EMC)'!$C$6,$B11,AF$5)","v":16.40463288924267},{"$f":"EMC('Grain Drying Tool (EMC)'!$C$6,$B11,AG$5)","v":16.963763985315573},{"$f":"EMC('Grain Drying Tool (EMC)'!$C$6,$B11,AH$5)","v":17.583456255954708},{"$f":"EMC('Grain Drying Tool (EMC)'!$C$6,$B11,AI$5)","v":18.279664185559273},{"$f":"EMC('Grain Drying Tool (EMC)'!$C$6,$B11,AJ$5)","v":19.075111119991643},{"$f":"EMC('Grain Drying Tool (EMC)'!$C$6,$B11,AK$5)","v":20.003674936463348},{"$f":"EMC('Grain Drying Tool (EMC)'!$C$6,$B11,AL$5)","v":21.118949748637917}]
[null,42,{"$f":"EMC('Grain Drying Tool (EMC)'!$C$6,$B12,C$5)","v":7.465085016614772},{"$f":"EMC('Grain Drying Tool (EMC)'!$C$6,$B12,D$5)","v":7.7477624518896553},{"$f":"EMC('Grain Drying Tool (EMC)'!$C$6,$B12,E$5)","v":8.0213936118697831},{"$f":"EMC('Grain Drying Tool (EMC)'!$C$6,$B12,F$5)","v":8.2878969946152772},{"$f":"EMC('Grain Drying Tool (EMC)'!$C$6,$B12,G$5)","v":8.5488531119471194},{"$f":"EMC('Grain Drying Tool (EMC)'!$C$6,$B12,H$5)","v":8.8055982738987684},{"$f":"EMC('Grain Drying Tool (EMC)'!$C$6,$B12,I$5)","v":9.0592904045969522},{"$f":"EMC('Grain Drying Tool (EMC)'!$C$6,$B12,J$5)","v":9.3109568298143461},{"$f":"EMC('Grain Drying Tool (EMC)'!$C$6,$B12,K$5)","v":9.5615301568201563},{"$f":"EMC('Grain Drying Tool (EMC)'!$C$6,$B12,L$5)","v":9.8118761636640937},{"$f":"EMC('Grain Drying Tool (EMC)'!$C$6,$B12,M$5)","v":10.062816300909484},{"$f":"EMC('Grain Drying Tool (EMC)'!$C$6,$B12,N$5)","v":10.315146605651242},{"$f":"EMC('Grain Drying Tool (EMC)'!$C$6,$B12,O$5)","v":10.569654330434648},{"$f":"EMC('Grain Drying Tool (EMC)'!$C$6,$B12,P$5)","v":10.827133284005136},{"$f":"EMC('Grain Drying Tool (EMC)'!$C$6,$B12,Q$5)","v":11.088398701733951},{"$f":"EMC('Grain Drying Tool (EMC)'!$C$6,$B12,R$5)","v":11.3543023746114},{"$f":"EMC('Grain Drying Tool (EMC)'!$C$6,$B12,S$5)","v":11.62574874795123},{"$f":"EMC('Grain Drying Tool (EMC)'!$C$6,$B12,T$5)","v":11.903712747515755},{"$f":"EMC('Grain Drying Tool (EMC)'!$C$6,$B12,U$5)","v":12.18926020450902},{"$f":"EMC('Grain Drying Tool (EMC)'!$C$6,$B12,V$5)","v":12.483571944390231},{"$f":"EMC('Grain Drying Tool (EMC)'!$C$6,$B12,W$5)","v":12.787972902179636},{"$f":"EMC('Grain Drying Tool (EMC)'!$C$6,$B12,X$5)","v":13.103968069897499},{"$f":"EMC('Grain Drying Tool (EMC)'!$C$6,$B12,Y$5)","v":13.433287736289094},{"$f":"EMC('Grain Drying Tool (EMC)'!$C$6,$B12,Z$5)","v":13.777945451849},{"$f":"EMC('Grain Drying Tool (EMC)'!$C$6,$B12,AA$5)","v":14.140313617558689},{"$f":"EMC('Grain Drying Tool (EMC)'!$C$6,$B12,AB$5)","v":14.523223843561382},{"$f":"EMC('Grain Drying Tool (EMC)'!$C$6,$B12,AC$5)","v":14.930102748909704},{"$f":"EMC('Grain Drying Tool (EMC)'!$C$6,$B12,AD$5)","v":15.36515954504002},{"$f":"EMC('Grain Drying Tool (EMC)'!$C$6,$B12,AE$5)","v":15.833651144509009},{"$f":"EMC('Grain Drying Tool (EMC)'!$C$6,$B12,AF$5)","v":16.342266649450092},{"$f":"EMC('Grain Drying Tool (EMC)'!$C$6,$B12,AG$5)","v":16.899701799248376},{"$f":"EMC('Grain Drying Tool (EMC)'!$C$6,$B12,AH$5)","v":17.517547553557236},{"$f":"EMC('Grain Drying Tool (EMC)'!$C$6,$B12,AI$5)","v":18.21172251430929},{"$f":"EMC('Grain Drying Tool (EMC)'!$C$6,$B12,AJ$5)","v":19.004900506067447},{"$f":"EMC('Grain Drying Tool (EMC)'!$C$6,$B12,AK$5)","v":19.930888283393386},{"$f":"EMC('Grain Drying Tool (EMC)'!$C$6,$B12,AL$5)","v":21.043172478185781}]
[null,44,{"$f":"EMC('Grain Drying Tool (EMC)'!$C$6,$B13,C$5)","v":7.4335390763727585},{"$f":"EMC('Grain Drying Tool (EMC)'!$C$6,$B13,D$5)","v":7.7151215688263282},{"$f":"EMC('Grain Drying Tool (EMC)'!$C$6,$B13,E$5)","v":7.9876997513125891},{"$f":"EMC('Grain Drying Tool (EMC)'!$C$6,$B13,F$5)","v":8.2531841340352603},{"$f":"EMC('Grain Drying Tool (EMC)'!$C$6,$B13,G$5)","v":8.5131487238832548},{"$f":"EMC('Grain Drying Tool (EMC)'!$C$6,$B13,H$5)","v":8.7689244055244799},{"$f":"EMC('Grain Drying Tool (EMC)'!$C$6,$B13,I$5)","v":9.021664475990244},{"$f":"EMC('Grain Drying Tool (EMC)'!$C$6,$B13,J$5)","v":9.2723922297877746},{"$f":"EMC('Grain Drying Tool (EMC)'!$C$6,$B13,K$5)","v":9.5220366886533778},{"$f":"EMC('Grain Drying Tool (EMC)'!$C$6,$B13,L$5)","v":9.7714603762027732},{"$f":"EMC('Grain Drying Tool (EMC)'!$C$6,$B13,M$5)","v":10.021481729374766},{"$f":"EMC('Grain Drying Tool (EMC)'!$C$6,$B13,N$5)","v":10.272893938925774},{"$f":"EMC('Grain Drying Tool (EMC)'!$C$6,$B13,O$5)","v":10.526481516234904},{"$f":"EMC('Grain Drying Tool (EMC)'!$C$6,$B13,P$5)","v":10.783035579400657},{"$f":"EMC('Grain Drying Tool (EMC)'!$C$6,$B13,Q$5)","v":11.043368673406778},{"$f":"EMC('Grain Drying Tool (EMC)'!$C$6,$B13,R$5)","v":11.308329850707088},{"$f":"EMC('Grain Drying Tool (EMC)'!$C$6,$B13,S$5)","v":11.578820721095521},{"$f":"EMC('Grain Drying Tool (EMC)'!$C$6,$B13,T$5)","v":11.855813226348017},{"$f":"EMC('Grain Drying Tool (EMC)'!$C$6,$B13,U$5)","v":12.140370008720339},{"$f":"EMC('Grain Drying Tool (EMC)'!$C$6,$B13,V$5)","v":12.433668435545817},{"$f":"EMC('Grain Drying Tool (EMC)'!$C$6,$B13,W$5)","v":12.737029639305119},{"$f":"EMC('Grain Drying Tool (EMC)'!$C$6,$B13,X$5)","v":13.051954374593967},{"$f":"EMC('Grain Drying Tool (EMC)'!$C$6,$B13,Y$5)","v":13.380168146559299},{"$f":"EMC('Grain Drying Tool (EMC)'!$C$6,$B13,Z$5)","v":13.72367903620462},{"$f":"EMC('Grain Drying Tool (EMC)'!$C$6,$B13,AA$5)","v":14.084853110333935},{"$f":"EMC('Grain Drying Tool (EMC)'!$C$6,$B13,AB$5)","v":14.466514547121252},{"$f":"EMC('Grain Drying Tool (EMC)'!$C$6,$B13,AC$5)","v":14.872081126116317},{"$f":"EMC('Grain Drying Tool (EMC)'!$C$6,$B13,AD$5)","v":15.305751391817346},{"$f":"EMC('Grain Drying Tool (EMC)'!$C$6,$B13,AE$5)","v":15.772769180646495},{"$f":"EMC('Grain Drying Tool (EMC)'!$C$6,$B13,AF$5)","v":16.279807283639645},{"$f":"EMC('Grain Drying Tool (EMC)'!$C$6,$B13,AG$5)","v":16.835540689325281},{"$f":"EMC('Grain Drying Tool (EMC)'!$C$6,$B13,AH$5)","v":17.451533352105635},{"$f":"EMC('Grain Drying Tool (EMC)'!$C$6,$B13,AI$5)","v":18.143667776669993},{"$f":"EMC('Grain Drying Tool (EMC)'!$C$6,$B13,AJ$5)","v":18.934567956581486},{"$f":"EMC('Grain Drying Tool (EMC)'!$C$6,$B13,AK$5)","v":19.857969056191429},{"$f":"EMC('Grain Drying Tool (EMC)'!$C$6,$B13,AL$5)","v":20.96724947650273}]
[null,46,{"$f":"EMC('Grain Drying Tool (EMC)'!$C$6,$B14,C$5)","v":7.4019716202366519},{"$f":"EMC('Grain Drying Tool (EMC)'!$C$6,$B14,D$5)","v":7.6824575794540246},{"$f":"EMC('Grain Drying Tool (EMC)'!$C$6,$B14,E$5)","v":7.9539811960505329},{"$f":"EMC('Grain Drying Tool (EMC)'!$C$6,$B14,F$5)","v":8.2184449859990281},{"$f":"EMC('Grain Drying Tool (EMC)'!$C$6,$B14,G$5)","v":8.4774164454916274},{"$f":"EMC('Grain Drying Tool (EMC)'!$C$6,$B14,H$5)","v":8.7322210284589747},{"$f":"EMC('Grain Drying Tool (EMC)'!$C$6,$B14,I$5)","v":8.9840073996942262},{"$f":"EMC('Grain Drying Tool (EMC)'!$C$6,$B14,J$5)","v":9.2337948173944344},{"$f":"EMC('Grain Drying Tool (EMC)'!$C$6,$B14,K$5)","v":9.4825087127058616},{"$f":"EMC('Grain Drying Tool (EMC)'!$C$6,$B14,L$5)","v":9.7310083496420567},{"$f":"EMC('Grain Drying Tool (EMC)'!$C$6,$B14,M$5)","v":9.9801091461449456},{"$f":"EMC('Grain Drying Tool (EMC)'!$C$6,$B14,N$5)","v":10.230601440963126},{"$f":"EMC('Grain Drying Tool (EMC)'!$C$6,$B14,O$5)","v":10.483266998246433},{"$f":"EMC('Grain Drying Tool (EMC)'!$C$6,$B14,P$5)","v":10.738894238884386},{"$f":"EMC('Grain Drying Tool (EMC)'!$C$6,$B14,Q$5)","v":10.998293010294285},{"$f":"EMC('Grain Drying Tool (EMC)'!$C$6,$B14,R$5)","v":11.262309618461652},{"$f":"EMC('Grain Drying Tool (EMC)'!$C$6,$B14,S$5)","v":11.531842828815977},{"$f":"EMC('Grain Drying Tool (EMC)'!$C$6,$B14,T$5)","v":11.807861589197525},{"$f":"EMC('Grain Drying Tool (EMC)'!$C$6,$B14,U$5)","v":12.091425341626524},{"$f":"EMC('Grain Drying Tool (EMC)'!$C$6,$B14,V$5)","v":12.383707982397103},{"$f":"EMC('Grain Drying Tool (EMC)'!$C$6,$B14,W$5)","v":12.686026826550814},{"$f":"EMC('Grain Drying Tool (EMC)'!$C$6,$B14,X$5)","v":12.999878373916868},{"$f":"EMC('Grain Drying Tool (EMC)'!$C$6,$B14,Y$5)","v":13.32698332567389},{"$f":"EMC('Grain Drying Tool (EMC)'!$C$6,$B14,Z$5)","v":13.669344269174399},{"$f":"EMC('Grain Drying Tool (EMC)'!$C$6,$B14,AA$5)","v":14.02932090808879},{"$f":"EMC('Grain Drying Tool (EMC)'!$C$6,$B14,AB$5)","v":14.409729953519205},{"$f":"EMC('Grain Drying Tool (EMC)'!$C$6,$B14,AC$5)","v":14.813980302418667},{"$f":"EMC('Grain Drying Tool (EMC)'!$C$6,$B14,AD$5)","v":15.246259778692114},{"$f":"EMC('Grain Drying Tool (EMC)'!$C$6,$B14,AE$5)","v":15.711799074748495},{"$f":"EMC('Grain Drying Tool (EMC)'!$C$6,$B14,AF$5)","v":16.217254583070151},{"$f":"EMC('Grain Drying Tool (EMC)'!$C$6,$B14,AG$5)","v":16.77128042623416},{"$f":"EMC('Grain Drying Tool (EMC)'!$C$6,$B14,AH$5)","v":17.385413398090932},{"$f":"EMC('Grain Drying Tool (EMC)'!$C$6,$B14,AI$5)","v":18.075499690164051},{"$f":"EMC('Grain Drying Tool (EMC)'!$C$6,$B14,AJ$5)","v":18.864113153607413},{"$f":"EMC('Grain Drying Tool (EMC)'!$C$6,$B14,AK$5)","v":19.784916892320112},{"$f":"EMC('Grain Drying Tool (EMC)'!$C$6,$B14,AL$5)","v":20.891180322789101}]
[null,48,{"$f":"EMC('Grain Drying Tool (EMC)'!$C$6,$B15,C$5)","v":7.3703826261865872},{"$f":"EMC('Grain Drying Tool (EMC)'!$C$6,$B15,D$5)","v":7.6497704592288036},{"$f":"EMC('Grain Drying Tool (EMC)'!$C$6,$B15,E$5)","v":7.9202379189250154},{"$f":"EMC('Grain Drying Tool (EMC)'!$C$6,$B15,F$5)","v":8.1836795206347119},{"$f":"EMC('Grain Drying Tool (EMC)'!$C$6,$B15,G$5)","v":8.4416562440798533},{"$f":"EMC('Grain Drying Tool (EMC)'!$C$6,$B15,H$5)","v":8.6954881070728032},{"$f":"EMC('Grain Drying Tool (EMC)'!$C$6,$B15,I$5)","v":8.9463191370156281},{"$f":"EMC('Grain Drying Tool (EMC)'!$C$6,$B15,J$5)","v":9.1951645507393138},{"$f":"EMC('Grain Drying Tool (EMC)'!$C$6,$B15,K$5)","v":9.4429461837306032},{"$f":"EMC('Grain Drying Tool (EMC)'!$C$6,$B15,L$5)","v":9.6905200352190182},{"$f":"EMC('Grain Drying Tool (EMC)'!$C$6,$B15,M$5)","v":9.9386984987619869},{"$f":"EMC('Grain Drying Tool (EMC)'!$C$6,$B15,N$5)","v":10.18826905541388},{"$f":"EMC('Grain Drying Tool (EMC)'!$C$6,$B15,O$5)","v":10.440010716012912},{"$f":"EMC('Grain Drying Tool (EMC)'!$C$6,$B15,P$5)","v":10.694709197655831},{"$f":"EMC('Grain Drying Tool (EMC)'!$C$6,$B15,Q$5)","v":10.953171642989799},{"$f":"EMC('Grain Drying Tool (EMC)'!$C$6,$B15,R$5)","v":11.216241603571996},{"$f":"EMC('Grain Drying Tool (EMC)'!$C$6,$B15,S$5)","v":11.484814991590316},{"$f":"EMC('Grain Drying Tool (EMC)'!$C$6,$B15,T$5)","v":11.759857750962578},{"$f":"EMC('Grain Drying Tool (EMC)'!$C$6,$B15,U$5)","v":12.042426112142538},{"$f":"EMC('Grain Drying Tool (EMC)'!$C$6,$B15,V$5)","v":12.333690487420736},{"$f":"EMC('Grain Drying Tool (EMC)'!$C$6,$B15,W$5)","v":12.634964359439842},{"$f":"EMC('Grain Drying Tool (EMC)'!$C$6,$B15,X$5)","v":12.947739955848991},{"$f":"EMC('Grain Drying Tool (EMC)'!$C$6,$B15,Y$5)","v":13.273733153402707},{"$f":"EMC('Grain Drying Tool (EMC)'!$C$6,$B15,Z$5)","v":13.614941021538748},{"$f":"EMC('Grain Drying Tool (EMC)'!$C$6,$B15,AA$5)","v":13.973716871710746},{"$f":"EMC('Grain Drying Tool (EMC)'!$C$6,$B15,AB$5)","v":14.352869912689124},{"$f":"EMC('Grain Drying Tool (EMC)'!$C$6,$B15,AC$5)","v":14.755800115539296},{"$f":"EMC('Grain Drying Tool (EMC)'!$C$6,$B15,AD$5)","v":15.186684529666975},{"$f":"EMC('Grain Drying Tool (EMC)'!$C$6,$B15,AE$5)","v":15.650740635264523},{"$f":"EMC('Grain Drying Tool (EMC)'!$C$6,$B15,AF$5)","v":16.154608338376111},{"$f":"EMC('Grain Drying Tool (EMC)'!$C$6,$B15,AG$5)","v":16.706920779953595},{"$f":"EMC('Grain Drying Tool (EMC)'!$C$6,$B15,AH$5)","v":17.31918743719126},{"$f":"EMC('Grain Drying Tool (EMC)'!$C$6,$B15,AI$5)","v":18.007217971372391},{"$f":"EMC('Grain Drying Tool (EMC)'!$C$6,$B15,AJ$5)","v":18.793535778112638},{"$f":"EMC('Grain Drying Tool (EMC)'!$C$6,$B15,AK$5)","v":19.711731427918984},{"$f":"EMC('Grain Drying Tool (EMC)'!$C$6,$B15,AL$5)","v":20.8149645946236}]
[null,50,{"$f":"EMC('Grain Drying Tool (EMC)'!$C$6,$B16,C$5)","v":7.3387720721726355},{"$f":"EMC('Grain Drying Tool (EMC)'!$C$6,$B16,D$5)","v":7.6170601835719571},{"$f":"EMC('Grain Drying Tool (EMC)'!$C$6,$B16,E$5)","v":7.886469892737602},{"$f":"EMC('Grain Drying Tool (EMC)'!$C$6,$B16,F$5)","v":8.1488877080251534},{"$f":"EMC('Grain Drying Tool (EMC)'!$C$6,$B16,G$5)","v":8.4058680869044391},{"$f":"EMC('Grain Drying Tool (EMC)'!$C$6,$B16,H$5)","v":8.6587256056791233},{"$f":"EMC('Grain Drying Tool (EMC)'!$C$6,$B16,I$5)","v":8.9085996491970576},{"$f":"EMC('Grain Drying Tool (EMC)'!$C$6,$B16,J$5)","v":9.1565013878560464},{"$f":"EMC('Grain Drying Tool (EMC)'!$C$6,$B16,K$5)","v":9.4033490564014617},{"$f":"EMC('Grain Drying Tool (EMC)'!$C$6,$B16,L$5)","v":9.6499953840832067},{"$f":"EMC('Grain Drying Tool (EMC)'!$C$6,$B16,M$5)","v":9.897249734671286},{"$f":"EMC('Grain Drying Tool (EMC)'!$C$6,$B16,N$5)","v":10.145896725822265},{"$f":"EMC('Grain Drying Tool (EMC)'!$C$6,$B16,O$5)","v":10.396712608961101},{"$f":"EMC('Grain Drying Tool (EMC)'!$C$6,$B16,P$5)","v":10.650480390786123},{"$f":"EMC('Grain Drying Tool (EMC)'!$C$6,$B16,Q$5)","v":10.908004501945841},{"$f":"EMC('Grain Drying Tool (EMC)'!$C$6,$B16,R$5)","v":11.170125731580637},{"$f":"EMC('Grain Drying Tool (EMC)'!$C$6,$B16,S$5)","v":11.437737129727092},{"$f":"EMC('Grain Drying Tool (EMC)'!$C$6,$B16,T$5)","v":11.711801626356074},{"$f":"EMC('Grain Drying Tool (EMC)'!$C$6,$B16,U$5)","v":11.993372228980149},{"$f":"EMC('Grain Drying Tool (EMC)'!$C$6,$B16,V$5)","v":12.283615852870547},{"$f":"EMC('Grain Drying Tool (EMC)'!$C$6,$B16,W$5)","v":12.583842133250783},{"$f":"EMC('Grain Drying Tool (EMC)'!$C$6,$B16,X$5)","v":12.895539008104441},{"$f":"EMC('Grain Drying Tool (EMC)'!$C$6,$B16,Y$5)","v":13.220417509219942},{"$f":"EMC('Grain Drying Tool (EMC)'!$C$6,$B16,Z$5)","v":13.560469163752137},{"$f":"EMC('Grain Drying Tool (EMC)'!$C$6,$B16,AA$5)","v":13.918040861727151},{"$f":"EMC('Grain Drying Tool (EMC)'!$C$6,$B16,AB$5)","v":14.295934274165864},{"$f":"EMC('Grain Drying Tool (EMC)'!$C$6,$B16,AC$5)","v":14.697540402757124},{"$f":"EMC('Grain Drying Tool (EMC)'!$C$6,$B16,AD$5)","v":15.127025468249389},{"$f":"EMC('Grain Drying Tool (EMC)'!$C$6,$B16,AE$5)","v":15.589593670088666},{"$f":"EMC('Grain Drying Tool (EMC)'!$C$6,$B16,AF$5)","v":16.091868339565362},{"$f":"EMC('Grain Drying Tool (EMC)'!$C$6,$B16,AG$5)","v":16.642461519750118},{"$f":"EMC('Grain Drying Tool (EMC)'!$C$6,$B16,AH$5)","v":17.252855214268621},{"$f":"EMC('Grain Drying Tool (EMC)'!$C$6,$B16,AI$5)","v":17.938822335930258},{"$f":"EMC('Grain Drying Tool (EMC)'!$C$6,$B16,AJ$5)","v":18.722835509953558},{"$f":"EMC('Grain Drying Tool (EMC)'!$C$6,$B16,AK$5)","v":19.638412297798496},{"$f":"EMC('Grain Drying Tool (EMC)'!$C$6,$B16,AL$5)","v":20.73860186795547}]
[null,52,{"$f":"EMC('Grain Drying Tool (EMC)'!$C$6,$B17,C$5)","v":7.3071399361147646},{"$f":"EMC('Grain Drying Tool (EMC)'!$C$6,$B17,D$5)","v":7.5843267278699322},{"$f":"EMC('Grain Drying Tool (EMC)'!$C$6,$B17,E$5)","v":7.8526770902499399},{"$f":"EMC('Grain Drying Tool (EMC)'!$C$6,$B17,F$5)","v":8.1140695182078488},{"$f":"EMC('Grain Drying Tool (EMC)'!$C$6,$B17,G$5)","v":8.3700519411706704},{"$f":"EMC('Grain Drying Tool (EMC)'!$C$6,$B17,H$5)","v":8.6219334885335979},{"$f":"EMC('Grain Drying Tool (EMC)'!$C$6,$B17,I$5)","v":8.870848897416872},{"$f":"EMC('Grain Drying Tool (EMC)'!$C$6,$B17,J$5)","v":9.1178052867067585},{"$f":"EMC('Grain Drying Tool (EMC)'!$C$6,$B17,K$5)","v":9.3637172853129815},{"$f":"EMC('Grain Drying Tool (EMC)'!$C$6,$B17,L$5)","v":9.6094343472964496},{"$f":"EMC('Grain Drying Tool (EMC)'!$C$6,$B17,M$5)","v":9.8557628012214398},{"$f":"EMC('Grain Drying Tool (EMC)'!$C$6,$B17,N$5)","v":10.10348439562593},{"$f":"EMC('Grain Drying Tool (EMC)'!$C$6,$B17,O$5)","v":10.353372616400573},{"$f":"EMC('Grain Drying Tool (EMC)'!$C$6,$B17,P$5)","v":10.606207753217713},{"$f":"EMC('Grain Drying Tool (EMC)'!$C$6,$B17,Q$5)","v":10.862791517473747},{"$f":"EMC('Grain Drying Tool (EMC)'!$C$6,$B17,R$5)","v":11.123961927875316},{"$f":"EMC('Grain Drying Tool (EMC)'!$C$6,$B17,S$5)","v":11.390609163365214},{"$f":"EMC('Grain Drying Tool (EMC)'!$C$6,$B17,T$5)","v":11.663693129905031},{"$f":"EMC('Grain Drying Tool (EMC)'!$C$6,$B17,U$5)","v":11.944263600647369},{"$f":"EMC('Grain Drying Tool (EMC)'!$C$6,$B17,V$5)","v":12.233483980776908},{"$f":"EMC('Grain Drying Tool (EMC)'!$C$6,$B17,W$5)","v":12.532660043016962},{"$f":"EMC('Grain Drying Tool (EMC)'!$C$6,$B17,X$5)","v":12.843275418127837},{"$f":"EMC('Grain Drying Tool (EMC)'!$C$6,$B17,Y$5)","v":13.167036272303225},{"$f":"EMC('Grain Drying Tool (EMC)'!$C$6,$B17,Z$5)","v":13.505928565942098},{"$f":"EMC('Grain Drying Tool (EMC)'!$C$6,$B17,AA$5)","v":13.862292738304053},{"$f":"EMC('Grain Drying Tool (EMC)'!$C$6,$B17,AB$5)","v":14.238922887083906},{"$f":"EMC('Grain Drying Tool (EMC)'!$C$6,$B17,AC$5)","v":14.639201000905919},{"$f":"EMC('Grain Drying Tool (EMC)'!$C$6,$B17,AD$5)","v":15.067282417449871},{"$f":"EMC('Grain Drying Tool (EMC)'!$C$6,$B17,AE$5)","v":15.528357986557539},{"$f":"EMC('Grain Drying Tool (EMC)'!$C$6,$B17,AF$5)","v":16.029034376016739},{"$f":"EMC('Grain Drying Tool (EMC)'!$C$6,$B17,AG$5)","v":16.577902414175465},{"$f":"EMC('Grain Drying Tool (EMC)'!$C$6,$B17,AH$5)","v":17.186416473365608},{"$f":"EMC('Grain Drying Tool (EMC)'!$C$6,$B17,AI$5)","v":17.870312498523276},{"$f":"EMC('Grain Drying Tool (EMC)'!$C$6,$B17,AJ$5)","v":18.652012027870697},{"$f":"EMC('Grain Drying Tool (EMC)'!$C$6,$B17,AK$5)","v":19.56495913543392},{"$f":"EMC('Grain Drying Tool (EMC)'!$C$6,$B17,AL$5)","v":20.662091717096622}]
[null,54,{"$f":"EMC('Grain Drying Tool (EMC)'!$C$6,$B18,C$5)","v":7.2754861959027783},{"$f":"EMC('Grain Drying Tool (EMC)'!$C$6,$B18,D$5)","v":7.5515700674742883},{"$f":"EMC('Grain Drying Tool (EMC)'!$C$6,$B18,E$5)","v":7.8188594841837},{"$f":"EMC('Grain Drying Tool (EMC)'!$C$6,$B18,F$5)","v":8.0792249211748288},{"$f":"EMC('Grain Drying Tool (EMC)'!$C$6,$B18,G$5)","v":8.3342077740325209},{"$f":"EMC('Grain Drying Tool (EMC)'!$C$6,$B18,H$5)","v":8.585111719834277},{"$f":"EMC('Grain Drying Tool (EMC)'!$C$6,$B18,I$5)","v":8.8330668427890568},{"$f":"EMC('Grain Drying Tool (EMC)'!$C$6,$B18,J$5)","v":9.0790762051819254},{"$f":"EMC('Grain Drying Tool (EMC)'!$C$6,$B18,K$5)","v":9.3240508249802261},{"$f":"EMC('Grain Drying Tool (EMC)'!$C$6,$B18,L$5)","v":9.5688368758326554},{"$f":"EMC('Grain Drying Tool (EMC)'!$C$6,$B18,M$5)","v":9.814237645664031},{"$f":"EMC('Grain Drying Tool (EMC)'!$C$6,$B18,N$5)","v":10.061032008155674},{"$f":"EMC('Grain Drying Tool (EMC)'!$C$6,$B18,O$5)","v":10.309990677523427},{"$f":"EMC('Grain Drying Tool (EMC)'!$C$6,$B18,P$5)","v":10.561891219764043},{"$f":"EMC('Grain Drying Tool (EMC)'!$C$6,$B18,Q$5)","v":10.817532619743313},{"$f":"EMC('Grain Drying Tool (EMC)'!$C$6,$B18,R$5)","v":11.077750117688597},{"$f":"EMC('Grain Drying Tool (EMC)'!$C$6,$B18,S$5)","v":11.34343101247352},{"$f":"EMC('Grain Drying Tool (EMC)'!$C$6,$B18,T$5)","v":11.615532175950056},{"$f":"EMC('Grain Drying Tool (EMC)'!$C$6,$B18,U$5)","v":11.895100135447882},{"$f":"EMC('Grain Drying Tool (EMC)'!$C$6,$B18,V$5)","v":12.183294772946102},{"$f":"EMC('Grain Drying Tool (EMC)'!$C$6,$B18,W$5)","v":12.481417983525729},{"$f":"EMC('Grain Drying Tool (EMC)'!$C$6,$B18,X$5)","v":12.790949073093492},{"$f":"EMC('Grain Drying Tool (EMC)'!$C$6,$B18,Y$5)","v":13.113589321532711},{"$f":"EMC('Grain Drying Tool (EMC)'!$C$6,$B18,Z$5)","v":13.451319097908165},{"$f":"EMC('Grain Drying Tool (EMC)'!$C$6,$B18,AA$5)","v":13.806472361245033},{"$f":"EMC('Grain Drying Tool (EMC)'!$C$6,$B18,AB$5)","v":14.181835600176038},{"$f":"EMC('Grain Drying Tool (EMC)'!$C$6,$B18,AC$5)","v":14.58078174637278},{"$f":"EMC('Grain Drying Tool (EMC)'!$C$6,$B18,AD$5)","v":15.007455199780244},{"$f":"EMC('Grain Drying Tool (EMC)'!$C$6,$B18,AE$5)","v":15.467033391448298},{"$f":"EMC('Grain Drying Tool (EMC)'!$C$6,$B18,AF$5)","v":15.96610623647773},{"$f":"EMC('Grain Drying Tool (EMC)'!$C$6,$B18,AG$5)","v":16.513243231063818},{"$f":"EMC('Grain Drying Tool (EMC)'!$C$6,$B18,AH$5)","v":17.119870957702098},{"$f":"EMC('Grain Drying Tool (EMC)'!$C$6,$B18,AI$5)","v":17.801688172883484},{"$f":"EMC('Grain Drying Tool (EMC)'!$C$6,$B18,AJ$5)","v":18.581065009483851},{"$f":"EMC('Grain Drying Tool (EMC)'!$C$6,$B18,AK$5)","v":19.491371572959235},{"$f":"EMC('Grain Drying Tool (EMC)'!$C$6,$B18,AL$5)","v":20.585433714713737}]
[null,56,{"$f":"EMC('Grain Drying Tool (EMC)'!$C$6,$B19,C$5)","v":7.2438108293962662},{"$f":"EMC('Grain Drying Tool (EMC)'!$C$6,$B19,D$5)","v":7.5187901777016188},{"$f":"EMC('Grain Drying Tool (EMC)'!$C$6,$B19,E$5)","v":7.7850170472204834},{"$f":"EMC('Grain Drying Tool (EMC)'!$C$6,$B19,F$5)","v":8.0443538868725977},{"$f":"EMC('Grain Drying Tool (EMC)'!$C$6,$B19,G$5)","v":8.2983355525925528},{"$f":"EMC('Grain Drying Tool (EMC)'!$C$6,$B19,H$5)","v":8.5482602637214775},{"$f":"EMC('Grain Drying Tool (EMC)'!$C$6,$B19,I$5)","v":8.7952534463630645},{"$f":"EMC('Grain Drying Tool (EMC)'!$C$6,$B19,J$5)","v":9.0403141011002059},{"$f":"EMC('Grain Drying Tool (EMC)'!$C$6,$B19,K$5)","v":9.2843496298385908},{"$f":"EMC('Grain Drying Tool (EMC)'!$C$6,$B19,L$5)","v":9.5282029205776073},{"$f":"EMC('Grain Drying Tool (EMC)'!$C$6,$B19,M$5)","v":9.7726742151534047},{"$f":"EMC('Grain Drying Tool (EMC)'!$C$6,$B19,N$5)","v":10.018539506635205},{"$f":"EMC('Grain Drying Tool (EMC)'!$C$6,$B19,O$5)","v":10.266566731403984},{"$f":"EMC('Grain Drying Tool (EMC)'!$C$6,$B19,P$5)","v":10.517530725109216},{"$f":"EMC('Grain Drying Tool (EMC)'!$C$6,$B19,Q$5)","v":10.772227738782444},{"$f":"EMC('Grain Drying Tool (EMC)'!$C$6,$B19,R$5)","v":11.031490226097453},{"$f":"EMC('Grain Drying Tool (EMC)'!$C$6,$B19,S$5)","v":11.296202596850311},{"$f":"EMC('Grain Drying Tool (EMC)'!$C$6,$B19,T$5)","v":11.567318678644856},{"$f":"EMC('Grain Drying Tool (EMC)'!$C$6,$B19,U$5)","v":11.845881741480461},{"$f":"EMC('Grain Drying Tool (EMC)'!$C$6,$B19,V$5)","v":12.133048130959661},{"$f":"EMC('Grain Drying Tool (EMC)'!$C$6,$B19,W$5)","v":12.430115849317728},{"$f":"EMC('Grain Drying Tool (EMC)'!$C$6,$B19,X$5)","v":12.738559859904605},{"$f":"EMC('Grain Drying Tool (EMC)'!$C$6,$B19,Y$5)","v":13.06007653549017},{"$f":"EMC('Grain Drying Tool (EMC)'!$C$6,$B19,Z$5)","v":13.396640629120844},{"$f":"EMC('Grain Drying Tool (EMC)'!$C$6,$B19,AA$5)","v":13.75057958999003},{"$f":"EMC('Grain Drying Tool (EMC)'!$C$6,$B19,AB$5)","v":14.124672261772012},{"$f":"EMC('Grain Drying Tool (EMC)'!$C$6,$B19,AC$5)","v":14.522282475096604},{"$f":"EMC('Grain Drying Tool (EMC)'!$C$6,$B19,AD$5)","v":14.947543637251878},{"$f":"EMC('Grain Drying Tool (EMC)'!$C$6,$B19,AE$5)","v":15.405619690976579},{"$f":"EMC('Grain Drying Tool (EMC)'!$C$6,$B19,AF$5)","v":15.903083709062072},{"$f":"EMC('Grain Drying Tool (EMC)'!$C$6,$B19,AG$5)","v":16.448483737528992},{"$f":"EMC('Grain Drying Tool (EMC)'!$C$6,$B19,AH$5)","v":17.05321840967196},{"$f":"EMC('Grain Drying Tool (EMC)'!$C$6,$B19,AI$5)","v":17.732949071785335},{"$f":"EMC('Grain Drying Tool (EMC)'!$C$6,$B19,AJ$5)","v":18.509994131287176},{"$f":"EMC('Grain Drying Tool (EMC)'!$C$6,$B19,AK$5)","v":19.417649241160987},{"$f":"EMC('Grain Drying Tool (EMC)'!$C$6,$B19,AL$5)","v":20.508627431820297}]
[null,58,{"$f":"EMC('Grain Drying Tool (EMC)'!$C$6,$B20,C$5)","v":7.212113814424562},{"$f":"EMC('Grain Drying Tool (EMC)'!$C$6,$B20,D$5)","v":7.4859870338335019},{"$f":"EMC('Grain Drying Tool (EMC)'!$C$6,$B20,E$5)","v":7.7511497520017691},{"$f":"EMC('Grain Drying Tool (EMC)'!$C$6,$B20,F$5)","v":8.0094563852020393},{"$f":"EMC('Grain Drying Tool (EMC)'!$C$6,$B20,G$5)","v":8.2624352439018036},{"$f":"EMC('Grain Drying Tool (EMC)'!$C$6,$B20,H$5)","v":8.5113790842776709},{"$f":"EMC('Grain Drying Tool (EMC)'!$C$6,$B20,I$5)","v":8.7574086691237198},{"$f":"EMC('Grain Drying Tool (EMC)'!$C$6,$B20,J$5)","v":9.0015189322083007},{"$f":"EMC('Grain Drying Tool (EMC)'!$C$6,$B20,K$5)","v":9.2446136542436399},{"$f":"EMC('Grain Drying Tool (EMC)'!$C$6,$B20,L$5)","v":9.4875324323287877},{"$f":"EMC('Grain Drying Tool (EMC)'!$C$6,$B20,M$5)","v":9.7310724567464444},{"$f":"EMC('Grain Drying Tool (EMC)'!$C$6,$B20,N$5)","v":9.9760068341808772},{"$f":"EMC('Grain Drying Tool (EMC)'!$C$6,$B20,O$5)","v":10.223100716998538},{"$f":"EMC('Grain Drying Tool (EMC)'!$C$6,$B20,P$5)","v":10.473126203807702},{"$f":"EMC('Grain Drying Tool (EMC)'!$C$6,$B20,Q$5)","v":10.72687680447679},{"$f":"EMC('Grain Drying Tool (EMC)'!$C$6,$B20,R$5)","v":10.985182178022873},{"$f":"EMC('Grain Drying Tool (EMC)'!$C$6,$B20,S$5)","v":11.248923836122893},{"$f":"EMC('Grain Drying Tool (EMC)'!$C$6,$B20,T$5)","v":11.519052551955712},{"$f":"EMC('Grain Drying Tool (EMC)'!$C$6,$B20,U$5)","v":11.796608326638424},{"$f":"EMC('Grain Drying Tool (EMC)'!$C$6,$B20,V$5)","v":12.082743956173754},{"$f":"EMC('Grain Drying Tool (EMC)'!$C$6,$B20,W$5)","v":12.378753534686195},{"$f":"EMC('Grain Drying Tool (EMC)'!$C$6,$B20,X$5)","v":12.686107665192461},{"$f":"EMC('Grain Drying Tool (EMC)'!$C$6,$B20,Y$5)","v":13.006497792458063},{"$f":"EMC('Grain Drying Tool (EMC)'!$C$6,$B20,Z$5)","v":13.341893028720584},{"$f":"EMC('Grain Drying Tool (EMC)'!$C$6,$B20,AA$5)","v":13.694614283614145},{"$f":"EMC('Grain Drying Tool (EMC)'!$C$6,$B20,AB$5)","v":14.0674327197972},{"$f":"EMC('Grain Drying Tool (EMC)'!$C$6,$B20,AC$5)","v":14.463703022566557},{"$f":"EMC('Grain Drying Tool (EMC)'!$C$6,$B20,AD$5)","v":14.887547551373943},{"$f":"EMC('Grain Drying Tool (EMC)'!$C$6,$B20,AE$5)","v":15.344116690794465},{"$f":"EMC('Grain Drying Tool (EMC)'!$C$6,$B20,AF$5)","v":15.839966581247406},{"$f":"EMC('Grain Drying Tool (EMC)'!$C$6,$B20,AG$5)","v":16.383623699961657},{"$f":"EMC('Grain Drying Tool (EMC)'!$C$6,$B20,AH$5)","v":16.986458570839723},{"$f":"EMC('Grain Drying Tool (EMC)'!$C$6,$B20,AI$5)","v":17.664094907041704},{"$f":"EMC('Grain Drying Tool (EMC)'!$C$6,$B20,AJ$5)","v":18.438799068644283},{"$f":"EMC('Grain Drying Tool (EMC)'!$C$6,$B20,AK$5)","v":19.343791769472123},{"$f":"EMC('Grain Drying Tool (EMC)'!$C$6,$B20,AL$5)","v":20.431672437768594}]
[null,60,{"$f":"EMC('Grain Drying Tool (EMC)'!$C$6,$B21,C$5)","v":7.1803951287866772},{"$f":"EMC('Grain Drying Tool (EMC)'!$C$6,$B21,D$5)","v":7.4531606111164299},{"$f":"EMC('Grain Drying Tool (EMC)'!$C$6,$B21,E$5)","v":7.7172575711288243},{"$f":"EMC('Grain Drying Tool (EMC)'!$C$6,$B21,F$5)","v":7.9745323860183239},{"$f":"EMC('Grain Drying Tool (EMC)'!$C$6,$B21,G$5)","v":8.2265068149596985},{"$f":"EMC('Grain Drying Tool (EMC)'!$C$6,$B21,H$5)","v":8.474468145527366},{"$f":"EMC('Grain Drying Tool (EMC)'!$C$6,$B21,I$5)","v":8.7195324719910499},{"$f":"EMC('Grain Drying Tool (EMC)'!$C$6,$B21,J$5)","v":8.96269065618079},{"$f":"EMC('Grain Drying Tool (EMC)'!$C$6,$B21,K$5)","v":9.2048428524709323},{"$f":"EMC('Grain Drying Tool (EMC)'!$C$6,$B21,L$5)","v":9.4468253617951561},{"$f":"EMC('Grain Drying Tool (EMC)'!$C$6,$B21,M$5)","v":9.6894323174023409},{"$f":"EMC('Grain Drying Tool (EMC)'!$C$6,$B21,N$5)","v":9.9334339338014477},{"$f":"EMC('Grain Drying Tool (EMC)'!$C$6,$B21,O$5)","v":10.179592573145033},{"$f":"EMC('Grain Drying Tool (EMC)'!$C$6,$B21,P$5)","v":10.428677590283987},{"$f":"EMC('Grain Drying Tool (EMC)'!$C$6,$B21,Q$5)","v":10.681479746569384},{"$f":"EMC('Grain Drying Tool (EMC)'!$C$6,$B21,R$5)","v":10.938825898229441},{"$f":"EMC('Grain Drying Tool (EMC)'!$C$6,$B21,S$5)","v":11.201594649747143},{"$f":"EMC('Grain Drying Tool (EMC)'!$C$6,$B21,T$5)","v":11.470733709660985},{"$f":"EMC('Grain Drying Tool (EMC)'!$C$6,$B21,U$5)","v":11.747279798609039},{"$f":"EMC('Grain Drying Tool (EMC)'!$C$6,$B21,V$5)","v":12.032382149718513},{"$f":"EMC('Grain Drying Tool (EMC)'!$C$6,$B21,W$5)","v":12.327330933676214},{"$f":"EMC('Grain Drying Tool (EMC)'!$C$6,$B21,X$5)","v":12.633592375315583},{"$f":"EMC('Grain Drying Tool (EMC)'!$C$6,$B21,Y$5)","v":12.952852970418629},{"$f":"EMC('Grain Drying Tool (EMC)'!$C$6,$B21,Z$5)","v":13.287076165516719},{"$f":"EMC('Grain Drying Tool (EMC)'!$C$6,$B21,AA$5)","v":13.638576300826486},{"$f":"EMC('Grain Drying Tool (EMC)'!$C$6,$B21,AB$5)","v":14.01011682177125},{"$f":"EMC('Grain Drying Tool (EMC)'!$C$6,$B21,AC$5)","v":14.405043223820515},{"$f":"EMC('Grain Drying Tool (EMC)'!$C$6,$B21,AD$5)","v":14.827466763151614},{"$f":"EMC('Grain Drying Tool (EMC)'!$C$6,$B21,AE$5)","v":15.282524195988437},{"$f":"EMC('Grain Drying Tool (EMC)'!$C$6,$B21,AF$5)","v":15.776754639872884},{"$f":"EMC('Grain Drying Tool (EMC)'!$C$6,$B21,AG$5)","v":16.318662884026534},{"$f":"EMC('Grain Drying Tool (EMC)'!$C$6,$B21,AH$5)","v":16.919591181937228},{"$f":"EMC('Grain Drying Tool (EMC)'!$C$6,$B21,AI$5)","v":17.595125389499859},{"$f":"EMC('Grain Drying Tool (EMC)'!$C$6,$B21,AJ$5)","v":18.367479495783314},{"$f":"EMC('Grain Drying Tool (EMC)'!$C$6,$B21,AK$5)","v":19.269798785965772},{"$f":"EMC('Grain Drying Tool (EMC)'!$C$6,$B21,AL$5)","v":20.354568300241677}]
[null,62,{"$f":"EMC('Grain Drying Tool (EMC)'!$C$6,$B22,C$5)","v":7.1486547502512598},{"$f":"EMC('Grain Drying Tool (EMC)'!$C$6,$B22,D$5)","v":7.420310884761748},{"$f":"EMC('Grain Drying Tool (EMC)'!$C$6,$B22,E$5)","v":7.683340477162635},{"$f":"EMC('Grain Drying Tool (EMC)'!$C$6,$B22,F$5)","v":7.9395818591308274},{"$f":"EMC('Grain Drying Tool (EMC)'!$C$6,$B22,G$5)","v":8.1905502327139477},{"$f":"EMC('Grain Drying Tool (EMC)'!$C$6,$B22,H$5)","v":8.4375274114369887},{"$f":"EMC('Grain Drying Tool (EMC)'!$C$6,$B22,I$5)","v":8.6816248158201681},{"$f":"EMC('Grain Drying Tool (EMC)'!$C$6,$B22,J$5)","v":8.9238292306199849},{"$f":"EMC('Grain Drying Tool (EMC)'!$C$6,$B22,K$5)","v":9.165037178715842},{"$f":"EMC('Grain Drying Tool (EMC)'!$C$6,$B22,L$5)","v":9.4060816595969623},{"$f":"EMC('Grain Drying Tool (EMC)'!$C$6,$B22,M$5)","v":9.6477537439823706},{"$f":"EMC('Grain Drying Tool (EMC)'!$C$6,$B22,N$5)","v":9.8908207483978128},{"$f":"EMC('Grain Drying Tool (EMC)'!$C$6,$B22,O$5)","v":10.136042238562805},{"$f":"EMC('Grain Drying Tool (EMC)'!$C$6,$B22,P$5)","v":10.384184818832276},{"$f":"EMC('Grain Drying Tool (EMC)'!$C$6,$B22,Q$5)","v":10.636036494660267},{"$f":"EMC('Grain Drying Tool (EMC)'!$C$6,$B22,R$5)","v":10.89242131132495},{"$f":"EMC('Grain Drying Tool (EMC)'!$C$6,$B22,S$5)","v":11.154214957007021},{"$f":"EMC('Grain Drying Tool (EMC)'!$C$6,$B22,T$5)","v":11.42236206535059},{"$f":"EMC('Grain Drying Tool (EMC)'!$C$6,$B22,U$5)","v":11.697896064872944},{"$f":"EMC('Grain Drying Tool (EMC)'!$C$6,$B22,V$5)","v":11.981962612497403},{"$f":"EMC('Grain Drying Tool (EMC)'!$C$6,$B22,W$5)","v":12.275847940083997},{"$f":"EMC('Grain Drying Tool (EMC)'!$C$6,$B22,X$5)","v":12.581013876358947},{"$f":"EMC('Grain Drying Tool (EMC)'!$C$6,$B22,Y$5)","v":12.899141947052936},{"$f":"EMC('Grain Drying Tool (EMC)'!$C$6,$B22,Z$5)","v":13.232189907986434},{"$f":"EMC('Grain Drying Tool (EMC)'!$C$6,$B22,AA$5)","v":13.582465499968954},{"$f":"EMC('Grain Drying Tool (EMC)'!$C$6,$B22,AB$5)","v":13.952724414806722},{"$f":"EMC('Grain Drying Tool (EMC)'!$C$6,$B22,AC$5)","v":14.346302913443534},{"$f":"EMC('Grain Drying Tool (EMC)'!$C$6,$B22,AD$5)","v":14.767301093084299},{"$f":"EMC('Grain Drying Tool (EMC)'!$C$6,$B22,AE$5)","v":15.220842011077325},{"$f":"EMC('Grain Drying Tool (EMC)'!$C$6,$B22,AF$5)","v":15.713447671136752},{"$f":"EMC('Grain Drying Tool (EMC)'!$C$6,$B22,AG$5)","v":16.253601054659558},{"$f":"EMC('Grain Drying Tool (EMC)'!$C$6,$B22,AH$5)","v":16.852615982860303},{"$f":"EMC('Grain Drying Tool (EMC)'!$C$6,$B22,AI$5)","v":17.526040229037399},{"$f":"EMC('Grain Drying Tool (EMC)'!$C$6,$B22,AJ$5)","v":18.296035085791932},{"$f":"EMC('Grain Drying Tool (EMC)'!$C$6,$B22,AK$5)","v":19.195669917349001},{"$f":"EMC('Grain Drying Tool (EMC)'!$C$6,$B22,AL$5)","v":20.277314585245264}]
[null,64,{"$f":"EMC('Grain Drying Tool (EMC)'!$C$6,$B23,C$5)","v":7.1168926565565345},{"$f":"EMC('Grain Drying Tool (EMC)'!$C$6,$B23,D$5)","v":7.3874378299455987},{"$f":"EMC('Grain Drying Tool (EMC)'!$C$6,$B23,E$5)","v":7.6493984426238404},{"$f":"EMC('Grain Drying Tool (EMC)'!$C$6,$B23,F$5)","v":7.9046047743030501},{"$f":"EMC('Grain Drying Tool (EMC)'!$C$6,$B23,G$5)","v":8.1545654640604344},{"$f":"EMC('Grain Drying Tool (EMC)'!$C$6,$B23,H$5)","v":8.400556845914771},{"$f":"EMC('Grain Drying Tool (EMC)'!$C$6,$B23,I$5)","v":8.6436856614011344},{"$f":"EMC('Grain Drying Tool (EMC)'!$C$6,$B23,J$5)","v":8.8849346130557745},{"$f":"EMC('Grain Drying Tool (EMC)'!$C$6,$B23,K$5)","v":9.1251965870933773},{"$f":"EMC('Grain Drying Tool (EMC)'!$C$6,$B23,L$5)","v":9.3653012762655443},{"$f":"EMC('Grain Drying Tool (EMC)'!$C$6,$B23,M$5)","v":9.6060366832496733},{"$f":"EMC('Grain Drying Tool (EMC)'!$C$6,$B23,N$5)","v":9.8481672207627575},{"$f":"EMC('Grain Drying Tool (EMC)'!$C$6,$B23,O$5)","v":10.092449651852272},{"$f":"EMC('Grain Drying Tool (EMC)'!$C$6,$B23,P$5)","v":10.339647823616147},{"$f":"EMC('Grain Drying Tool (EMC)'!$C$6,$B23,Q$5)","v":10.590546978206156},{"$f":"EMC('Grain Drying Tool (EMC)'!$C$6,$B23,R$5)","v":10.845968341759976},{"$f":"EMC('Grain Drying Tool (EMC)'!$C$6,$B23,S$5)","v":11.106784677014129},{"$f":"EMC('Grain Drying Tool (EMC)'!$C$6,$B23,T$5)","v":11.373937532425479},{"$f":"EMC('Grain Drying Tool (EMC)'!$C$6,$B23,U$5)","v":11.648457032703584},{"$f":"EMC('Grain Drying Tool (EMC)'!$C$6,$B23,V$5)","v":11.931485245186567},{"$f":"EMC('Grain Drying Tool (EMC)'!$C$6,$B23,W$5)","v":12.224304447456145},{"$f":"EMC('Grain Drying Tool (EMC)'!$C$6,$B23,X$5)","v":12.528372054133129},{"$f":"EMC('Grain Drying Tool (EMC)'!$C$6,$B23,Y$5)","v":12.845364599739982},{"$f":"EMC('Grain Drying Tool (EMC)'!$C$6,$B23,Z$5)","v":13.177234124273699},{"$f":"EMC('Grain Drying Tool (EMC)'!$C$6,$B23,AA$5)","v":13.526281739015056},{"$f":"EMC('Grain Drying Tool (EMC)'!$C$6,$B23,AB$5)","v":13.895255345607749},{"$f":"EMC('Grain Drying Tool (EMC)'!$C$6,$B23,AC$5)","v":14.28748192556629},{"$f":"EMC('Grain Drying Tool (EMC)'!$C$6,$B23,AD$5)","v":14.707050361163857},{"$f":"EMC('Grain Drying Tool (EMC)'!$C$6,$B23,AE$5)","v":15.15906994001022},{"$f":"EMC('Grain Drying Tool (EMC)'!$C$6,$B23,AF$5)","v":15.650045460593955},{"$f":"EMC('Grain Drying Tool (EMC)'!$C$6,$B23,AG$5)","v":16.188437976065064},{"$f":"EMC('Grain Drying Tool (EMC)'!$C$6,$B23,AH$5)","v":16.785532712665344},{"$f":"EMC('Grain Drying Tool (EMC)'!$C$6,$B23,AI$5)","v":17.456839134558201},{"$f":"EMC('Grain Drying Tool (EMC)'!$C$6,$B23,AJ$5)","v":18.224465510612369},{"$f":"EMC('Grain Drying Tool (EMC)'!$C$6,$B23,AK$5)","v":19.121404788956557},{"$f":"EMC('Grain Drying Tool (EMC)'!$C$6,$B23,AL$5)","v":20.199910857099571}]
[null,66,{"$f":"EMC('Grain Drying Tool (EMC)'!$C$6,$B24,C$5)","v":7.0851088254102601},{"$f":"EMC('Grain Drying Tool (EMC)'!$C$6,$B24,D$5)","v":7.3545414218088503},{"$f":"EMC('Grain Drying Tool (EMC)'!$C$6,$B24,E$5)","v":7.615431439992645},{"$f":"EMC('Grain Drying Tool (EMC)'!$C$6,$B24,F$5)","v":7.8696011012525169},{"$f":"EMC('Grain Drying Tool (EMC)'!$C$6,$B24,G$5)","v":8.1185524758431313},{"$f":"EMC('Grain Drying Tool (EMC)'!$C$6,$B24,H$5)","v":8.3635564128106274},{"$f":"EMC('Grain Drying Tool (EMC)'!$C$6,$B24,I$5)","v":8.6057149694588251},{"$f":"EMC('Grain Drying Tool (EMC)'!$C$6,$B24,J$5)","v":8.8460067609454676},{"$f":"EMC('Grain Drying Tool (EMC)'!$C$6,$B24,K$5)","v":9.0853210316380135},{"$f":"EMC('Grain Drying Tool (EMC)'!$C$6,$B24,L$5)","v":9.3244841622431274},{"$f":"EMC('Grain Drying Tool (EMC)'!$C$6,$B24,M$5)","v":9.5642810818690229},{"$f":"EMC('Grain Drying Tool (EMC)'!$C$6,$B24,N$5)","v":9.8054732935807003},{"$f":"EMC('Grain Drying Tool (EMC)'!$C$6,$B24,O$5)","v":10.048814751494666},{"$f":"EMC('Grain Drying Tool (EMC)'!$C$6,$B24,P$5)","v":10.295066538668243},{"$f":"EMC('Grain Drying Tool (EMC)'!$C$6,$B24,Q$5)","v":10.545011126520043},{"$f":"EMC('Grain Drying Tool (EMC)'!$C$6,$B24,R$5)","v":10.799466913827469},{"$f":"EMC('Grain Drying Tool (EMC)'!$C$6,$B24,S$5)","v":11.059303728707256},{"$f":"EMC('Grain Drying Tool (EMC)'!$C$6,$B24,T$5)","v":11.325460024097135},{"$f":"EMC('Grain Drying Tool (EMC)'!$C$6,$B24,U$5)","v":11.598962609166623},{"$f":"EMC('Grain Drying Tool (EMC)'!$C$6,$B24,V$5)","v":11.880949948234166},{"$f":"EMC('Grain Drying Tool (EMC)'!$C$6,$B24,W$5)","v":12.172700349088927},{"$f":"EMC('Grain Drying Tool (EMC)'!$C$6,$B24,X$5)","v":12.475666794173494},{"$f":"EMC('Grain Drying Tool (EMC)'!$C$6,$B24,Y$5)","v":12.791520805555736},{"$f":"EMC('Grain Drying Tool (EMC)'!$C$6,$B24,Z$5)","v":13.122208682188221},{"$f":"EMC('Grain Drying Tool (EMC)'!$C$6,$B24,AA$5)","v":13.470024875568718},{"$f":"EMC('Grain Drying Tool (EMC)'!$C$6,$B24,AB$5)","v":13.837709460468647},{"$f":"EMC('Grain Drying Tool (EMC)'!$C$6,$B24,AC$5)","v":14.228580093863521},{"$f":"EMC('Grain Drying Tool (EMC)'!$C$6,$B24,AD$5)","v":14.6467143868728},{"$f":"EMC('Grain Drying Tool (EMC)'!$C$6,$B24,AE$5)","v":15.097207786164415},{"$f":"EMC('Grain Drying Tool (EMC)'!$C$6,$B24,AF$5)","v":15.586547793153716},{"$f":"EMC('Grain Drying Tool (EMC)'!$C$6,$B24,AG$5)","v":16.123173411712912},{"$f":"EMC('Grain Drying Tool (EMC)'!$C$6,$B24,AH$5)","v":16.718341109565962},{"$f":"EMC('Grain Drying Tool (EMC)'!$C$6,$B24,AI$5)","v":17.387521813988325},{"$f":"EMC('Grain Drying Tool (EMC)'!$C$6,$B24,AJ$5)","v":18.152770441036363},{"$f":"EMC('Grain Drying Tool (EMC)'!$C$6,$B24,AK$5)","v":19.047003024744527},{"$f":"EMC('Grain Drying Tool (EMC)'!$C$6,$B24,AL$5)","v":20.122356678431167}]
[null,68,{"$f":"EMC('Grain Drying Tool (EMC)'!$C$6,$B25,C$5)","v":7.0533032344896691},{"$f":"EMC('Grain Drying Tool (EMC)'!$C$6,$B25,D$5)","v":7.3216216354570385},{"$f":"EMC('Grain Drying Tool (EMC)'!$C$6,$B25,E$5)","v":7.5814394417087509},{"$f":"EMC('Grain Drying Tool (EMC)'!$C$6,$B25,F$5)","v":7.8345708096506961},{"$f":"EMC('Grain Drying Tool (EMC)'!$C$6,$B25,G$5)","v":8.0825112348539747},{"$f":"EMC('Grain Drying Tool (EMC)'!$C$6,$B25,H$5)","v":8.3265260759160373},{"$f":"EMC('Grain Drying Tool (EMC)'!$C$6,$B25,I$5)","v":8.5677127006527876},{"$f":"EMC('Grain Drying Tool (EMC)'!$C$6,$B25,J$5)","v":8.8070456316736365},{"$f":"EMC('Grain Drying Tool (EMC)'!$C$6,$B25,K$5)","v":9.0454104663035118},{"$f":"EMC('Grain Drying Tool (EMC)'!$C$6,$B25,L$5)","v":9.2836302678826232},{"$f":"EMC('Grain Drying Tool (EMC)'!$C$6,$B25,M$5)","v":9.522486886406595},{"$f":"EMC('Grain Drying Tool (EMC)'!$C$6,$B25,N$5)","v":9.7627389094274282},{"$f":"EMC('Grain Drying Tool (EMC)'!$C$6,$B25,O$5)","v":10.005137475851724},{"$f":"EMC('Grain Drying Tool (EMC)'!$C$6,$B25,P$5)","v":10.250440897889932},{"$f":"EMC('Grain Drying Tool (EMC)'!$C$6,$B25,Q$5)","v":10.499428868770844},{"$f":"EMC('Grain Drying Tool (EMC)'!$C$6,$B25,R$5)","v":10.752916951662353},{"$f":"EMC('Grain Drying Tool (EMC)'!$C$6,$B25,S$5)","v":11.011772030851898},{"$f":"EMC('Grain Drying Tool (EMC)'!$C$6,$B25,T$5)","v":11.276929453387039},{"$f":"EMC('Grain Drying Tool (EMC)'!$C$6,$B25,U$5)","v":11.549412701119351},{"$f":"EMC('Grain Drying Tool (EMC)'!$C$6,$B25,V$5)","v":11.830356621859732},{"$f":"EMC('Grain Drying Tool (EMC)'!$C$6,$B25,W$5)","v":12.121035538027529},{"$f":"EMC('Grain Drying Tool (EMC)'!$C$6,$B25,X$5)","v":12.422897981739357},{"$f":"EMC('Grain Drying Tool (EMC)'!$C$6,$B25,Y$5)","v":12.737610441272214},{"$f":"EMC('Grain Drying Tool (EMC)'!$C$6,$B25,Z$5)","v":13.067113449204385},{"$f":"EMC('Grain Drying Tool (EMC)'!$C$6,$B25,AA$5)","v":13.413694766863062},{"$f":"EMC('Grain Drying Tool (EMC)'!$C$6,$B25,AB$5)","v":13.780086605272551},{"$f":"EMC('Grain Drying Tool (EMC)'!$C$6,$B25,AC$5)","v":14.169597251552437},{"$f":"EMC('Grain Drying Tool (EMC)'!$C$6,$B25,AD$5)","v":14.586292989182473},{"$f":"EMC('Grain Drying Tool (EMC)'!$C$6,$B25,AE$5)","v":15.035255352343306},{"$f":"EMC('Grain Drying Tool (EMC)'!$C$6,$B25,AF$5)","v":15.522954453077087},{"$f":"EMC('Grain Drying Tool (EMC)'!$C$6,$B25,AG$5)","v":16.057807124335636},{"$f":"EMC('Grain Drying Tool (EMC)'!$C$6,$B25,AH$5)","v":16.651040910929574},{"$f":"EMC('Grain Drying Tool (EMC)'!$C$6,$B25,AI$5)","v":17.318087974271908},{"$f":"EMC('Grain Drying Tool (EMC)'!$C$6,$B25,AJ$5)","v":18.080949546700158},{"$f":"EMC('Grain Drying Tool (EMC)'!$C$6,$B25,AK$5)","v":18.972464247284002},{"$f":"EMC('Grain Drying Tool (EMC)'!$C$6,$B25,AL$5)","v":20.044651610164689}]
[null,70,{"$f":"EMC('Grain Drying Tool (EMC)'!$C$6,$B26,C$5)","v":7.0214758614414183},{"$f":"EMC('Grain Drying Tool (EMC)'!$C$6,$B26,D$5)","v":7.288678445960306},{"$f":"EMC('Grain Drying Tool (EMC)'!$C$6,$B26,E$5)","v":7.5474224201712863},{"$f":"EMC('Grain Drying Tool (EMC)'!$C$6,$B26,F$5)","v":7.7995138691229098},{"$f":"EMC('Grain Drying Tool (EMC)'!$C$6,$B26,G$5)","v":8.0464417078327877},{"$f":"EMC('Grain Drying Tool (EMC)'!$C$6,$B26,H$5)","v":8.2894657989639331},{"$f":"EMC('Grain Drying Tool (EMC)'!$C$6,$B26,I$5)","v":8.5296788155771139},{"$f":"EMC('Grain Drying Tool (EMC)'!$C$6,$B26,J$5)","v":8.7680511825519591},{"$f":"EMC('Grain Drying Tool (EMC)'!$C$6,$B26,K$5)","v":9.005464844962745},{"$f":"EMC('Grain Drying Tool (EMC)'!$C$6,$B26,L$5)","v":9.2427395434474295},{"$f":"EMC('Grain Drying Tool (EMC)'!$C$6,$B26,M$5)","v":9.4806540433297446},{"$f":"EMC('Grain Drying Tool (EMC)'!$C$6,$B26,N$5)","v":9.7199640107698553},{"$f":"EMC('Grain Drying Tool (EMC)'!$C$6,$B26,O$5)","v":9.9614177631654108},{"$f":"EMC('Grain Drying Tool (EMC)'!$C$6,$B26,P$5)","v":10.205770835050997},{"$f":"EMC('Grain Drying Tool (EMC)'!$C$6,$B26,Q$5)","v":10.453800133983037},{"$f":"EMC('Grain Drying Tool (EMC)'!$C$6,$B26,R$5)","v":10.7063183792411},{"$f":"EMC('Grain Drying Tool (EMC)'!$C$6,$B26,S$5)","v":10.964189502039808},{"$f":"EMC('Grain Drying Tool (EMC)'!$C$6,$B26,T$5)","v":11.228345733126172},{"$f":"EMC('Grain Drying Tool (EMC)'!$C$6,$B26,U$5)","v":11.499807215210124},{"$f":"EMC('Grain Drying Tool (EMC)'!$C$6,$B26,V$5)","v":11.779705166053519},{"$f":"EMC('Grain Drying Tool (EMC)'!$C$6,$B26,W$5)","v":12.069309907065325},{"$f":"EMC('Grain Drying Tool (EMC)'!$C$6,$B26,X$5)","v":12.37006550181316},{"$f":"EMC('Grain Drying Tool (EMC)'!$C$6,$B26,Y$5)","v":12.683633383356534},{"$f":"EMC('Grain Drying Tool (EMC)'!$C$6,$B26,Z$5)","v":13.011948292460183},{"$f":"EMC('Grain Drying Tool (EMC)'!$C$6,$B26,AA$5)","v":13.357291269759212},{"$f":"EMC('Grain Drying Tool (EMC)'!$C$6,$B26,AB$5)","v":13.722386625490063},{"$f":"EMC('Grain Drying Tool (EMC)'!$C$6,$B26,AC$5)","v":14.110533231391177},{"$f":"EMC('Grain Drying Tool (EMC)'!$C$6,$B26,AD$5)","v":14.525785986551279},{"$f":"EMC('Grain Drying Tool (EMC)'!$C$6,$B26,AE$5)","v":14.973212440774303},{"$f":"EMC('Grain Drying Tool (EMC)'!$C$6,$B26,AF$5)","v":15.459265223974526},{"$f":"EMC('Grain Drying Tool (EMC)'!$C$6,$B26,AG$5)","v":15.992338875925585},{"$f":"EMC('Grain Drying Tool (EMC)'!$C$6,$B26,AH$5)","v":16.58363185327395},{"$f":"EMC('Grain Drying Tool (EMC)'!$C$6,$B26,AI$5)","v":17.248537321367024},{"$f":"EMC('Grain Drying Tool (EMC)'!$C$6,$B26,AJ$5)","v":18.009002496079376},{"$f":"EMC('Grain Drying Tool (EMC)'!$C$6,$B26,AK$5)","v":18.897788077754711},{"$f":"EMC('Grain Drying Tool (EMC)'!$C$6,$B26,AL$5)","v":19.966795211514594}]
[null,72,{"$f":"EMC('Grain Drying Tool (EMC)'!$C$6,$B27,C$5)","v":6.9896266838815357},{"$f":"EMC('Grain Drying Tool (EMC)'!$C$6,$B27,D$5)","v":7.2557118283533333},{"$f":"EMC('Grain Drying Tool (EMC)'!$C$6,$B27,E$5)","v":7.5133803477387282},{"$f":"EMC('Grain Drying Tool (EMC)'!$C$6,$B27,F$5)","v":7.7644302492482593},{"$f":"EMC('Grain Drying Tool (EMC)'!$C$6,$B27,G$5)","v":8.0103438614671596},{"$f":"EMC('Grain Drying Tool (EMC)'!$C$6,$B27,H$5)","v":8.2523755456285723},{"$f":"EMC('Grain Drying Tool (EMC)'!$C$6,$B27,I$5)","v":8.4916132747602973},{"$f":"EMC('Grain Drying Tool (EMC)'!$C$6,$B27,J$5)","v":8.7290233708190783},{"$f":"EMC('Grain Drying Tool (EMC)'!$C$6,$B27,K$5)","v":8.9654841214075116},{"$f":"EMC('Grain Drying Tool (EMC)'!$C$6,$B27,L$5)","v":9.2018119391112272},{"$f":"EMC('Grain Drying Tool (EMC)'!$C$6,$B27,M$5)","v":9.4387824990067806},{"$f":"EMC('Grain Drying Tool (EMC)'!$C$6,$B27,N$5)","v":9.6771485399657475},{"$f":"EMC('Grain Drying Tool (EMC)'!$C$6,$B27,O$5)","v":9.9176555515576226},{"$f":"EMC('Grain Drying Tool (EMC)'!$C$6,$B27,P$5)","v":10.161056283789291},{"$f":"EMC('Grain Drying Tool (EMC)'!$C$6,$B27,Q$5)","v":10.408124851036293},{"$f":"EMC('Grain Drying Tool (EMC)'!$C$6,$B27,R$5)","v":10.659671120381329},{"$f":"EMC('Grain Drying Tool (EMC)'!$C$6,$B27,S$5)","v":10.916556060688533},{"$f":"EMC('Grain Drying Tool (EMC)'!$C$6,$B27,T$5)","v":11.179708775954463},{"$f":"EMC('Grain Drying Tool (EMC)'!$C$6,$B27,U$5)","v":11.450146057877756},{"$f":"EMC('Grain Drying Tool (EMC)'!$C$6,$B27,V$5)","v":11.728995480575827},{"$f":"EMC('Grain Drying Tool (EMC)'!$C$6,$B27,W$5)","v":12.017523348743135},{"$f":"EMC('Grain Drying Tool (EMC)'!$C$6,$B27,X$5)","v":12.317169239099632},{"$f":"EMC('Grain Drying Tool (EMC)'!$C$6,$B27,Y$5)","v":12.629589507969976},{"$f":"EMC('Grain Drying Tool (EMC)'!$C$6,$B27,Z$5)","v":12.956713078756163},{"$f":"EMC('Grain Drying Tool (EMC)'!$C$6,$B27,AA$5)","v":13.300814240745078},{"$f":"EMC('Grain Drying Tool (EMC)'!$C$6,$B27,AB$5)","v":13.664609366177837},{"$f":"EMC('Grain Drying Tool (EMC)'!$C$6,$B27,AC$5)","v":14.05138786567721},{"$f":"EMC('Grain Drying Tool (EMC)'!$C$6,$B27,AD$5)","v":14.465193196922829},{"$f":"EMC('Grain Drying Tool (EMC)'!$C$6,$B27,AE$5)","v":14.911078853106725},{"$f":"EMC('Grain Drying Tool (EMC)'!$C$6,$B27,AF$5)","v":15.395479888803433},{"$f":"EMC('Grain Drying Tool (EMC)'!$C$6,$B27,AG$5)","v":15.926768427732004},{"$f":"EMC('Grain Drying Tool (EMC)'!$C$6,$B27,AH$5)","v":16.516113672263817},{"$f":"EMC('Grain Drying Tool (EMC)'!$C$6,$B27,AI$5)","v":17.178869560241555},{"$f":"EMC('Grain Drying Tool (EMC)'!$C$6,$B27,AJ$5)","v":17.936928956483957},{"$f":"EMC('Grain Drying Tool (EMC)'!$C$6,$B27,AK$5)","v":18.822974135938583},{"$f":"EMC('Grain Drying Tool (EMC)'!$C$6,$B27,AL$5)","v":19.888787039976798}]
[null,74,{"$f":"EMC('Grain Drying Tool (EMC)'!$C$6,$B28,C$5)","v":6.9577556793953725},{"$f":"EMC('Grain Drying Tool (EMC)'!$C$6,$B28,D$5)","v":7.2227217576352825},{"$f":"EMC('Grain Drying Tool (EMC)'!$C$6,$B28,E$5)","v":7.4793131967288229},{"$f":"EMC('Grain Drying Tool (EMC)'!$C$6,$B28,F$5)","v":7.7293199195595133},{"$f":"EMC('Grain Drying Tool (EMC)'!$C$6,$B28,G$5)","v":7.9742176623923537},{"$f":"EMC('Grain Drying Tool (EMC)'!$C$6,$B28,H$5)","v":8.2152552795254312},{"$f":"EMC('Grain Drying Tool (EMC)'!$C$6,$B28,I$5)","v":8.4535160386651036},{"$f":"EMC('Grain Drying Tool (EMC)'!$C$6,$B28,J$5)","v":8.6899621536404261},{"$f":"EMC('Grain Drying Tool (EMC)'!$C$6,$B28,K$5)","v":8.9254682493483681},{"$f":"EMC('Grain Drying Tool (EMC)'!$C$6,$B28,L$5)","v":9.1608474049577797},{"$f":"EMC('Grain Drying Tool (EMC)'!$C$6,$B28,M$5)","v":9.3968721997067242},{"$f":"EMC('Grain Drying Tool (EMC)'!$C$6,$B28,N$5)","v":9.6342924392634757},{"$f":"EMC('Grain Drying Tool (EMC)'!$C$6,$B28,O$5)","v":9.8738507790299028},{"$f":"EMC('Grain Drying Tool (EMC)'!$C$6,$B28,P$5)","v":10.116297177610422},{"$f":"EMC('Grain Drying Tool (EMC)'!$C$6,$B28,Q$5)","v":10.362402948665093},{"$f":"EMC('Grain Drying Tool (EMC)'!$C$6,$B28,R$5)","v":10.612975098741378},{"$f":"EMC('Grain Drying Tool (EMC)'!$C$6,$B28,S$5)","v":10.868871625040935},{"$f":"EMC('Grain Drying Tool (EMC)'!$C$6,$B28,T$5)","v":11.131018494320298},{"$f":"EMC('Grain Drying Tool (EMC)'!$C$6,$B28,U$5)","v":11.400429135350942},{"$f":"EMC('Grain Drying Tool (EMC)'!$C$6,$B28,V$5)","v":11.678227464956356},{"$f":"EMC('Grain Drying Tool (EMC)'!$C$6,$B28,W$5)","v":11.965675755348476},{"$f":"EMC('Grain Drying Tool (EMC)'!$C$6,$B28,X$5)","v":12.264209078024948},{"$f":"EMC('Grain Drying Tool (EMC)'!$C$6,$B28,Y$5)","v":12.575478690967035},{"$f":"EMC('Grain Drying Tool (EMC)'!$C$6,$B28,Z$5)","v":12.901407674554328},{"$f":"EMC('Grain Drying Tool (EMC)'!$C$6,$B28,AA$5)","v":13.244263535934147},{"$f":"EMC('Grain Drying Tool (EMC)'!$C$6,$B28,AB$5)","v":13.606754671977214},{"$f":"EMC('Grain Drying Tool (EMC)'!$C$6,$B28,AC$5)","v":13.992160986245754},{"$f":"EMC('Grain Drying Tool (EMC)'!$C$6,$B28,AD$5)","v":14.404514437724133},{"$f":"EMC('Grain Drying Tool (EMC)'!$C$6,$B28,AE$5)","v":14.848854390409683},{"$f":"EMC('Grain Drying Tool (EMC)'!$C$6,$B28,AF$5)","v":15.331598229865682},{"$f":"EMC('Grain Drying Tool (EMC)'!$C$6,$B28,AG$5)","v":15.861095540258161},{"$f":"EMC('Grain Drying Tool (EMC)'!$C$6,$B28,AH$5)","v":16.448486102707385},{"$f":"EMC('Grain Drying Tool (EMC)'!$C$6,$B28,AI$5)","v":17.10908439486899},{"$f":"EMC('Grain Drying Tool (EMC)'!$C$6,$B28,AJ$5)","v":17.864728594053027},{"$f":"EMC('Grain Drying Tool (EMC)'!$C$6,$B28,AK$5)","v":18.748022040213289},{"$f":"EMC('Grain Drying Tool (EMC)'!$C$6,$B28,AL$5)","v":19.810626651320316}]
[null,76,{"$f":"EMC('Grain Drying Tool (EMC)'!$C$6,$B29,C$5)","v":6.9258628255375436},{"$f":"EMC('Grain Drying Tool (EMC)'!$C$6,$B29,D$5)","v":7.189708208769729},{"$f":"EMC('Grain Drying Tool (EMC)'!$C$6,$B29,E$5)","v":7.4452209394185163},{"$f":"EMC('Grain Drying Tool (EMC)'!$C$6,$B29,F$5)","v":7.6941828495430373},{"$f":"EMC('Grain Drying Tool (EMC)'!$C$6,$B29,G$5)","v":7.938063077191198},{"$f":"EMC('Grain Drying Tool (EMC)'!$C$6,$B29,H$5)","v":8.178104964211073},{"$f":"EMC('Grain Drying Tool (EMC)'!$C$6,$B29,I$5)","v":8.4153870676884264},{"$f":"EMC('Grain Drying Tool (EMC)'!$C$6,$B29,J$5)","v":8.6508674881080818},{"$f":"EMC('Grain Drying Tool (EMC)'!$C$6,$B29,K$5)","v":8.8854171824144483},{"$f":"EMC('Grain Drying Tool (EMC)'!$C$6,$B29,L$5)","v":9.1198458909807272},{"$f":"EMC('Grain Drying Tool (EMC)'!$C$6,$B29,M$5)","v":9.3549230915990957},{"$f":"EMC('Grain Drying Tool (EMC)'!$C$6,$B29,N$5)","v":9.5913956508017471},{"$f":"EMC('Grain Drying Tool (EMC)'!$C$6,$B29,O$5)","v":9.8300033834631328},{"$f":"EMC('Grain Drying Tool (EMC)'!$C$6,$B29,P$5)","v":10.071493449887415},{"$f":"EMC('Grain Drying Tool (EMC)'!$C$6,$B29,Q$5)","v":10.316634355458367},{"$f":"EMC('Grain Drying Tool (EMC)'!$C$6,$B29,R$5)","v":10.566230237819894},{"$f":"EMC('Grain Drying Tool (EMC)'!$C$6,$B29,S$5)","v":10.821136113164737},{"$f":"EMC('Grain Drying Tool (EMC)'!$C$6,$B29,T$5)","v":11.082274800479963},{"$f":"EMC('Grain Drying Tool (EMC)'!$C$6,$B29,U$5)","v":11.350656353647659},{"$f":"EMC('Grain Drying Tool (EMC)'!$C$6,$B29,V$5)","v":11.627401018493531},{"$f":"EMC('Grain Drying Tool (EMC)'!$C$6,$B29,W$5)","v":11.91376701891482},{"$f":"EMC('Grain Drying Tool (EMC)'!$C$6,$B29,X$5)","v":12.211184902735891},{"$f":"EMC('Grain Drying Tool (EMC)'!$C$6,$B29,Y$5)","v":12.521300807894471},{"$f":"EMC('Grain Drying Tool (EMC)'!$C$6,$B29,Z$5)","v":12.846031945977085},{"$f":"EMC('Grain Drying Tool (EMC)'!$C$6,$B29,AA$5)","v":13.187639011064244},{"$f":"EMC('Grain Drying Tool (EMC)'!$C$6,$B29,AB$5)","v":13.548822387112819},{"$f":"EMC('Grain Drying Tool (EMC)'!$C$6,$B29,AC$5)","v":13.932852424468178},{"$f":"EMC('Grain Drying Tool (EMC)'!$C$6,$B29,AD$5)","v":14.343749525863759},{"$f":"EMC('Grain Drying Tool (EMC)'!$C$6,$B29,AE$5)","v":14.786538853169963},{"$f":"EMC('Grain Drying Tool (EMC)'!$C$6,$B29,AF$5)","v":15.267620028805156},{"$f":"EMC('Grain Drying Tool (EMC)'!$C$6,$B29,AG$5)","v":15.795319973258412},{"$f":"EMC('Grain Drying Tool (EMC)'!$C$6,$B29,AH$5)","v":16.380748878552861},{"$f":"EMC('Grain Drying Tool (EMC)'!$C$6,$B29,AI$5)","v":17.039181528224262},{"$f":"EMC('Grain Drying Tool (EMC)'!$C$6,$B29,AJ$5)","v":17.792401073749716},{"$f":"EMC('Grain Drying Tool (EMC)'!$C$6,$B29,AK$5)","v":18.672931407545782},{"$f":"EMC('Grain Drying Tool (EMC)'!$C$6,$B29,AL$5)","v":19.732313599578799}]
[null,78,{"$f":"EMC('Grain Drying Tool (EMC)'!$C$6,$B30,C$5)","v":6.8939480998318787},{"$f":"EMC('Grain Drying Tool (EMC)'!$C$6,$B30,D$5)","v":7.1566711566846024},{"$f":"EMC('Grain Drying Tool (EMC)'!$C$6,$B30,E$5)","v":7.4111035480438794},{"$f":"EMC('Grain Drying Tool (EMC)'!$C$6,$B30,F$5)","v":7.659019008638702},{"$f":"EMC('Grain Drying Tool (EMC)'!$C$6,$B30,G$5)","v":7.9018800723939844},{"$f":"EMC('Grain Drying Tool (EMC)'!$C$6,$B30,H$5)","v":8.140924563183038},{"$f":"EMC('Grain Drying Tool (EMC)'!$C$6,$B30,I$5)","v":8.3772263221611549},{"$f":"EMC('Grain Drying Tool (EMC)'!$C$6,$B30,J$5)","v":8.6117393312405994},{"$f":"EMC('Grain Drying Tool (EMC)'!$C$6,$B30,K$5)","v":8.8453308741532748},{"$f":"EMC('Grain Drying Tool (EMC)'!$C$6,$B30,L$5)","v":9.0788073470833872},{"$f":"EMC('Grain Drying Tool (EMC)'!$C$6,$B30,M$5)","v":9.3129351207536715},{"$f":"EMC('Grain Drying Tool (EMC)'!$C$6,$B30,N$5)","v":9.5484581166093552},{"$f":"EMC('Grain Drying Tool (EMC)'!$C$6,$B30,O$5)","v":9.7861133026172595},{"$f":"EMC('Grain Drying Tool (EMC)'!$C$6,$B30,P$5)","v":10.026645033860389},{"$f":"EMC('Grain Drying Tool (EMC)'!$C$6,$B30,Q$5)","v":10.270818999859133},{"$f":"EMC('Grain Drying Tool (EMC)'!$C$6,$B30,R$5)","v":10.519436460955424},{"$f":"EMC('Grain Drying Tool (EMC)'!$C$6,$B30,S$5)","v":10.773349442952043},{"$f":"EMC('Grain Drying Tool (EMC)'!$C$6,$B30,T$5)","v":11.033477606497145},{"$f":"EMC('Grain Drying Tool (EMC)'!$C$6,$B30,U$5)","v":11.300827618574587},{"$f":"EMC('Grain Drying Tool (EMC)'!$C$6,$B30,V$5)","v":11.576516040253837},{"$f":"EMC('Grain Drying Tool (EMC)'!$C$6,$B30,W$5)","v":11.861797031220837},{"$f":"EMC('Grain Drying Tool (EMC)'!$C$6,$B30,X$5)","v":12.158096597099002},{"$f":"EMC('Grain Drying Tool (EMC)'!$C$6,$B30,Y$5)","v":12.467055733990344},{"$f":"EMC('Grain Drying Tool (EMC)'!$C$6,$B30,Z$5)","v":12.790585758806166},{"$f":"EMC('Grain Drying Tool (EMC)'!$C$6,$B30,AA$5)","v":13.130940521496315},{"$f":"EMC('Grain Drying Tool (EMC)'!$C$6,$B30,AB$5)","v":13.490812355391167},{"$f":"EMC('Grain Drying Tool (EMC)'!$C$6,$B30,AC$5)","v":13.873462011250405},{"$f":"EMC('Grain Drying Tool (EMC)'!$C$6,$B30,AD$5)","v":14.282898277729988},{"$f":"EMC('Grain Drying Tool (EMC)'!$C$6,$B30,AE$5)","v":14.724132041289892},{"$f":"EMC('Grain Drying Tool (EMC)'!$C$6,$B30,AF$5)","v":15.203545066605239},{"$f":"EMC('Grain Drying Tool (EMC)'!$C$6,$B30,AG$5)","v":15.729441485735277},{"$f":"EMC('Grain Drying Tool (EMC)'!$C$6,$B30,AH$5)","v":16.312901732884981},{"$f":"EMC('Grain Drying Tool (EMC)'!$C$6,$B30,AI$5)","v":16.969160662279513},{"$f":"EMC('Grain Drying Tool (EMC)'!$C$6,$B30,AJ$5)","v":17.719946059356001},{"$f":"EMC('Grain Drying Tool (EMC)'!$C$6,$B30,AK$5)","v":18.597701853485741},{"$f":"EMC('Grain Drying Tool (EMC)'!$C$6,$B30,AL$5)","v":19.653847437042089}]
[null,80,{"$f":"EMC('Grain Drying Tool (EMC)'!$C$6,$B31,C$5)","v":6.8620114797713718},{"$f":"EMC('Grain Drying Tool (EMC)'!$C$6,$B31,D$5)","v":7.1236105762721165},{"$f":"EMC('Grain Drying Tool (EMC)'!$C$6,$B31,E$5)","v":7.3769609948000312},{"$f":"EMC('Grain Drying Tool (EMC)'!$C$6,$B31,F$5)","v":7.623828366239791},{"$f":"EMC('Grain Drying Tool (EMC)'!$C$6,$B31,G$5)","v":7.8656686144783698},{"$f":"EMC('Grain Drying Tool (EMC)'!$C$6,$B31,H$5)","v":8.1037140398797192},{"$f":"EMC('Grain Drying Tool (EMC)'!$C$6,$B31,I$5)","v":8.3390337623480342},{"$f":"EMC('Grain Drying Tool (EMC)'!$C$6,$B31,J$5)","v":8.5725776399828693},{"$f":"EMC('Grain Drying Tool (EMC)'!$C$6,$B31,K$5)","v":8.8052092780305884},{"$f":"EMC('Grain Drying Tool (EMC)'!$C$6,$B31,L$5)","v":9.037731723078549},{"$f":"EMC('Grain Drying Tool (EMC)'!$C$6,$B31,M$5)","v":9.2709082331402577},{"$f":"EMC('Grain Drying Tool (EMC)'!$C$6,$B31,N$5)","v":9.5054797786049079},{"$f":"EMC('Grain Drying Tool (EMC)'!$C$6,$B31,O$5)","v":9.742180474130981},{"$f":"EMC('Grain Drying Tool (EMC)'!$C$6,$B31,P$5)","v":9.9817518626362123},{"$f":"EMC('Grain Drying Tool (EMC)'!$C$6,$B31,Q$5)","v":10.224956810164102},{"$f":"EMC('Grain Drying Tool (EMC)'!$C$6,$B31,R$5)","v":10.472593691325976},{"$f":"EMC('Grain Drying Tool (EMC)'!$C$6,$B31,S$5)","v":10.72551153211888},{"$f":"EMC('Grain Drying Tool (EMC)'!$C$6,$B31,T$5)","v":10.984626824242387},{"$f":"EMC('Grain Drying Tool (EMC)'!$C$6,$B31,U$5)","v":11.250942835726505},{"$f":"EMC('Grain Drying Tool (EMC)'!$C$6,$B31,V$5)","v":11.525572429071172},{"$f":"EMC('Grain Drying Tool (EMC)'!$C$6,$B31,W$5)","v":11.809765683789658},{"$f":"EMC('Grain Drying Tool (EMC)'!$C$6,$B31,X$5)","v":12.104944044699744},{"$f":"EMC('Grain Drying Tool (EMC)'!$C$6,$B31,Y$5)","v":12.412743344183081},{"$f":"EMC('Grain Drying Tool (EMC)'!$C$6,$B31,Z$5)","v":12.73506897848152},{"$f":"EMC('Grain Drying Tool (EMC)'!$C$6,$B31,AA$5)","v":13.074167922213206},{"$f":"EMC('Grain Drying Tool (EMC)'!$C$6,$B31,AB$5)","v":13.432724420199266},{"$f":"EMC('Grain Drying Tool (EMC)'!$C$6,$B31,AC$5)","v":13.813989577031307},{"$f":"EMC('Grain Drying Tool (EMC)'!$C$6,$B31,AD$5)","v":14.221960509188978},{"$f":"EMC('Grain Drying Tool (EMC)'!$C$6,$B31,AE$5)","v":14.661633754085191},{"$f":"EMC('Grain Drying Tool (EMC)'!$C$6,$B31,AF$5)","v":15.139373123586338},{"$f":"EMC('Grain Drying Tool (EMC)'!$C$6,$B31,AG$5)","v":15.663459835936502},{"$f":"EMC('Grain Drying Tool (EMC)'!$C$6,$B31,AH$5)","v":16.244944397921504},{"$f":"EMC('Grain Drying Tool (EMC)'!$C$6,$B31,AI$5)","v":16.899021497999865},{"$f":"EMC('Grain Drying Tool (EMC)'!$C$6,$B31,AJ$5)","v":17.647363213467493},{"$f":"EMC('Grain Drying Tool (EMC)'!$C$6,$B31,AK$5)","v":18.522332992159036},{"$f":"EMC('Grain Drying Tool (EMC)'!$C$6,$B31,AL$5)","v":19.57522771424766}]
[null,82,{"$f":"EMC('Grain Drying Tool (EMC)'!$C$6,$B32,C$5)","v":6.8300529428181207},{"$f":"EMC('Grain Drying Tool (EMC)'!$C$6,$B32,D$5)","v":7.0905264423887111},{"$f":"EMC('Grain Drying Tool (EMC)'!$C$6,$B32,E$5)","v":7.3427932518410577},{"$f":"EMC('Grain Drying Tool (EMC)'!$C$6,$B32,F$5)","v":7.588610891692908},{"$f":"EMC('Grain Drying Tool (EMC)'!$C$6,$B32,G$5)","v":7.8294286698692641},{"$f":"EMC('Grain Drying Tool (EMC)'!$C$6,$B32,H$5)","v":8.0664733576802394},{"$f":"EMC('Grain Drying Tool (EMC)'!$C$6,$B32,I$5)","v":8.3008093484475243},{"$f":"EMC('Grain Drying Tool (EMC)'!$C$6,$B32,J$5)","v":8.5333823712059438},{"$f":"EMC('Grain Drying Tool (EMC)'!$C$6,$B32,K$5)","v":8.7650523474301707},{"$f":"EMC('Grain Drying Tool (EMC)'!$C$6,$B32,L$5)","v":8.9966189686882618},{"$f":"EMC('Grain Drying Tool (EMC)'!$C$6,$B32,M$5)","v":9.2288423746284529},{"$f":"EMC('Grain Drying Tool (EMC)'!$C$6,$B32,N$5)","v":9.4624605785965681},{"$f":"EMC('Grain Drying Tool (EMC)'!$C$6,$B32,O$5)","v":9.6982048355214623},{"$f":"EMC('Grain Drying Tool (EMC)'!$C$6,$B32,P$5)","v":9.9368138691881853},{"$f":"EMC('Grain Drying Tool (EMC)'!$C$6,$B32,Q$5)","v":10.179047714523314},{"$f":"EMC('Grain Drying Tool (EMC)'!$C$6,$B32,R$5)","v":10.425701851948615},{"$f":"EMC('Grain Drying Tool (EMC)'!$C$6,$B32,S$5)","v":10.677622298204705},{"$f":"EMC('Grain Drying Tool (EMC)'!$C$6,$B32,T$5)","v":10.935722365392557},{"$f":"EMC('Grain Drying Tool (EMC)'!$C$6,$B32,U$5)","v":11.201001910485688},{"$f":"EMC('Grain Drying Tool (EMC)'!$C$6,$B32,V$5)","v":11.474570083546134},{"$f":"EMC('Grain Drying Tool (EMC)'!$C$6,$B32,W$5)","v":11.757672867888099},{"$f":"EMC('Grain Drying Tool (EMC)'!$C$6,$B32,X$5)","v":12.051727128841632},{"$f":"EMC('Grain Drying Tool (EMC)'!$C$6,$B32,Y$5)","v":12.358363513090476},{"$f":"EMC('Grain Drying Tool (EMC)'!$C$6,$B32,Z$5)","v":12.679481470100241},{"$f":"EMC('Grain Drying Tool (EMC)'!$C$6,$B32,AA$5)","v":13.017321067818395},{"$f":"EMC('Grain Drying Tool (EMC)'!$C$6,$B32,AB$5)","v":13.37455842450319},{"$f":"EMC('Grain Drying Tool (EMC)'!$C$6,$B32,AC$5)","v":13.754434951781082},{"$f":"EMC('Grain Drying Tool (EMC)'!$C$6,$B32,AD$5)","v":14.160936035582894},{"$f":"EMC('Grain Drying Tool (EMC)'!$C$6,$B32,AE$5)","v":14.599043790282822},{"$f":"EMC('Grain Drying Tool (EMC)'!$C$6,$B32,AF$5)","v":15.075103979403357},{"$f":"EMC('Grain Drying Tool (EMC)'!$C$6,$B32,AG$5)","v":15.597374781352087},{"$f":"EMC('Grain Drying Tool (EMC)'!$C$6,$B32,AH$5)","v":16.176876605009674},{"$f":"EMC('Grain Drying Tool (EMC)'!$C$6,$B32,AI$5)","v":16.828763735339162},{"$f":"EMC('Grain Drying Tool (EMC)'!$C$6,$B32,AJ$5)","v":17.574652197488188},{"$f":"EMC('Grain Drying Tool (EMC)'!$C$6,$B32,AK$5)","v":18.446824436261107},{"$f":"EMC('Grain Drying Tool (EMC)'!$C$6,$B32,AL$5)","v":19.496453979972028}]
[null,84,{"$f":"EMC('Grain Drying Tool (EMC)'!$C$6,$B33,C$5)","v":6.7980724664032808},{"$f":"EMC('Grain Drying Tool (EMC)'!$C$6,$B33,D$5)","v":7.05741872985499},{"$f":"EMC('Grain Drying Tool (EMC)'!$C$6,$B33,E$5)","v":7.3086002912799479},{"$f":"EMC('Grain Drying Tool (EMC)'!$C$6,$B33,F$5)","v":7.5533665542979076},{"$f":"EMC('Grain Drying Tool (EMC)'!$C$6,$B33,G$5)","v":7.793160204938733},{"$f":"EMC('Grain Drying Tool (EMC)'!$C$6,$B33,H$5)","v":8.02920247990434},{"$f":"EMC('Grain Drying Tool (EMC)'!$C$6,$B33,I$5)","v":8.2625530405916745},{"$f":"EMC('Grain Drying Tool (EMC)'!$C$6,$B33,J$5)","v":8.4941534817068867},{"$f":"EMC('Grain Drying Tool (EMC)'!$C$6,$B33,K$5)","v":8.7248600356536521},{"$f":"EMC('Grain Drying Tool (EMC)'!$C$6,$B33,L$5)","v":8.9554690335436415},{"$f":"EMC('Grain Drying Tool (EMC)'!$C$6,$B33,M$5)","v":9.1867374909874311},{"$f":"EMC('Grain Drying Tool (EMC)'!$C$6,$B33,N$5)","v":9.4194004582818032},{"$f":"EMC('Grain Drying Tool (EMC)'!$C$6,$B33,O$5)","v":9.6541863241840353},{"$f":"EMC('Grain Drying Tool (EMC)'!$C$6,$B33,P$5)","v":9.8918309863556946},{"$f":"EMC('Grain Drying Tool (EMC)'!$C$6,$B33,Q$5)","v":10.133091640939767},{"$f":"EMC('Grain Drying Tool (EMC)'!$C$6,$B33,R$5)","v":10.378760865679034},{"$f":"EMC('Grain Drying Tool (EMC)'!$C$6,$B33,S$5)","v":10.629681658571952},{"$f":"EMC('Grain Drying Tool (EMC)'!$C$6,$B33,T$5)","v":10.886764141430319},{"$f":"EMC('Grain Drying Tool (EMC)'!$C$6,$B33,U$5)","v":11.151004748021334},{"$f":"EMC('Grain Drying Tool (EMC)'!$C$6,$B33,V$5)","v":11.423508902045397},{"$f":"EMC('Grain Drying Tool (EMC)'!$C$6,$B33,W$5)","v":11.705518474525922},{"$f":"EMC('Grain Drying Tool (EMC)'!$C$6,$B33,X$5)","v":11.998445732545392},{"$f":"EMC('Grain Drying Tool (EMC)'!$C$6,$B33,Y$5)","v":12.303916115018767},{"$f":"EMC('Grain Drying Tool (EMC)'!$C$6,$B33,Z$5)","v":12.62382309841548},{"$f":"EMC('Grain Drying Tool (EMC)'!$C$6,$B33,AA$5)","v":12.960399812534796},{"$f":"EMC('Grain Drying Tool (EMC)'!$C$6,$B33,AB$5)","v":13.316314210846679},{"$f":"EMC('Grain Drying Tool (EMC)'!$C$6,$B33,AC$5)","v":13.694797964999644},{"$f":"EMC('Grain Drying Tool (EMC)'!$C$6,$B33,AD$5)","v":14.099824671728046},{"$f":"EMC('Grain Drying Tool (EMC)'!$C$6,$B33,AE$5)","v":14.53636194801884},{"$f":"EMC('Grain Drying Tool (EMC)'!$C$6,$B33,AF$5)","v":15.010737413043186},{"$f":"EMC('Grain Drying Tool (EMC)'!$C$6,$B33,AG$5)","v":15.531186078711334},{"$f":"EMC('Grain Drying Tool (EMC)'!$C$6,$B33,AH$5)","v":16.108698084622681},{"$f":"EMC('Grain Drying Tool (EMC)'!$C$6,$B33,AI$5)","v":16.758387073235696},{"$f":"EMC('Grain Drying Tool (EMC)'!$C$6,$B33,AJ$5)","v":17.501812671625203},{"$f":"EMC('Grain Drying Tool (EMC)'!$C$6,$B33,AK$5)","v":18.371175797050345},{"$f":"EMC('Grain Drying Tool (EMC)'!$C$6,$B33,AL$5)","v":19.417525781222157}]
[null,86,{"$f":"EMC('Grain Drying Tool (EMC)'!$C$6,$B34,C$5)","v":6.7660700279270136},{"$f":"EMC('Grain Drying Tool (EMC)'!$C$6,$B34,D$5)","v":7.0242874134556521},{"$f":"EMC('Grain Drying Tool (EMC)'!$C$6,$B34,E$5)","v":7.274382085188507},{"$f":"EMC('Grain Drying Tool (EMC)'!$C$6,$B34,F$5)","v":7.5180953233077812},{"$f":"EMC('Grain Drying Tool (EMC)'!$C$6,$B34,G$5)","v":7.7568631860058925},{"$f":"EMC('Grain Drying Tool (EMC)'!$C$6,$B34,H$5)","v":7.9919013698122603},{"$f":"EMC('Grain Drying Tool (EMC)'!$C$6,$B34,I$5)","v":8.224264798845967},{"$f":"EMC('Grain Drying Tool (EMC)'!$C$6,$B34,J$5)","v":8.4548909282086182},{"$f":"EMC('Grain Drying Tool (EMC)'!$C$6,$B34,K$5)","v":8.684632295920343},{"$f":"EMC('Grain Drying Tool (EMC)'!$C$6,$B34,L$5)","v":8.9142818671846573},{"$f":"EMC('Grain Drying Tool (EMC)'!$C$6,$B34,M$5)","v":9.1445935278856858},{"$f":"EMC('Grain Drying Tool (EMC)'!$C$6,$B34,N$5)","v":9.3762993592470956},{"$f":"EMC('Grain Drying Tool (EMC)'!$C$6,$B34,O$5)","v":9.6101248773919128},{"$f":"EMC('Grain Drying Tool (EMC)'!$C$6,$B34,P$5)","v":9.846803146843893},{"$f":"EMC('Grain Drying Tool (EMC)'!$C$6,$B34,Q$5)","v":10.08708851726904},{"$f":"EMC('Grain Drying Tool (EMC)'!$C$6,$B34,R$5)","v":10.331770655211132},{"$f":"EMC('Grain Drying Tool (EMC)'!$C$6,$B34,S$5)","v":10.58168953040555},{"$f":"EMC('Grain Drying Tool (EMC)'!$C$6,$B34,T$5)","v":10.83775206364361},{"$f":"EMC('Grain Drying Tool (EMC)'!$C$6,$B34,U$5)","v":11.100951253288935},{"$f":"EMC('Grain Drying Tool (EMC)'!$C$6,$B34,V$5)","v":11.372388782700998},{"$f":"EMC('Grain Drying Tool (EMC)'!$C$6,$B34,W$5)","v":11.65330239445507},{"$f":"EMC('Grain Drying Tool (EMC)'!$C$6,$B34,X$5)","v":11.945099738548112},{"$f":"EMC('Grain Drying Tool (EMC)'!$C$6,$B34,Y$5)","v":12.249401023961646},{"$f":"EMC('Grain Drying Tool (EMC)'!$C$6,$B34,Z$5)","v":12.568093727835329},{"$f":"EMC('Grain Drying Tool (EMC)'!$C$6,$B34,AA$5)","v":12.90340401020347},{"$f":"EMC('Grain Drying Tool (EMC)'!$C$6,$B34,AB$5)","v":13.257991621349715},{"$f":"EMC('Grain Drying Tool (EMC)'!$C$6,$B34,AC$5)","v":13.635078445714994},{"$f":"EMC('Grain Drying Tool (EMC)'!$C$6,$B34,AD$5)","v":14.03862623191303},{"$f":"EMC('Grain Drying Tool (EMC)'!$C$6,$B34,AE$5)","v":14.473588024836216},{"$f":"EMC('Grain Drying Tool (EMC)'!$C$6,$B34,AF$5)","v":14.946273202822162},{"$f":"EMC('Grain Drying Tool (EMC)'!$C$6,$B34,AG$5)","v":15.464893483979846},{"$f":"EMC('Grain Drying Tool (EMC)'!$C$6,$B34,AH$5)","v":16.04040856635612},{"$f":"EMC('Grain Drying Tool (EMC)'!$C$6,$B34,AI$5)","v":16.687891209607898},{"$f":"EMC('Grain Drying Tool (EMC)'!$C$6,$B34,AJ$5)","v":17.428844294883504},{"$f":"EMC('Grain Drying Tool (EMC)'!$C$6,$B34,AK$5)","v":18.29538668434142},{"$f":"EMC('Grain Drying Tool (EMC)'!$C$6,$B34,AL$5)","v":19.338442663226751}]
[null,88,{"$f":"EMC('Grain Drying Tool (EMC)'!$C$6,$B35,C$5)","v":6.7340456047584238},{"$f":"EMC('Grain Drying Tool (EMC)'!$C$6,$B35,D$5)","v":6.991132467939428},{"$f":"EMC('Grain Drying Tool (EMC)'!$C$6,$B35,E$5)","v":7.2401386055972878},{"$f":"EMC('Grain Drying Tool (EMC)'!$C$6,$B35,F$5)","v":7.4827971679285783},{"$f":"EMC('Grain Drying Tool (EMC)'!$C$6,$B35,G$5)","v":7.7205375793368018},{"$f":"EMC('Grain Drying Tool (EMC)'!$C$6,$B35,H$5)","v":7.9545699906046021},{"$f":"EMC('Grain Drying Tool (EMC)'!$C$6,$B35,I$5)","v":8.1859445832091922},{"$f":"EMC('Grain Drying Tool (EMC)'!$C$6,$B35,J$5)","v":8.415594667359743},{"$f":"EMC('Grain Drying Tool (EMC)'!$C$6,$B35,K$5)","v":8.6443690813670386},{"$f":"EMC('Grain Drying Tool (EMC)'!$C$6,$B35,L$5)","v":8.8730574190599345},{"$f":"EMC('Grain Drying Tool (EMC)'!$C$6,$B35,M$5)","v":9.1024104308908189},{"$f":"EMC('Grain Drying Tool (EMC)'!$C$6,$B35,N$5)","v":9.3331572229677189},{"$f":"EMC('Grain Drying Tool (EMC)'!$C$6,$B35,O$5)","v":9.5660204322958702},{"$f":"EMC('Grain Drying Tool (EMC)'!$C$6,$B35,P$5)","v":9.8017302832233444},{"$f":"EMC('Grain Drying Tool (EMC)'!$C$6,$B35,Q$5)","v":10.041038271218911},{"$f":"EMC('Grain Drying Tool (EMC)'!$C$6,$B35,R$5)","v":10.284731143076597},{"$f":"EMC('Grain Drying Tool (EMC)'!$C$6,$B35,S$5)","v":10.533645830712437},{"$f":"EMC('Grain Drying Tool (EMC)'!$C$6,$B35,T$5)","v":10.788686043125082},{"$f":"EMC('Grain Drying Tool (EMC)'!$C$6,$B35,U$5)","v":11.050841331029687},{"$f":"EMC('Grain Drying Tool (EMC)'!$C$6,$B35,V$5)","v":11.321209623409677},{"$f":"EMC('Grain Drying Tool (EMC)'!$C$6,$B35,W$5)","v":11.601024518168893},{"$f":"EMC('Grain Drying Tool (EMC)'!$C$6,$B35,X$5)","v":11.891689029302357},{"$f":"EMC('Grain Drying Tool (EMC)'!$C$6,$B35,Y$5)","v":12.194818113599279},{"$f":"EMC('Grain Drying Tool (EMC)'!$C$6,$B35,Z$5)","v":12.512293222421746},{"$f":"EMC('Grain Drying Tool (EMC)'!$C$6,$B35,AA$5)","v":12.846333514282399},{"$f":"EMC('Grain Drying Tool (EMC)'!$C$6,$B35,AB$5)","v":13.199590497707094},{"$f":"EMC('Grain Drying Tool (EMC)'!$C$6,$B35,AC$5)","v":13.575276222481577},{"$f":"EMC('Grain Drying Tool (EMC)'!$C$6,$B35,AD$5)","v":13.977340529896818},{"$f":"EMC('Grain Drying Tool (EMC)'!$C$6,$B35,AE$5)","v":14.410721817682653},{"$f":"EMC('Grain Drying Tool (EMC)'!$C$6,$B35,AF$5)","v":14.881711126383523},{"$f":"EMC('Grain Drying Tool (EMC)'!$C$6,$B35,AG$5)","v":15.398496752356547},{"$f":"EMC('Grain Drying Tool (EMC)'!$C$6,$B35,AH$5)","v":15.972007778924405},{"$f":"EMC('Grain Drying Tool (EMC)'!$C$6,$B35,AI$5)","v":16.617275841350033},{"$f":"EMC('Grain Drying Tool (EMC)'!$C$6,$B35,AJ$5)","v":17.355746725060563},{"$f":"EMC('Grain Drying Tool (EMC)'!$C$6,$B35,AK$5)","v":18.219456706498566},{"$f":"EMC('Grain Drying Tool (EMC)'!$C$6,$B35,AL$5)","v":19.259204169427502}]
[null,90,{"$f":"EMC('Grain Drying Tool (EMC)'!$C$6,$B36,C$5)","v":6.7019991742355156},{"$f":"EMC('Grain Drying Tool (EMC)'!$C$6,$B36,D$5)","v":6.9579538680190209},{"$f":"EMC('Grain Drying Tool (EMC)'!$C$6,$B36,E$5)","v":7.2058698244955082},{"$f":"EMC('Grain Drying Tool (EMC)'!$C$6,$B36,F$5)","v":7.4474720573193238},{"$f":"EMC('Grain Drying Tool (EMC)'!$C$6,$B36,G$5)","v":7.6841833511443633},{"$f":"EMC('Grain Drying Tool (EMC)'!$C$6,$B36,H$5)","v":7.9172083054222266},{"$f":"EMC('Grain Drying Tool (EMC)'!$C$6,$B36,I$5)","v":8.1475923536132981},{"$f":"EMC('Grain Drying Tool (EMC)'!$C$6,$B36,J$5)","v":8.3762646557344045},{"$f":"EMC('Grain Drying Tool (EMC)'!$C$6,$B36,K$5)","v":8.6040703450478571},{"$f":"EMC('Grain Drying Tool (EMC)'!$C$6,$B36,L$5)","v":8.8317956385265273},{"$f":"EMC('Grain Drying Tool (EMC)'!$C$6,$B36,M$5)","v":9.0601881454692883},{"$f":"EMC('Grain Drying Tool (EMC)'!$C$6,$B36,N$5)","v":9.2899739908074235},{"$f":"EMC('Grain Drying Tool (EMC)'!$C$6,$B36,O$5)","v":9.5218729259239616},{"$f":"EMC('Grain Drying Tool (EMC)'!$C$6,$B36,P$5)","v":9.7566123279296999},{"$f":"EMC('Grain Drying Tool (EMC)'!$C$6,$B36,Q$5)","v":9.9949408303489751},{"$f":"EMC('Grain Drying Tool (EMC)'!$C$6,$B36,R$5)","v":10.237642251644463},{"$f":"EMC('Grain Drying Tool (EMC)'!$C$6,$B36,S$5)","v":10.485550476321103},{"$f":"EMC('Grain Drying Tool (EMC)'!$C$6,$B36,T$5)","v":10.739565990771581},{"$f":"EMC('Grain Drying Tool (EMC)'!$C$6,$B36,U$5)","v":11.000674885769897},{"$f":"EMC('Grain Drying Tool (EMC)'!$C$6,$B36,V$5)","v":11.269971321832202},{"$f":"EMC('Grain Drying Tool (EMC)'!$C$6,$B36,W$5)","v":11.548684735901404},{"$f":"EMC('Grain Drying Tool (EMC)'!$C$6,$B36,X$5)","v":11.838213486975331},{"$f":"EMC('Grain Drying Tool (EMC)'!$C$6,$B36,Y$5)","v":12.140167257297353},{"$f":"EMC('Grain Drying Tool (EMC)'!$C$6,$B36,Z$5)","v":12.456421445889427},{"$f":"EMC('Grain Drying Tool (EMC)'!$C$6,$B36,AA$5)","v":12.789188177845224},{"$f":"EMC('Grain Drying Tool (EMC)'!$C$6,$B36,AB$5)","v":13.141110681186989},{"$f":"EMC('Grain Drying Tool (EMC)'!$C$6,$B36,AC$5)","v":13.515391123378654},{"$f":"EMC('Grain Drying Tool (EMC)'!$C$6,$B36,AD$5)","v":13.915967378906894},{"$f":"EMC('Grain Drying Tool (EMC)'!$C$6,$B36,AE$5)","v":14.347763122908399},{"$f":"EMC('Grain Drying Tool (EMC)'!$C$6,$B36,AF$5)","v":14.817050960694857},{"$f":"EMC('Grain Drying Tool (EMC)'!$C$6,$B36,AG$5)","v":15.331995638270637},{"$f":"EMC('Grain Drying Tool (EMC)'!$C$6,$B36,AH$5)","v":15.903495450157177},{"$f":"EMC('Grain Drying Tool (EMC)'!$C$6,$B36,AI$5)","v":16.546540664327829},{"$f":"EMC('Grain Drying Tool (EMC)'!$C$6,$B36,AJ$5)","v":17.282519618741009},{"$f":"EMC('Grain Drying Tool (EMC)'!$C$6,$B36,AK$5)","v":18.143385470428829},{"$f":"EMC('Grain Drying Tool (EMC)'!$C$6,$B36,AL$5)","v":19.179809841470348}]
[null,92,{"$f":"EMC('Grain Drying Tool (EMC)'!$C$6,$B37,C$5)","v":6.669930713665134},{"$f":"EMC('Grain Drying Tool (EMC)'!$C$6,$B37,D$5)","v":6.9247515883710342},{"$f":"EMC('Grain Drying Tool (EMC)'!$C$6,$B37,E$5)","v":7.1715757138309826},{"$f":"EMC('Grain Drying Tool (EMC)'!$C$6,$B37,F$5)","v":7.4121199605919177},{"$f":"EMC('Grain Drying Tool (EMC)'!$C$6,$B37,G$5)","v":7.6478004675882163},{"$f":"EMC('Grain Drying Tool (EMC)'!$C$6,$B37,H$5)","v":7.8798162773461211},{"$f":"EMC('Grain Drying Tool (EMC)'!$C$6,$B37,I$5)","v":8.1092080699232607},{"$f":"EMC('Grain Drying Tool (EMC)'!$C$6,$B37,J$5)","v":8.3369008498321122},{"$f":"EMC('Grain Drying Tool (EMC)'!$C$6,$B37,K$5)","v":8.5637360399340352},{"$f":"EMC('Grain Drying Tool (EMC)'!$C$6,$B37,L$5)","v":8.7904964748497374},{"$f":"EMC('Grain Drying Tool (EMC)'!$C$6,$B37,M$5)","v":9.0179266169861876},{"$f":"EMC('Grain Drying Tool (EMC)'!$C$6,$B37,N$5)","v":9.2467496040182109},{"$f":"EMC('Grain Drying Tool (EMC)'!$C$6,$B37,O$5)","v":9.4776822951812143},{"$f":"EMC('Grain Drying Tool (EMC)'!$C$6,$B37,P$5)","v":9.7114492132633679},{"$f":"EMC('Grain Drying Tool (EMC)'!$C$6,$B37,Q$5)","v":9.9487961220702719},{"$f":"EMC('Grain Drying Tool (EMC)'!$C$6,$B37,R$5)","v":10.190503903120701},{"$f":"EMC('Grain Drying Tool (EMC)'!$C$6,$B37,S$5)","v":10.437403383881081},{"$f":"EMC('Grain Drying Tool (EMC)'!$C$6,$B37,T$5)","v":10.690391817283606},{"$f":"EMC('Grain Drying Tool (EMC)'!$C$6,$B37,U$5)","v":10.950451821820351},{"$f":"EMC('Grain Drying Tool (EMC)'!$C$6,$B37,V$5)","v":11.218673775392672},{"$f":"EMC('Grain Drying Tool (EMC)'!$C$6,$B37,W$5)","v":11.496282937626487},{"$f":"EMC('Grain Drying Tool (EMC)'!$C$6,$B37,X$5)","v":11.784672993447993},{"$f":"EMC('Grain Drying Tool (EMC)'!$C$6,$B37,Y$5)","v":12.08544832810608},{"$f":"EMC('Grain Drying Tool (EMC)'!$C$6,$B37,Z$5)","v":12.400478261604706},{"$f":"EMC('Grain Drying Tool (EMC)'!$C$6,$B37,AA$5)","v":12.731967853579985},{"$f":"EMC('Grain Drying Tool (EMC)'!$C$6,$B37,AB$5)","v":13.08255201262952},{"$f":"EMC('Grain Drying Tool (EMC)'!$C$6,$B37,AC$5)","v":13.455422976008649},{"$f":"EMC('Grain Drying Tool (EMC)'!$C$6,$B37,AD$5)","v":13.854506591637344},{"$f":"EMC('Grain Drying Tool (EMC)'!$C$6,$B37,AE$5)","v":14.284711736264054},{"$f":"EMC('Grain Drying Tool (EMC)'!$C$6,$B37,AF$5)","v":14.752292482045521},{"$f":"EMC('Grain Drying Tool (EMC)'!$C$6,$B37,AG$5)","v":15.265389895378602},{"$f":"EMC('Grain Drying Tool (EMC)'!$C$6,$B37,AH$5)","v":15.834871306995693},{"$f":"EMC('Grain Drying Tool (EMC)'!$C$6,$B37,AI$5)","v":16.475685373374134},{"$f":"EMC('Grain Drying Tool (EMC)'!$C$6,$B37,AJ$5)","v":17.20916263129126},{"$f":"EMC('Grain Drying Tool (EMC)'!$C$6,$B37,AK$5)","v":18.067172581575317},{"$f":"EMC('Grain Drying Tool (EMC)'!$C$6,$B37,AL$5)","v":19.100259219196602}]
[null,94,{"$f":"EMC('Grain Drying Tool (EMC)'!$C$6,$B38,C$5)","v":6.6378402003229171},{"$f":"EMC('Grain Drying Tool (EMC)'!$C$6,$B38,D$5)","v":6.8915256036359152},{"$f":"EMC('Grain Drying Tool (EMC)'!$C$6,$B38,E$5)","v":7.1372562455100361},{"$f":"EMC('Grain Drying Tool (EMC)'!$C$6,$B38,F$5)","v":7.3767408468110496},{"$f":"EMC('Grain Drying Tool (EMC)'!$C$6,$B38,G$5)","v":7.6113888947746302},{"$f":"EMC('Grain Drying Tool (EMC)'!$C$6,$B38,H$5)","v":7.8423938693972897},{"$f":"EMC('Grain Drying Tool (EMC)'!$C$6,$B38,I$5)","v":8.0707916919369431},{"$f":"EMC('Grain Drying Tool (EMC)'!$C$6,$B38,J$5)","v":8.2975032060775984},{"$f":"EMC('Grain Drying Tool (EMC)'!$C$6,$B38,K$5)","v":8.5233661189137617},{"$f":"EMC('Grain Drying Tool (EMC)'!$C$6,$B38,L$5)","v":8.7491598772028887},{"$f":"EMC('Grain Drying Tool (EMC)'!$C$6,$B38,M$5)","v":8.975625790705001},{"$f":"EMC('Grain Drying Tool (EMC)'!$C$6,$B38,N$5)","v":9.2034840037400532},{"$f":"EMC('Grain Drying Tool (EMC)'!$C$6,$B38,O$5)","v":9.4334484768493372},{"$f":"EMC('Grain Drying Tool (EMC)'!$C$6,$B38,P$5)","v":9.666240871389153},{"$f":"EMC('Grain Drying Tool (EMC)'!$C$6,$B38,Q$5)","v":9.9026040736449108},{"$f":"EMC('Grain Drying Tool (EMC)'!$C$6,$B38,R$5)","v":10.143316019547784},{"$f":"EMC('Grain Drying Tool (EMC)'!$C$6,$B38,S$5)","v":10.389204469862488},{"$f":"EMC('Grain Drying Tool (EMC)'!$C$6,$B38,T$5)","v":10.641163433164762},{"$f":"EMC('Grain Drying Tool (EMC)'!$C$6,$B38,U$5)","v":10.900172043275735},{"$f":"EMC('Grain Drying Tool (EMC)'!$C$6,$B38,V$5)","v":11.167316881277836},{"$f":"EMC('Grain Drying Tool (EMC)'!$C$6,$B38,W$5)","v":11.443819013057146},{"$f":"EMC('Grain Drying Tool (EMC)'!$C$6,$B38,X$5)","v":11.731067430314196},{"$f":"EMC('Grain Drying Tool (EMC)'!$C$6,$B38,Y$5)","v":12.030661198759221},{"$f":"EMC('Grain Drying Tool (EMC)'!$C$6,$B38,Z$5)","v":12.344463532584445},{"$f":"EMC('Grain Drying Tool (EMC)'!$C$6,$B38,AA$5)","v":12.674672393787851},{"$f":"EMC('Grain Drying Tool (EMC)'!$C$6,$B38,AB$5)","v":13.023914332445312},{"$f":"EMC('Grain Drying Tool (EMC)'!$C$6,$B38,AC$5)","v":13.395371607495496},{"$f":"EMC('Grain Drying Tool (EMC)'!$C$6,$B38,AD$5)","v":13.792957980246955},{"$f":"EMC('Grain Drying Tool (EMC)'!$C$6,$B38,AE$5)","v":14.221567452898357},{"$f":"EMC('Grain Drying Tool (EMC)'!$C$6,$B38,AF$5)","v":14.687435466044079},{"$f":"EMC('Grain Drying Tool (EMC)'!$C$6,$B38,AG$5)","v":15.19867927656114},{"$f":"EMC('Grain Drying Tool (EMC)'!$C$6,$B38,AH$5)","v":15.766135075489204},{"$f":"EMC('Grain Drying Tool (EMC)'!$C$6,$B38,AI$5)","v":16.404709662284525},{"$f":"EMC('Grain Drying Tool (EMC)'!$C$6,$B38,AJ$5)","v":17.135675416854124},{"$f":"EMC('Grain Drying Tool (EMC)'!$C$6,$B38,AK$5)","v":17.990817643910333},{"$f":"EMC('Grain Drying Tool (EMC)'!$C$6,$B38,AL$5)","v":19.020551840634063}]
[null,96,{"$f":"EMC('Grain Drying Tool (EMC)'!$C$6,$B39,C$5)","v":6.6057276114532302},{"$f":"EMC('Grain Drying Tool (EMC)'!$C$6,$B39,D$5)","v":6.858275888417884},{"$f":"EMC('Grain Drying Tool (EMC)'!$C$6,$B39,E$5)","v":7.1029113913974369},{"$f":"EMC('Grain Drying Tool (EMC)'!$C$6,$B39,F$5)","v":7.3413346849941057},{"$f":"EMC('Grain Drying Tool (EMC)'!$C$6,$B39,G$5)","v":7.5749485987563983},{"$f":"EMC('Grain Drying Tool (EMC)'!$C$6,$B39,H$5)","v":7.8049410445366076},{"$f":"EMC('Grain Drying Tool (EMC)'!$C$6,$B39,I$5)","v":8.0323431793849416},{"$f":"EMC('Grain Drying Tool (EMC)'!$C$6,$B39,J$5)","v":8.2580716808206347},{"$f":"EMC('Grain Drying Tool (EMC)'!$C$6,$B39,K$5)","v":8.4829605347919799},{"$f":"EMC('Grain Drying Tool (EMC)'!$C$6,$B39,L$5)","v":8.7077857946671227},{"$f":"EMC('Grain Drying Tool (EMC)'!$C$6,$B39,M$5)","v":8.9332856117873618},{"$f":"EMC('Grain Drying Tool (EMC)'!$C$6,$B39,N$5)","v":9.1601771310006175},{"$f":"EMC('Grain Drying Tool (EMC)'!$C$6,$B39,O$5)","v":9.3891714075863977},{"$f":"EMC('Grain Drying Tool (EMC)'!$C$6,$B39,P$5)","v":9.6209872343359333},{"$f":"EMC('Grain Drying Tool (EMC)'!$C$6,$B39,Q$5)","v":9.8563646121856632},{"$f":"EMC('Grain Drying Tool (EMC)'!$C$6,$B39,R$5)","v":10.09607852280425},{"$f":"EMC('Grain Drying Tool (EMC)'!$C$6,$B39,S$5)","v":10.340953650555534},{"$f":"EMC('Grain Drying Tool (EMC)'!$C$6,$B39,T$5)","v":10.59188074872122},{"$f":"EMC('Grain Drying Tool (EMC)'!$C$6,$B39,U$5)","v":10.849835454013997},{"$f":"EMC('Grain Drying Tool (EMC)'!$C$6,$B39,V$5)","v":11.115900536436421},{"$f":"EMC('Grain Drying Tool (EMC)'!$C$6,$B39,W$5)","v":11.391292851644717},{"$f":"EMC('Grain Drying Tool (EMC)'!$C$6,$B39,X$5)","v":11.677396678879809},{"$f":"EMC('Grain Drying Tool (EMC)'!$C$6,$B39,Y$5)","v":11.975805741673083},{"$f":"EMC('Grain Drying Tool (EMC)'!$C$6,$B39,Z$5)","v":12.2883771214949},{"$f":"EMC('Grain Drying Tool (EMC)'!$C$6,$B39,AA$5)","v":12.617301650381851},{"$f":"EMC('Grain Drying Tool (EMC)'!$C$6,$B39,AB$5)","v":12.96519748061403},{"$f":"EMC('Grain Drying Tool (EMC)'!$C$6,$B39,AC$5)","v":13.335236844482965},{"$f":"EMC('Grain Drying Tool (EMC)'!$C$6,$B39,AD$5)","v":13.7313213563573},{"$f":"EMC('Grain Drying Tool (EMC)'!$C$6,$B39,AE$5)","v":14.158330067355957},{"$f":"EMC('Grain Drying Tool (EMC)'!$C$6,$B39,AF$5)","v":14.622479687615694},{"$f":"EMC('Grain Drying Tool (EMC)'!$C$6,$B39,AG$5)","v":15.131863533920125},{"$f":"EMC('Grain Drying Tool (EMC)'!$C$6,$B39,AH$5)","v":15.697286480791297},{"$f":"EMC('Grain Drying Tool (EMC)'!$C$6,$B39,AI$5)","v":16.333613223812879},{"$f":"EMC('Grain Drying Tool (EMC)'!$C$6,$B39,AJ$5)","v":17.062057628343332},{"$f":"EMC('Grain Drying Tool (EMC)'!$C$6,$B39,AK$5)","v":17.914320259928544},{"$f":"EMC('Grain Drying Tool (EMC)'!$C$6,$B39,AL$5)","v":18.940687241988091}]
[null,98,{"$f":"EMC('Grain Drying Tool (EMC)'!$C$6,$B40,C$5)","v":6.5735929242691267},{"$f":"EMC('Grain Drying Tool (EMC)'!$C$6,$B40,D$5)","v":6.8250024172848747},{"$f":"EMC('Grain Drying Tool (EMC)'!$C$6,$B40,E$5)","v":7.068541123316308},{"$f":"EMC('Grain Drying Tool (EMC)'!$C$6,$B40,F$5)","v":7.3059014441110843},{"$f":"EMC('Grain Drying Tool (EMC)'!$C$6,$B40,G$5)","v":7.5384795455327369},{"$f":"EMC('Grain Drying Tool (EMC)'!$C$6,$B40,H$5)","v":7.7674577656647337},{"$f":"EMC('Grain Drying Tool (EMC)'!$C$6,$B40,I$5)","v":7.9938624919304635},{"$f":"EMC('Grain Drying Tool (EMC)'!$C$6,$B40,J$5)","v":8.218606230335892},{"$f":"EMC('Grain Drying Tool (EMC)'!$C$6,$B40,K$5)","v":8.4425192402902169},{"$f":"EMC('Grain Drying Tool (EMC)'!$C$6,$B40,L$5)","v":8.6663741762311908},{"$f":"EMC('Grain Drying Tool (EMC)'!$C$6,$B40,M$5)","v":8.8909060252928356},{"$f":"EMC('Grain Drying Tool (EMC)'!$C$6,$B40,N$5)","v":9.116828926715014},{"$f":"EMC('Grain Drying Tool (EMC)'!$C$6,$B40,O$5)","v":9.3448510239265481},{"$f":"EMC('Grain Drying Tool (EMC)'!$C$6,$B40,P$5)","v":9.5756882339963134},{"$f":"EMC('Grain Drying Tool (EMC)'!$C$6,$B40,Q$5)","v":9.8100776646556103},{"$f":"EMC('Grain Drying Tool (EMC)'!$C$6,$B40,R$5)","v":10.048791334604285},{"$f":"EMC('Grain Drying Tool (EMC)'!$C$6,$B40,S$5)","v":10.292650842070039},{"$f":"EMC('Grain Drying Tool (EMC)'!$C$6,$B40,T$5)","v":10.542543674061166},{"$f":"EMC('Grain Drying Tool (EMC)'!$C$6,$B40,U$5)","v":10.799441957695754},{"$f":"EMC('Grain Drying Tool (EMC)'!$C$6,$B40,V$5)","v":11.064424637578421},{"$f":"EMC('Grain Drying Tool (EMC)'!$C$6,$B40,W$5)","v":11.338704342578099},{"$f":"EMC('Grain Drying Tool (EMC)'!$C$6,$B40,X$5)","v":11.62366062016185},{"$f":"EMC('Grain Drying Tool (EMC)'!$C$6,$B40,Y$5)","v":11.920881828945564},{"$f":"EMC('Grain Drying Tool (EMC)'!$C$6,$B40,Z$5)","v":12.232218890650623},{"$f":"EMC('Grain Drying Tool (EMC)'!$C$6,$B40,AA$5)","v":12.559855474885603},{"$f":"EMC('Grain Drying Tool (EMC)'!$C$6,$B40,AB$5)","v":12.90640129668294},{"$f":"EMC('Grain Drying Tool (EMC)'!$C$6,$B40,AC$5)","v":13.275018513133018},{"$f":"EMC('Grain Drying Tool (EMC)'!$C$6,$B40,AD$5)","v":13.66959653105082},{"$f":"EMC('Grain Drying Tool (EMC)'!$C$6,$B40,AE$5)","v":14.094999373575206},{"$f":"EMC('Grain Drying Tool (EMC)'!$C$6,$B40,AF$5)","v":14.557424920999543},{"$f":"EMC('Grain Drying Tool (EMC)'!$C$6,$B40,AG$5)","v":15.064942418775532},{"$f":"EMC('Grain Drying Tool (EMC)'!$C$6,$B40,AH$5)","v":15.628325247156248},{"$f":"EMC('Grain Drying Tool (EMC)'!$C$6,$B40,AI$5)","v":16.262395749666965},{"$f":"EMC('Grain Drying Tool (EMC)'!$C$6,$B40,AJ$5)","v":16.988308917438104},{"$f":"EMC('Grain Drying Tool (EMC)'!$C$6,$B40,AK$5)","v":17.837680030640072},{"$f":"EMC('Grain Drying Tool (EMC)'!$C$6,$B40,AL$5)","v":18.860664957632597}," "]
[null,100,{"$f":"EMC('Grain Drying Tool (EMC)'!$C$6,$B41,C$5)","v":6.5414361159522834},{"$f":"EMC('Grain Drying Tool (EMC)'!$C$6,$B41,D$5)","v":6.791705164768465},{"$f":"EMC('Grain Drying Tool (EMC)'!$C$6,$B41,E$5)","v":7.0341454130480656},{"$f":"EMC('Grain Drying Tool (EMC)'!$C$6,$B41,F$5)","v":7.2704410930844974},{"$f":"EMC('Grain Drying Tool (EMC)'!$C$6,$B41,G$5)","v":7.5019817010491758},{"$f":"EMC('Grain Drying Tool (EMC)'!$C$6,$B41,H$5)","v":7.7299439956219542},{"$f":"EMC('Grain Drying Tool (EMC)'!$C$6,$B41,I$5)","v":7.9553495891691748},{"$f":"EMC('Grain Drying Tool (EMC)'!$C$6,$B41,J$5)","v":8.1791068108227698},{"$f":"EMC('Grain Drying Tool (EMC)'!$C$6,$B41,K$5)","v":8.4020421880463942},{"$f":"EMC('Grain Drying Tool (EMC)'!$C$6,$B41,L$5)","v":8.6249249707912501},{"$f":"EMC('Grain Drying Tool (EMC)'!$C$6,$B41,M$5)","v":8.8484869761786609},{"$f":"EMC('Grain Drying Tool (EMC)'!$C$6,$B41,N$5)","v":9.0734393316855098},{"$f":"EMC('Grain Drying Tool (EMC)'!$C$6,$B41,O$5)","v":9.3004872622797006},{"$f":"EMC('Grain Drying Tool (EMC)'!$C$6,$B41,P$5)","v":9.5303438021262874},{"$f":"EMC('Grain Drying Tool (EMC)'!$C$6,$B41,Q$5)","v":9.7637431578677383},{"$f":"EMC('Grain Drying Tool (EMC)'!$C$6,$B41,R$5)","v":10.001454376497277},{"$f":"EMC('Grain Drying Tool (EMC)'!$C$6,$B41,S$5)","v":10.244295960334945},{"$f":"EMC('Grain Drying Tool (EMC)'!$C$6,$B41,T$5)","v":10.493152119094269},{"$f":"EMC('Grain Drying Tool (EMC)'!$C$6,$B41,U$5)","v":10.748991457763669},{"$f":"EMC('Grain Drying Tool (EMC)'!$C$6,$B41,V$5)","v":11.012889081174423},{"$f":"EMC('Grain Drying Tool (EMC)'!$C$6,$B41,W$5)","v":11.286053374782975},{"$f":"EMC('Grain Drying Tool (EMC)'!$C$6,$B41,X$5)","v":11.569859134887597},{"$f":"EMC('Grain Drying Tool (EMC)'!$C$6,$B41,Y$5)","v":11.865889332355124},{"$f":"EMC('Grain Drying Tool (EMC)'!$C$6,$B41,Z$5)","v":12.175988702013317},{"$f":"EMC('Grain Drying Tool (EMC)'!$C$6,$B41,AA$5)","v":12.502333718432027},{"$f":"EMC('Grain Drying Tool (EMC)'!$C$6,$B41,AB$5)","v":12.84752561976544},{"$f":"EMC('Grain Drying Tool (EMC)'!$C$6,$B41,AC$5)","v":13.214716439124119},{"$f":"EMC('Grain Drying Tool (EMC)'!$C$6,$B41,AD$5)","v":13.607783314868884},{"$f":"EMC('Grain Drying Tool (EMC)'!$C$6,$B41,AE$5)","v":14.031575164885902},{"$f":"EMC('Grain Drying Tool (EMC)'!$C$6,$B41,AF$5)","v":14.492270939746174},{"$f":"EMC('Grain Drying Tool (EMC)'!$C$6,$B41,AG$5)","v":14.997915681662347},{"$f":"EMC('Grain Drying Tool (EMC)'!$C$6,$B41,AH$5)","v":15.559251097935338},{"$f":"EMC('Grain Drying Tool (EMC)'!$C$6,$B41,AI$5)","v":16.191056930503958},{"$f":"EMC('Grain Drying Tool (EMC)'!$C$6,$B41,AJ$5)","v":16.914428934577646},{"$f":"EMC('Grain Drying Tool (EMC)'!$C$6,$B41,AK$5)","v":17.760896555563562},{"$f":"EMC('Grain Drying Tool (EMC)'!$C$6,$B41,AL$5)","v":18.780484520100998}]
[null,null,null,null,null,null,null,null,null,null,null,null,null,null,null,null,null,null,null,null,null,null,"Samy Sadaka, PhD, PE., E mail:  ssadaka@uaex.edu"]