{"text_format":"1","workbook":"xlsx","n_sheets":9,"sheets":["Instructions","Settling Basin Check","Liquid Manure Production","Poultry Litter Production","Planning","BMP Summary","Data","Calcs","Example Inputs"],"not_rendered":{"charts":0,"images":0,"macros":1,"external_links":1,"defined_names":174,"comments":4,"pivot_tables":0},"unopened":[],"bounds":{"document_bytes":16777216,"sheet_cells":100000,"rows_first":2000,"rows_last":500,"rows_between":2000,"halvings":0,"cell_chars":16384,"cell_head_chars":4096},"cells_cut":0,"cells_raw":0,"read":"whole","date_system":"1900"}

{"sheet":"Instructions","index":0,"n_rows":13,"n_cols":7,"rows_kept":13,"cut":false,"hidden":false,"merged":[[0,2,0,6],[5,2,5,6],[3,2,3,6],[4,2,4,6]]}
[null,null,"Comments and Instructions"]
[]
[]
[null,null,"Macro Security Comment"]
[null,null,"This Excel Workbook makes use of embedded macros. Therefore to function properly the macro settings must be enabled. "]
[]
["1)",null,"The green shaded areas indicate where data can be entered.",null,"5)",null,"The scroll bars on the side and bottom of the screen can be used to view different portions of the worksheet."]
[]
["2)",null,"To enter data, use the mouse, arrow, or tab keys move to and select a green area.",null,"6)",null,"Comments and instructions are available by moving the mouse cursor near the red triangles. If the displayed text is not completely visible, use the horizontal and vertical scroll bars to move the red triangle closer to the center of the screen then position the cursor near it again."]
[]
["3)",null,"Some data can be simply typed in. Other data is selected from a list by \"clicking\" on the \"popup\" down arrow with the mouse, then selecting the desired list item. The scroll bar allows the viewing of all list items.",null,"7)",null,"To save the current values for future use, use the \"Save\" or \"Save As\" command under the \"File\" menu."]
[]
["4)",null,"Data entry is conditional in that before information about a litter/manure source or a field can be supplied, the litter/manure source or field must be named. In addition, if the name of one of these is deleted, the associated information will be lost.",null,"8)",null,"The \"command\" buttons can be used print the displayed worksheet, clear all the input values, insert example input values, or perform additional calculations."]

{"sheet":"Settling Basin Check","index":1,"n_rows":36,"n_cols":16,"rows_kept":36,"cut":false,"hidden":false,"merged":[[8,0,8,1],[8,3,8,4],[8,5,8,6],[8,7,8,8],[8,9,8,10],[0,0,0,11],[1,1,1,8],[1,10,1,11],[2,1,3,11],[4,0,4,11],[9,0,9,10],[10,0,10,1],[10,3,10,4],[10,5,10,6],[10,7,10,8],[10,9,10,10],[12,0,12,1],[12,3,12,4],[12,5,12,6],[12,7,12,8],[12,9,12,10],[11,0,11,1],[11,3,11,4],[11,5,11,6],[11,7,11,8],[11,9,11,10],[13,0,13,10],[14,0,14,1],[14,3,14,4],[14,5,14,6],[14,7,14,8],[14,9,14,10],[15,0,15,10],[16,0,16,1],[16,3,16,4],[16,5,16,6],[16,7,16,8],[16,9,16,10],[25,0,26,2],[20,0,20,1],[17,9,17,10],[18,0,18,1],[18,3,18,4],[18,5,18,6],[18,7,18,8],[18,9,18,10],[17,0,17,1],[17,3,17,4],[17,5,17,6],[17,7,17,8],[19,0,19,1],[19,3,19,4],[19,5,19,6],[19,7,19,8],[19,9,19,10],[23,3,24,3],[23,4,23,6],[23,8,29,10],[24,4,24,6],[25,3,26,3],[25,4,25,6],[26,4,26,6],[27,3,28,3],[28,4,28,6],[27,4,27,6],[21,0,21,10],[22,0,22,3],[22,4,22,7],[23,0,24,2],[27,0,28,2],[33,0,33,2],[33,4,33,6],[34,0,34,2],[35,0,35,10],[30,8,30,10],[31,0,31,2],[31,4,31,6],[32,0,32,2],[32,4,32,6],[29,0,30,2],[29,3,30,3],[29,4,29,6],[30,4,30,6]]}
["Settling Basin Volume Capacity Evaluation Worksheet"]
["Planner:","Ima Planner",null,null,null,null,null,null,null,"Date:","2017-08-10"]
["Plan Description:","This plan is for Mr. Needa Plannow"]
[]
["This worksheet is based on material developed by Stan Rose and Lane Johnson Ark. NRCS engineers to assist with the writing of liquid manure plans."]
[]
[]
[]
["Animal type",null,"Boar","Gestating Sow",null,"Lactating Sow",null,"Nursery Pig",null,"Grow-Finish (Replacement Gilts)"]
["Typical Animal Design Information"]
["Animal Wt Range (lb)",null,null,null,null,null,null,"10 to 50",null,"50 to 265"]
["Animal Design Wt (lb)",null,450,425,null,400,null,28,null,158]
["Animal Cycle Time (d)",null,365,365,null,365,null,45,null,123]
["Manure Total Solids Production Design Information"]
["TS (lb/d/au)",null,1.9,2.5,null,5.9,null,10,null,6.5]
["Animal Population Information",null,null,null,null,null,null,null,null,null,null,"Totals"]
["Number Animals",null,4,424,null,84,null,null,null,null,null,{"$f":"IF(SUM(C17:K17)>0,SUM(C17:K17),\"\")","v":512}]
["Animal Weight (lb)",null,450,425,null,400,null,null,null,null,null,{"$f":"IF(SUM(C18:K18)>0,SUM(C18:K18),\"\")","v":1275}]
["AU",null,{"$f":"IF(OR(ISBLANK(C17),ISBLANK(C18)),\"\",C17*C18/1000)","v":1.8},{"$f":"IF(OR(ISBLANK(D17),ISBLANK(D18)),\"\",D17*D18/1000)","v":180.2},null,{"$f":"IF(OR(ISBLANK(F17),ISBLANK(F18)),\"\",F17*F18/1000)","v":33.6},null,{"$f":"IF(OR(ISBLANK(H17),ISBLANK(H18)),\"\",H17*H18/1000)","v":""},null,{"$f":"IF(OR(ISBLANK(J17),ISBLANK(J18)),\"\",J17*J18/1000)","v":""},null,{"$f":"IF(SUM(C19:K19)>0,SUM(C19:K19),\"\")","v":215.6}]
["TS (lb/d)",null,{"$f":"IF(OR(ISBLANK(C17),ISBLANK(C18),ISBLANK(C21)),\"\",C15*C$19)","v":3.42},{"$f":"IF(OR(ISBLANK(D17),ISBLANK(D18),ISBLANK(C21)),\"\",D15*D$19)","v":450.5},null,{"$f":"IF(OR(ISBLANK(F17),ISBLANK(F18),ISBLANK(C21)),\"\",F15*F$19)","v":198.24},null,{"$f":"IF(OR(ISBLANK(H17),ISBLANK(H18),ISBLANK(C21)),\"\",H15*H$19)","v":""},null,{"$f":"IF(OR(ISBLANK(J17),ISBLANK(J18),ISBLANK(C21)),\"\",J15*J$19)","v":""},null,{"$f":"IF(SUM(C20:K20)>0,SUM(C20:K20),\"\")","v":652.16000000000008}]
["Design Storage Period (d)",null,45,null,null,null,null,null,null,null,null,{"$f":"IF(ISERROR(L20*C21),\"\",L20*C21)","v":29347.200000000004}]
["Manure Total Solids Production"]
["Required Volume",null,null,null,"As-Built Dimensions and Volume",null,null,null,"Volume Capacity Comment",null,null,null,null,null,"Comments"]
["Total Solids Production (lb)",null,null,{"$f":"IF(ISERROR(L21),\"\",L21)","v":29347.200000000004},"Top Length (ft)",null,null,50,{"$f":"INDEX(O24:P27,MATCH(1,O24:O27,0),2)","v":"Settling Basin Volume is Sufficient. Actual capcity is 52 days."},null,null,null,null,null,{"$f":"IF(COUNTIF(H24:H28,\"\")>0,1,0)","v":0}," "]
[null,null,null,null,"Top Width (ft)",null,null,50,null,null,null,null,null,null,{"$f":"IF(OR(H29<0,H30<0,H31<0,H32<0),1,0)","v":0},"ERROR! Double check Length, Width, Depth, Side Slope, and Free Board values"]
["Assume 50% TS as setttleable (lb)",null,null,{"$f":"IF(ISERROR(D24*0.5),\"\",D24*0.5)","v":14673.600000000002},"Total Depth (ft)",null,null,6,null,null,null,null,null,null,{"$f":"IF(AND(NOT(ISBLANK(K32)),K32>0),1,0)","v":1},{"$f":"\"Settling Basin Volume is Sufficient. Actual capcity is \"&INT(H32/(D32/C21))& \" days.\"","v":"Settling Basin Volume is Sufficient. Actual capcity is 52 days."}]
[null,null,null,null,"Side Slopes ( _:1)",null,null,3,null,null,null,null,null,null,{"$f":"IF(K32<0,1,0)","v":0},{"$f":"\"INSUFFICIENT VOLUME! Contact NRCS Engineer for guidance! Actual capacity is \"&INT(H32/(D32/C21))& \" days.\"","v":"INSUFFICIENT VOLUME! Contact NRCS Engineer for guidance! Actual capacity is 52 days."}]
["Assume Sludge 6% solids (lb)",null,null,{"$f":"IF(ISERROR(D26/0.06),\"\",D26/0.06)","v":244560.00000000006},"Free Board (ft)",null,null,1]
[null,null,null,null,"Water Depth (ft)",null,null,{"$f":"IF(COUNTIF(H24:H28,\"\")>0,\"\",H26-H28)","v":5}]
["Sludge Volume (cuft @ 62.4 lbs/cuft):",null,null,{"$f":"IF(ISERROR(D28/62.4),\"\",D28/62.4)","v":3919.2307692307704},"Bottom Length (ft)",null,null,{"$f":"IF(COUNTIF(H24:H28,\"\")>0,\"\",H24-2*H26*H27)","v":14}]
[null,null,null,null,"Bottom Width (ft)",null,null,{"$f":"IF(COUNTIF(H24:H28,\"\")>0,\"\",H25-2*H26*H27)","v":14},"Volume Surplus/Deficit"]
["Required Basin Volume (cuft)",null,null,{"$f":"IF(ISERROR(D30),\"\",D30)","v":3919.2307692307704},"As-Built Volume (cuft)",null,null,{"$f":"IF(ISERROR(((4*H27^2*H29^3)/3)+(H27*H30*H29^2)+(H27*H31*H29^2)+(H31*H30*H29)),\"\",((4*H27^2*H29^3)/3)+(H27*H30*H29^2)+(H27*H31*H29^2)+(H31*H30*H29))","v":4580},"Volume (cuft)",null,{"$f":"IF(ISERROR(H32-D32),\"\",H32-D32)","v":660.76923076922958}]
["                                       (cuyd)",null,null,{"$f":"IF(ISERROR(D32/27),\"\",D32/27)","v":145.15669515669521},"                          (cuyd)",null,null,{"$f":"IF(ISERROR(H32/27),\"\",H32/27)","v":169.62962962962962},"            (cuyd)",null,{"$f":"IF(ISERROR(K32/27),\"\",K32/27)","v":24.47293447293443}]
["                                       (gal)",null,null,{"$f":"IF(ISERROR(D32*7.48),\"\",D32*7.48)","v":29315.846153846163},"                          (gal)",null,null,{"$f":"IF(ISERROR(H32*7.48),\"\",H32*7.48)","v":34258.400000000001},"            (gal)",null,{"$f":"IF(ISERROR(K32*7.48),\"\",K32*7.48)","v":4942.5538461538372}]
["                                       (1000 gal)",null,null,{"$f":"IF(ISERROR(D34/1000),\"\",D34/1000)","v":29.315846153846163},"                          (1000 gal)",null,null,{"$f":"IF(ISERROR(H34/1000),\"\",H34/1000)","v":34.258400000000002},"            (1000 gal)",null,{"$f":"IF(ISERROR(K34/1000),\"\",K34/1000)","v":4.942553846153837}]
["Developed by Karl VanDevender (kvan@uaex.edu) using input from NRCS AWFHB and Cargill Pork. 8/2009"]

{"sheet":"Liquid Manure Production","index":2,"n_rows":20,"n_cols":11,"rows_kept":20,"cut":false,"hidden":false,"merged":[[0,0,0,11],[1,1,1,8],[1,10,1,11],[2,1,3,11],[4,0,4,11],[8,0,8,2],[18,0,18,2],[19,0,19,2],[9,0,9,2],[10,0,10,2],[11,0,11,2],[15,0,15,2],[16,0,16,2],[17,0,17,2]]}
["Annual Liquid Manure Production Worksheet"]
["Planner:","Ima Planner",null,null,null,null,null,null,null,"Date:","2017-08-10"]
["Plan Description:","This plan is for Mr. Needa Plannow"]
[]
["This worksheet is based on material developed by Stan Rose and Lane Johnson Ark. NRCS engineers to assist with the writing of liquid manure plans."]
[]
["Settling Basin Annual Manure Volume"]
[]
["Design Storage Period (d)",null,null,{"$f":"IF('Settling Basin Check'!C21=0,\"\",'Settling Basin Check'!C21)","v":45}]
["Required Storage Volume (1000 gal)",null,null,{"$f":"'Settling Basin Check'!D35","v":29.315846153846163}]
["Daily Storage Volume (1000 gal/d)",null,null,{"$f":"IF(COUNTIF(D9:D10,\"\")>0,\"\",D10/D9)","v":0.65146324786324805}]
["Annual Storage Volume (1000 gal)",null,null,{"$f":"IF(COUNTIF(D9:D10,\"\")>0,\"\",365*D11)","v":237.78408547008553}]
[]
["Holding Pond Annual Manure Volume"]
[]
["Waste Storage Pond Storage Period (mn)",null,null,6]
["Design Operating Period Volume (gal)",null,null,2000000]
["Daily Storage Volume (gal/d)",null,null,{"$f":"IF(COUNTIF(D16:D17,\"\")>0,\"\",D17/(D16/12*365))","v":10958.904109589041}]
["Annual Operating Volume (gal)",null,null,{"$f":"IF(COUNTIF(D16:D17,\"\")>0,\"\",D18*365)","v":4000000}]
["                                          (1000 gal)",null,null,{"$f":"IF(COUNTIF(D16:D17,\"\")>0,\"\",D19/1000)","v":4000}]

{"sheet":"Poultry Litter Production","index":3,"n_rows":30,"n_cols":9,"rows_kept":30,"cut":false,"hidden":false,"merged":[[4,0,6,7],[0,1,0,4],[0,6,0,7],[1,1,2,7],[10,0,10,2],[11,0,11,2],[22,0,22,2],[14,0,14,2],[12,0,12,2],[13,0,13,2],[16,0,16,2],[17,0,17,2],[18,0,18,2],[19,0,19,2],[20,0,20,2],[21,0,21,2],[23,0,23,2],[24,0,24,2],[26,0,26,2],[27,0,27,2],[28,0,28,2]]}
["Planner:","Jane Doe",null,null,null,"Date:","2017-08-10"]
["Plan Description:","Jon Q. Byrd"]
[]
[]
["The calculations below are based on the formulas used by ANRC in the annual Poultry Feeding Operation Registration process. Any discrepancies should be brought to the attention of Karl VanDevender at kvandevender@uaex.edu. "]
[]
[]
[]
[]
[]
["Litter Production Information"]
["Poultry Type",null,null,"Broiler under 4 lbs","Broiler 4 lbs and over","Pullet","Breeder","Turkey"]
["Total Number of Birds per Flock",null,null,null,80000]
["Target Bird Weight at Market",null,null,null,4,null,null,null,"lb/bird"]
["Flocks per Year",null,null,null,5]
["Number of Days"]
["Est. Farm Litter Production:",null,null,{"$f":"IF(OR(ISBLANK(D13),ISBLANK(D14),ISBLANK(D15)),\"\",(D13/1000*D14*D15*0.225))","v":""},{"$f":"IF(OR(ISBLANK(E13),ISBLANK(E14),ISBLANK(E15)),\"\",(E13/1000*E14*E15*0.25))","v":400},{"$f":"IF(OR(ISBLANK(F13),ISBLANK(F14),ISBLANK(F15),ISBLANK(F16)),\"\",(F13/1000*F16*F14*0.011*F15/2))","v":""},{"$f":"IF(OR(ISBLANK(G13),ISBLANK(G14),ISBLANK(G16)),\"\",(G13/1000*G16*G14*0.015/2))","v":""},{"$f":"IF(OR(ISBLANK(H13),ISBLANK(H14),ISBLANK(H13)),\"\",(H13*H15*H16*H14*0.012/2000))","v":""},"Ton/Year"]
["Historical Litter Production:",null,null,null,null,null,null,null,"Ton/Year"]
["Litter Production Value to Use:",null,null,null,"Estimated"]
["Total Litter Production Used:",null,null,{"$f":"IF(D19=\"Historical\",D18,D17)","v":""},{"$f":"IF(E19=\"Historical\",E18,E17)","v":400},"","","","Ton/Year"]
["Est. % of Total Litter is Cake",null,null,null,25,null,null,null,"% (0 - 100)"]
["Est. Cake",null,null,{"$f":"IF(OR(ISBLANK(D21),ISERROR(D20*D21/100)),\"\",D20*D21/100)","v":""},{"$f":"IF(OR(ISBLANK(E21),ISERROR(E20*E21/100)),\"\",E20*E21/100)","v":100},"","",""]
["Historical Cake Production:",null,null,null,null,null,null,null,"Ton/Year"]
["Cake Production Value to Use:",null,null,null,"Estimated %"]
["Cake Production Used:",null,null,{"$f":"IF(ISERROR(IF(D24=\"Historical\", D23,D20*D21/100)),\"\",IF(D24=\"Historical\", D23,D20*D21/100))","v":""},{"$f":"IF(ISERROR(IF(E24=\"Historical\", E23,E20*E21/100)),\"\",IF(E24=\"Historical\", E23,E20*E21/100))","v":100},"","","","Ton/Year"]
[]
["Numbers to Use In Planning Sheet"]
["Annual Cake Production:",null,null,{"$f":"D25","v":""},{"$f":"E25","v":100},"","","","Ton/Year"]
["Annual Total Clean Out Production:",null,null,{"$f":"IF(ISERROR(D20-D25),\"\",D20-D25)","v":""},{"$f":"IF(ISERROR(E20-E25),\"\",E20-E25)","v":300},"","","","Ton/Year"]
["Annual Combined Litter Production:",null,null,{"$f":"IF(ISERROR(D28+D29),\"\",D28+D29)","v":""},{"$f":"IF(ISERROR(E28+E29),\"\",E28+E29)","v":400},"","","","Ton/Year"]

{"sheet":"Planning","index":4,"n_rows":430,"n_cols":14,"rows_kept":430,"cut":false,"hidden":false,"merged":[[115,9,115,10],[116,9,116,10],[117,9,117,10],[119,9,119,10],[120,9,120,10],[121,9,121,10],[122,9,122,10],[104,9,104,10],[105,9,105,10],[106,9,106,10],[107,9,107,10],[109,9,109,10],[110,9,110,10],[111,9,111,10],[112,9,112,10],[114,9,114,10],[264,11,264,13],[131,7,131,8],[139,7,139,8],[187,1,187,4],[197,1,197,4],[132,7,132,8],[147,9,147,10],[148,9,148,10],[149,9,149,10],[150,9,150,10],[151,9,151,10],[184,5,184,6],[151,5,151,6],[151,7,151,8],[176,5,176,6],[177,5,177,6],[203,1,203,4],[135,5,135,6],[136,5,136,6],[137,5,137,6],[144,5,144,6],[147,5,147,6],[205,5,205,6],[141,7,141,8],[184,1,184,4],[185,1,185,4],[186,1,186,4],[133,5,133,6],[140,5,140,6],[141,5,141,6],[142,5,142,6],[143,5,143,6],[134,5,134,6],[166,1,166,4],[167,1,167,4],[169,5,169,6],[170,5,170,6],[159,5,159,6],[160,5,160,6],[161,5,161,6],[162,5,162,6],[183,1,183,4],[175,5,175,6],[168,1,168,4],[169,1,169,4],[170,1,170,4],[171,1,171,4],[172,1,172,4],[198,1,198,4],[188,5,188,6],[189,5,189,6],[190,5,190,6],[191,5,191,6],[192,5,192,6],[193,5,193,6],[194,5,194,6],[188,1,188,4],[189,1,189,4],[197,5,197,6],[198,5,198,6],[190,1,190,4],[27,0,27,3],[148,7,148,8],[149,7,149,8],[133,7,133,8],[134,7,134,8],[135,7,135,8],[136,7,136,8],[137,7,137,8],[140,7,140,8],[50,1,50,2],[111,5,111,6],[112,5,112,6],[113,5,113,6],[105,7,105,8],[106,7,106,8],[107,7,107,8],[108,7,108,8],[109,7,109,8],[105,5,105,6],[106,5,106,6],[107,5,107,6],[108,5,108,6],[109,5,109,6],[110,5,110,6],[39,10,39,11],[38,10,38,12],[203,5,203,6],[131,5,131,6],[152,5,152,6],[158,5,158,6],[157,5,157,6],[29,5,30,5],[19,11,19,12],[153,9,153,10],[141,9,141,10],[142,9,142,10],[143,9,143,10],[133,9,133,10],[132,9,132,10],[138,9,138,10],[139,9,139,10],[113,9,113,10],[50,12,51,12],[168,5,168,6],[165,5,165,6],[166,5,166,6],[167,5,167,6],[134,9,134,10],[264,0,265,0],[207,1,207,4],[264,5,264,7],[201,1,201,4],[19,7,19,8],[28,5,28,6],[195,5,195,6],[196,5,196,6],[185,5,185,6],[205,1,205,4],[206,1,206,4],[204,1,204,4],[38,1,38,3],[38,4,38,6],[132,5,132,6],[200,1,200,4],[200,5,200,6],[157,1,157,4],[153,7,153,8],[153,5,153,6],[152,7,152,8],[23,1,23,2],[264,8,264,10],[118,9,118,10],[497,0,497,1],[130,5,130,6],[37,0,37,3],[29,6,30,6],[39,4,39,5],[104,5,104,6],[199,5,199,6],[28,0,30,0],[29,3,30,3],[29,4,30,4],[128,5,128,6],[50,3,51,3],[29,2,30,2],[39,1,39,2],[186,5,186,6],[187,5,187,6],[264,1,265,1],[317,0,317,1],[263,0,263,1],[204,5,204,6],[264,2,264,4],[318,2,318,4],[374,1,374,5],[372,0,372,2],[202,1,202,4],[50,4,50,7],[202,5,202,6],[129,5,129,6],[158,1,158,4],[199,1,199,4],[201,5,201,6],[139,5,139,6],[144,7,144,8],[147,7,147,8],[176,1,176,4],[159,1,159,4],[160,1,160,4],[161,1,161,4],[162,1,162,4],[171,5,171,6],[172,5,172,6],[173,5,173,6],[174,5,174,6],[163,1,163,4],[164,1,164,4],[165,1,165,4],[138,5,138,6],[138,7,138,8],[2,10,2,11],[3,1,4,11],[2,1,2,8],[20,1,20,2],[21,1,21,2],[18,0,18,3],[13,0,13,1],[13,2,13,3],[12,0,12,3],[15,2,15,3],[16,2,16,3],[19,9,19,10],[0,1,0,11],[104,7,104,8],[128,7,128,8],[103,7,103,8],[16,0,16,1],[14,0,14,1],[15,0,15,1],[28,1,28,2],[22,1,22,2],[19,1,19,2],[6,0,10,13],[14,2,14,3],[19,5,19,6],[19,3,19,4],[28,3,28,4],[24,1,24,2],[122,7,122,8],[123,7,123,8],[114,5,114,6],[115,5,115,6],[116,5,116,6],[117,5,117,6],[118,5,118,6],[1,0,1,11],[318,5,318,7],[206,5,206,6],[207,5,207,6],[38,7,38,9],[130,9,130,10],[129,7,129,8],[49,0,49,2],[130,7,130,8],[39,7,39,8],[50,8,50,11],[103,5,103,6],[103,9,103,10],[38,0,39,0],[318,8,318,10],[318,0,319,0],[318,1,319,1],[318,11,318,13],[115,7,115,8],[116,7,116,8],[117,7,117,8],[118,7,118,8],[119,7,119,8],[120,7,120,8],[121,7,121,8],[374,0,376,0],[29,1,30,1],[262,0,262,2],[128,9,128,10],[131,9,131,10],[119,5,119,6],[120,5,120,6],[121,5,121,6],[122,5,122,6],[126,5,126,6],[127,5,127,6],[191,1,191,4],[192,1,192,4],[193,1,193,4],[194,1,194,4],[195,1,195,4],[196,1,196,4],[124,7,124,8],[110,7,110,8],[111,7,111,8],[112,7,112,8],[113,7,113,8],[114,7,114,8],[108,9,108,10],[135,9,135,10],[136,9,136,10],[137,9,137,10],[144,9,144,10],[145,7,145,8],[125,9,125,10],[126,9,126,10],[127,9,127,10],[145,9,145,10],[146,9,146,10],[150,7,150,8],[123,9,123,10],[124,9,124,10],[125,7,125,8],[126,7,126,8],[127,7,127,8],[146,7,146,8],[164,5,164,6],[145,5,145,6],[146,5,146,6],[148,5,148,6],[149,5,149,6],[150,5,150,6],[129,9,129,10],[157,9,157,10],[152,9,152,10],[142,7,142,8],[143,7,143,8],[163,5,163,6],[123,5,123,6],[124,5,124,6],[125,5,125,6],[140,9,140,10],[173,1,173,4],[174,1,174,4],[175,1,175,4],[181,5,181,6],[182,5,182,6],[183,5,183,6],[177,1,177,4],[178,1,178,4],[179,1,179,4],[180,1,180,4],[181,1,181,4],[182,1,182,4],[178,5,178,6],[179,5,179,6],[180,5,180,6]]}
["Comments:",{"$f":"Comments","v":" "}]
["Arkansas Nutrient Management Planner with 2010 PI and September 2019 Soils Information  (ver02/09/2020)"]
["Planner:","Jane Doe",null,null,null,null,null,null,null,"Date:","2017-09-01"]
["Plan Description:","Jon Q. Byrd"]
[]
[]
["This worksheet is intended to assist in the writing of Nutrient Management Plans for the application of manure to pasture and hay land. To do this, the worksheet estimates the available nutrients for land application, estimates the P Index risk value for the defined conditions of each field, assists with the allocation of nutrients to the various receiving fields, and estimates litter and nutrient surpluses and deficits for the farm. This worksheet is the result of an effort to develop a reliable training/planning tool faithful to the 2010 Arkansas P Index. However, no guarantees are made, and any observed problems or suggestions for improvement should be directed to Karl VanDevender at kvandevender@uaex.edu. This version contains the September 2019 NRCS soils update."]
[]
[]
[]
[]
[]
["County Information"]
["Farm county",null,"Washington"]
["R",null,{"$f":"IF(ISBLANK(C14),\"\",Data!AG69)","v":311}]
["10-Yr EI",null,{"$f":"IF(ISBLANK(C14),\"\",Data!AG70)","v":120}]
["Kf adjusted for frost?",null,{"$f":"IF(LEN(TRIM(C14))=0,\"\",IF(Data!AG71=1,\"Yes\",\"No\"))","v":"Yes"}]
[]
["Nutrient Source and Description Information"]
["Manure Source","Source Type",null,"Amount Available",null,"N Concentration",null,"P2O5 Concentration",null,"K2O Concentration",null,"Water Extractable P",null,"Alum Used?"]
["CleanOut","Dry Litter",null,300,{"$f":"IF(ISBLANK(B21),\"\",INDEX(Nutrient_Table,MATCH(B21,Manure_Type,0),5))","v":"ton"},64.099999999999994,{"$f":"IF(ISBLANK(B21),\"\",INDEX(Nutrient_Table,MATCH(B21,Manure_Type,0),6))","v":"lb/ton"},64.8,{"$f":"IF(ISBLANK(B21),\"\",INDEX(Nutrient_Table,MATCH(B21,Manure_Type,0),6))","v":"lb/ton"},62.2,{"$f":"IF(ISBLANK(B21),\"\",INDEX(Nutrient_Table,MATCH(B21,Manure_Type,0),6))","v":"lb/ton"},5.9,{"$f":"IF(ISBLANK(B21),\"\",INDEX(Nutrient_Table,MATCH(B21,Manure_Type,0),6))","v":"lb/ton"},"No"]
["Cake","Dry Litter",null,100,{"$f":"IF(ISBLANK(B22),\"\",INDEX(Nutrient_Table,MATCH(B22,Manure_Type,0),5))","v":"ton"},55.6,{"$f":"IF(ISBLANK(B22),\"\",INDEX(Nutrient_Table,MATCH(B22,Manure_Type,0),6))","v":"lb/ton"},61.6,{"$f":"IF(ISBLANK(B22),\"\",INDEX(Nutrient_Table,MATCH(B22,Manure_Type,0),6))","v":"lb/ton"},59.5,{"$f":"IF(ISBLANK(B22),\"\",INDEX(Nutrient_Table,MATCH(B22,Manure_Type,0),6))","v":"lb/ton"},4.9000000000000004,{"$f":"IF(ISBLANK(B22),\"\",INDEX(Nutrient_Table,MATCH(B22,Manure_Type,0),6))","v":"lb/ton"},"No"]
[null,null,null,null,{"$f":"IF(ISBLANK(B23),\"\",INDEX(Nutrient_Table,MATCH(B23,Manure_Type,0),5))","v":""},null,{"$f":"IF(ISBLANK(B23),\"\",INDEX(Nutrient_Table,MATCH(B23,Manure_Type,0),6))","v":""},null,{"$f":"IF(ISBLANK(B23),\"\",INDEX(Nutrient_Table,MATCH(B23,Manure_Type,0),6))","v":""},null,{"$f":"IF(ISBLANK(B23),\"\",INDEX(Nutrient_Table,MATCH(B23,Manure_Type,0),6))","v":""},null,{"$f":"IF(ISBLANK(B23),\"\",INDEX(Nutrient_Table,MATCH(B23,Manure_Type,0),6))","v":""}]
[null,null,null,null,{"$f":"IF(ISBLANK(B24),\"\",INDEX(Nutrient_Table,MATCH(B24,Manure_Type,0),5))","v":""},null,{"$f":"IF(ISBLANK(B24),\"\",INDEX(Nutrient_Table,MATCH(B24,Manure_Type,0),6))","v":""},null,{"$f":"IF(ISBLANK(B24),\"\",INDEX(Nutrient_Table,MATCH(B24,Manure_Type,0),6))","v":""},null,{"$f":"IF(ISBLANK(B24),\"\",INDEX(Nutrient_Table,MATCH(B24,Manure_Type,0),6))","v":""},null,{"$f":"IF(ISBLANK(B24),\"\",INDEX(Nutrient_Table,MATCH(B24,Manure_Type,0),6))","v":""}]
[null,null,null,null,{"$f":"IF(ISBLANK(B25),\"\",INDEX(Nutrient_Table,MATCH(B25,Manure_Type,0),5))","v":""},null,{"$f":"IF(ISBLANK(B25),\"\",INDEX(Nutrient_Table,MATCH(B25,Manure_Type,0),6))","v":""},null,{"$f":"IF(ISBLANK(B25),\"\",INDEX(Nutrient_Table,MATCH(B25,Manure_Type,0),6))","v":""},null,{"$f":"IF(ISBLANK(B25),\"\",INDEX(Nutrient_Table,MATCH(B25,Manure_Type,0),6))","v":""},null,{"$f":"IF(ISBLANK(B25),\"\",INDEX(Nutrient_Table,MATCH(B25,Manure_Type,0),6))","v":""}]
[]
[]
["Nutrient Loss and Mineralization Factors"]
["Nutrient Source Description","N",null,"P2O5",null,"K2O"]
[null,"Storage Losses (%)","Appl. Losses (%)","Storage Losses (%)","Appl. Losses (%)","Storage Losses (%)","Appl. Losses (%)"]
[]
[{"$f":"IF(ISBLANK(A21),\" \",A21)","v":"CleanOut"},null,0.25]
[{"$f":"IF(ISBLANK(A22),\" \",A22)","v":"Cake"},null,0.25]
[{"$f":"IF(ISBLANK(A23),\" \",A23)","v":" "}]
[{"$f":"IF(ISBLANK(A24),\" \",A24)","v":" "}]
[{"$f":"IF(ISBLANK(A25),\" \",A25)","v":" "}]
[]
["Estimated Plant Available Nutrients"]
["Nutrient Source Description","N",null,null,"P2O5",null,null,"K2O",null,null,"Water Extractable P"]
[null,"Concentration",null,"Total (lb)","Concentration",null,"Total (lb)","Concentration",null,"Total (lb)","Concentration",null,"Total (lb)"]
[{"$f":"IF(ISBLANK(A21),\" \",A21)","v":"CleanOut"},{"$f":"IF(ISBLANK(F21),\"\",F21*(1-B32)*(1-C32))","v":48.074999999999996},{"$f":"IF(ISBLANK(B21),\"\",INDEX(Nutrient_Source_Description,MATCH(A41,Nutrient_Source,0),5))","v":"lb/ton"},{"$f":"IF(OR(ISBLANK(F21),ISBLANK(D21)),\"\",B41*D21)","v":14422.499999999998},{"$f":"IF(ISBLANK(H21),\"\",H21*(1-D32)*(1-E32))","v":64.8},{"$f":"IF(ISBLANK(B21),\"\",INDEX(Nutrient_Source_Description,MATCH(A41,Nutrient_Source,0),5))","v":"lb/ton"},{"$f":"IF(OR(ISBLANK(H21),ISBLANK(D21)),\"\",E41*D21)","v":19440},{"$f":"IF(ISBLANK(J21),\"\",J21*(1-F32)*(1-G32))","v":62.2},{"$f":"IF(ISBLANK(B21),\"\",INDEX(Nutrient_Source_Description,MATCH(A41,Nutrient_Source,0),5))","v":"lb/ton"},{"$f":"IF(OR(ISBLANK(J21),ISBLANK(D21)),\"\",H41*D21)","v":18660},{"$f":"IF(ISBLANK(L21),\"\",L21)","v":5.9},{"$f":"IF(ISBLANK(B21),\"\",INDEX(Nutrient_Source_Description,MATCH(A41,Nutrient_Source,0),5))","v":"lb/ton"},{"$f":"IF(OR(ISBLANK(L21),ISBLANK(D21)),\"\",K41*D21)","v":1770}]
[{"$f":"IF(ISBLANK(A22),\" \",A22)","v":"Cake"},{"$f":"IF(ISBLANK(F22),\"\",F22*(1-B33)*(1-C33))","v":41.7},{"$f":"IF(ISBLANK(B22),\"\",INDEX(Nutrient_Source_Description,MATCH(A42,Nutrient_Source,0),5))","v":"lb/ton"},{"$f":"IF(OR(ISBLANK(F22),ISBLANK(D22)),\"\",B42*D22)","v":4170},{"$f":"IF(ISBLANK(H22),\"\",H22*(1-D33)*(1-E33))","v":61.6},{"$f":"IF(ISBLANK(B22),\"\",INDEX(Nutrient_Source_Description,MATCH(A42,Nutrient_Source,0),5))","v":"lb/ton"},{"$f":"IF(OR(ISBLANK(H22),ISBLANK(D22)),\"\",E42*D22)","v":6160},{"$f":"IF(ISBLANK(J22),\"\",J22*(1-F33)*(1-G33))","v":59.5},{"$f":"IF(ISBLANK(B22),\"\",INDEX(Nutrient_Source_Description,MATCH(A42,Nutrient_Source,0),5))","v":"lb/ton"},{"$f":"IF(OR(ISBLANK(J22),ISBLANK(D22)),\"\",H42*D22)","v":5950},{"$f":"IF(ISBLANK(L22),\"\",L22)","v":4.9000000000000004},{"$f":"IF(ISBLANK(B22),\"\",INDEX(Nutrient_Source_Description,MATCH(A42,Nutrient_Source,0),5))","v":"lb/ton"},{"$f":"IF(OR(ISBLANK(L22),ISBLANK(D22)),\"\",K42*D22)","v":490.00000000000006}]
[{"$f":"IF(ISBLANK(A23),\" \",A23)","v":" "},{"$f":"IF(ISBLANK(F23),\"\",F23*(1-B34)*(1-C34))","v":""},{"$f":"IF(ISBLANK(B23),\"\",INDEX(Nutrient_Source_Description,MATCH(A43,Nutrient_Source,0),5))","v":""},{"$f":"IF(OR(ISBLANK(F23),ISBLANK(D23)),\"\",B43*D23)","v":""},{"$f":"IF(ISBLANK(H23),\"\",H23*(1-D34)*(1-E34))","v":""},{"$f":"IF(ISBLANK(B23),\"\",INDEX(Nutrient_Source_Description,MATCH(A43,Nutrient_Source,0),5))","v":""},{"$f":"IF(OR(ISBLANK(H23),ISBLANK(D23)),\"\",E43*D23)","v":""},{"$f":"IF(ISBLANK(J23),\"\",J23*(1-F34)*(1-G34))","v":""},{"$f":"IF(ISBLANK(B23),\"\",INDEX(Nutrient_Source_Description,MATCH(A43,Nutrient_Source,0),5))","v":""},{"$f":"IF(OR(ISBLANK(J23),ISBLANK(D23)),\"\",H43*D23)","v":""},{"$f":"IF(ISBLANK(L23),\"\",L23)","v":""},{"$f":"IF(ISBLANK(B23),\"\",INDEX(Nutrient_Source_Description,MATCH(A43,Nutrient_Source,0),5))","v":""},{"$f":"IF(OR(ISBLANK(L23),ISBLANK(D23)),\"\",K43*D23)","v":""}]
[{"$f":"IF(ISBLANK(A24),\" \",A24)","v":" "},{"$f":"IF(ISBLANK(F24),\"\",F24*(1-B35)*(1-C35))","v":""},{"$f":"IF(ISBLANK(B24),\"\",INDEX(Nutrient_Source_Description,MATCH(A44,Nutrient_Source,0),5))","v":""},{"$f":"IF(OR(ISBLANK(F24),ISBLANK(D24)),\"\",B44*D24)","v":""},{"$f":"IF(ISBLANK(H24),\"\",H24*(1-D35)*(1-E35))","v":""},{"$f":"IF(ISBLANK(B24),\"\",INDEX(Nutrient_Source_Description,MATCH(A44,Nutrient_Source,0),5))","v":""},{"$f":"IF(OR(ISBLANK(H24),ISBLANK(D24)),\"\",E44*D24)","v":""},{"$f":"IF(ISBLANK(J24),\"\",J24*(1-F35)*(1-G35))","v":""},{"$f":"IF(ISBLANK(B24),\"\",INDEX(Nutrient_Source_Description,MATCH(A44,Nutrient_Source,0),5))","v":""},{"$f":"IF(OR(ISBLANK(J24),ISBLANK(D24)),\"\",H44*D24)","v":""},{"$f":"IF(ISBLANK(L24),\"\",L24)","v":""},{"$f":"IF(ISBLANK(B24),\"\",INDEX(Nutrient_Source_Description,MATCH(A44,Nutrient_Source,0),5))","v":""},{"$f":"IF(OR(ISBLANK(L24),ISBLANK(D24)),\"\",K44*D24)","v":""}]
[{"$f":"IF(ISBLANK(A25),\" \",A25)","v":" "},{"$f":"IF(ISBLANK(F25),\"\",F25*(1-B36)*(1-C36))","v":""},{"$f":"IF(ISBLANK(B25),\"\",INDEX(Nutrient_Source_Description,MATCH(A45,Nutrient_Source,0),5))","v":""},{"$f":"IF(OR(ISBLANK(F25),ISBLANK(D25)),\"\",B45*D25)","v":""},{"$f":"IF(ISBLANK(H25),\"\",H25*(1-D36)*(1-E36))","v":""},{"$f":"IF(ISBLANK(B25),\"\",INDEX(Nutrient_Source_Description,MATCH(A45,Nutrient_Source,0),5))","v":""},{"$f":"IF(OR(ISBLANK(H25),ISBLANK(D25)),\"\",E45*D25)","v":""},{"$f":"IF(ISBLANK(J25),\"\",J25*(1-F36)*(1-G36))","v":""},{"$f":"IF(ISBLANK(B25),\"\",INDEX(Nutrient_Source_Description,MATCH(A45,Nutrient_Source,0),5))","v":""},{"$f":"IF(OR(ISBLANK(J25),ISBLANK(D25)),\"\",H45*D25)","v":""},{"$f":"IF(ISBLANK(L25),\"\",L25)","v":""},{"$f":"IF(ISBLANK(B25),\"\",INDEX(Nutrient_Source_Description,MATCH(A45,Nutrient_Source,0),5))","v":""},{"$f":"IF(OR(ISBLANK(L25),ISBLANK(D25)),\"\",K45*D25)","v":""}]
["Totals",null,null,{"$f":"IF(SUM(D41:D45)=0,\"\",SUM(D41:D45))","v":18592.5},null,null,{"$f":"IF(SUM(G41:G45)=0,\"\",SUM(G41:G45))","v":25600},null,null,{"$f":"IF(SUM(J41:J45)=0,\"\",SUM(J41:J45))","v":24610},null,null,{"$f":"IF(SUM(M41:M45)=0,\"\",SUM(M41:M45))","v":2260}]
[]
[]
[]
["Field P Index Calculations"]
["Fields Shown","Soil Test P",null,"Soil Map Unit","Slope Gradient (%)",null,null,null,"Slope Length (ft)",null,null,null,"Flooding Frequency"]
[2,"ppm","lb/ac",null,"Min","Max","Rep","Used","Min","Max","Rep","Used"]
["Rotation",137,{"$f":"IF(ISBLANK(B53),\"\",B53*1.33)","v":182.21},"NaC",{"$f":"IF(ISBLANK(D53),\"\",VLOOKUP(D53,INDIRECT(ADDRESS(Data!$AG$67,Data!$AG$65,1,1,\"Data\")):INDIRECT(ADDRESS(Data!$AG$68,Data!$AG$66,1,1,\"Data\")),Data!$AG$75,0))","v":3},{"$f":"IF(ISBLANK(D53),\"\",VLOOKUP(D53,INDIRECT(ADDRESS(Data!$AG$67,Data!$AG$65,1,1,\"Data\")):INDIRECT(ADDRESS(Data!$AG$68,Data!$AG$66,1,1,\"Data\")),Data!$AG$77,0))","v":8},{"$f":"IF(ISBLANK(D53),\"\",VLOOKUP(D53,INDIRECT(ADDRESS(Data!$AG$67,Data!$AG$65,1,1,\"Data\")):INDIRECT(ADDRESS(Data!$AG$68,Data!$AG$66,1,1,\"Data\")),Data!$AG$76,0))","v":5},5,{"$f":"IF(ISBLANK(D53),\"\",VLOOKUP(D53,INDIRECT(ADDRESS(Data!$AG$67,Data!$AG$65,1,1,\"Data\")):INDIRECT(ADDRESS(Data!$AG$68,Data!$AG$66,1,1,\"Data\")),Data!$AG$78,0))","v":39},{"$f":"IF(ISBLANK(D53),\"\",VLOOKUP(D53,INDIRECT(ADDRESS(Data!$AG$67,Data!$AG$65,1,1,\"Data\")):INDIRECT(ADDRESS(Data!$AG$68,Data!$AG$66,1,1,\"Data\")),Data!$AG$80,0))","v":60},{"$f":"IF(ISBLANK(D53),\"\",VLOOKUP(D53,INDIRECT(ADDRESS(Data!$AG$67,Data!$AG$65,1,1,\"Data\")):INDIRECT(ADDRESS(Data!$AG$68,Data!$AG$66,1,1,\"Data\")),Data!$AG$79,0))","v":48},48,{"$f":"IF(ISBLANK(D53),\"\",VLOOKUP(D53,INDIRECT(ADDRESS(Data!$AG$67,Data!$AG$65,1,1,\"Data\")):INDIRECT(ADDRESS(Data!$AG$68,Data!$AG$66,1,1,\"Data\")),Data!$AG$83,0))","v":"None"}]
["Continuous",46,{"$f":"IF(ISBLANK(B54),\"\",B54*1.33)","v":61.180000000000007},"ClG",{"$f":"IF(ISBLANK(D54),\"\",VLOOKUP(D54,INDIRECT(ADDRESS(Data!$AG$67,Data!$AG$65,1,1,\"Data\")):INDIRECT(ADDRESS(Data!$AG$68,Data!$AG$66,1,1,\"Data\")),Data!$AG$75,0))","v":12},{"$f":"IF(ISBLANK(D54),\"\",VLOOKUP(D54,INDIRECT(ADDRESS(Data!$AG$67,Data!$AG$65,1,1,\"Data\")):INDIRECT(ADDRESS(Data!$AG$68,Data!$AG$66,1,1,\"Data\")),Data!$AG$77,0))","v":60},{"$f":"IF(ISBLANK(D54),\"\",VLOOKUP(D54,INDIRECT(ADDRESS(Data!$AG$67,Data!$AG$65,1,1,\"Data\")):INDIRECT(ADDRESS(Data!$AG$68,Data!$AG$66,1,1,\"Data\")),Data!$AG$76,0))","v":36},14,{"$f":"IF(ISBLANK(D54),\"\",VLOOKUP(D54,INDIRECT(ADDRESS(Data!$AG$67,Data!$AG$65,1,1,\"Data\")):INDIRECT(ADDRESS(Data!$AG$68,Data!$AG$66,1,1,\"Data\")),Data!$AG$78,0))","v":5},{"$f":"IF(ISBLANK(D54),\"\",VLOOKUP(D54,INDIRECT(ADDRESS(Data!$AG$67,Data!$AG$65,1,1,\"Data\")):INDIRECT(ADDRESS(Data!$AG$68,Data!$AG$66,1,1,\"Data\")),Data!$AG$80,0))","v":30},{"$f":"IF(ISBLANK(D54),\"\",VLOOKUP(D54,INDIRECT(ADDRESS(Data!$AG$67,Data!$AG$65,1,1,\"Data\")):INDIRECT(ADDRESS(Data!$AG$68,Data!$AG$66,1,1,\"Data\")),Data!$AG$79,0))","v":15},15,{"$f":"IF(ISBLANK(D54),\"\",VLOOKUP(D54,INDIRECT(ADDRESS(Data!$AG$67,Data!$AG$65,1,1,\"Data\")):INDIRECT(ADDRESS(Data!$AG$68,Data!$AG$66,1,1,\"Data\")),Data!$AG$83,0))","v":"None"}]
[null,null,"",null,{"$f":"IF(ISBLANK(D55),\"\",VLOOKUP(D55,INDIRECT(ADDRESS(Data!$AG$67,Data!$AG$65,1,1,\"Data\")):INDIRECT(ADDRESS(Data!$AG$68,Data!$AG$66,1,1,\"Data\")),Data!$AG$75,0))","v":""},{"$f":"IF(ISBLANK(D55),\"\",VLOOKUP(D55,INDIRECT(ADDRESS(Data!$AG$67,Data!$AG$65,1,1,\"Data\")):INDIRECT(ADDRESS(Data!$AG$68,Data!$AG$66,1,1,\"Data\")),Data!$AG$77,0))","v":""},{"$f":"IF(ISBLANK(D55),\"\",VLOOKUP(D55,INDIRECT(ADDRESS(Data!$AG$67,Data!$AG$65,1,1,\"Data\")):INDIRECT(ADDRESS(Data!$AG$68,Data!$AG$66,1,1,\"Data\")),Data!$AG$76,0))","v":""},null,{"$f":"IF(ISBLANK(D55),\"\",VLOOKUP(D55,INDIRECT(ADDRESS(Data!$AG$67,Data!$AG$65,1,1,\"Data\")):INDIRECT(ADDRESS(Data!$AG$68,Data!$AG$66,1,1,\"Data\")),Data!$AG$78,0))","v":""},{"$f":"IF(ISBLANK(D55),\"\",VLOOKUP(D55,INDIRECT(ADDRESS(Data!$AG$67,Data!$AG$65,1,1,\"Data\")):INDIRECT(ADDRESS(Data!$AG$68,Data!$AG$66,1,1,\"Data\")),Data!$AG$80,0))","v":""},{"$f":"IF(ISBLANK(D55),\"\",VLOOKUP(D55,INDIRECT(ADDRESS(Data!$AG$67,Data!$AG$65,1,1,\"Data\")):INDIRECT(ADDRESS(Data!$AG$68,Data!$AG$66,1,1,\"Data\")),Data!$AG$79,0))","v":""},null,{"$f":"IF(ISBLANK(D55),\"\",VLOOKUP(D55,INDIRECT(ADDRESS(Data!$AG$67,Data!$AG$65,1,1,\"Data\")):INDIRECT(ADDRESS(Data!$AG$68,Data!$AG$66,1,1,\"Data\")),Data!$AG$83,0))","v":""}]
[null,null,"",null,{"$f":"IF(ISBLANK(D56),\"\",VLOOKUP(D56,INDIRECT(ADDRESS(Data!$AG$67,Data!$AG$65,1,1,\"Data\")):INDIRECT(ADDRESS(Data!$AG$68,Data!$AG$66,1,1,\"Data\")),Data!$AG$75,0))","v":""},{"$f":"IF(ISBLANK(D56),\"\",VLOOKUP(D56,INDIRECT(ADDRESS(Data!$AG$67,Data!$AG$65,1,1,\"Data\")):INDIRECT(ADDRESS(Data!$AG$68,Data!$AG$66,1,1,\"Data\")),Data!$AG$77,0))","v":""},{"$f":"IF(ISBLANK(D56),\"\",VLOOKUP(D56,INDIRECT(ADDRESS(Data!$AG$67,Data!$AG$65,1,1,\"Data\")):INDIRECT(ADDRESS(Data!$AG$68,Data!$AG$66,1,1,\"Data\")),Data!$AG$76,0))","v":""},null,{"$f":"IF(ISBLANK(D56),\"\",VLOOKUP(D56,INDIRECT(ADDRESS(Data!$AG$67,Data!$AG$65,1,1,\"Data\")):INDIRECT(ADDRESS(Data!$AG$68,Data!$AG$66,1,1,\"Data\")),Data!$AG$78,0))","v":""},{"$f":"IF(ISBLANK(D56),\"\",VLOOKUP(D56,INDIRECT(ADDRESS(Data!$AG$67,Data!$AG$65,1,1,\"Data\")):INDIRECT(ADDRESS(Data!$AG$68,Data!$AG$66,1,1,\"Data\")),Data!$AG$80,0))","v":""},{"$f":"IF(ISBLANK(D56),\"\",VLOOKUP(D56,INDIRECT(ADDRESS(Data!$AG$67,Data!$AG$65,1,1,\"Data\")):INDIRECT(ADDRESS(Data!$AG$68,Data!$AG$66,1,1,\"Data\")),Data!$AG$79,0))","v":""},null,{"$f":"IF(ISBLANK(D56),\"\",VLOOKUP(D56,INDIRECT(ADDRESS(Data!$AG$67,Data!$AG$65,1,1,\"Data\")):INDIRECT(ADDRESS(Data!$AG$68,Data!$AG$66,1,1,\"Data\")),Data!$AG$83,0))","v":""}]
[null,null,"",null,{"$f":"IF(ISBLANK(D57),\"\",VLOOKUP(D57,INDIRECT(ADDRESS(Data!$AG$67,Data!$AG$65,1,1,\"Data\")):INDIRECT(ADDRESS(Data!$AG$68,Data!$AG$66,1,1,\"Data\")),Data!$AG$75,0))","v":""},{"$f":"IF(ISBLANK(D57),\"\",VLOOKUP(D57,INDIRECT(ADDRESS(Data!$AG$67,Data!$AG$65,1,1,\"Data\")):INDIRECT(ADDRESS(Data!$AG$68,Data!$AG$66,1,1,\"Data\")),Data!$AG$77,0))","v":""},{"$f":"IF(ISBLANK(D57),\"\",VLOOKUP(D57,INDIRECT(ADDRESS(Data!$AG$67,Data!$AG$65,1,1,\"Data\")):INDIRECT(ADDRESS(Data!$AG$68,Data!$AG$66,1,1,\"Data\")),Data!$AG$76,0))","v":""},null,{"$f":"IF(ISBLANK(D57),\"\",VLOOKUP(D57,INDIRECT(ADDRESS(Data!$AG$67,Data!$AG$65,1,1,\"Data\")):INDIRECT(ADDRESS(Data!$AG$68,Data!$AG$66,1,1,\"Data\")),Data!$AG$78,0))","v":""},{"$f":"IF(ISBLANK(D57),\"\",VLOOKUP(D57,INDIRECT(ADDRESS(Data!$AG$67,Data!$AG$65,1,1,\"Data\")):INDIRECT(ADDRESS(Data!$AG$68,Data!$AG$66,1,1,\"Data\")),Data!$AG$80,0))","v":""},{"$f":"IF(ISBLANK(D57),\"\",VLOOKUP(D57,INDIRECT(ADDRESS(Data!$AG$67,Data!$AG$65,1,1,\"Data\")):INDIRECT(ADDRESS(Data!$AG$68,Data!$AG$66,1,1,\"Data\")),Data!$AG$79,0))","v":""},null,{"$f":"IF(ISBLANK(D57),\"\",VLOOKUP(D57,INDIRECT(ADDRESS(Data!$AG$67,Data!$AG$65,1,1,\"Data\")):INDIRECT(ADDRESS(Data!$AG$68,Data!$AG$66,1,1,\"Data\")),Data!$AG$83,0))","v":""}]
[null,null,"",null,{"$f":"IF(ISBLANK(D58),\"\",VLOOKUP(D58,INDIRECT(ADDRESS(Data!$AG$67,Data!$AG$65,1,1,\"Data\")):INDIRECT(ADDRESS(Data!$AG$68,Data!$AG$66,1,1,\"Data\")),Data!$AG$75,0))","v":""},{"$f":"IF(ISBLANK(D58),\"\",VLOOKUP(D58,INDIRECT(ADDRESS(Data!$AG$67,Data!$AG$65,1,1,\"Data\")):INDIRECT(ADDRESS(Data!$AG$68,Data!$AG$66,1,1,\"Data\")),Data!$AG$77,0))","v":""},{"$f":"IF(ISBLANK(D58),\"\",VLOOKUP(D58,INDIRECT(ADDRESS(Data!$AG$67,Data!$AG$65,1,1,\"Data\")):INDIRECT(ADDRESS(Data!$AG$68,Data!$AG$66,1,1,\"Data\")),Data!$AG$76,0))","v":""},null,{"$f":"IF(ISBLANK(D58),\"\",VLOOKUP(D58,INDIRECT(ADDRESS(Data!$AG$67,Data!$AG$65,1,1,\"Data\")):INDIRECT(ADDRESS(Data!$AG$68,Data!$AG$66,1,1,\"Data\")),Data!$AG$78,0))","v":""},{"$f":"IF(ISBLANK(D58),\"\",VLOOKUP(D58,INDIRECT(ADDRESS(Data!$AG$67,Data!$AG$65,1,1,\"Data\")):INDIRECT(ADDRESS(Data!$AG$68,Data!$AG$66,1,1,\"Data\")),Data!$AG$80,0))","v":""},{"$f":"IF(ISBLANK(D58),\"\",VLOOKUP(D58,INDIRECT(ADDRESS(Data!$AG$67,Data!$AG$65,1,1,\"Data\")):INDIRECT(ADDRESS(Data!$AG$68,Data!$AG$66,1,1,\"Data\")),Data!$AG$79,0))","v":""},null,{"$f":"IF(ISBLANK(D58),\"\",VLOOKUP(D58,INDIRECT(ADDRESS(Data!$AG$67,Data!$AG$65,1,1,\"Data\")):INDIRECT(ADDRESS(Data!$AG$68,Data!$AG$66,1,1,\"Data\")),Data!$AG$83,0))","v":""}]
[null,null,"",null,{"$f":"IF(ISBLANK(D59),\"\",VLOOKUP(D59,INDIRECT(ADDRESS(Data!$AG$67,Data!$AG$65,1,1,\"Data\")):INDIRECT(ADDRESS(Data!$AG$68,Data!$AG$66,1,1,\"Data\")),Data!$AG$75,0))","v":""},{"$f":"IF(ISBLANK(D59),\"\",VLOOKUP(D59,INDIRECT(ADDRESS(Data!$AG$67,Data!$AG$65,1,1,\"Data\")):INDIRECT(ADDRESS(Data!$AG$68,Data!$AG$66,1,1,\"Data\")),Data!$AG$77,0))","v":""},{"$f":"IF(ISBLANK(D59),\"\",VLOOKUP(D59,INDIRECT(ADDRESS(Data!$AG$67,Data!$AG$65,1,1,\"Data\")):INDIRECT(ADDRESS(Data!$AG$68,Data!$AG$66,1,1,\"Data\")),Data!$AG$76,0))","v":""},null,{"$f":"IF(ISBLANK(D59),\"\",VLOOKUP(D59,INDIRECT(ADDRESS(Data!$AG$67,Data!$AG$65,1,1,\"Data\")):INDIRECT(ADDRESS(Data!$AG$68,Data!$AG$66,1,1,\"Data\")),Data!$AG$78,0))","v":""},{"$f":"IF(ISBLANK(D59),\"\",VLOOKUP(D59,INDIRECT(ADDRESS(Data!$AG$67,Data!$AG$65,1,1,\"Data\")):INDIRECT(ADDRESS(Data!$AG$68,Data!$AG$66,1,1,\"Data\")),Data!$AG$80,0))","v":""},{"$f":"IF(ISBLANK(D59),\"\",VLOOKUP(D59,INDIRECT(ADDRESS(Data!$AG$67,Data!$AG$65,1,1,\"Data\")):INDIRECT(ADDRESS(Data!$AG$68,Data!$AG$66,1,1,\"Data\")),Data!$AG$79,0))","v":""},null,{"$f":"IF(ISBLANK(D59),\"\",VLOOKUP(D59,INDIRECT(ADDRESS(Data!$AG$67,Data!$AG$65,1,1,\"Data\")):INDIRECT(ADDRESS(Data!$AG$68,Data!$AG$66,1,1,\"Data\")),Data!$AG$83,0))","v":""}]
[null,null,"",null,{"$f":"IF(ISBLANK(D60),\"\",VLOOKUP(D60,INDIRECT(ADDRESS(Data!$AG$67,Data!$AG$65,1,1,\"Data\")):INDIRECT(ADDRESS(Data!$AG$68,Data!$AG$66,1,1,\"Data\")),Data!$AG$75,0))","v":""},{"$f":"IF(ISBLANK(D60),\"\",VLOOKUP(D60,INDIRECT(ADDRESS(Data!$AG$67,Data!$AG$65,1,1,\"Data\")):INDIRECT(ADDRESS(Data!$AG$68,Data!$AG$66,1,1,\"Data\")),Data!$AG$77,0))","v":""},{"$f":"IF(ISBLANK(D60),\"\",VLOOKUP(D60,INDIRECT(ADDRESS(Data!$AG$67,Data!$AG$65,1,1,\"Data\")):INDIRECT(ADDRESS(Data!$AG$68,Data!$AG$66,1,1,\"Data\")),Data!$AG$76,0))","v":""},null,{"$f":"IF(ISBLANK(D60),\"\",VLOOKUP(D60,INDIRECT(ADDRESS(Data!$AG$67,Data!$AG$65,1,1,\"Data\")):INDIRECT(ADDRESS(Data!$AG$68,Data!$AG$66,1,1,\"Data\")),Data!$AG$78,0))","v":""},{"$f":"IF(ISBLANK(D60),\"\",VLOOKUP(D60,INDIRECT(ADDRESS(Data!$AG$67,Data!$AG$65,1,1,\"Data\")):INDIRECT(ADDRESS(Data!$AG$68,Data!$AG$66,1,1,\"Data\")),Data!$AG$80,0))","v":""},{"$f":"IF(ISBLANK(D60),\"\",VLOOKUP(D60,INDIRECT(ADDRESS(Data!$AG$67,Data!$AG$65,1,1,\"Data\")):INDIRECT(ADDRESS(Data!$AG$68,Data!$AG$66,1,1,\"Data\")),Data!$AG$79,0))","v":""},null,{"$f":"IF(ISBLANK(D60),\"\",VLOOKUP(D60,INDIRECT(ADDRESS(Data!$AG$67,Data!$AG$65,1,1,\"Data\")):INDIRECT(ADDRESS(Data!$AG$68,Data!$AG$66,1,1,\"Data\")),Data!$AG$83,0))","v":""}]
[null,null,"",null,{"$f":"IF(ISBLANK(D61),\"\",VLOOKUP(D61,INDIRECT(ADDRESS(Data!$AG$67,Data!$AG$65,1,1,\"Data\")):INDIRECT(ADDRESS(Data!$AG$68,Data!$AG$66,1,1,\"Data\")),Data!$AG$75,0))","v":""},{"$f":"IF(ISBLANK(D61),\"\",VLOOKUP(D61,INDIRECT(ADDRESS(Data!$AG$67,Data!$AG$65,1,1,\"Data\")):INDIRECT(ADDRESS(Data!$AG$68,Data!$AG$66,1,1,\"Data\")),Data!$AG$77,0))","v":""},{"$f":"IF(ISBLANK(D61),\"\",VLOOKUP(D61,INDIRECT(ADDRESS(Data!$AG$67,Data!$AG$65,1,1,\"Data\")):INDIRECT(ADDRESS(Data!$AG$68,Data!$AG$66,1,1,\"Data\")),Data!$AG$76,0))","v":""},null,{"$f":"IF(ISBLANK(D61),\"\",VLOOKUP(D61,INDIRECT(ADDRESS(Data!$AG$67,Data!$AG$65,1,1,\"Data\")):INDIRECT(ADDRESS(Data!$AG$68,Data!$AG$66,1,1,\"Data\")),Data!$AG$78,0))","v":""},{"$f":"IF(ISBLANK(D61),\"\",VLOOKUP(D61,INDIRECT(ADDRESS(Data!$AG$67,Data!$AG$65,1,1,\"Data\")):INDIRECT(ADDRESS(Data!$AG$68,Data!$AG$66,1,1,\"Data\")),Data!$AG$80,0))","v":""},{"$f":"IF(ISBLANK(D61),\"\",VLOOKUP(D61,INDIRECT(ADDRESS(Data!$AG$67,Data!$AG$65,1,1,\"Data\")):INDIRECT(ADDRESS(Data!$AG$68,Data!$AG$66,1,1,\"Data\")),Data!$AG$79,0))","v":""},null,{"$f":"IF(ISBLANK(D61),\"\",VLOOKUP(D61,INDIRECT(ADDRESS(Data!$AG$67,Data!$AG$65,1,1,\"Data\")):INDIRECT(ADDRESS(Data!$AG$68,Data!$AG$66,1,1,\"Data\")),Data!$AG$83,0))","v":""}]
[null,null,"",null,{"$f":"IF(ISBLANK(D62),\"\",VLOOKUP(D62,INDIRECT(ADDRESS(Data!$AG$67,Data!$AG$65,1,1,\"Data\")):INDIRECT(ADDRESS(Data!$AG$68,Data!$AG$66,1,1,\"Data\")),Data!$AG$75,0))","v":""},{"$f":"IF(ISBLANK(D62),\"\",VLOOKUP(D62,INDIRECT(ADDRESS(Data!$AG$67,Data!$AG$65,1,1,\"Data\")):INDIRECT(ADDRESS(Data!$AG$68,Data!$AG$66,1,1,\"Data\")),Data!$AG$77,0))","v":""},{"$f":"IF(ISBLANK(D62),\"\",VLOOKUP(D62,INDIRECT(ADDRESS(Data!$AG$67,Data!$AG$65,1,1,\"Data\")):INDIRECT(ADDRESS(Data!$AG$68,Data!$AG$66,1,1,\"Data\")),Data!$AG$76,0))","v":""},null,{"$f":"IF(ISBLANK(D62),\"\",VLOOKUP(D62,INDIRECT(ADDRESS(Data!$AG$67,Data!$AG$65,1,1,\"Data\")):INDIRECT(ADDRESS(Data!$AG$68,Data!$AG$66,1,1,\"Data\")),Data!$AG$78,0))","v":""},{"$f":"IF(ISBLANK(D62),\"\",VLOOKUP(D62,INDIRECT(ADDRESS(Data!$AG$67,Data!$AG$65,1,1,\"Data\")):INDIRECT(ADDRESS(Data!$AG$68,Data!$AG$66,1,1,\"Data\")),Data!$AG$80,0))","v":""},{"$f":"IF(ISBLANK(D62),\"\",VLOOKUP(D62,INDIRECT(ADDRESS(Data!$AG$67,Data!$AG$65,1,1,\"Data\")):INDIRECT(ADDRESS(Data!$AG$68,Data!$AG$66,1,1,\"Data\")),Data!$AG$79,0))","v":""},null,{"$f":"IF(ISBLANK(D62),\"\",VLOOKUP(D62,INDIRECT(ADDRESS(Data!$AG$67,Data!$AG$65,1,1,\"Data\")):INDIRECT(ADDRESS(Data!$AG$68,Data!$AG$66,1,1,\"Data\")),Data!$AG$83,0))","v":""}]
[null,null,"",null,{"$f":"IF(ISBLANK(D63),\"\",VLOOKUP(D63,INDIRECT(ADDRESS(Data!$AG$67,Data!$AG$65,1,1,\"Data\")):INDIRECT(ADDRESS(Data!$AG$68,Data!$AG$66,1,1,\"Data\")),Data!$AG$75,0))","v":""},{"$f":"IF(ISBLANK(D63),\"\",VLOOKUP(D63,INDIRECT(ADDRESS(Data!$AG$67,Data!$AG$65,1,1,\"Data\")):INDIRECT(ADDRESS(Data!$AG$68,Data!$AG$66,1,1,\"Data\")),Data!$AG$77,0))","v":""},{"$f":"IF(ISBLANK(D63),\"\",VLOOKUP(D63,INDIRECT(ADDRESS(Data!$AG$67,Data!$AG$65,1,1,\"Data\")):INDIRECT(ADDRESS(Data!$AG$68,Data!$AG$66,1,1,\"Data\")),Data!$AG$76,0))","v":""},null,{"$f":"IF(ISBLANK(D63),\"\",VLOOKUP(D63,INDIRECT(ADDRESS(Data!$AG$67,Data!$AG$65,1,1,\"Data\")):INDIRECT(ADDRESS(Data!$AG$68,Data!$AG$66,1,1,\"Data\")),Data!$AG$78,0))","v":""},{"$f":"IF(ISBLANK(D63),\"\",VLOOKUP(D63,INDIRECT(ADDRESS(Data!$AG$67,Data!$AG$65,1,1,\"Data\")):INDIRECT(ADDRESS(Data!$AG$68,Data!$AG$66,1,1,\"Data\")),Data!$AG$80,0))","v":""},{"$f":"IF(ISBLANK(D63),\"\",VLOOKUP(D63,INDIRECT(ADDRESS(Data!$AG$67,Data!$AG$65,1,1,\"Data\")):INDIRECT(ADDRESS(Data!$AG$68,Data!$AG$66,1,1,\"Data\")),Data!$AG$79,0))","v":""},null,{"$f":"IF(ISBLANK(D63),\"\",VLOOKUP(D63,INDIRECT(ADDRESS(Data!$AG$67,Data!$AG$65,1,1,\"Data\")):INDIRECT(ADDRESS(Data!$AG$68,Data!$AG$66,1,1,\"Data\")),Data!$AG$83,0))","v":""}]
[null,null,"",null,{"$f":"IF(ISBLANK(D64),\"\",VLOOKUP(D64,INDIRECT(ADDRESS(Data!$AG$67,Data!$AG$65,1,1,\"Data\")):INDIRECT(ADDRESS(Data!$AG$68,Data!$AG$66,1,1,\"Data\")),Data!$AG$75,0))","v":""},{"$f":"IF(ISBLANK(D64),\"\",VLOOKUP(D64,INDIRECT(ADDRESS(Data!$AG$67,Data!$AG$65,1,1,\"Data\")):INDIRECT(ADDRESS(Data!$AG$68,Data!$AG$66,1,1,\"Data\")),Data!$AG$77,0))","v":""},{"$f":"IF(ISBLANK(D64),\"\",VLOOKUP(D64,INDIRECT(ADDRESS(Data!$AG$67,Data!$AG$65,1,1,\"Data\")):INDIRECT(ADDRESS(Data!$AG$68,Data!$AG$66,1,1,\"Data\")),Data!$AG$76,0))","v":""},null,{"$f":"IF(ISBLANK(D64),\"\",VLOOKUP(D64,INDIRECT(ADDRESS(Data!$AG$67,Data!$AG$65,1,1,\"Data\")):INDIRECT(ADDRESS(Data!$AG$68,Data!$AG$66,1,1,\"Data\")),Data!$AG$78,0))","v":""},{"$f":"IF(ISBLANK(D64),\"\",VLOOKUP(D64,INDIRECT(ADDRESS(Data!$AG$67,Data!$AG$65,1,1,\"Data\")):INDIRECT(ADDRESS(Data!$AG$68,Data!$AG$66,1,1,\"Data\")),Data!$AG$80,0))","v":""},{"$f":"IF(ISBLANK(D64),\"\",VLOOKUP(D64,INDIRECT(ADDRESS(Data!$AG$67,Data!$AG$65,1,1,\"Data\")):INDIRECT(ADDRESS(Data!$AG$68,Data!$AG$66,1,1,\"Data\")),Data!$AG$79,0))","v":""},null,{"$f":"IF(ISBLANK(D64),\"\",VLOOKUP(D64,INDIRECT(ADDRESS(Data!$AG$67,Data!$AG$65,1,1,\"Data\")):INDIRECT(ADDRESS(Data!$AG$68,Data!$AG$66,1,1,\"Data\")),Data!$AG$83,0))","v":""}]
[null,null,"",null,{"$f":"IF(ISBLANK(D65),\"\",VLOOKUP(D65,INDIRECT(ADDRESS(Data!$AG$67,Data!$AG$65,1,1,\"Data\")):INDIRECT(ADDRESS(Data!$AG$68,Data!$AG$66,1,1,\"Data\")),Data!$AG$75,0))","v":""},{"$f":"IF(ISBLANK(D65),\"\",VLOOKUP(D65,INDIRECT(ADDRESS(Data!$AG$67,Data!$AG$65,1,1,\"Data\")):INDIRECT(ADDRESS(Data!$AG$68,Data!$AG$66,1,1,\"Data\")),Data!$AG$77,0))","v":""},{"$f":"IF(ISBLANK(D65),\"\",VLOOKUP(D65,INDIRECT(ADDRESS(Data!$AG$67,Data!$AG$65,1,1,\"Data\")):INDIRECT(ADDRESS(Data!$AG$68,Data!$AG$66,1,1,\"Data\")),Data!$AG$76,0))","v":""},null,{"$f":"IF(ISBLANK(D65),\"\",VLOOKUP(D65,INDIRECT(ADDRESS(Data!$AG$67,Data!$AG$65,1,1,\"Data\")):INDIRECT(ADDRESS(Data!$AG$68,Data!$AG$66,1,1,\"Data\")),Data!$AG$78,0))","v":""},{"$f":"IF(ISBLANK(D65),\"\",VLOOKUP(D65,INDIRECT(ADDRESS(Data!$AG$67,Data!$AG$65,1,1,\"Data\")):INDIRECT(ADDRESS(Data!$AG$68,Data!$AG$66,1,1,\"Data\")),Data!$AG$80,0))","v":""},{"$f":"IF(ISBLANK(D65),\"\",VLOOKUP(D65,INDIRECT(ADDRESS(Data!$AG$67,Data!$AG$65,1,1,\"Data\")):INDIRECT(ADDRESS(Data!$AG$68,Data!$AG$66,1,1,\"Data\")),Data!$AG$79,0))","v":""},null,{"$f":"IF(ISBLANK(D65),\"\",VLOOKUP(D65,INDIRECT(ADDRESS(Data!$AG$67,Data!$AG$65,1,1,\"Data\")):INDIRECT(ADDRESS(Data!$AG$68,Data!$AG$66,1,1,\"Data\")),Data!$AG$83,0))","v":""}]
[null,null,"",null,{"$f":"IF(ISBLANK(D66),\"\",VLOOKUP(D66,INDIRECT(ADDRESS(Data!$AG$67,Data!$AG$65,1,1,\"Data\")):INDIRECT(ADDRESS(Data!$AG$68,Data!$AG$66,1,1,\"Data\")),Data!$AG$75,0))","v":""},{"$f":"IF(ISBLANK(D66),\"\",VLOOKUP(D66,INDIRECT(ADDRESS(Data!$AG$67,Data!$AG$65,1,1,\"Data\")):INDIRECT(ADDRESS(Data!$AG$68,Data!$AG$66,1,1,\"Data\")),Data!$AG$77,0))","v":""},{"$f":"IF(ISBLANK(D66),\"\",VLOOKUP(D66,INDIRECT(ADDRESS(Data!$AG$67,Data!$AG$65,1,1,\"Data\")):INDIRECT(ADDRESS(Data!$AG$68,Data!$AG$66,1,1,\"Data\")),Data!$AG$76,0))","v":""},null,{"$f":"IF(ISBLANK(D66),\"\",VLOOKUP(D66,INDIRECT(ADDRESS(Data!$AG$67,Data!$AG$65,1,1,\"Data\")):INDIRECT(ADDRESS(Data!$AG$68,Data!$AG$66,1,1,\"Data\")),Data!$AG$78,0))","v":""},{"$f":"IF(ISBLANK(D66),\"\",VLOOKUP(D66,INDIRECT(ADDRESS(Data!$AG$67,Data!$AG$65,1,1,\"Data\")):INDIRECT(ADDRESS(Data!$AG$68,Data!$AG$66,1,1,\"Data\")),Data!$AG$80,0))","v":""},{"$f":"IF(ISBLANK(D66),\"\",VLOOKUP(D66,INDIRECT(ADDRESS(Data!$AG$67,Data!$AG$65,1,1,\"Data\")):INDIRECT(ADDRESS(Data!$AG$68,Data!$AG$66,1,1,\"Data\")),Data!$AG$79,0))","v":""},null,{"$f":"IF(ISBLANK(D66),\"\",VLOOKUP(D66,INDIRECT(ADDRESS(Data!$AG$67,Data!$AG$65,1,1,\"Data\")):INDIRECT(ADDRESS(Data!$AG$68,Data!$AG$66,1,1,\"Data\")),Data!$AG$83,0))","v":""}]
[null,null,"",null,{"$f":"IF(ISBLANK(D67),\"\",VLOOKUP(D67,INDIRECT(ADDRESS(Data!$AG$67,Data!$AG$65,1,1,\"Data\")):INDIRECT(ADDRESS(Data!$AG$68,Data!$AG$66,1,1,\"Data\")),Data!$AG$75,0))","v":""},{"$f":"IF(ISBLANK(D67),\"\",VLOOKUP(D67,INDIRECT(ADDRESS(Data!$AG$67,Data!$AG$65,1,1,\"Data\")):INDIRECT(ADDRESS(Data!$AG$68,Data!$AG$66,1,1,\"Data\")),Data!$AG$77,0))","v":""},{"$f":"IF(ISBLANK(D67),\"\",VLOOKUP(D67,INDIRECT(ADDRESS(Data!$AG$67,Data!$AG$65,1,1,\"Data\")):INDIRECT(ADDRESS(Data!$AG$68,Data!$AG$66,1,1,\"Data\")),Data!$AG$76,0))","v":""},null,{"$f":"IF(ISBLANK(D67),\"\",VLOOKUP(D67,INDIRECT(ADDRESS(Data!$AG$67,Data!$AG$65,1,1,\"Data\")):INDIRECT(ADDRESS(Data!$AG$68,Data!$AG$66,1,1,\"Data\")),Data!$AG$78,0))","v":""},{"$f":"IF(ISBLANK(D67),\"\",VLOOKUP(D67,INDIRECT(ADDRESS(Data!$AG$67,Data!$AG$65,1,1,\"Data\")):INDIRECT(ADDRESS(Data!$AG$68,Data!$AG$66,1,1,\"Data\")),Data!$AG$80,0))","v":""},{"$f":"IF(ISBLANK(D67),\"\",VLOOKUP(D67,INDIRECT(ADDRESS(Data!$AG$67,Data!$AG$65,1,1,\"Data\")):INDIRECT(ADDRESS(Data!$AG$68,Data!$AG$66,1,1,\"Data\")),Data!$AG$79,0))","v":""},null,{"$f":"IF(ISBLANK(D67),\"\",VLOOKUP(D67,INDIRECT(ADDRESS(Data!$AG$67,Data!$AG$65,1,1,\"Data\")):INDIRECT(ADDRESS(Data!$AG$68,Data!$AG$66,1,1,\"Data\")),Data!$AG$83,0))","v":""}]
[null,null,"",null,{"$f":"IF(ISBLANK(D68),\"\",VLOOKUP(D68,INDIRECT(ADDRESS(Data!$AG$67,Data!$AG$65,1,1,\"Data\")):INDIRECT(ADDRESS(Data!$AG$68,Data!$AG$66,1,1,\"Data\")),Data!$AG$75,0))","v":""},{"$f":"IF(ISBLANK(D68),\"\",VLOOKUP(D68,INDIRECT(ADDRESS(Data!$AG$67,Data!$AG$65,1,1,\"Data\")):INDIRECT(ADDRESS(Data!$AG$68,Data!$AG$66,1,1,\"Data\")),Data!$AG$77,0))","v":""},{"$f":"IF(ISBLANK(D68),\"\",VLOOKUP(D68,INDIRECT(ADDRESS(Data!$AG$67,Data!$AG$65,1,1,\"Data\")):INDIRECT(ADDRESS(Data!$AG$68,Data!$AG$66,1,1,\"Data\")),Data!$AG$76,0))","v":""},null,{"$f":"IF(ISBLANK(D68),\"\",VLOOKUP(D68,INDIRECT(ADDRESS(Data!$AG$67,Data!$AG$65,1,1,\"Data\")):INDIRECT(ADDRESS(Data!$AG$68,Data!$AG$66,1,1,\"Data\")),Data!$AG$78,0))","v":""},{"$f":"IF(ISBLANK(D68),\"\",VLOOKUP(D68,INDIRECT(ADDRESS(Data!$AG$67,Data!$AG$65,1,1,\"Data\")):INDIRECT(ADDRESS(Data!$AG$68,Data!$AG$66,1,1,\"Data\")),Data!$AG$80,0))","v":""},{"$f":"IF(ISBLANK(D68),\"\",VLOOKUP(D68,INDIRECT(ADDRESS(Data!$AG$67,Data!$AG$65,1,1,\"Data\")):INDIRECT(ADDRESS(Data!$AG$68,Data!$AG$66,1,1,\"Data\")),Data!$AG$79,0))","v":""},null,{"$f":"IF(ISBLANK(D68),\"\",VLOOKUP(D68,INDIRECT(ADDRESS(Data!$AG$67,Data!$AG$65,1,1,\"Data\")):INDIRECT(ADDRESS(Data!$AG$68,Data!$AG$66,1,1,\"Data\")),Data!$AG$83,0))","v":""}]
[null,null,"",null,{"$f":"IF(ISBLANK(D69),\"\",VLOOKUP(D69,INDIRECT(ADDRESS(Data!$AG$67,Data!$AG$65,1,1,\"Data\")):INDIRECT(ADDRESS(Data!$AG$68,Data!$AG$66,1,1,\"Data\")),Data!$AG$75,0))","v":""},{"$f":"IF(ISBLANK(D69),\"\",VLOOKUP(D69,INDIRECT(ADDRESS(Data!$AG$67,Data!$AG$65,1,1,\"Data\")):INDIRECT(ADDRESS(Data!$AG$68,Data!$AG$66,1,1,\"Data\")),Data!$AG$77,0))","v":""},{"$f":"IF(ISBLANK(D69),\"\",VLOOKUP(D69,INDIRECT(ADDRESS(Data!$AG$67,Data!$AG$65,1,1,\"Data\")):INDIRECT(ADDRESS(Data!$AG$68,Data!$AG$66,1,1,\"Data\")),Data!$AG$76,0))","v":""},null,{"$f":"IF(ISBLANK(D69),\"\",VLOOKUP(D69,INDIRECT(ADDRESS(Data!$AG$67,Data!$AG$65,1,1,\"Data\")):INDIRECT(ADDRESS(Data!$AG$68,Data!$AG$66,1,1,\"Data\")),Data!$AG$78,0))","v":""},{"$f":"IF(ISBLANK(D69),\"\",VLOOKUP(D69,INDIRECT(ADDRESS(Data!$AG$67,Data!$AG$65,1,1,\"Data\")):INDIRECT(ADDRESS(Data!$AG$68,Data!$AG$66,1,1,\"Data\")),Data!$AG$80,0))","v":""},{"$f":"IF(ISBLANK(D69),\"\",VLOOKUP(D69,INDIRECT(ADDRESS(Data!$AG$67,Data!$AG$65,1,1,\"Data\")):INDIRECT(ADDRESS(Data!$AG$68,Data!$AG$66,1,1,\"Data\")),Data!$AG$79,0))","v":""},null,{"$f":"IF(ISBLANK(D69),\"\",VLOOKUP(D69,INDIRECT(ADDRESS(Data!$AG$67,Data!$AG$65,1,1,\"Data\")):INDIRECT(ADDRESS(Data!$AG$68,Data!$AG$66,1,1,\"Data\")),Data!$AG$83,0))","v":""}]
[null,null,"",null,{"$f":"IF(ISBLANK(D70),\"\",VLOOKUP(D70,INDIRECT(ADDRESS(Data!$AG$67,Data!$AG$65,1,1,\"Data\")):INDIRECT(ADDRESS(Data!$AG$68,Data!$AG$66,1,1,\"Data\")),Data!$AG$75,0))","v":""},{"$f":"IF(ISBLANK(D70),\"\",VLOOKUP(D70,INDIRECT(ADDRESS(Data!$AG$67,Data!$AG$65,1,1,\"Data\")):INDIRECT(ADDRESS(Data!$AG$68,Data!$AG$66,1,1,\"Data\")),Data!$AG$77,0))","v":""},{"$f":"IF(ISBLANK(D70),\"\",VLOOKUP(D70,INDIRECT(ADDRESS(Data!$AG$67,Data!$AG$65,1,1,\"Data\")):INDIRECT(ADDRESS(Data!$AG$68,Data!$AG$66,1,1,\"Data\")),Data!$AG$76,0))","v":""},null,{"$f":"IF(ISBLANK(D70),\"\",VLOOKUP(D70,INDIRECT(ADDRESS(Data!$AG$67,Data!$AG$65,1,1,\"Data\")):INDIRECT(ADDRESS(Data!$AG$68,Data!$AG$66,1,1,\"Data\")),Data!$AG$78,0))","v":""},{"$f":"IF(ISBLANK(D70),\"\",VLOOKUP(D70,INDIRECT(ADDRESS(Data!$AG$67,Data!$AG$65,1,1,\"Data\")):INDIRECT(ADDRESS(Data!$AG$68,Data!$AG$66,1,1,\"Data\")),Data!$AG$80,0))","v":""},{"$f":"IF(ISBLANK(D70),\"\",VLOOKUP(D70,INDIRECT(ADDRESS(Data!$AG$67,Data!$AG$65,1,1,\"Data\")):INDIRECT(ADDRESS(Data!$AG$68,Data!$AG$66,1,1,\"Data\")),Data!$AG$79,0))","v":""},null,{"$f":"IF(ISBLANK(D70),\"\",VLOOKUP(D70,INDIRECT(ADDRESS(Data!$AG$67,Data!$AG$65,1,1,\"Data\")):INDIRECT(ADDRESS(Data!$AG$68,Data!$AG$66,1,1,\"Data\")),Data!$AG$83,0))","v":""}]
[null,null,"",null,{"$f":"IF(ISBLANK(D71),\"\",VLOOKUP(D71,INDIRECT(ADDRESS(Data!$AG$67,Data!$AG$65,1,1,\"Data\")):INDIRECT(ADDRESS(Data!$AG$68,Data!$AG$66,1,1,\"Data\")),Data!$AG$75,0))","v":""},{"$f":"IF(ISBLANK(D71),\"\",VLOOKUP(D71,INDIRECT(ADDRESS(Data!$AG$67,Data!$AG$65,1,1,\"Data\")):INDIRECT(ADDRESS(Data!$AG$68,Data!$AG$66,1,1,\"Data\")),Data!$AG$77,0))","v":""},{"$f":"IF(ISBLANK(D71),\"\",VLOOKUP(D71,INDIRECT(ADDRESS(Data!$AG$67,Data!$AG$65,1,1,\"Data\")):INDIRECT(ADDRESS(Data!$AG$68,Data!$AG$66,1,1,\"Data\")),Data!$AG$76,0))","v":""},null,{"$f":"IF(ISBLANK(D71),\"\",VLOOKUP(D71,INDIRECT(ADDRESS(Data!$AG$67,Data!$AG$65,1,1,\"Data\")):INDIRECT(ADDRESS(Data!$AG$68,Data!$AG$66,1,1,\"Data\")),Data!$AG$78,0))","v":""},{"$f":"IF(ISBLANK(D71),\"\",VLOOKUP(D71,INDIRECT(ADDRESS(Data!$AG$67,Data!$AG$65,1,1,\"Data\")):INDIRECT(ADDRESS(Data!$AG$68,Data!$AG$66,1,1,\"Data\")),Data!$AG$80,0))","v":""},{"$f":"IF(ISBLANK(D71),\"\",VLOOKUP(D71,INDIRECT(ADDRESS(Data!$AG$67,Data!$AG$65,1,1,\"Data\")):INDIRECT(ADDRESS(Data!$AG$68,Data!$AG$66,1,1,\"Data\")),Data!$AG$79,0))","v":""},null,{"$f":"IF(ISBLANK(D71),\"\",VLOOKUP(D71,INDIRECT(ADDRESS(Data!$AG$67,Data!$AG$65,1,1,\"Data\")):INDIRECT(ADDRESS(Data!$AG$68,Data!$AG$66,1,1,\"Data\")),Data!$AG$83,0))","v":""}]
[null,null,"",null,{"$f":"IF(ISBLANK(D72),\"\",VLOOKUP(D72,INDIRECT(ADDRESS(Data!$AG$67,Data!$AG$65,1,1,\"Data\")):INDIRECT(ADDRESS(Data!$AG$68,Data!$AG$66,1,1,\"Data\")),Data!$AG$75,0))","v":""},{"$f":"IF(ISBLANK(D72),\"\",VLOOKUP(D72,INDIRECT(ADDRESS(Data!$AG$67,Data!$AG$65,1,1,\"Data\")):INDIRECT(ADDRESS(Data!$AG$68,Data!$AG$66,1,1,\"Data\")),Data!$AG$77,0))","v":""},{"$f":"IF(ISBLANK(D72),\"\",VLOOKUP(D72,INDIRECT(ADDRESS(Data!$AG$67,Data!$AG$65,1,1,\"Data\")):INDIRECT(ADDRESS(Data!$AG$68,Data!$AG$66,1,1,\"Data\")),Data!$AG$76,0))","v":""},null,{"$f":"IF(ISBLANK(D72),\"\",VLOOKUP(D72,INDIRECT(ADDRESS(Data!$AG$67,Data!$AG$65,1,1,\"Data\")):INDIRECT(ADDRESS(Data!$AG$68,Data!$AG$66,1,1,\"Data\")),Data!$AG$78,0))","v":""},{"$f":"IF(ISBLANK(D72),\"\",VLOOKUP(D72,INDIRECT(ADDRESS(Data!$AG$67,Data!$AG$65,1,1,\"Data\")):INDIRECT(ADDRESS(Data!$AG$68,Data!$AG$66,1,1,\"Data\")),Data!$AG$80,0))","v":""},{"$f":"IF(ISBLANK(D72),\"\",VLOOKUP(D72,INDIRECT(ADDRESS(Data!$AG$67,Data!$AG$65,1,1,\"Data\")):INDIRECT(ADDRESS(Data!$AG$68,Data!$AG$66,1,1,\"Data\")),Data!$AG$79,0))","v":""},null,{"$f":"IF(ISBLANK(D72),\"\",VLOOKUP(D72,INDIRECT(ADDRESS(Data!$AG$67,Data!$AG$65,1,1,\"Data\")):INDIRECT(ADDRESS(Data!$AG$68,Data!$AG$66,1,1,\"Data\")),Data!$AG$83,0))","v":""}]
[null,null,"",null,{"$f":"IF(ISBLANK(D73),\"\",VLOOKUP(D73,INDIRECT(ADDRESS(Data!$AG$67,Data!$AG$65,1,1,\"Data\")):INDIRECT(ADDRESS(Data!$AG$68,Data!$AG$66,1,1,\"Data\")),Data!$AG$75,0))","v":""},{"$f":"IF(ISBLANK(D73),\"\",VLOOKUP(D73,INDIRECT(ADDRESS(Data!$AG$67,Data!$AG$65,1,1,\"Data\")):INDIRECT(ADDRESS(Data!$AG$68,Data!$AG$66,1,1,\"Data\")),Data!$AG$77,0))","v":""},{"$f":"IF(ISBLANK(D73),\"\",VLOOKUP(D73,INDIRECT(ADDRESS(Data!$AG$67,Data!$AG$65,1,1,\"Data\")):INDIRECT(ADDRESS(Data!$AG$68,Data!$AG$66,1,1,\"Data\")),Data!$AG$76,0))","v":""},null,{"$f":"IF(ISBLANK(D73),\"\",VLOOKUP(D73,INDIRECT(ADDRESS(Data!$AG$67,Data!$AG$65,1,1,\"Data\")):INDIRECT(ADDRESS(Data!$AG$68,Data!$AG$66,1,1,\"Data\")),Data!$AG$78,0))","v":""},{"$f":"IF(ISBLANK(D73),\"\",VLOOKUP(D73,INDIRECT(ADDRESS(Data!$AG$67,Data!$AG$65,1,1,\"Data\")):INDIRECT(ADDRESS(Data!$AG$68,Data!$AG$66,1,1,\"Data\")),Data!$AG$80,0))","v":""},{"$f":"IF(ISBLANK(D73),\"\",VLOOKUP(D73,INDIRECT(ADDRESS(Data!$AG$67,Data!$AG$65,1,1,\"Data\")):INDIRECT(ADDRESS(Data!$AG$68,Data!$AG$66,1,1,\"Data\")),Data!$AG$79,0))","v":""},null,{"$f":"IF(ISBLANK(D73),\"\",VLOOKUP(D73,INDIRECT(ADDRESS(Data!$AG$67,Data!$AG$65,1,1,\"Data\")):INDIRECT(ADDRESS(Data!$AG$68,Data!$AG$66,1,1,\"Data\")),Data!$AG$83,0))","v":""}]
[null,null,"",null,{"$f":"IF(ISBLANK(D74),\"\",VLOOKUP(D74,INDIRECT(ADDRESS(Data!$AG$67,Data!$AG$65,1,1,\"Data\")):INDIRECT(ADDRESS(Data!$AG$68,Data!$AG$66,1,1,\"Data\")),Data!$AG$75,0))","v":""},{"$f":"IF(ISBLANK(D74),\"\",VLOOKUP(D74,INDIRECT(ADDRESS(Data!$AG$67,Data!$AG$65,1,1,\"Data\")):INDIRECT(ADDRESS(Data!$AG$68,Data!$AG$66,1,1,\"Data\")),Data!$AG$77,0))","v":""},{"$f":"IF(ISBLANK(D74),\"\",VLOOKUP(D74,INDIRECT(ADDRESS(Data!$AG$67,Data!$AG$65,1,1,\"Data\")):INDIRECT(ADDRESS(Data!$AG$68,Data!$AG$66,1,1,\"Data\")),Data!$AG$76,0))","v":""},null,{"$f":"IF(ISBLANK(D74),\"\",VLOOKUP(D74,INDIRECT(ADDRESS(Data!$AG$67,Data!$AG$65,1,1,\"Data\")):INDIRECT(ADDRESS(Data!$AG$68,Data!$AG$66,1,1,\"Data\")),Data!$AG$78,0))","v":""},{"$f":"IF(ISBLANK(D74),\"\",VLOOKUP(D74,INDIRECT(ADDRESS(Data!$AG$67,Data!$AG$65,1,1,\"Data\")):INDIRECT(ADDRESS(Data!$AG$68,Data!$AG$66,1,1,\"Data\")),Data!$AG$80,0))","v":""},{"$f":"IF(ISBLANK(D74),\"\",VLOOKUP(D74,INDIRECT(ADDRESS(Data!$AG$67,Data!$AG$65,1,1,\"Data\")):INDIRECT(ADDRESS(Data!$AG$68,Data!$AG$66,1,1,\"Data\")),Data!$AG$79,0))","v":""},null,{"$f":"IF(ISBLANK(D74),\"\",VLOOKUP(D74,INDIRECT(ADDRESS(Data!$AG$67,Data!$AG$65,1,1,\"Data\")):INDIRECT(ADDRESS(Data!$AG$68,Data!$AG$66,1,1,\"Data\")),Data!$AG$83,0))","v":""}]
[null,null,"",null,{"$f":"IF(ISBLANK(D75),\"\",VLOOKUP(D75,INDIRECT(ADDRESS(Data!$AG$67,Data!$AG$65,1,1,\"Data\")):INDIRECT(ADDRESS(Data!$AG$68,Data!$AG$66,1,1,\"Data\")),Data!$AG$75,0))","v":""},{"$f":"IF(ISBLANK(D75),\"\",VLOOKUP(D75,INDIRECT(ADDRESS(Data!$AG$67,Data!$AG$65,1,1,\"Data\")):INDIRECT(ADDRESS(Data!$AG$68,Data!$AG$66,1,1,\"Data\")),Data!$AG$77,0))","v":""},{"$f":"IF(ISBLANK(D75),\"\",VLOOKUP(D75,INDIRECT(ADDRESS(Data!$AG$67,Data!$AG$65,1,1,\"Data\")):INDIRECT(ADDRESS(Data!$AG$68,Data!$AG$66,1,1,\"Data\")),Data!$AG$76,0))","v":""},null,{"$f":"IF(ISBLANK(D75),\"\",VLOOKUP(D75,INDIRECT(ADDRESS(Data!$AG$67,Data!$AG$65,1,1,\"Data\")):INDIRECT(ADDRESS(Data!$AG$68,Data!$AG$66,1,1,\"Data\")),Data!$AG$78,0))","v":""},{"$f":"IF(ISBLANK(D75),\"\",VLOOKUP(D75,INDIRECT(ADDRESS(Data!$AG$67,Data!$AG$65,1,1,\"Data\")):INDIRECT(ADDRESS(Data!$AG$68,Data!$AG$66,1,1,\"Data\")),Data!$AG$80,0))","v":""},{"$f":"IF(ISBLANK(D75),\"\",VLOOKUP(D75,INDIRECT(ADDRESS(Data!$AG$67,Data!$AG$65,1,1,\"Data\")):INDIRECT(ADDRESS(Data!$AG$68,Data!$AG$66,1,1,\"Data\")),Data!$AG$79,0))","v":""},null,{"$f":"IF(ISBLANK(D75),\"\",VLOOKUP(D75,INDIRECT(ADDRESS(Data!$AG$67,Data!$AG$65,1,1,\"Data\")):INDIRECT(ADDRESS(Data!$AG$68,Data!$AG$66,1,1,\"Data\")),Data!$AG$83,0))","v":""}]
[null,null,"",null,{"$f":"IF(ISBLANK(D76),\"\",VLOOKUP(D76,INDIRECT(ADDRESS(Data!$AG$67,Data!$AG$65,1,1,\"Data\")):INDIRECT(ADDRESS(Data!$AG$68,Data!$AG$66,1,1,\"Data\")),Data!$AG$75,0))","v":""},{"$f":"IF(ISBLANK(D76),\"\",VLOOKUP(D76,INDIRECT(ADDRESS(Data!$AG$67,Data!$AG$65,1,1,\"Data\")):INDIRECT(ADDRESS(Data!$AG$68,Data!$AG$66,1,1,\"Data\")),Data!$AG$77,0))","v":""},{"$f":"IF(ISBLANK(D76),\"\",VLOOKUP(D76,INDIRECT(ADDRESS(Data!$AG$67,Data!$AG$65,1,1,\"Data\")):INDIRECT(ADDRESS(Data!$AG$68,Data!$AG$66,1,1,\"Data\")),Data!$AG$76,0))","v":""},null,{"$f":"IF(ISBLANK(D76),\"\",VLOOKUP(D76,INDIRECT(ADDRESS(Data!$AG$67,Data!$AG$65,1,1,\"Data\")):INDIRECT(ADDRESS(Data!$AG$68,Data!$AG$66,1,1,\"Data\")),Data!$AG$78,0))","v":""},{"$f":"IF(ISBLANK(D76),\"\",VLOOKUP(D76,INDIRECT(ADDRESS(Data!$AG$67,Data!$AG$65,1,1,\"Data\")):INDIRECT(ADDRESS(Data!$AG$68,Data!$AG$66,1,1,\"Data\")),Data!$AG$80,0))","v":""},{"$f":"IF(ISBLANK(D76),\"\",VLOOKUP(D76,INDIRECT(ADDRESS(Data!$AG$67,Data!$AG$65,1,1,\"Data\")):INDIRECT(ADDRESS(Data!$AG$68,Data!$AG$66,1,1,\"Data\")),Data!$AG$79,0))","v":""},null,{"$f":"IF(ISBLANK(D76),\"\",VLOOKUP(D76,INDIRECT(ADDRESS(Data!$AG$67,Data!$AG$65,1,1,\"Data\")):INDIRECT(ADDRESS(Data!$AG$68,Data!$AG$66,1,1,\"Data\")),Data!$AG$83,0))","v":""}]
[null,null,"",null,{"$f":"IF(ISBLANK(D77),\"\",VLOOKUP(D77,INDIRECT(ADDRESS(Data!$AG$67,Data!$AG$65,1,1,\"Data\")):INDIRECT(ADDRESS(Data!$AG$68,Data!$AG$66,1,1,\"Data\")),Data!$AG$75,0))","v":""},{"$f":"IF(ISBLANK(D77),\"\",VLOOKUP(D77,INDIRECT(ADDRESS(Data!$AG$67,Data!$AG$65,1,1,\"Data\")):INDIRECT(ADDRESS(Data!$AG$68,Data!$AG$66,1,1,\"Data\")),Data!$AG$77,0))","v":""},{"$f":"IF(ISBLANK(D77),\"\",VLOOKUP(D77,INDIRECT(ADDRESS(Data!$AG$67,Data!$AG$65,1,1,\"Data\")):INDIRECT(ADDRESS(Data!$AG$68,Data!$AG$66,1,1,\"Data\")),Data!$AG$76,0))","v":""},null,{"$f":"IF(ISBLANK(D77),\"\",VLOOKUP(D77,INDIRECT(ADDRESS(Data!$AG$67,Data!$AG$65,1,1,\"Data\")):INDIRECT(ADDRESS(Data!$AG$68,Data!$AG$66,1,1,\"Data\")),Data!$AG$78,0))","v":""},{"$f":"IF(ISBLANK(D77),\"\",VLOOKUP(D77,INDIRECT(ADDRESS(Data!$AG$67,Data!$AG$65,1,1,\"Data\")):INDIRECT(ADDRESS(Data!$AG$68,Data!$AG$66,1,1,\"Data\")),Data!$AG$80,0))","v":""},{"$f":"IF(ISBLANK(D77),\"\",VLOOKUP(D77,INDIRECT(ADDRESS(Data!$AG$67,Data!$AG$65,1,1,\"Data\")):INDIRECT(ADDRESS(Data!$AG$68,Data!$AG$66,1,1,\"Data\")),Data!$AG$79,0))","v":""},null,{"$f":"IF(ISBLANK(D77),\"\",VLOOKUP(D77,INDIRECT(ADDRESS(Data!$AG$67,Data!$AG$65,1,1,\"Data\")):INDIRECT(ADDRESS(Data!$AG$68,Data!$AG$66,1,1,\"Data\")),Data!$AG$83,0))","v":""}]
[null,null,"",null,{"$f":"IF(ISBLANK(D78),\"\",VLOOKUP(D78,INDIRECT(ADDRESS(Data!$AG$67,Data!$AG$65,1,1,\"Data\")):INDIRECT(ADDRESS(Data!$AG$68,Data!$AG$66,1,1,\"Data\")),Data!$AG$75,0))","v":""},{"$f":"IF(ISBLANK(D78),\"\",VLOOKUP(D78,INDIRECT(ADDRESS(Data!$AG$67,Data!$AG$65,1,1,\"Data\")):INDIRECT(ADDRESS(Data!$AG$68,Data!$AG$66,1,1,\"Data\")),Data!$AG$77,0))","v":""},{"$f":"IF(ISBLANK(D78),\"\",VLOOKUP(D78,INDIRECT(ADDRESS(Data!$AG$67,Data!$AG$65,1,1,\"Data\")):INDIRECT(ADDRESS(Data!$AG$68,Data!$AG$66,1,1,\"Data\")),Data!$AG$76,0))","v":""},null,{"$f":"IF(ISBLANK(D78),\"\",VLOOKUP(D78,INDIRECT(ADDRESS(Data!$AG$67,Data!$AG$65,1,1,\"Data\")):INDIRECT(ADDRESS(Data!$AG$68,Data!$AG$66,1,1,\"Data\")),Data!$AG$78,0))","v":""},{"$f":"IF(ISBLANK(D78),\"\",VLOOKUP(D78,INDIRECT(ADDRESS(Data!$AG$67,Data!$AG$65,1,1,\"Data\")):INDIRECT(ADDRESS(Data!$AG$68,Data!$AG$66,1,1,\"Data\")),Data!$AG$80,0))","v":""},{"$f":"IF(ISBLANK(D78),\"\",VLOOKUP(D78,INDIRECT(ADDRESS(Data!$AG$67,Data!$AG$65,1,1,\"Data\")):INDIRECT(ADDRESS(Data!$AG$68,Data!$AG$66,1,1,\"Data\")),Data!$AG$79,0))","v":""},null,{"$f":"IF(ISBLANK(D78),\"\",VLOOKUP(D78,INDIRECT(ADDRESS(Data!$AG$67,Data!$AG$65,1,1,\"Data\")):INDIRECT(ADDRESS(Data!$AG$68,Data!$AG$66,1,1,\"Data\")),Data!$AG$83,0))","v":""}]
[null,null,"",null,{"$f":"IF(ISBLANK(D79),\"\",VLOOKUP(D79,INDIRECT(ADDRESS(Data!$AG$67,Data!$AG$65,1,1,\"Data\")):INDIRECT(ADDRESS(Data!$AG$68,Data!$AG$66,1,1,\"Data\")),Data!$AG$75,0))","v":""},{"$f":"IF(ISBLANK(D79),\"\",VLOOKUP(D79,INDIRECT(ADDRESS(Data!$AG$67,Data!$AG$65,1,1,\"Data\")):INDIRECT(ADDRESS(Data!$AG$68,Data!$AG$66,1,1,\"Data\")),Data!$AG$77,0))","v":""},{"$f":"IF(ISBLANK(D79),\"\",VLOOKUP(D79,INDIRECT(ADDRESS(Data!$AG$67,Data!$AG$65,1,1,\"Data\")):INDIRECT(ADDRESS(Data!$AG$68,Data!$AG$66,1,1,\"Data\")),Data!$AG$76,0))","v":""},null,{"$f":"IF(ISBLANK(D79),\"\",VLOOKUP(D79,INDIRECT(ADDRESS(Data!$AG$67,Data!$AG$65,1,1,\"Data\")):INDIRECT(ADDRESS(Data!$AG$68,Data!$AG$66,1,1,\"Data\")),Data!$AG$78,0))","v":""},{"$f":"IF(ISBLANK(D79),\"\",VLOOKUP(D79,INDIRECT(ADDRESS(Data!$AG$67,Data!$AG$65,1,1,\"Data\")):INDIRECT(ADDRESS(Data!$AG$68,Data!$AG$66,1,1,\"Data\")),Data!$AG$80,0))","v":""},{"$f":"IF(ISBLANK(D79),\"\",VLOOKUP(D79,INDIRECT(ADDRESS(Data!$AG$67,Data!$AG$65,1,1,\"Data\")):INDIRECT(ADDRESS(Data!$AG$68,Data!$AG$66,1,1,\"Data\")),Data!$AG$79,0))","v":""},null,{"$f":"IF(ISBLANK(D79),\"\",VLOOKUP(D79,INDIRECT(ADDRESS(Data!$AG$67,Data!$AG$65,1,1,\"Data\")):INDIRECT(ADDRESS(Data!$AG$68,Data!$AG$66,1,1,\"Data\")),Data!$AG$83,0))","v":""}]
[null,null,"",null,{"$f":"IF(ISBLANK(D80),\"\",VLOOKUP(D80,INDIRECT(ADDRESS(Data!$AG$67,Data!$AG$65,1,1,\"Data\")):INDIRECT(ADDRESS(Data!$AG$68,Data!$AG$66,1,1,\"Data\")),Data!$AG$75,0))","v":""},{"$f":"IF(ISBLANK(D80),\"\",VLOOKUP(D80,INDIRECT(ADDRESS(Data!$AG$67,Data!$AG$65,1,1,\"Data\")):INDIRECT(ADDRESS(Data!$AG$68,Data!$AG$66,1,1,\"Data\")),Data!$AG$77,0))","v":""},{"$f":"IF(ISBLANK(D80),\"\",VLOOKUP(D80,INDIRECT(ADDRESS(Data!$AG$67,Data!$AG$65,1,1,\"Data\")):INDIRECT(ADDRESS(Data!$AG$68,Data!$AG$66,1,1,\"Data\")),Data!$AG$76,0))","v":""},null,{"$f":"IF(ISBLANK(D80),\"\",VLOOKUP(D80,INDIRECT(ADDRESS(Data!$AG$67,Data!$AG$65,1,1,\"Data\")):INDIRECT(ADDRESS(Data!$AG$68,Data!$AG$66,1,1,\"Data\")),Data!$AG$78,0))","v":""},{"$f":"IF(ISBLANK(D80),\"\",VLOOKUP(D80,INDIRECT(ADDRESS(Data!$AG$67,Data!$AG$65,1,1,\"Data\")):INDIRECT(ADDRESS(Data!$AG$68,Data!$AG$66,1,1,\"Data\")),Data!$AG$80,0))","v":""},{"$f":"IF(ISBLANK(D80),\"\",VLOOKUP(D80,INDIRECT(ADDRESS(Data!$AG$67,Data!$AG$65,1,1,\"Data\")):INDIRECT(ADDRESS(Data!$AG$68,Data!$AG$66,1,1,\"Data\")),Data!$AG$79,0))","v":""},null,{"$f":"IF(ISBLANK(D80),\"\",VLOOKUP(D80,INDIRECT(ADDRESS(Data!$AG$67,Data!$AG$65,1,1,\"Data\")):INDIRECT(ADDRESS(Data!$AG$68,Data!$AG$66,1,1,\"Data\")),Data!$AG$83,0))","v":""}]
[null,null,"",null,{"$f":"IF(ISBLANK(D81),\"\",VLOOKUP(D81,INDIRECT(ADDRESS(Data!$AG$67,Data!$AG$65,1,1,\"Data\")):INDIRECT(ADDRESS(Data!$AG$68,Data!$AG$66,1,1,\"Data\")),Data!$AG$75,0))","v":""},{"$f":"IF(ISBLANK(D81),\"\",VLOOKUP(D81,INDIRECT(ADDRESS(Data!$AG$67,Data!$AG$65,1,1,\"Data\")):INDIRECT(ADDRESS(Data!$AG$68,Data!$AG$66,1,1,\"Data\")),Data!$AG$77,0))","v":""},{"$f":"IF(ISBLANK(D81),\"\",VLOOKUP(D81,INDIRECT(ADDRESS(Data!$AG$67,Data!$AG$65,1,1,\"Data\")):INDIRECT(ADDRESS(Data!$AG$68,Data!$AG$66,1,1,\"Data\")),Data!$AG$76,0))","v":""},null,{"$f":"IF(ISBLANK(D81),\"\",VLOOKUP(D81,INDIRECT(ADDRESS(Data!$AG$67,Data!$AG$65,1,1,\"Data\")):INDIRECT(ADDRESS(Data!$AG$68,Data!$AG$66,1,1,\"Data\")),Data!$AG$78,0))","v":""},{"$f":"IF(ISBLANK(D81),\"\",VLOOKUP(D81,INDIRECT(ADDRESS(Data!$AG$67,Data!$AG$65,1,1,\"Data\")):INDIRECT(ADDRESS(Data!$AG$68,Data!$AG$66,1,1,\"Data\")),Data!$AG$80,0))","v":""},{"$f":"IF(ISBLANK(D81),\"\",VLOOKUP(D81,INDIRECT(ADDRESS(Data!$AG$67,Data!$AG$65,1,1,\"Data\")):INDIRECT(ADDRESS(Data!$AG$68,Data!$AG$66,1,1,\"Data\")),Data!$AG$79,0))","v":""},null,{"$f":"IF(ISBLANK(D81),\"\",VLOOKUP(D81,INDIRECT(ADDRESS(Data!$AG$67,Data!$AG$65,1,1,\"Data\")):INDIRECT(ADDRESS(Data!$AG$68,Data!$AG$66,1,1,\"Data\")),Data!$AG$83,0))","v":""}]
[null,null,"",null,{"$f":"IF(ISBLANK(D82),\"\",VLOOKUP(D82,INDIRECT(ADDRESS(Data!$AG$67,Data!$AG$65,1,1,\"Data\")):INDIRECT(ADDRESS(Data!$AG$68,Data!$AG$66,1,1,\"Data\")),Data!$AG$75,0))","v":""},{"$f":"IF(ISBLANK(D82),\"\",VLOOKUP(D82,INDIRECT(ADDRESS(Data!$AG$67,Data!$AG$65,1,1,\"Data\")):INDIRECT(ADDRESS(Data!$AG$68,Data!$AG$66,1,1,\"Data\")),Data!$AG$77,0))","v":""},{"$f":"IF(ISBLANK(D82),\"\",VLOOKUP(D82,INDIRECT(ADDRESS(Data!$AG$67,Data!$AG$65,1,1,\"Data\")):INDIRECT(ADDRESS(Data!$AG$68,Data!$AG$66,1,1,\"Data\")),Data!$AG$76,0))","v":""},null,{"$f":"IF(ISBLANK(D82),\"\",VLOOKUP(D82,INDIRECT(ADDRESS(Data!$AG$67,Data!$AG$65,1,1,\"Data\")):INDIRECT(ADDRESS(Data!$AG$68,Data!$AG$66,1,1,\"Data\")),Data!$AG$78,0))","v":""},{"$f":"IF(ISBLANK(D82),\"\",VLOOKUP(D82,INDIRECT(ADDRESS(Data!$AG$67,Data!$AG$65,1,1,\"Data\")):INDIRECT(ADDRESS(Data!$AG$68,Data!$AG$66,1,1,\"Data\")),Data!$AG$80,0))","v":""},{"$f":"IF(ISBLANK(D82),\"\",VLOOKUP(D82,INDIRECT(ADDRESS(Data!$AG$67,Data!$AG$65,1,1,\"Data\")):INDIRECT(ADDRESS(Data!$AG$68,Data!$AG$66,1,1,\"Data\")),Data!$AG$79,0))","v":""},null,{"$f":"IF(ISBLANK(D82),\"\",VLOOKUP(D82,INDIRECT(ADDRESS(Data!$AG$67,Data!$AG$65,1,1,\"Data\")):INDIRECT(ADDRESS(Data!$AG$68,Data!$AG$66,1,1,\"Data\")),Data!$AG$83,0))","v":""}]
[null,null,"",null,{"$f":"IF(ISBLANK(D83),\"\",VLOOKUP(D83,INDIRECT(ADDRESS(Data!$AG$67,Data!$AG$65,1,1,\"Data\")):INDIRECT(ADDRESS(Data!$AG$68,Data!$AG$66,1,1,\"Data\")),Data!$AG$75,0))","v":""},{"$f":"IF(ISBLANK(D83),\"\",VLOOKUP(D83,INDIRECT(ADDRESS(Data!$AG$67,Data!$AG$65,1,1,\"Data\")):INDIRECT(ADDRESS(Data!$AG$68,Data!$AG$66,1,1,\"Data\")),Data!$AG$77,0))","v":""},{"$f":"IF(ISBLANK(D83),\"\",VLOOKUP(D83,INDIRECT(ADDRESS(Data!$AG$67,Data!$AG$65,1,1,\"Data\")):INDIRECT(ADDRESS(Data!$AG$68,Data!$AG$66,1,1,\"Data\")),Data!$AG$76,0))","v":""},null,{"$f":"IF(ISBLANK(D83),\"\",VLOOKUP(D83,INDIRECT(ADDRESS(Data!$AG$67,Data!$AG$65,1,1,\"Data\")):INDIRECT(ADDRESS(Data!$AG$68,Data!$AG$66,1,1,\"Data\")),Data!$AG$78,0))","v":""},{"$f":"IF(ISBLANK(D83),\"\",VLOOKUP(D83,INDIRECT(ADDRESS(Data!$AG$67,Data!$AG$65,1,1,\"Data\")):INDIRECT(ADDRESS(Data!$AG$68,Data!$AG$66,1,1,\"Data\")),Data!$AG$80,0))","v":""},{"$f":"IF(ISBLANK(D83),\"\",VLOOKUP(D83,INDIRECT(ADDRESS(Data!$AG$67,Data!$AG$65,1,1,\"Data\")):INDIRECT(ADDRESS(Data!$AG$68,Data!$AG$66,1,1,\"Data\")),Data!$AG$79,0))","v":""},null,{"$f":"IF(ISBLANK(D83),\"\",VLOOKUP(D83,INDIRECT(ADDRESS(Data!$AG$67,Data!$AG$65,1,1,\"Data\")):INDIRECT(ADDRESS(Data!$AG$68,Data!$AG$66,1,1,\"Data\")),Data!$AG$83,0))","v":""}]
[null,null,"",null,{"$f":"IF(ISBLANK(D84),\"\",VLOOKUP(D84,INDIRECT(ADDRESS(Data!$AG$67,Data!$AG$65,1,1,\"Data\")):INDIRECT(ADDRESS(Data!$AG$68,Data!$AG$66,1,1,\"Data\")),Data!$AG$75,0))","v":""},{"$f":"IF(ISBLANK(D84),\"\",VLOOKUP(D84,INDIRECT(ADDRESS(Data!$AG$67,Data!$AG$65,1,1,\"Data\")):INDIRECT(ADDRESS(Data!$AG$68,Data!$AG$66,1,1,\"Data\")),Data!$AG$77,0))","v":""},{"$f":"IF(ISBLANK(D84),\"\",VLOOKUP(D84,INDIRECT(ADDRESS(Data!$AG$67,Data!$AG$65,1,1,\"Data\")):INDIRECT(ADDRESS(Data!$AG$68,Data!$AG$66,1,1,\"Data\")),Data!$AG$76,0))","v":""},null,{"$f":"IF(ISBLANK(D84),\"\",VLOOKUP(D84,INDIRECT(ADDRESS(Data!$AG$67,Data!$AG$65,1,1,\"Data\")):INDIRECT(ADDRESS(Data!$AG$68,Data!$AG$66,1,1,\"Data\")),Data!$AG$78,0))","v":""},{"$f":"IF(ISBLANK(D84),\"\",VLOOKUP(D84,INDIRECT(ADDRESS(Data!$AG$67,Data!$AG$65,1,1,\"Data\")):INDIRECT(ADDRESS(Data!$AG$68,Data!$AG$66,1,1,\"Data\")),Data!$AG$80,0))","v":""},{"$f":"IF(ISBLANK(D84),\"\",VLOOKUP(D84,INDIRECT(ADDRESS(Data!$AG$67,Data!$AG$65,1,1,\"Data\")):INDIRECT(ADDRESS(Data!$AG$68,Data!$AG$66,1,1,\"Data\")),Data!$AG$79,0))","v":""},null,{"$f":"IF(ISBLANK(D84),\"\",VLOOKUP(D84,INDIRECT(ADDRESS(Data!$AG$67,Data!$AG$65,1,1,\"Data\")):INDIRECT(ADDRESS(Data!$AG$68,Data!$AG$66,1,1,\"Data\")),Data!$AG$83,0))","v":""}]
[null,null,"",null,{"$f":"IF(ISBLANK(D85),\"\",VLOOKUP(D85,INDIRECT(ADDRESS(Data!$AG$67,Data!$AG$65,1,1,\"Data\")):INDIRECT(ADDRESS(Data!$AG$68,Data!$AG$66,1,1,\"Data\")),Data!$AG$75,0))","v":""},{"$f":"IF(ISBLANK(D85),\"\",VLOOKUP(D85,INDIRECT(ADDRESS(Data!$AG$67,Data!$AG$65,1,1,\"Data\")):INDIRECT(ADDRESS(Data!$AG$68,Data!$AG$66,1,1,\"Data\")),Data!$AG$77,0))","v":""},{"$f":"IF(ISBLANK(D85),\"\",VLOOKUP(D85,INDIRECT(ADDRESS(Data!$AG$67,Data!$AG$65,1,1,\"Data\")):INDIRECT(ADDRESS(Data!$AG$68,Data!$AG$66,1,1,\"Data\")),Data!$AG$76,0))","v":""},null,{"$f":"IF(ISBLANK(D85),\"\",VLOOKUP(D85,INDIRECT(ADDRESS(Data!$AG$67,Data!$AG$65,1,1,\"Data\")):INDIRECT(ADDRESS(Data!$AG$68,Data!$AG$66,1,1,\"Data\")),Data!$AG$78,0))","v":""},{"$f":"IF(ISBLANK(D85),\"\",VLOOKUP(D85,INDIRECT(ADDRESS(Data!$AG$67,Data!$AG$65,1,1,\"Data\")):INDIRECT(ADDRESS(Data!$AG$68,Data!$AG$66,1,1,\"Data\")),Data!$AG$80,0))","v":""},{"$f":"IF(ISBLANK(D85),\"\",VLOOKUP(D85,INDIRECT(ADDRESS(Data!$AG$67,Data!$AG$65,1,1,\"Data\")):INDIRECT(ADDRESS(Data!$AG$68,Data!$AG$66,1,1,\"Data\")),Data!$AG$79,0))","v":""},null,{"$f":"IF(ISBLANK(D85),\"\",VLOOKUP(D85,INDIRECT(ADDRESS(Data!$AG$67,Data!$AG$65,1,1,\"Data\")):INDIRECT(ADDRESS(Data!$AG$68,Data!$AG$66,1,1,\"Data\")),Data!$AG$83,0))","v":""}]
[null,null,"",null,{"$f":"IF(ISBLANK(D86),\"\",VLOOKUP(D86,INDIRECT(ADDRESS(Data!$AG$67,Data!$AG$65,1,1,\"Data\")):INDIRECT(ADDRESS(Data!$AG$68,Data!$AG$66,1,1,\"Data\")),Data!$AG$75,0))","v":""},{"$f":"IF(ISBLANK(D86),\"\",VLOOKUP(D86,INDIRECT(ADDRESS(Data!$AG$67,Data!$AG$65,1,1,\"Data\")):INDIRECT(ADDRESS(Data!$AG$68,Data!$AG$66,1,1,\"Data\")),Data!$AG$77,0))","v":""},{"$f":"IF(ISBLANK(D86),\"\",VLOOKUP(D86,INDIRECT(ADDRESS(Data!$AG$67,Data!$AG$65,1,1,\"Data\")):INDIRECT(ADDRESS(Data!$AG$68,Data!$AG$66,1,1,\"Data\")),Data!$AG$76,0))","v":""},null,{"$f":"IF(ISBLANK(D86),\"\",VLOOKUP(D86,INDIRECT(ADDRESS(Data!$AG$67,Data!$AG$65,1,1,\"Data\")):INDIRECT(ADDRESS(Data!$AG$68,Data!$AG$66,1,1,\"Data\")),Data!$AG$78,0))","v":""},{"$f":"IF(ISBLANK(D86),\"\",VLOOKUP(D86,INDIRECT(ADDRESS(Data!$AG$67,Data!$AG$65,1,1,\"Data\")):INDIRECT(ADDRESS(Data!$AG$68,Data!$AG$66,1,1,\"Data\")),Data!$AG$80,0))","v":""},{"$f":"IF(ISBLANK(D86),\"\",VLOOKUP(D86,INDIRECT(ADDRESS(Data!$AG$67,Data!$AG$65,1,1,\"Data\")):INDIRECT(ADDRESS(Data!$AG$68,Data!$AG$66,1,1,\"Data\")),Data!$AG$79,0))","v":""},null,{"$f":"IF(ISBLANK(D86),\"\",VLOOKUP(D86,INDIRECT(ADDRESS(Data!$AG$67,Data!$AG$65,1,1,\"Data\")):INDIRECT(ADDRESS(Data!$AG$68,Data!$AG$66,1,1,\"Data\")),Data!$AG$83,0))","v":""}]
[null,null,"",null,{"$f":"IF(ISBLANK(D87),\"\",VLOOKUP(D87,INDIRECT(ADDRESS(Data!$AG$67,Data!$AG$65,1,1,\"Data\")):INDIRECT(ADDRESS(Data!$AG$68,Data!$AG$66,1,1,\"Data\")),Data!$AG$75,0))","v":""},{"$f":"IF(ISBLANK(D87),\"\",VLOOKUP(D87,INDIRECT(ADDRESS(Data!$AG$67,Data!$AG$65,1,1,\"Data\")):INDIRECT(ADDRESS(Data!$AG$68,Data!$AG$66,1,1,\"Data\")),Data!$AG$77,0))","v":""},{"$f":"IF(ISBLANK(D87),\"\",VLOOKUP(D87,INDIRECT(ADDRESS(Data!$AG$67,Data!$AG$65,1,1,\"Data\")):INDIRECT(ADDRESS(Data!$AG$68,Data!$AG$66,1,1,\"Data\")),Data!$AG$76,0))","v":""},null,{"$f":"IF(ISBLANK(D87),\"\",VLOOKUP(D87,INDIRECT(ADDRESS(Data!$AG$67,Data!$AG$65,1,1,\"Data\")):INDIRECT(ADDRESS(Data!$AG$68,Data!$AG$66,1,1,\"Data\")),Data!$AG$78,0))","v":""},{"$f":"IF(ISBLANK(D87),\"\",VLOOKUP(D87,INDIRECT(ADDRESS(Data!$AG$67,Data!$AG$65,1,1,\"Data\")):INDIRECT(ADDRESS(Data!$AG$68,Data!$AG$66,1,1,\"Data\")),Data!$AG$80,0))","v":""},{"$f":"IF(ISBLANK(D87),\"\",VLOOKUP(D87,INDIRECT(ADDRESS(Data!$AG$67,Data!$AG$65,1,1,\"Data\")):INDIRECT(ADDRESS(Data!$AG$68,Data!$AG$66,1,1,\"Data\")),Data!$AG$79,0))","v":""},null,{"$f":"IF(ISBLANK(D87),\"\",VLOOKUP(D87,INDIRECT(ADDRESS(Data!$AG$67,Data!$AG$65,1,1,\"Data\")):INDIRECT(ADDRESS(Data!$AG$68,Data!$AG$66,1,1,\"Data\")),Data!$AG$83,0))","v":""}]
[null,null,"",null,{"$f":"IF(ISBLANK(D88),\"\",VLOOKUP(D88,INDIRECT(ADDRESS(Data!$AG$67,Data!$AG$65,1,1,\"Data\")):INDIRECT(ADDRESS(Data!$AG$68,Data!$AG$66,1,1,\"Data\")),Data!$AG$75,0))","v":""},{"$f":"IF(ISBLANK(D88),\"\",VLOOKUP(D88,INDIRECT(ADDRESS(Data!$AG$67,Data!$AG$65,1,1,\"Data\")):INDIRECT(ADDRESS(Data!$AG$68,Data!$AG$66,1,1,\"Data\")),Data!$AG$77,0))","v":""},{"$f":"IF(ISBLANK(D88),\"\",VLOOKUP(D88,INDIRECT(ADDRESS(Data!$AG$67,Data!$AG$65,1,1,\"Data\")):INDIRECT(ADDRESS(Data!$AG$68,Data!$AG$66,1,1,\"Data\")),Data!$AG$76,0))","v":""},null,{"$f":"IF(ISBLANK(D88),\"\",VLOOKUP(D88,INDIRECT(ADDRESS(Data!$AG$67,Data!$AG$65,1,1,\"Data\")):INDIRECT(ADDRESS(Data!$AG$68,Data!$AG$66,1,1,\"Data\")),Data!$AG$78,0))","v":""},{"$f":"IF(ISBLANK(D88),\"\",VLOOKUP(D88,INDIRECT(ADDRESS(Data!$AG$67,Data!$AG$65,1,1,\"Data\")):INDIRECT(ADDRESS(Data!$AG$68,Data!$AG$66,1,1,\"Data\")),Data!$AG$80,0))","v":""},{"$f":"IF(ISBLANK(D88),\"\",VLOOKUP(D88,INDIRECT(ADDRESS(Data!$AG$67,Data!$AG$65,1,1,\"Data\")):INDIRECT(ADDRESS(Data!$AG$68,Data!$AG$66,1,1,\"Data\")),Data!$AG$79,0))","v":""},null,{"$f":"IF(ISBLANK(D88),\"\",VLOOKUP(D88,INDIRECT(ADDRESS(Data!$AG$67,Data!$AG$65,1,1,\"Data\")):INDIRECT(ADDRESS(Data!$AG$68,Data!$AG$66,1,1,\"Data\")),Data!$AG$83,0))","v":""}]
[null,null,"",null,{"$f":"IF(ISBLANK(D89),\"\",VLOOKUP(D89,INDIRECT(ADDRESS(Data!$AG$67,Data!$AG$65,1,1,\"Data\")):INDIRECT(ADDRESS(Data!$AG$68,Data!$AG$66,1,1,\"Data\")),Data!$AG$75,0))","v":""},{"$f":"IF(ISBLANK(D89),\"\",VLOOKUP(D89,INDIRECT(ADDRESS(Data!$AG$67,Data!$AG$65,1,1,\"Data\")):INDIRECT(ADDRESS(Data!$AG$68,Data!$AG$66,1,1,\"Data\")),Data!$AG$77,0))","v":""},{"$f":"IF(ISBLANK(D89),\"\",VLOOKUP(D89,INDIRECT(ADDRESS(Data!$AG$67,Data!$AG$65,1,1,\"Data\")):INDIRECT(ADDRESS(Data!$AG$68,Data!$AG$66,1,1,\"Data\")),Data!$AG$76,0))","v":""},null,{"$f":"IF(ISBLANK(D89),\"\",VLOOKUP(D89,INDIRECT(ADDRESS(Data!$AG$67,Data!$AG$65,1,1,\"Data\")):INDIRECT(ADDRESS(Data!$AG$68,Data!$AG$66,1,1,\"Data\")),Data!$AG$78,0))","v":""},{"$f":"IF(ISBLANK(D89),\"\",VLOOKUP(D89,INDIRECT(ADDRESS(Data!$AG$67,Data!$AG$65,1,1,\"Data\")):INDIRECT(ADDRESS(Data!$AG$68,Data!$AG$66,1,1,\"Data\")),Data!$AG$80,0))","v":""},{"$f":"IF(ISBLANK(D89),\"\",VLOOKUP(D89,INDIRECT(ADDRESS(Data!$AG$67,Data!$AG$65,1,1,\"Data\")):INDIRECT(ADDRESS(Data!$AG$68,Data!$AG$66,1,1,\"Data\")),Data!$AG$79,0))","v":""},null,{"$f":"IF(ISBLANK(D89),\"\",VLOOKUP(D89,INDIRECT(ADDRESS(Data!$AG$67,Data!$AG$65,1,1,\"Data\")):INDIRECT(ADDRESS(Data!$AG$68,Data!$AG$66,1,1,\"Data\")),Data!$AG$83,0))","v":""}]
[null,null,"",null,{"$f":"IF(ISBLANK(D90),\"\",VLOOKUP(D90,INDIRECT(ADDRESS(Data!$AG$67,Data!$AG$65,1,1,\"Data\")):INDIRECT(ADDRESS(Data!$AG$68,Data!$AG$66,1,1,\"Data\")),Data!$AG$75,0))","v":""},{"$f":"IF(ISBLANK(D90),\"\",VLOOKUP(D90,INDIRECT(ADDRESS(Data!$AG$67,Data!$AG$65,1,1,\"Data\")):INDIRECT(ADDRESS(Data!$AG$68,Data!$AG$66,1,1,\"Data\")),Data!$AG$77,0))","v":""},{"$f":"IF(ISBLANK(D90),\"\",VLOOKUP(D90,INDIRECT(ADDRESS(Data!$AG$67,Data!$AG$65,1,1,\"Data\")):INDIRECT(ADDRESS(Data!$AG$68,Data!$AG$66,1,1,\"Data\")),Data!$AG$76,0))","v":""},null,{"$f":"IF(ISBLANK(D90),\"\",VLOOKUP(D90,INDIRECT(ADDRESS(Data!$AG$67,Data!$AG$65,1,1,\"Data\")):INDIRECT(ADDRESS(Data!$AG$68,Data!$AG$66,1,1,\"Data\")),Data!$AG$78,0))","v":""},{"$f":"IF(ISBLANK(D90),\"\",VLOOKUP(D90,INDIRECT(ADDRESS(Data!$AG$67,Data!$AG$65,1,1,\"Data\")):INDIRECT(ADDRESS(Data!$AG$68,Data!$AG$66,1,1,\"Data\")),Data!$AG$80,0))","v":""},{"$f":"IF(ISBLANK(D90),\"\",VLOOKUP(D90,INDIRECT(ADDRESS(Data!$AG$67,Data!$AG$65,1,1,\"Data\")):INDIRECT(ADDRESS(Data!$AG$68,Data!$AG$66,1,1,\"Data\")),Data!$AG$79,0))","v":""},null,{"$f":"IF(ISBLANK(D90),\"\",VLOOKUP(D90,INDIRECT(ADDRESS(Data!$AG$67,Data!$AG$65,1,1,\"Data\")):INDIRECT(ADDRESS(Data!$AG$68,Data!$AG$66,1,1,\"Data\")),Data!$AG$83,0))","v":""}]
[null,null,"",null,{"$f":"IF(ISBLANK(D91),\"\",VLOOKUP(D91,INDIRECT(ADDRESS(Data!$AG$67,Data!$AG$65,1,1,\"Data\")):INDIRECT(ADDRESS(Data!$AG$68,Data!$AG$66,1,1,\"Data\")),Data!$AG$75,0))","v":""},{"$f":"IF(ISBLANK(D91),\"\",VLOOKUP(D91,INDIRECT(ADDRESS(Data!$AG$67,Data!$AG$65,1,1,\"Data\")):INDIRECT(ADDRESS(Data!$AG$68,Data!$AG$66,1,1,\"Data\")),Data!$AG$77,0))","v":""},{"$f":"IF(ISBLANK(D91),\"\",VLOOKUP(D91,INDIRECT(ADDRESS(Data!$AG$67,Data!$AG$65,1,1,\"Data\")):INDIRECT(ADDRESS(Data!$AG$68,Data!$AG$66,1,1,\"Data\")),Data!$AG$76,0))","v":""},null,{"$f":"IF(ISBLANK(D91),\"\",VLOOKUP(D91,INDIRECT(ADDRESS(Data!$AG$67,Data!$AG$65,1,1,\"Data\")):INDIRECT(ADDRESS(Data!$AG$68,Data!$AG$66,1,1,\"Data\")),Data!$AG$78,0))","v":""},{"$f":"IF(ISBLANK(D91),\"\",VLOOKUP(D91,INDIRECT(ADDRESS(Data!$AG$67,Data!$AG$65,1,1,\"Data\")):INDIRECT(ADDRESS(Data!$AG$68,Data!$AG$66,1,1,\"Data\")),Data!$AG$80,0))","v":""},{"$f":"IF(ISBLANK(D91),\"\",VLOOKUP(D91,INDIRECT(ADDRESS(Data!$AG$67,Data!$AG$65,1,1,\"Data\")):INDIRECT(ADDRESS(Data!$AG$68,Data!$AG$66,1,1,\"Data\")),Data!$AG$79,0))","v":""},null,{"$f":"IF(ISBLANK(D91),\"\",VLOOKUP(D91,INDIRECT(ADDRESS(Data!$AG$67,Data!$AG$65,1,1,\"Data\")):INDIRECT(ADDRESS(Data!$AG$68,Data!$AG$66,1,1,\"Data\")),Data!$AG$83,0))","v":""}]
[null,null,"",null,{"$f":"IF(ISBLANK(D92),\"\",VLOOKUP(D92,INDIRECT(ADDRESS(Data!$AG$67,Data!$AG$65,1,1,\"Data\")):INDIRECT(ADDRESS(Data!$AG$68,Data!$AG$66,1,1,\"Data\")),Data!$AG$75,0))","v":""},{"$f":"IF(ISBLANK(D92),\"\",VLOOKUP(D92,INDIRECT(ADDRESS(Data!$AG$67,Data!$AG$65,1,1,\"Data\")):INDIRECT(ADDRESS(Data!$AG$68,Data!$AG$66,1,1,\"Data\")),Data!$AG$77,0))","v":""},{"$f":"IF(ISBLANK(D92),\"\",VLOOKUP(D92,INDIRECT(ADDRESS(Data!$AG$67,Data!$AG$65,1,1,\"Data\")):INDIRECT(ADDRESS(Data!$AG$68,Data!$AG$66,1,1,\"Data\")),Data!$AG$76,0))","v":""},null,{"$f":"IF(ISBLANK(D92),\"\",VLOOKUP(D92,INDIRECT(ADDRESS(Data!$AG$67,Data!$AG$65,1,1,\"Data\")):INDIRECT(ADDRESS(Data!$AG$68,Data!$AG$66,1,1,\"Data\")),Data!$AG$78,0))","v":""},{"$f":"IF(ISBLANK(D92),\"\",VLOOKUP(D92,INDIRECT(ADDRESS(Data!$AG$67,Data!$AG$65,1,1,\"Data\")):INDIRECT(ADDRESS(Data!$AG$68,Data!$AG$66,1,1,\"Data\")),Data!$AG$80,0))","v":""},{"$f":"IF(ISBLANK(D92),\"\",VLOOKUP(D92,INDIRECT(ADDRESS(Data!$AG$67,Data!$AG$65,1,1,\"Data\")):INDIRECT(ADDRESS(Data!$AG$68,Data!$AG$66,1,1,\"Data\")),Data!$AG$79,0))","v":""},null,{"$f":"IF(ISBLANK(D92),\"\",VLOOKUP(D92,INDIRECT(ADDRESS(Data!$AG$67,Data!$AG$65,1,1,\"Data\")):INDIRECT(ADDRESS(Data!$AG$68,Data!$AG$66,1,1,\"Data\")),Data!$AG$83,0))","v":""}]
[null,null,"",null,{"$f":"IF(ISBLANK(D93),\"\",VLOOKUP(D93,INDIRECT(ADDRESS(Data!$AG$67,Data!$AG$65,1,1,\"Data\")):INDIRECT(ADDRESS(Data!$AG$68,Data!$AG$66,1,1,\"Data\")),Data!$AG$75,0))","v":""},{"$f":"IF(ISBLANK(D93),\"\",VLOOKUP(D93,INDIRECT(ADDRESS(Data!$AG$67,Data!$AG$65,1,1,\"Data\")):INDIRECT(ADDRESS(Data!$AG$68,Data!$AG$66,1,1,\"Data\")),Data!$AG$77,0))","v":""},{"$f":"IF(ISBLANK(D93),\"\",VLOOKUP(D93,INDIRECT(ADDRESS(Data!$AG$67,Data!$AG$65,1,1,\"Data\")):INDIRECT(ADDRESS(Data!$AG$68,Data!$AG$66,1,1,\"Data\")),Data!$AG$76,0))","v":""},null,{"$f":"IF(ISBLANK(D93),\"\",VLOOKUP(D93,INDIRECT(ADDRESS(Data!$AG$67,Data!$AG$65,1,1,\"Data\")):INDIRECT(ADDRESS(Data!$AG$68,Data!$AG$66,1,1,\"Data\")),Data!$AG$78,0))","v":""},{"$f":"IF(ISBLANK(D93),\"\",VLOOKUP(D93,INDIRECT(ADDRESS(Data!$AG$67,Data!$AG$65,1,1,\"Data\")):INDIRECT(ADDRESS(Data!$AG$68,Data!$AG$66,1,1,\"Data\")),Data!$AG$80,0))","v":""},{"$f":"IF(ISBLANK(D93),\"\",VLOOKUP(D93,INDIRECT(ADDRESS(Data!$AG$67,Data!$AG$65,1,1,\"Data\")):INDIRECT(ADDRESS(Data!$AG$68,Data!$AG$66,1,1,\"Data\")),Data!$AG$79,0))","v":""},null,{"$f":"IF(ISBLANK(D93),\"\",VLOOKUP(D93,INDIRECT(ADDRESS(Data!$AG$67,Data!$AG$65,1,1,\"Data\")):INDIRECT(ADDRESS(Data!$AG$68,Data!$AG$66,1,1,\"Data\")),Data!$AG$83,0))","v":""}]
[null,null,"",null,{"$f":"IF(ISBLANK(D94),\"\",VLOOKUP(D94,INDIRECT(ADDRESS(Data!$AG$67,Data!$AG$65,1,1,\"Data\")):INDIRECT(ADDRESS(Data!$AG$68,Data!$AG$66,1,1,\"Data\")),Data!$AG$75,0))","v":""},{"$f":"IF(ISBLANK(D94),\"\",VLOOKUP(D94,INDIRECT(ADDRESS(Data!$AG$67,Data!$AG$65,1,1,\"Data\")):INDIRECT(ADDRESS(Data!$AG$68,Data!$AG$66,1,1,\"Data\")),Data!$AG$77,0))","v":""},{"$f":"IF(ISBLANK(D94),\"\",VLOOKUP(D94,INDIRECT(ADDRESS(Data!$AG$67,Data!$AG$65,1,1,\"Data\")):INDIRECT(ADDRESS(Data!$AG$68,Data!$AG$66,1,1,\"Data\")),Data!$AG$76,0))","v":""},null,{"$f":"IF(ISBLANK(D94),\"\",VLOOKUP(D94,INDIRECT(ADDRESS(Data!$AG$67,Data!$AG$65,1,1,\"Data\")):INDIRECT(ADDRESS(Data!$AG$68,Data!$AG$66,1,1,\"Data\")),Data!$AG$78,0))","v":""},{"$f":"IF(ISBLANK(D94),\"\",VLOOKUP(D94,INDIRECT(ADDRESS(Data!$AG$67,Data!$AG$65,1,1,\"Data\")):INDIRECT(ADDRESS(Data!$AG$68,Data!$AG$66,1,1,\"Data\")),Data!$AG$80,0))","v":""},{"$f":"IF(ISBLANK(D94),\"\",VLOOKUP(D94,INDIRECT(ADDRESS(Data!$AG$67,Data!$AG$65,1,1,\"Data\")):INDIRECT(ADDRESS(Data!$AG$68,Data!$AG$66,1,1,\"Data\")),Data!$AG$79,0))","v":""},null,{"$f":"IF(ISBLANK(D94),\"\",VLOOKUP(D94,INDIRECT(ADDRESS(Data!$AG$67,Data!$AG$65,1,1,\"Data\")):INDIRECT(ADDRESS(Data!$AG$68,Data!$AG$66,1,1,\"Data\")),Data!$AG$83,0))","v":""}]
[null,null,"",null,{"$f":"IF(ISBLANK(D95),\"\",VLOOKUP(D95,INDIRECT(ADDRESS(Data!$AG$67,Data!$AG$65,1,1,\"Data\")):INDIRECT(ADDRESS(Data!$AG$68,Data!$AG$66,1,1,\"Data\")),Data!$AG$75,0))","v":""},{"$f":"IF(ISBLANK(D95),\"\",VLOOKUP(D95,INDIRECT(ADDRESS(Data!$AG$67,Data!$AG$65,1,1,\"Data\")):INDIRECT(ADDRESS(Data!$AG$68,Data!$AG$66,1,1,\"Data\")),Data!$AG$77,0))","v":""},{"$f":"IF(ISBLANK(D95),\"\",VLOOKUP(D95,INDIRECT(ADDRESS(Data!$AG$67,Data!$AG$65,1,1,\"Data\")):INDIRECT(ADDRESS(Data!$AG$68,Data!$AG$66,1,1,\"Data\")),Data!$AG$76,0))","v":""},null,{"$f":"IF(ISBLANK(D95),\"\",VLOOKUP(D95,INDIRECT(ADDRESS(Data!$AG$67,Data!$AG$65,1,1,\"Data\")):INDIRECT(ADDRESS(Data!$AG$68,Data!$AG$66,1,1,\"Data\")),Data!$AG$78,0))","v":""},{"$f":"IF(ISBLANK(D95),\"\",VLOOKUP(D95,INDIRECT(ADDRESS(Data!$AG$67,Data!$AG$65,1,1,\"Data\")):INDIRECT(ADDRESS(Data!$AG$68,Data!$AG$66,1,1,\"Data\")),Data!$AG$80,0))","v":""},{"$f":"IF(ISBLANK(D95),\"\",VLOOKUP(D95,INDIRECT(ADDRESS(Data!$AG$67,Data!$AG$65,1,1,\"Data\")):INDIRECT(ADDRESS(Data!$AG$68,Data!$AG$66,1,1,\"Data\")),Data!$AG$79,0))","v":""},null,{"$f":"IF(ISBLANK(D95),\"\",VLOOKUP(D95,INDIRECT(ADDRESS(Data!$AG$67,Data!$AG$65,1,1,\"Data\")):INDIRECT(ADDRESS(Data!$AG$68,Data!$AG$66,1,1,\"Data\")),Data!$AG$83,0))","v":""}]
[null,null,"",null,{"$f":"IF(ISBLANK(D96),\"\",VLOOKUP(D96,INDIRECT(ADDRESS(Data!$AG$67,Data!$AG$65,1,1,\"Data\")):INDIRECT(ADDRESS(Data!$AG$68,Data!$AG$66,1,1,\"Data\")),Data!$AG$75,0))","v":""},{"$f":"IF(ISBLANK(D96),\"\",VLOOKUP(D96,INDIRECT(ADDRESS(Data!$AG$67,Data!$AG$65,1,1,\"Data\")):INDIRECT(ADDRESS(Data!$AG$68,Data!$AG$66,1,1,\"Data\")),Data!$AG$77,0))","v":""},{"$f":"IF(ISBLANK(D96),\"\",VLOOKUP(D96,INDIRECT(ADDRESS(Data!$AG$67,Data!$AG$65,1,1,\"Data\")):INDIRECT(ADDRESS(Data!$AG$68,Data!$AG$66,1,1,\"Data\")),Data!$AG$76,0))","v":""},null,{"$f":"IF(ISBLANK(D96),\"\",VLOOKUP(D96,INDIRECT(ADDRESS(Data!$AG$67,Data!$AG$65,1,1,\"Data\")):INDIRECT(ADDRESS(Data!$AG$68,Data!$AG$66,1,1,\"Data\")),Data!$AG$78,0))","v":""},{"$f":"IF(ISBLANK(D96),\"\",VLOOKUP(D96,INDIRECT(ADDRESS(Data!$AG$67,Data!$AG$65,1,1,\"Data\")):INDIRECT(ADDRESS(Data!$AG$68,Data!$AG$66,1,1,\"Data\")),Data!$AG$80,0))","v":""},{"$f":"IF(ISBLANK(D96),\"\",VLOOKUP(D96,INDIRECT(ADDRESS(Data!$AG$67,Data!$AG$65,1,1,\"Data\")):INDIRECT(ADDRESS(Data!$AG$68,Data!$AG$66,1,1,\"Data\")),Data!$AG$79,0))","v":""},null,{"$f":"IF(ISBLANK(D96),\"\",VLOOKUP(D96,INDIRECT(ADDRESS(Data!$AG$67,Data!$AG$65,1,1,\"Data\")):INDIRECT(ADDRESS(Data!$AG$68,Data!$AG$66,1,1,\"Data\")),Data!$AG$83,0))","v":""}]
[null,null,"",null,{"$f":"IF(ISBLANK(D97),\"\",VLOOKUP(D97,INDIRECT(ADDRESS(Data!$AG$67,Data!$AG$65,1,1,\"Data\")):INDIRECT(ADDRESS(Data!$AG$68,Data!$AG$66,1,1,\"Data\")),Data!$AG$75,0))","v":""},{"$f":"IF(ISBLANK(D97),\"\",VLOOKUP(D97,INDIRECT(ADDRESS(Data!$AG$67,Data!$AG$65,1,1,\"Data\")):INDIRECT(ADDRESS(Data!$AG$68,Data!$AG$66,1,1,\"Data\")),Data!$AG$77,0))","v":""},{"$f":"IF(ISBLANK(D97),\"\",VLOOKUP(D97,INDIRECT(ADDRESS(Data!$AG$67,Data!$AG$65,1,1,\"Data\")):INDIRECT(ADDRESS(Data!$AG$68,Data!$AG$66,1,1,\"Data\")),Data!$AG$76,0))","v":""},null,{"$f":"IF(ISBLANK(D97),\"\",VLOOKUP(D97,INDIRECT(ADDRESS(Data!$AG$67,Data!$AG$65,1,1,\"Data\")):INDIRECT(ADDRESS(Data!$AG$68,Data!$AG$66,1,1,\"Data\")),Data!$AG$78,0))","v":""},{"$f":"IF(ISBLANK(D97),\"\",VLOOKUP(D97,INDIRECT(ADDRESS(Data!$AG$67,Data!$AG$65,1,1,\"Data\")):INDIRECT(ADDRESS(Data!$AG$68,Data!$AG$66,1,1,\"Data\")),Data!$AG$80,0))","v":""},{"$f":"IF(ISBLANK(D97),\"\",VLOOKUP(D97,INDIRECT(ADDRESS(Data!$AG$67,Data!$AG$65,1,1,\"Data\")):INDIRECT(ADDRESS(Data!$AG$68,Data!$AG$66,1,1,\"Data\")),Data!$AG$79,0))","v":""},null,{"$f":"IF(ISBLANK(D97),\"\",VLOOKUP(D97,INDIRECT(ADDRESS(Data!$AG$67,Data!$AG$65,1,1,\"Data\")):INDIRECT(ADDRESS(Data!$AG$68,Data!$AG$66,1,1,\"Data\")),Data!$AG$83,0))","v":""}]
[null,null,"",null,{"$f":"IF(ISBLANK(D98),\"\",VLOOKUP(D98,INDIRECT(ADDRESS(Data!$AG$67,Data!$AG$65,1,1,\"Data\")):INDIRECT(ADDRESS(Data!$AG$68,Data!$AG$66,1,1,\"Data\")),Data!$AG$75,0))","v":""},{"$f":"IF(ISBLANK(D98),\"\",VLOOKUP(D98,INDIRECT(ADDRESS(Data!$AG$67,Data!$AG$65,1,1,\"Data\")):INDIRECT(ADDRESS(Data!$AG$68,Data!$AG$66,1,1,\"Data\")),Data!$AG$77,0))","v":""},{"$f":"IF(ISBLANK(D98),\"\",VLOOKUP(D98,INDIRECT(ADDRESS(Data!$AG$67,Data!$AG$65,1,1,\"Data\")):INDIRECT(ADDRESS(Data!$AG$68,Data!$AG$66,1,1,\"Data\")),Data!$AG$76,0))","v":""},null,{"$f":"IF(ISBLANK(D98),\"\",VLOOKUP(D98,INDIRECT(ADDRESS(Data!$AG$67,Data!$AG$65,1,1,\"Data\")):INDIRECT(ADDRESS(Data!$AG$68,Data!$AG$66,1,1,\"Data\")),Data!$AG$78,0))","v":""},{"$f":"IF(ISBLANK(D98),\"\",VLOOKUP(D98,INDIRECT(ADDRESS(Data!$AG$67,Data!$AG$65,1,1,\"Data\")):INDIRECT(ADDRESS(Data!$AG$68,Data!$AG$66,1,1,\"Data\")),Data!$AG$80,0))","v":""},{"$f":"IF(ISBLANK(D98),\"\",VLOOKUP(D98,INDIRECT(ADDRESS(Data!$AG$67,Data!$AG$65,1,1,\"Data\")):INDIRECT(ADDRESS(Data!$AG$68,Data!$AG$66,1,1,\"Data\")),Data!$AG$79,0))","v":""},null,{"$f":"IF(ISBLANK(D98),\"\",VLOOKUP(D98,INDIRECT(ADDRESS(Data!$AG$67,Data!$AG$65,1,1,\"Data\")):INDIRECT(ADDRESS(Data!$AG$68,Data!$AG$66,1,1,\"Data\")),Data!$AG$83,0))","v":""}]
[null,null,"",null,{"$f":"IF(ISBLANK(D99),\"\",VLOOKUP(D99,INDIRECT(ADDRESS(Data!$AG$67,Data!$AG$65,1,1,\"Data\")):INDIRECT(ADDRESS(Data!$AG$68,Data!$AG$66,1,1,\"Data\")),Data!$AG$75,0))","v":""},{"$f":"IF(ISBLANK(D99),\"\",VLOOKUP(D99,INDIRECT(ADDRESS(Data!$AG$67,Data!$AG$65,1,1,\"Data\")):INDIRECT(ADDRESS(Data!$AG$68,Data!$AG$66,1,1,\"Data\")),Data!$AG$77,0))","v":""},{"$f":"IF(ISBLANK(D99),\"\",VLOOKUP(D99,INDIRECT(ADDRESS(Data!$AG$67,Data!$AG$65,1,1,\"Data\")):INDIRECT(ADDRESS(Data!$AG$68,Data!$AG$66,1,1,\"Data\")),Data!$AG$76,0))","v":""},null,{"$f":"IF(ISBLANK(D99),\"\",VLOOKUP(D99,INDIRECT(ADDRESS(Data!$AG$67,Data!$AG$65,1,1,\"Data\")):INDIRECT(ADDRESS(Data!$AG$68,Data!$AG$66,1,1,\"Data\")),Data!$AG$78,0))","v":""},{"$f":"IF(ISBLANK(D99),\"\",VLOOKUP(D99,INDIRECT(ADDRESS(Data!$AG$67,Data!$AG$65,1,1,\"Data\")):INDIRECT(ADDRESS(Data!$AG$68,Data!$AG$66,1,1,\"Data\")),Data!$AG$80,0))","v":""},{"$f":"IF(ISBLANK(D99),\"\",VLOOKUP(D99,INDIRECT(ADDRESS(Data!$AG$67,Data!$AG$65,1,1,\"Data\")):INDIRECT(ADDRESS(Data!$AG$68,Data!$AG$66,1,1,\"Data\")),Data!$AG$79,0))","v":""},null,{"$f":"IF(ISBLANK(D99),\"\",VLOOKUP(D99,INDIRECT(ADDRESS(Data!$AG$67,Data!$AG$65,1,1,\"Data\")):INDIRECT(ADDRESS(Data!$AG$68,Data!$AG$66,1,1,\"Data\")),Data!$AG$83,0))","v":""}]
[null,null,"",null,{"$f":"IF(ISBLANK(D100),\"\",VLOOKUP(D100,INDIRECT(ADDRESS(Data!$AG$67,Data!$AG$65,1,1,\"Data\")):INDIRECT(ADDRESS(Data!$AG$68,Data!$AG$66,1,1,\"Data\")),Data!$AG$75,0))","v":""},{"$f":"IF(ISBLANK(D100),\"\",VLOOKUP(D100,INDIRECT(ADDRESS(Data!$AG$67,Data!$AG$65,1,1,\"Data\")):INDIRECT(ADDRESS(Data!$AG$68,Data!$AG$66,1,1,\"Data\")),Data!$AG$77,0))","v":""},{"$f":"IF(ISBLANK(D100),\"\",VLOOKUP(D100,INDIRECT(ADDRESS(Data!$AG$67,Data!$AG$65,1,1,\"Data\")):INDIRECT(ADDRESS(Data!$AG$68,Data!$AG$66,1,1,\"Data\")),Data!$AG$76,0))","v":""},null,{"$f":"IF(ISBLANK(D100),\"\",VLOOKUP(D100,INDIRECT(ADDRESS(Data!$AG$67,Data!$AG$65,1,1,\"Data\")):INDIRECT(ADDRESS(Data!$AG$68,Data!$AG$66,1,1,\"Data\")),Data!$AG$78,0))","v":""},{"$f":"IF(ISBLANK(D100),\"\",VLOOKUP(D100,INDIRECT(ADDRESS(Data!$AG$67,Data!$AG$65,1,1,\"Data\")):INDIRECT(ADDRESS(Data!$AG$68,Data!$AG$66,1,1,\"Data\")),Data!$AG$80,0))","v":""},{"$f":"IF(ISBLANK(D100),\"\",VLOOKUP(D100,INDIRECT(ADDRESS(Data!$AG$67,Data!$AG$65,1,1,\"Data\")):INDIRECT(ADDRESS(Data!$AG$68,Data!$AG$66,1,1,\"Data\")),Data!$AG$79,0))","v":""},null,{"$f":"IF(ISBLANK(D100),\"\",VLOOKUP(D100,INDIRECT(ADDRESS(Data!$AG$67,Data!$AG$65,1,1,\"Data\")):INDIRECT(ADDRESS(Data!$AG$68,Data!$AG$66,1,1,\"Data\")),Data!$AG$83,0))","v":""}]
[null,null,"",null,{"$f":"IF(ISBLANK(D101),\"\",VLOOKUP(D101,INDIRECT(ADDRESS(Data!$AG$67,Data!$AG$65,1,1,\"Data\")):INDIRECT(ADDRESS(Data!$AG$68,Data!$AG$66,1,1,\"Data\")),Data!$AG$75,0))","v":""},{"$f":"IF(ISBLANK(D101),\"\",VLOOKUP(D101,INDIRECT(ADDRESS(Data!$AG$67,Data!$AG$65,1,1,\"Data\")):INDIRECT(ADDRESS(Data!$AG$68,Data!$AG$66,1,1,\"Data\")),Data!$AG$77,0))","v":""},{"$f":"IF(ISBLANK(D101),\"\",VLOOKUP(D101,INDIRECT(ADDRESS(Data!$AG$67,Data!$AG$65,1,1,\"Data\")):INDIRECT(ADDRESS(Data!$AG$68,Data!$AG$66,1,1,\"Data\")),Data!$AG$76,0))","v":""},null,{"$f":"IF(ISBLANK(D101),\"\",VLOOKUP(D101,INDIRECT(ADDRESS(Data!$AG$67,Data!$AG$65,1,1,\"Data\")):INDIRECT(ADDRESS(Data!$AG$68,Data!$AG$66,1,1,\"Data\")),Data!$AG$78,0))","v":""},{"$f":"IF(ISBLANK(D101),\"\",VLOOKUP(D101,INDIRECT(ADDRESS(Data!$AG$67,Data!$AG$65,1,1,\"Data\")):INDIRECT(ADDRESS(Data!$AG$68,Data!$AG$66,1,1,\"Data\")),Data!$AG$80,0))","v":""},{"$f":"IF(ISBLANK(D101),\"\",VLOOKUP(D101,INDIRECT(ADDRESS(Data!$AG$67,Data!$AG$65,1,1,\"Data\")):INDIRECT(ADDRESS(Data!$AG$68,Data!$AG$66,1,1,\"Data\")),Data!$AG$79,0))","v":""},null,{"$f":"IF(ISBLANK(D101),\"\",VLOOKUP(D101,INDIRECT(ADDRESS(Data!$AG$67,Data!$AG$65,1,1,\"Data\")):INDIRECT(ADDRESS(Data!$AG$68,Data!$AG$66,1,1,\"Data\")),Data!$AG$83,0))","v":""}]
[null,null,"",null,{"$f":"IF(ISBLANK(D102),\"\",VLOOKUP(D102,INDIRECT(ADDRESS(Data!$AG$67,Data!$AG$65,1,1,\"Data\")):INDIRECT(ADDRESS(Data!$AG$68,Data!$AG$66,1,1,\"Data\")),Data!$AG$75,0))","v":""},{"$f":"IF(ISBLANK(D102),\"\",VLOOKUP(D102,INDIRECT(ADDRESS(Data!$AG$67,Data!$AG$65,1,1,\"Data\")):INDIRECT(ADDRESS(Data!$AG$68,Data!$AG$66,1,1,\"Data\")),Data!$AG$77,0))","v":""},{"$f":"IF(ISBLANK(D102),\"\",VLOOKUP(D102,INDIRECT(ADDRESS(Data!$AG$67,Data!$AG$65,1,1,\"Data\")):INDIRECT(ADDRESS(Data!$AG$68,Data!$AG$66,1,1,\"Data\")),Data!$AG$76,0))","v":""},null,{"$f":"IF(ISBLANK(D102),\"\",VLOOKUP(D102,INDIRECT(ADDRESS(Data!$AG$67,Data!$AG$65,1,1,\"Data\")):INDIRECT(ADDRESS(Data!$AG$68,Data!$AG$66,1,1,\"Data\")),Data!$AG$78,0))","v":""},{"$f":"IF(ISBLANK(D102),\"\",VLOOKUP(D102,INDIRECT(ADDRESS(Data!$AG$67,Data!$AG$65,1,1,\"Data\")):INDIRECT(ADDRESS(Data!$AG$68,Data!$AG$66,1,1,\"Data\")),Data!$AG$80,0))","v":""},{"$f":"IF(ISBLANK(D102),\"\",VLOOKUP(D102,INDIRECT(ADDRESS(Data!$AG$67,Data!$AG$65,1,1,\"Data\")):INDIRECT(ADDRESS(Data!$AG$68,Data!$AG$66,1,1,\"Data\")),Data!$AG$79,0))","v":""},null,{"$f":"IF(ISBLANK(D102),\"\",VLOOKUP(D102,INDIRECT(ADDRESS(Data!$AG$67,Data!$AG$65,1,1,\"Data\")):INDIRECT(ADDRESS(Data!$AG$68,Data!$AG$66,1,1,\"Data\")),Data!$AG$83,0))","v":""}]
[]
["Field","Field Area (ac)","Buffer Length (ft)","Buffer Width (ft)","Appl Area (ac)","Predominant Vegetation",null,"Percent Ground Cover",null,"Conservation Support Practices (P)",null,"RUSLE 1 (ton/ac)","RUSLE 2 (ton/ac)"]
[{"$f":"IF(ISBLANK(A53),\"\",A53)","v":"Rotation"},35,null,null,{"$f":"IF(OR(ISBLANK(A105),ISBLANK(B105)),\"\",B105-C105*D105/43560)","v":35},"Grass",null,"95-100",null,"None in place",null,{"$f":"IF(ISNA(Calcs!AI29),\"\",Calcs!AI29)","v":0.143682},0.18883920000000001]
[{"$f":"IF(ISBLANK(A54),\"\",A54)","v":"Continuous"},32,null,null,{"$f":"IF(OR(ISBLANK(A106),ISBLANK(B106)),\"\",B106-C106*D106/43560)","v":32},"Grass",null,"95-100",null,"None in place",null,{"$f":"IF(ISNA(Calcs!AI30),\"\",Calcs!AI30)","v":0.27430199999999999},0.27430199999999999]
["",null,null,null,{"$f":"IF(OR(ISBLANK(A107),ISBLANK(B107)),\"\",B107-C107*D107/43560)","v":""},null,null,null,null,null,null,{"$f":"IF(ISNA(Calcs!AI31),\"\",Calcs!AI31)","v":""}]
["",null,null,null,{"$f":"IF(OR(ISBLANK(A108),ISBLANK(B108)),\"\",B108-C108*D108/43560)","v":""},null,null,null,null,null,null,{"$f":"IF(ISNA(Calcs!AI32),\"\",Calcs!AI32)","v":""}]
["",null,null,null,"",null,null,null,null,null,null,{"$f":"IF(ISNA(Calcs!AI33),\"\",Calcs!AI33)","v":""}]
["",null,null,null,"",null,null,null,null,null,null,{"$f":"IF(ISNA(Calcs!AI34),\"\",Calcs!AI34)","v":""}]
["",null,null,null,"",null,null,null,null,null,null,{"$f":"IF(ISNA(Calcs!AI35),\"\",Calcs!AI35)","v":""}]
["",null,null,null,"",null,null,null,null,null,null,{"$f":"IF(ISNA(Calcs!AI36),\"\",Calcs!AI36)","v":""}]
["",null,null,null,"",null,null,null,null,null,null,{"$f":"IF(ISNA(Calcs!AI37),\"\",Calcs!AI37)","v":""}]
["",null,null,null,"",null,null,null,null,null,null,{"$f":"IF(ISNA(Calcs!AI38),\"\",Calcs!AI38)","v":""}]
["",null,null,null,"",null,null,null,null,null,null,{"$f":"IF(ISNA(Calcs!AI39),\"\",Calcs!AI39)","v":""}]
["",null,null,null,"",null,null,null,null,null,null,{"$f":"IF(ISNA(Calcs!AI40),\"\",Calcs!AI40)","v":""}]
["",null,null,null,"",null,null,null,null,null,null,{"$f":"IF(ISNA(Calcs!AI41),\"\",Calcs!AI41)","v":""}]
["",null,null,null,"",null,null,null,null,null,null,{"$f":"IF(ISNA(Calcs!AI42),\"\",Calcs!AI42)","v":""}]
["",null,null,null,"",null,null,null,null,null,null,{"$f":"IF(ISNA(Calcs!AI43),\"\",Calcs!AI43)","v":""}]
["",null,null,null,"",null,null,null,null,null,null,{"$f":"IF(ISNA(Calcs!AI44),\"\",Calcs!AI44)","v":""}]
["",null,null,null,"",null,null,null,null,null,null,{"$f":"IF(ISNA(Calcs!AI45),\"\",Calcs!AI45)","v":""}]
["",null,null,null,"",null,null,null,null,null,null,{"$f":"IF(ISNA(Calcs!AI46),\"\",Calcs!AI46)","v":""}]
["",null,null,null,"",null,null,null,null,null,null,{"$f":"IF(ISNA(Calcs!AI47),\"\",Calcs!AI47)","v":""}]
["",null,null,null,"",null,null,null,null,null,null,{"$f":"IF(ISNA(Calcs!AI48),\"\",Calcs!AI48)","v":""}]
["",null,null,null,"",null,null,null,null,null,null,{"$f":"IF(ISNA(Calcs!AI49),\"\",Calcs!AI49)","v":""}]
["",null,null,null,"",null,null,null,null,null,null,{"$f":"IF(ISNA(Calcs!AI50),\"\",Calcs!AI50)","v":""}]
["",null,null,null,"",null,null,null,null,null,null,{"$f":"IF(ISNA(Calcs!AI51),\"\",Calcs!AI51)","v":""}]
["",null,null,null,"",null,null,null,null,null,null,{"$f":"IF(ISNA(Calcs!AI52),\"\",Calcs!AI52)","v":""}]
["",null,null,null,"",null,null,null,null,null,null,{"$f":"IF(ISNA(Calcs!AI53),\"\",Calcs!AI53)","v":""}]
["",null,null,null,"",null,null,null,null,null,null,{"$f":"IF(ISNA(Calcs!AI54),\"\",Calcs!AI54)","v":""}]
["",null,null,null,"",null,null,null,null,null,null,{"$f":"IF(ISNA(Calcs!AI55),\"\",Calcs!AI55)","v":""}]
["",null,null,null,"",null,null,null,null,null,null,{"$f":"IF(ISNA(Calcs!AI56),\"\",Calcs!AI56)","v":""}]
["",null,null,null,"",null,null,null,null,null,null,{"$f":"IF(ISNA(Calcs!AI57),\"\",Calcs!AI57)","v":""}]
["",null,null,null,"",null,null,null,null,null,null,{"$f":"IF(ISNA(Calcs!AI58),\"\",Calcs!AI58)","v":""}]
["",null,null,null,"",null,null,null,null,null,null,{"$f":"IF(ISNA(Calcs!AI59),\"\",Calcs!AI59)","v":""}]
["",null,null,null,"",null,null,null,null,null,null,{"$f":"IF(ISNA(Calcs!AI60),\"\",Calcs!AI60)","v":""}]
["",null,null,null,"",null,null,null,null,null,null,{"$f":"IF(ISNA(Calcs!AI61),\"\",Calcs!AI61)","v":""}]
["",null,null,null,"",null,null,null,null,null,null,{"$f":"IF(ISNA(Calcs!AI62),\"\",Calcs!AI62)","v":""}]
["",null,null,null,"",null,null,null,null,null,null,{"$f":"IF(ISNA(Calcs!AI63),\"\",Calcs!AI63)","v":""}]
["",null,null,null,"",null,null,null,null,null,null,{"$f":"IF(ISNA(Calcs!AI64),\"\",Calcs!AI64)","v":""}]
["",null,null,null,"",null,null,null,null,null,null,{"$f":"IF(ISNA(Calcs!AI65),\"\",Calcs!AI65)","v":""}]
["",null,null,null,"",null,null,null,null,null,null,{"$f":"IF(ISNA(Calcs!AI66),\"\",Calcs!AI66)","v":""}]
["",null,null,null,"",null,null,null,null,null,null,{"$f":"IF(ISNA(Calcs!AI67),\"\",Calcs!AI67)","v":""}]
["",null,null,null,"",null,null,null,null,null,null,{"$f":"IF(ISNA(Calcs!AI68),\"\",Calcs!AI68)","v":""}]
["",null,null,null,"",null,null,null,null,null,null,{"$f":"IF(ISNA(Calcs!AI69),\"\",Calcs!AI69)","v":""}]
["",null,null,null,"",null,null,null,null,null,null,{"$f":"IF(ISNA(Calcs!AI70),\"\",Calcs!AI70)","v":""}]
["",null,null,null,"",null,null,null,null,null,null,{"$f":"IF(ISNA(Calcs!AI71),\"\",Calcs!AI71)","v":""}]
["",null,null,null,"",null,null,null,null,null,null,{"$f":"IF(ISNA(Calcs!AI72),\"\",Calcs!AI72)","v":""}]
["",null,null,null,"",null,null,null,null,null,null,{"$f":"IF(ISNA(Calcs!AI73),\"\",Calcs!AI73)","v":""}]
["",null,null,null,"",null,null,null,null,null,null,{"$f":"IF(ISNA(Calcs!AI74),\"\",Calcs!AI74)","v":""}]
["",null,null,null,"",null,null,null,null,null,null,{"$f":"IF(ISNA(Calcs!AI75),\"\",Calcs!AI75)","v":""}]
["",null,null,null,"",null,null,null,null,null,null,{"$f":"IF(ISNA(Calcs!AI76),\"\",Calcs!AI76)","v":""}]
["",null,null,null,"",null,null,null,null,null,null,{"$f":"IF(ISNA(Calcs!AI77),\"\",Calcs!AI77)","v":""}]
["",null,null,null,"",null,null,null,null,null,null,{"$f":"IF(ISNA(Calcs!AI78),\"\",Calcs!AI78)","v":""}]
[null,{"$f":"SUM(B105:B154)","v":67},null,null,{"$f":"SUM(E105:E154)","v":67}]
[]
[]
["Field","Pasture Use",null,null,null,"Application Method",null,"Application Timing","Nutrient Source","Application Rate",null,"Pre BMP PI Value","P Index Range","Target Post BMPs PI Values"]
[{"$f":"IF(ISBLANK(A53),\"\",A53)","v":"Rotation"},"Rotational Grazing",null,null,null,"Surface Applied",null,"March-June","Cake",1.6199999999999992,{"$f":"IF(ISBLANK(I159),\"\",INDEX(Nutrient_Source_Description,MATCH(I159,Nutrient_Source,0),6))","v":"ton/ac"},{"$f":"IF(ISNA(Calcs!AY29),\"\",Calcs!AY29)","v":66},{"$f":"IF(ISNA(Calcs!AZ29),\"\",Calcs!AZ29)","v":"Medium"},66]
[{"$f":"IF(ISBLANK(A54),\"\",A54)","v":"Continuous"},"Continuously Grazed <0.75 An.Units",null,null,null,"Surface Applied",null,"March-June","Cake",3.5881578947368422,{"$f":"IF(ISBLANK(I160),\"\",INDEX(Nutrient_Source_Description,MATCH(I160,Nutrient_Source,0),6))","v":"ton/ac"},{"$f":"IF(ISNA(Calcs!AY30),\"\",Calcs!AY30)","v":66},{"$f":"IF(ISNA(Calcs!AZ30),\"\",Calcs!AZ30)","v":"Medium"},66]
["",null,null,null,null,null,null,null,null,null,"",{"$f":"IF(ISNA(Calcs!AY31),\"\",Calcs!AY31)","v":""},{"$f":"IF(ISNA(Calcs!AZ31),\"\",Calcs!AZ31)","v":""}]
["",null,null,null,null,null,null,null,null,null,"",{"$f":"IF(ISNA(Calcs!AY32),\"\",Calcs!AY32)","v":""},{"$f":"IF(ISNA(Calcs!AZ32),\"\",Calcs!AZ32)","v":""}]
["",null,null,null,null,null,null,null,null,null,"",{"$f":"IF(ISNA(Calcs!AY33),\"\",Calcs!AY33)","v":""},{"$f":"IF(ISNA(Calcs!AZ33),\"\",Calcs!AZ33)","v":""}]
["",null,null,null,null,null,null,null,null,null,"",{"$f":"IF(ISNA(Calcs!AY34),\"\",Calcs!AY34)","v":""},{"$f":"IF(ISNA(Calcs!AZ34),\"\",Calcs!AZ34)","v":""}]
["",null,null,null,null,null,null,null,null,null,"",{"$f":"IF(ISNA(Calcs!AY35),\"\",Calcs!AY35)","v":""},{"$f":"IF(ISNA(Calcs!AZ35),\"\",Calcs!AZ35)","v":""}]
["",null,null,null,null,null,null,null,null,null,"",{"$f":"IF(ISNA(Calcs!AY36),\"\",Calcs!AY36)","v":""},{"$f":"IF(ISNA(Calcs!AZ36),\"\",Calcs!AZ36)","v":""}]
["",null,null,null,null,null,null,null,null,null,"",{"$f":"IF(ISNA(Calcs!AY37),\"\",Calcs!AY37)","v":""},{"$f":"IF(ISNA(Calcs!AZ37),\"\",Calcs!AZ37)","v":""}]
["",null,null,null,null,null,null,null,null,null,"",{"$f":"IF(ISNA(Calcs!AY38),\"\",Calcs!AY38)","v":""},{"$f":"IF(ISNA(Calcs!AZ38),\"\",Calcs!AZ38)","v":""}]
["",null,null,null,null,null,null,null,null,null,"",{"$f":"IF(ISNA(Calcs!AY39),\"\",Calcs!AY39)","v":""},{"$f":"IF(ISNA(Calcs!AZ39),\"\",Calcs!AZ39)","v":""}]
["",null,null,null,null,null,null,null,null,null,"",{"$f":"IF(ISNA(Calcs!AY40),\"\",Calcs!AY40)","v":""},{"$f":"IF(ISNA(Calcs!AZ40),\"\",Calcs!AZ40)","v":""}]
["",null,null,null,null,null,null,null,null,null,"",{"$f":"IF(ISNA(Calcs!AY41),\"\",Calcs!AY41)","v":""},{"$f":"IF(ISNA(Calcs!AZ41),\"\",Calcs!AZ41)","v":""}]
["",null,null,null,null,null,null,null,null,null,"",{"$f":"IF(ISNA(Calcs!AY42),\"\",Calcs!AY42)","v":""},{"$f":"IF(ISNA(Calcs!AZ42),\"\",Calcs!AZ42)","v":""}]
["",null,null,null,null,null,null,null,null,null,"",{"$f":"IF(ISNA(Calcs!AY43),\"\",Calcs!AY43)","v":""},{"$f":"IF(ISNA(Calcs!AZ43),\"\",Calcs!AZ43)","v":""}]
["",null,null,null,null,null,null,null,null,null,"",{"$f":"IF(ISNA(Calcs!AY44),\"\",Calcs!AY44)","v":""},{"$f":"IF(ISNA(Calcs!AZ44),\"\",Calcs!AZ44)","v":""}]
["",null,null,null,null,null,null,null,null,null,"",{"$f":"IF(ISNA(Calcs!AY45),\"\",Calcs!AY45)","v":""},{"$f":"IF(ISNA(Calcs!AZ45),\"\",Calcs!AZ45)","v":""}]
["",null,null,null,null,null,null,null,null,null,"",{"$f":"IF(ISNA(Calcs!AY46),\"\",Calcs!AY46)","v":""},{"$f":"IF(ISNA(Calcs!AZ46),\"\",Calcs!AZ46)","v":""}]
["",null,null,null,null,null,null,null,null,null,"",{"$f":"IF(ISNA(Calcs!AY47),\"\",Calcs!AY47)","v":""},{"$f":"IF(ISNA(Calcs!AZ47),\"\",Calcs!AZ47)","v":""}]
["",null,null,null,null,null,null,null,null,null,"",{"$f":"IF(ISNA(Calcs!AY48),\"\",Calcs!AY48)","v":""},{"$f":"IF(ISNA(Calcs!AZ48),\"\",Calcs!AZ48)","v":""}]
["",null,null,null,null,null,null,null,null,null,"",{"$f":"IF(ISNA(Calcs!AY49),\"\",Calcs!AY49)","v":""},{"$f":"IF(ISNA(Calcs!AZ49),\"\",Calcs!AZ49)","v":""}]
["",null,null,null,null,null,null,null,null,null,"",{"$f":"IF(ISNA(Calcs!AY50),\"\",Calcs!AY50)","v":""},{"$f":"IF(ISNA(Calcs!AZ50),\"\",Calcs!AZ50)","v":""}]
["",null,null,null,null,null,null,null,null,null,"",{"$f":"IF(ISNA(Calcs!AY51),\"\",Calcs!AY51)","v":""},{"$f":"IF(ISNA(Calcs!AZ51),\"\",Calcs!AZ51)","v":""}]
["",null,null,null,null,null,null,null,null,null,"",{"$f":"IF(ISNA(Calcs!AY52),\"\",Calcs!AY52)","v":""},{"$f":"IF(ISNA(Calcs!AZ52),\"\",Calcs!AZ52)","v":""}]
["",null,null,null,null,null,null,null,null,null,"",{"$f":"IF(ISNA(Calcs!AY53),\"\",Calcs!AY53)","v":""},{"$f":"IF(ISNA(Calcs!AZ53),\"\",Calcs!AZ53)","v":""}]
["",null,null,null,null,null,null,null,null,null,"",{"$f":"IF(ISNA(Calcs!AY54),\"\",Calcs!AY54)","v":""},{"$f":"IF(ISNA(Calcs!AZ54),\"\",Calcs!AZ54)","v":""}]
["",null,null,null,null,null,null,null,null,null,"",{"$f":"IF(ISNA(Calcs!AY55),\"\",Calcs!AY55)","v":""},{"$f":"IF(ISNA(Calcs!AZ55),\"\",Calcs!AZ55)","v":""}]
["",null,null,null,null,null,null,null,null,null,"",{"$f":"IF(ISNA(Calcs!AY56),\"\",Calcs!AY56)","v":""},{"$f":"IF(ISNA(Calcs!AZ56),\"\",Calcs!AZ56)","v":""}]
["",null,null,null,null,null,null,null,null,null,"",{"$f":"IF(ISNA(Calcs!AY57),\"\",Calcs!AY57)","v":""},{"$f":"IF(ISNA(Calcs!AZ57),\"\",Calcs!AZ57)","v":""}]
["",null,null,null,null,null,null,null,null,null,"",{"$f":"IF(ISNA(Calcs!AY58),\"\",Calcs!AY58)","v":""},{"$f":"IF(ISNA(Calcs!AZ58),\"\",Calcs!AZ58)","v":""}]
["",null,null,null,null,null,null,null,null,null,"",{"$f":"IF(ISNA(Calcs!AY59),\"\",Calcs!AY59)","v":""},{"$f":"IF(ISNA(Calcs!AZ59),\"\",Calcs!AZ59)","v":""}]
["",null,null,null,null,null,null,null,null,null,"",{"$f":"IF(ISNA(Calcs!AY60),\"\",Calcs!AY60)","v":""},{"$f":"IF(ISNA(Calcs!AZ60),\"\",Calcs!AZ60)","v":""}]
["",null,null,null,null,null,null,null,null,null,"",{"$f":"IF(ISNA(Calcs!AY61),\"\",Calcs!AY61)","v":""},{"$f":"IF(ISNA(Calcs!AZ61),\"\",Calcs!AZ61)","v":""}]
["",null,null,null,null,null,null,null,null,null,"",{"$f":"IF(ISNA(Calcs!AY62),\"\",Calcs!AY62)","v":""},{"$f":"IF(ISNA(Calcs!AZ62),\"\",Calcs!AZ62)","v":""}]
["",null,null,null,null,null,null,null,null,null,"",{"$f":"IF(ISNA(Calcs!AY63),\"\",Calcs!AY63)","v":""},{"$f":"IF(ISNA(Calcs!AZ63),\"\",Calcs!AZ63)","v":""}]
["",null,null,null,null,null,null,null,null,null,"",{"$f":"IF(ISNA(Calcs!AY64),\"\",Calcs!AY64)","v":""},{"$f":"IF(ISNA(Calcs!AZ64),\"\",Calcs!AZ64)","v":""}]
["",null,null,null,null,null,null,null,null,null,"",{"$f":"IF(ISNA(Calcs!AY65),\"\",Calcs!AY65)","v":""},{"$f":"IF(ISNA(Calcs!AZ65),\"\",Calcs!AZ65)","v":""}]
["",null,null,null,null,null,null,null,null,null,"",{"$f":"IF(ISNA(Calcs!AY66),\"\",Calcs!AY66)","v":""},{"$f":"IF(ISNA(Calcs!AZ66),\"\",Calcs!AZ66)","v":""}]
["",null,null,null,null,null,null,null,null,null,"",{"$f":"IF(ISNA(Calcs!AY67),\"\",Calcs!AY67)","v":""},{"$f":"IF(ISNA(Calcs!AZ67),\"\",Calcs!AZ67)","v":""}]
["",null,null,null,null,null,null,null,null,null,"",{"$f":"IF(ISNA(Calcs!AY68),\"\",Calcs!AY68)","v":""},{"$f":"IF(ISNA(Calcs!AZ68),\"\",Calcs!AZ68)","v":""}]
["",null,null,null,null,null,null,null,null,null,{"$f":"IF(ISBLANK(I199),\"\",INDEX(Nutrient_Source_Description,MATCH(I199,Nutrient_Source,0),6))","v":""},{"$f":"IF(ISNA(Calcs!AY69),\"\",Calcs!AY69)","v":""},{"$f":"IF(ISNA(Calcs!AZ69),\"\",Calcs!AZ69)","v":""}]
["",null,null,null,null,null,null,null,null,null,{"$f":"IF(ISBLANK(I200),\"\",INDEX(Nutrient_Source_Description,MATCH(I200,Nutrient_Source,0),6))","v":""},{"$f":"IF(ISNA(Calcs!AY70),\"\",Calcs!AY70)","v":""},{"$f":"IF(ISNA(Calcs!AZ70),\"\",Calcs!AZ70)","v":""}]
["",null,null,null,null,null,null,null,null,null,"",{"$f":"IF(ISNA(Calcs!AY71),\"\",Calcs!AY71)","v":""},{"$f":"IF(ISNA(Calcs!AZ71),\"\",Calcs!AZ71)","v":""}]
["",null,null,null,null,null,null,null,null,null,"",{"$f":"IF(ISNA(Calcs!AY72),\"\",Calcs!AY72)","v":""},{"$f":"IF(ISNA(Calcs!AZ72),\"\",Calcs!AZ72)","v":""}]
["",null,null,null,null,null,null,null,null,null,"",{"$f":"IF(ISNA(Calcs!AY73),\"\",Calcs!AY73)","v":""},{"$f":"IF(ISNA(Calcs!AZ73),\"\",Calcs!AZ73)","v":""}]
["",null,null,null,null,null,null,null,null,null,"",{"$f":"IF(ISNA(Calcs!AY74),\"\",Calcs!AY74)","v":""},{"$f":"IF(ISNA(Calcs!AZ74),\"\",Calcs!AZ74)","v":""}]
["",null,null,null,null,null,null,null,null,null,"",{"$f":"IF(ISNA(Calcs!AY75),\"\",Calcs!AY75)","v":""},{"$f":"IF(ISNA(Calcs!AZ75),\"\",Calcs!AZ75)","v":""}]
["",null,null,null,null,null,null,null,null,null,"",{"$f":"IF(ISNA(Calcs!AY76),\"\",Calcs!AY76)","v":""},{"$f":"IF(ISNA(Calcs!AZ76),\"\",Calcs!AZ76)","v":""}]
["",null,null,null,null,null,null,null,null,null,"",{"$f":"IF(ISNA(Calcs!AY77),\"\",Calcs!AY77)","v":""},{"$f":"IF(ISNA(Calcs!AZ77),\"\",Calcs!AZ77)","v":""}]
["",null,null,null,null,null,null,null,null,null,"",{"$f":"IF(ISNA(Calcs!AY78),\"\",Calcs!AY78)","v":""},{"$f":"IF(ISNA(Calcs!AZ78),\"\",Calcs!AZ78)","v":""}]
[]
["Best Management Practices"]
["Field","Diversion","Terrace","Pond","Filter Strip","Grassed Waterway","Fencing","Riparian Forest Buffer","Riparian Herbaceous Cover","Field Borders","Post BMP PI Value","P Index Range"]
[{"$f":"IF(ISBLANK(A53),\"\",A53)","v":"Rotation"},null,null,null,null,null,null,null,null,null,{"$f":"IF(ISNA(Calcs!BK29),\"\",Calcs!BK29)","v":66},{"$f":"IF(ISNA(Calcs!BL29),\"\",Calcs!BL29)","v":"Medium"}]
[{"$f":"IF(ISBLANK(A54),\"\",A54)","v":"Continuous"},null,null,null,null,null,null,null,null,null,{"$f":"IF(ISNA(Calcs!BK30),\"\",Calcs!BK30)","v":66},{"$f":"IF(ISNA(Calcs!BL30),\"\",Calcs!BL30)","v":"Medium"}]
["",null,null,null,null,null,null,null,null,null,{"$f":"IF(ISNA(Calcs!BK31),\"\",Calcs!BK31)","v":""},{"$f":"IF(ISNA(Calcs!BL31),\"\",Calcs!BL31)","v":""}]
["",null,null,null,null,null,null,null,null,null,{"$f":"IF(ISNA(Calcs!BK32),\"\",Calcs!BK32)","v":""},{"$f":"IF(ISNA(Calcs!BL32),\"\",Calcs!BL32)","v":""}]
["",null,null,null,null,null,null,null,null,null,{"$f":"IF(ISNA(Calcs!BK33),\"\",Calcs!BK33)","v":""},{"$f":"IF(ISNA(Calcs!BL33),\"\",Calcs!BL33)","v":""}]
["",null,null,null,null,null,null,null,null,null,{"$f":"IF(ISNA(Calcs!BK34),\"\",Calcs!BK34)","v":""},{"$f":"IF(ISNA(Calcs!BL34),\"\",Calcs!BL34)","v":""}]
["",null,null,null,null,null,null,null,null,null,{"$f":"IF(ISNA(Calcs!BK35),\"\",Calcs!BK35)","v":""},{"$f":"IF(ISNA(Calcs!BL35),\"\",Calcs!BL35)","v":""}]
["",null,null,null,null,null,null,null,null,null,{"$f":"IF(ISNA(Calcs!BK36),\"\",Calcs!BK36)","v":""},{"$f":"IF(ISNA(Calcs!BL36),\"\",Calcs!BL36)","v":""}]
["",null,null,null,null,null,null,null,null,null,{"$f":"IF(ISNA(Calcs!BK37),\"\",Calcs!BK37)","v":""},{"$f":"IF(ISNA(Calcs!BL37),\"\",Calcs!BL37)","v":""}]
["",null,null,null,null,null,null,null,null,null,{"$f":"IF(ISNA(Calcs!BK38),\"\",Calcs!BK38)","v":""},{"$f":"IF(ISNA(Calcs!BL38),\"\",Calcs!BL38)","v":""}]
["",null,null,null,null,null,null,null,null,null,{"$f":"IF(ISNA(Calcs!BK39),\"\",Calcs!BK39)","v":""},{"$f":"IF(ISNA(Calcs!BL39),\"\",Calcs!BL39)","v":""}]
["",null,null,null,null,null,null,null,null,null,{"$f":"IF(ISNA(Calcs!BK40),\"\",Calcs!BK40)","v":""},{"$f":"IF(ISNA(Calcs!BL40),\"\",Calcs!BL40)","v":""}]
["",null,null,null,null,null,null,null,null,null,{"$f":"IF(ISNA(Calcs!BK41),\"\",Calcs!BK41)","v":""},{"$f":"IF(ISNA(Calcs!BL41),\"\",Calcs!BL41)","v":""}]
["",null,null,null,null,null,null,null,null,null,{"$f":"IF(ISNA(Calcs!BK42),\"\",Calcs!BK42)","v":""},{"$f":"IF(ISNA(Calcs!BL42),\"\",Calcs!BL42)","v":""}]
["",null,null,null,null,null,null,null,null,null,{"$f":"IF(ISNA(Calcs!BK43),\"\",Calcs!BK43)","v":""},{"$f":"IF(ISNA(Calcs!BL43),\"\",Calcs!BL43)","v":""}]
["",null,null,null,null,null,null,null,null,null,{"$f":"IF(ISNA(Calcs!BK44),\"\",Calcs!BK44)","v":""},{"$f":"IF(ISNA(Calcs!BL44),\"\",Calcs!BL44)","v":""}]
["",null,null,null,null,null,null,null,null,null,{"$f":"IF(ISNA(Calcs!BK45),\"\",Calcs!BK45)","v":""},{"$f":"IF(ISNA(Calcs!BL45),\"\",Calcs!BL45)","v":""}]
["",null,null,null,null,null,null,null,null,null,{"$f":"IF(ISNA(Calcs!BK46),\"\",Calcs!BK46)","v":""},{"$f":"IF(ISNA(Calcs!BL46),\"\",Calcs!BL46)","v":""}]
["",null,null,null,null,null,null,null,null,null,{"$f":"IF(ISNA(Calcs!BK47),\"\",Calcs!BK47)","v":""},{"$f":"IF(ISNA(Calcs!BL47),\"\",Calcs!BL47)","v":""}]
["",null,null,null,null,null,null,null,null,null,{"$f":"IF(ISNA(Calcs!BK48),\"\",Calcs!BK48)","v":""},{"$f":"IF(ISNA(Calcs!BL48),\"\",Calcs!BL48)","v":""}]
["",null,null,null,null,null,null,null,null,null,{"$f":"IF(ISNA(Calcs!BK49),\"\",Calcs!BK49)","v":""},{"$f":"IF(ISNA(Calcs!BL49),\"\",Calcs!BL49)","v":""}]
["",null,null,null,null,null,null,null,null,null,{"$f":"IF(ISNA(Calcs!BK50),\"\",Calcs!BK50)","v":""},{"$f":"IF(ISNA(Calcs!BL50),\"\",Calcs!BL50)","v":""}]
["",null,null,null,null,null,null,null,null,null,{"$f":"IF(ISNA(Calcs!BK51),\"\",Calcs!BK51)","v":""},{"$f":"IF(ISNA(Calcs!BL51),\"\",Calcs!BL51)","v":""}]
["",null,null,null,null,null,null,null,null,null,{"$f":"IF(ISNA(Calcs!BK52),\"\",Calcs!BK52)","v":""},{"$f":"IF(ISNA(Calcs!BL52),\"\",Calcs!BL52)","v":""}]
["",null,null,null,null,null,null,null,null,null,{"$f":"IF(ISNA(Calcs!BK53),\"\",Calcs!BK53)","v":""},{"$f":"IF(ISNA(Calcs!BL53),\"\",Calcs!BL53)","v":""}]
["",null,null,null,null,null,null,null,null,null,{"$f":"IF(ISNA(Calcs!BK54),\"\",Calcs!BK54)","v":""},{"$f":"IF(ISNA(Calcs!BL54),\"\",Calcs!BL54)","v":""}]
["",null,null,null,null,null,null,null,null,null,{"$f":"IF(ISNA(Calcs!BK55),\"\",Calcs!BK55)","v":""},{"$f":"IF(ISNA(Calcs!BL55),\"\",Calcs!BL55)","v":""}]
["",null,null,null,null,null,null,null,null,null,{"$f":"IF(ISNA(Calcs!BK56),\"\",Calcs!BK56)","v":""},{"$f":"IF(ISNA(Calcs!BL56),\"\",Calcs!BL56)","v":""}]
["",null,null,null,null,null,null,null,null,null,{"$f":"IF(ISNA(Calcs!BK57),\"\",Calcs!BK57)","v":""},{"$f":"IF(ISNA(Calcs!BL57),\"\",Calcs!BL57)","v":""}]
["",null,null,null,null,null,null,null,null,null,{"$f":"IF(ISNA(Calcs!BK58),\"\",Calcs!BK58)","v":""},{"$f":"IF(ISNA(Calcs!BL58),\"\",Calcs!BL58)","v":""}]
["",null,null,null,null,null,null,null,null,null,{"$f":"IF(ISNA(Calcs!BK59),\"\",Calcs!BK59)","v":""},{"$f":"IF(ISNA(Calcs!BL59),\"\",Calcs!BL59)","v":""}]
["",null,null,null,null,null,null,null,null,null,{"$f":"IF(ISNA(Calcs!BK60),\"\",Calcs!BK60)","v":""},{"$f":"IF(ISNA(Calcs!BL60),\"\",Calcs!BL60)","v":""}]
["",null,null,null,null,null,null,null,null,null,{"$f":"IF(ISNA(Calcs!BK61),\"\",Calcs!BK61)","v":""},{"$f":"IF(ISNA(Calcs!BL61),\"\",Calcs!BL61)","v":""}]
["",null,null,null,null,null,null,null,null,null,{"$f":"IF(ISNA(Calcs!BK62),\"\",Calcs!BK62)","v":""},{"$f":"IF(ISNA(Calcs!BL62),\"\",Calcs!BL62)","v":""}]
["",null,null,null,null,null,null,null,null,null,{"$f":"IF(ISNA(Calcs!BK63),\"\",Calcs!BK63)","v":""},{"$f":"IF(ISNA(Calcs!BL63),\"\",Calcs!BL63)","v":""}]
["",null,null,null,null,null,null,null,null,null,{"$f":"IF(ISNA(Calcs!BK64),\"\",Calcs!BK64)","v":""},{"$f":"IF(ISNA(Calcs!BL64),\"\",Calcs!BL64)","v":""}]
["",null,null,null,null,null,null,null,null,null,{"$f":"IF(ISNA(Calcs!BK65),\"\",Calcs!BK65)","v":""},{"$f":"IF(ISNA(Calcs!BL65),\"\",Calcs!BL65)","v":""}]
["",null,null,null,null,null,null,null,null,null,{"$f":"IF(ISNA(Calcs!BK66),\"\",Calcs!BK66)","v":""},{"$f":"IF(ISNA(Calcs!BL66),\"\",Calcs!BL66)","v":""}]
["",null,null,null,null,null,null,null,null,null,{"$f":"IF(ISNA(Calcs!BK67),\"\",Calcs!BK67)","v":""},{"$f":"IF(ISNA(Calcs!BL67),\"\",Calcs!BL67)","v":""}]
["",null,null,null,null,null,null,null,null,null,{"$f":"IF(ISNA(Calcs!BK68),\"\",Calcs!BK68)","v":""},{"$f":"IF(ISNA(Calcs!BL68),\"\",Calcs!BL68)","v":""}]
["",null,null,null,null,null,null,null,null,null,{"$f":"IF(ISNA(Calcs!BK69),\"\",Calcs!BK69)","v":""},{"$f":"IF(ISNA(Calcs!BL69),\"\",Calcs!BL69)","v":""}]
["",null,null,null,null,null,null,null,null,null,{"$f":"IF(ISNA(Calcs!BK70),\"\",Calcs!BK70)","v":""},{"$f":"IF(ISNA(Calcs!BL70),\"\",Calcs!BL70)","v":""}]
["",null,null,null,null,null,null,null,null,null,{"$f":"IF(ISNA(Calcs!BK71),\"\",Calcs!BK71)","v":""},{"$f":"IF(ISNA(Calcs!BL71),\"\",Calcs!BL71)","v":""}]
["",null,null,null,null,null,null,null,null,null,{"$f":"IF(ISNA(Calcs!BK72),\"\",Calcs!BK72)","v":""},{"$f":"IF(ISNA(Calcs!BL72),\"\",Calcs!BL72)","v":""}]
["",null,null,null,null,null,null,null,null,null,{"$f":"IF(ISNA(Calcs!BK73),\"\",Calcs!BK73)","v":""},{"$f":"IF(ISNA(Calcs!BL73),\"\",Calcs!BL73)","v":""}]
["",null,null,null,null,null,null,null,null,null,{"$f":"IF(ISNA(Calcs!BK74),\"\",Calcs!BK74)","v":""},{"$f":"IF(ISNA(Calcs!BL74),\"\",Calcs!BL74)","v":""}]
["",null,null,null,null,null,null,null,null,null,{"$f":"IF(ISNA(Calcs!BK75),\"\",Calcs!BK75)","v":""},{"$f":"IF(ISNA(Calcs!BL75),\"\",Calcs!BL75)","v":""}]
["",null,null,null,null,null,null,null,null,null,{"$f":"IF(ISNA(Calcs!BK76),\"\",Calcs!BK76)","v":""},{"$f":"IF(ISNA(Calcs!BL76),\"\",Calcs!BL76)","v":""}]
["",null,null,null,null,null,null,null,null,null,{"$f":"IF(ISNA(Calcs!BK77),\"\",Calcs!BK77)","v":""},{"$f":"IF(ISNA(Calcs!BL77),\"\",Calcs!BL77)","v":""}]
["",null,null,null,null,null,null,null,null,null,{"$f":"IF(ISNA(Calcs!BK78),\"\",Calcs!BK78)","v":""},{"$f":"IF(ISNA(Calcs!BL78),\"\",Calcs!BL78)","v":""}]
[]
["Field Nutrient Application Planning"]
["Per Acre Basis"]
["Field","Nutrient Source","Application",null,null,"Nutrient Recommendation  (lb/ac)",null,null,"Nutrients Applied (lb/ac)",null,null,"Surpluses / Deficits  (lb/ac)"]
[null,null,"PI Max","Planned",null,"N","P2O5","K2O","N","P2O5","K2O","N","P2O5","K2O"]
[{"$f":"IF(ISBLANK(A53),\"\",A53)","v":"Rotation"},{"$f":"IF(ISBLANK(I159),\"\",I159)","v":"Cake"},{"$f":"IF(ISBLANK(J159),\"\",J159)","v":1.6199999999999992},1.5,{"$f":"IF(ISBLANK(I159),\"\",INDEX(Nutrient_Source_Description,MATCH(I159,Nutrient_Source,0),6))","v":"ton/ac"},110,0,0,{"$f":"IF(ISBLANK($D267),\"\",IF(ISERROR(D267*INDEX($A$41:$J$45,MATCH(B267,$A$41:$A$45,0),2)),\"\",D267*INDEX($A$41:$J$45,MATCH(B267,$A$41:$A$45,0),2)))","v":62.550000000000004},{"$f":"IF(ISBLANK($D267),\"\",IF(ISERROR(D267*INDEX($A$41:$J$45,MATCH(B267,$A$41:$A$45,0),5)),\"\",D267*INDEX($A$41:$J$45,MATCH(B267,$A$41:$A$45,0),5)))","v":92.4},{"$f":"IF(ISBLANK($D267),\"\",IF(ISERROR(D267*INDEX($A$41:$J$45,MATCH(B267,$A$41:$A$45,0),8)),\"\",D267*INDEX($A$41:$J$45,MATCH(B267,$A$41:$A$45,0),8)))","v":89.25},{"$f":"IF(ISERROR(I267-F267),\"\",ROUND(I267-F267,0))","v":-47},{"$f":"IF(ISERROR(J267-G267),\"\",ROUND(J267-G267,0))","v":92},{"$f":"IF(ISERROR(K267-H267),\"\",ROUND(K267-H267,0))","v":89}]
[{"$f":"IF(ISBLANK(A54),\"\",A54)","v":"Continuous"},"Cake",3.5881578947368422,1.5,"ton/ac",110,30,40,{"$f":"IF(ISBLANK($D268),\"\",IF(ISERROR(D268*INDEX($A$41:$J$45,MATCH(B268,$A$41:$A$45,0),2)),\"\",D268*INDEX($A$41:$J$45,MATCH(B268,$A$41:$A$45,0),2)))","v":62.550000000000004},{"$f":"IF(ISBLANK($D268),\"\",IF(ISERROR(D268*INDEX($A$41:$J$45,MATCH(B268,$A$41:$A$45,0),5)),\"\",D268*INDEX($A$41:$J$45,MATCH(B268,$A$41:$A$45,0),5)))","v":92.4},{"$f":"IF(ISBLANK($D268),\"\",IF(ISERROR(D268*INDEX($A$41:$J$45,MATCH(B268,$A$41:$A$45,0),8)),\"\",D268*INDEX($A$41:$J$45,MATCH(B268,$A$41:$A$45,0),8)))","v":89.25},{"$f":"IF(ISERROR(I268-F268),\"\",ROUND(I268-F268,0))","v":-47},{"$f":"IF(ISERROR(J268-G268),\"\",ROUND(J268-G268,0))","v":62},{"$f":"IF(ISERROR(K268-H268),\"\",ROUND(K268-H268,0))","v":49}]
["","","",null,"",null,null,null,"","","","","",""]
["","","",null,"",null,null,null,"","","","","",""]
["","","",null,"",null,null,null,"","","","","",""]
["","","",null,"",null,null,null,"","","","","",""]
["","","",null,"",null,null,null,"","","","","",""]
["","","",null,"",null,null,null,"","","","","",""]
["","","",null,"",null,null,null,"","","","","",""]
["","","",null,"",null,null,null,"","","","","",""]
["","","",null,"",null,null,null,"","","","","",""]
["","","",null,"",null,null,null,"","","","","",""]
["","","",null,"",null,null,null,"","","","","",""]
["","","",null,"",null,null,null,"","","","","",""]
["","","",null,"",null,null,null,"","","","","",""]
["","","",null,"",null,null,null,"","","","","",""]
["","","",null,"",null,null,null,"","","","","",""]
["","","",null,"",null,null,null,"","","","","",""]
["","","",null,"",null,null,null,"","","","","",""]
["","","",null,"",null,null,null,"","","","","",""]
["","","",null,"",null,null,null,"","","","","",""]
["","","",null,"",null,null,null,"","","","","",""]
["","","",null,"",null,null,null,"","","","","",""]
["","","",null,"",null,null,null,"","","","","",""]
["","","",null,"",null,null,null,"","","","","",""]
["","","",null,"",null,null,null,"","","","","",""]
["","","",null,"",null,null,null,"","","","","",""]
["","","",null,"",null,null,null,"","","","","",""]
["","","",null,"",null,null,null,"","","","","",""]
["","","",null,"",null,null,null,"","","","","",""]
["","","",null,"",null,null,null,"","","","","",""]
["","","",null,"",null,null,null,"","","","","",""]
["",{"$f":"IF(ISBLANK(I191),\"\",I191)","v":""},{"$f":"IF(ISBLANK(J191),\"\",J191)","v":""},null,{"$f":"IF(ISBLANK(I191),\"\",INDEX(Nutrient_Source_Description,MATCH(I191,Nutrient_Source,0),6))","v":""},null,null,null,"","","","","",""]
["","","",null,"",null,null,null,"","","","","",""]
["","","",null,"",null,null,null,"","","","","",""]
["","","",null,"",null,null,null,"","","","","",""]
["","","",null,"",null,null,null,"","","","","",""]
["","","",null,"",null,null,null,"","","","","",""]
["","","",null,"",null,null,null,"","","","","",""]
["","","",null,"",null,null,null,"","","","","",""]
["",{"$f":"IF(ISBLANK(I199),\"\",I199)","v":""},"",null,{"$f":"IF(ISBLANK(I199),\"\",INDEX(Nutrient_Source_Description,MATCH(I199,Nutrient_Source,0),6))","v":""},null,null,null,"","","","","",""]
["",{"$f":"IF(ISBLANK(I200),\"\",I200)","v":""},"",null,{"$f":"IF(ISBLANK(I200),\"\",INDEX(Nutrient_Source_Description,MATCH(I200,Nutrient_Source,0),6))","v":""},null,null,null,"","","","","",""]
["","","",null,"",null,null,null,"","","","","",""]
["","","",null,"",null,null,null,"","","","","",""]
["","","",null,"",null,null,null,"","","","","",""]
["","","",null,"",null,null,null,"","","","","",""]
["","","",null,"",null,null,null,"","","","","",""]
["","","",null,"",null,null,null,"","","","","",""]
["","","",null,"",null,null,null,"","","","","",""]
["","","",null,"",null,null,null,"","","","","",""]
[]
["Per Field Basis"]
["Field","Nutrient Source","Application",null,null,"Nutrient Recommendation (lbs)",null,null,"Nutrients Applied (lbs)",null,null,"Surpluses / Deficits  (lb)"]
[null,null,"PI Max","Planned",null,"N","P2O5","K2O","N","P2O5","K2O","N","P2O5","K2O"]
[{"$f":"IF(ISBLANK(A53),\"\",A53)","v":"Rotation"},{"$f":"IF(ISBLANK(I159),\"\",I159)","v":"Cake"},{"$f":"IF(ISBLANK(C267),\"\",IF(ISERROR(C267*INDIRECT(ADDRESS(ROW($A$105)+MATCH(A321,$A$105:$A$154,0)-1,COLUMN($A$105)+4,4,1))),\"\",C267*INDIRECT(ADDRESS(ROW($A$105)+MATCH(A321,$A$105:$A$154,0)-1,COLUMN($A$105)+4,4,1))))","v":56.699999999999974},{"$f":"IF(ISBLANK(D267),\"\",IF(ISERROR(D267*INDIRECT(ADDRESS(ROW($A$105)+MATCH(A321,$A$105:$A$154,0)-1,COLUMN($A$105)+4,4,1))),\"\",D267*INDIRECT(ADDRESS(ROW($A$105)+MATCH(A321,$A$105:$A$154,0)-1,COLUMN($A$105)+4,4,1))))","v":52.5},{"$f":"IF(ISBLANK(I159),\"\",INDEX(Nutrient_Source_Description,MATCH(I159,Nutrient_Source,0),4))","v":"ton"},{"$f":"IF(ISERROR(F267*INDIRECT(ADDRESS(ROW($A$105)+MATCH($A321,$A$105:$A$154,0)-1,COLUMN($A$105)+4,4,1))),\"\",F267*INDIRECT(ADDRESS(ROW($A$105)+MATCH($A321,$A$105:$A$154,0)-1,COLUMN($A$105)+4,4,1)))","v":3850},0,0,{"$f":"IF(ISBLANK(B321),\"\",IF(ISERROR(D321*INDEX($A$41:$J$45,MATCH(B267,$A$41:$A$45,0),2)),\"\",D321*INDEX($A$41:$J$45,MATCH(B267,$A$41:$A$45,0),2)))","v":2189.25},{"$f":"IF(ISBLANK(B321),\"\",IF(ISERROR(D321*INDEX($A$41:$J$45,MATCH(B267,$A$41:$A$45,0),5)),\"\",D321*INDEX($A$41:$J$45,MATCH(B267,$A$41:$A$45,0),5)))","v":3234},{"$f":"IF(ISBLANK(B321),\"\",IF(ISERROR(D321*INDEX($A$41:$J$45,MATCH(B267,$A$41:$A$45,0),8)),\"\",D321*INDEX($A$41:$J$45,MATCH(B267,$A$41:$A$45,0),8)))","v":3123.75},{"$f":"IF(ISERROR(I321-F321),\"\",I321-F321)","v":-1660.75},{"$f":"IF(ISERROR(J321-G321),\"\",J321-G321)","v":3234},{"$f":"IF(ISERROR(K321-H321),\"\",K321-H321)","v":3123.75}]
[{"$f":"IF(ISBLANK(A54),\"\",A54)","v":"Continuous"},{"$f":"IF(ISBLANK(I160),\"\",I160)","v":"Cake"},{"$f":"IF(ISBLANK(C268),\"\",IF(ISERROR(C268*INDIRECT(ADDRESS(ROW($A$105)+MATCH(A322,$A$105:$A$154,0)-1,COLUMN($A$105)+4,4,1))),\"\",C268*INDIRECT(ADDRESS(ROW($A$105)+MATCH(A322,$A$105:$A$154,0)-1,COLUMN($A$105)+4,4,1))))","v":114.82105263157895},{"$f":"IF(ISBLANK(D268),\"\",IF(ISERROR(D268*INDIRECT(ADDRESS(ROW($A$105)+MATCH(A322,$A$105:$A$154,0)-1,COLUMN($A$105)+4,4,1))),\"\",D268*INDIRECT(ADDRESS(ROW($A$105)+MATCH(A322,$A$105:$A$154,0)-1,COLUMN($A$105)+4,4,1))))","v":48},"ton",3520,960,1280,{"$f":"IF(ISBLANK(B322),\"\",IF(ISERROR(D322*INDEX($A$41:$J$45,MATCH(B268,$A$41:$A$45,0),2)),\"\",D322*INDEX($A$41:$J$45,MATCH(B268,$A$41:$A$45,0),2)))","v":2001.6000000000001},{"$f":"IF(ISBLANK(B322),\"\",IF(ISERROR(D322*INDEX($A$41:$J$45,MATCH(B268,$A$41:$A$45,0),5)),\"\",D322*INDEX($A$41:$J$45,MATCH(B268,$A$41:$A$45,0),5)))","v":2956.8},{"$f":"IF(ISBLANK(B322),\"\",IF(ISERROR(D322*INDEX($A$41:$J$45,MATCH(B268,$A$41:$A$45,0),8)),\"\",D322*INDEX($A$41:$J$45,MATCH(B268,$A$41:$A$45,0),8)))","v":2856},{"$f":"IF(ISERROR(I322-F322),\"\",I322-F322)","v":-1518.3999999999999},{"$f":"IF(ISERROR(J322-G322),\"\",J322-G322)","v":1996.8000000000002},{"$f":"IF(ISERROR(K322-H322),\"\",K322-H322)","v":1576}]
["","","","","","","","","","","","","",""]
["","","","","","","","","","","","","",""]
["","","","","","","","","","","","","",""]
["","","","","","","","","","","","","",""]
["","","","","","","","","","","","","",""]
["","","","","","","","","","","","","",""]
["","","","","","","","","","","","","",""]
["","","","","","","","","","","","","",""]
["","","","","","","","","","","","","",""]
["","","","","","","","","","","","","",""]
["","","","","","","","","","","","","",""]
["","","","","","","","","","","","","",""]
["","","","","","","","","","","","","",""]
["","","","","","","","","","","","","",""]
["","","","","","","","","","","","","",""]
["","","","","","","","","","","","","",""]
["","","","","","","","","","","","","",""]
["","","","","","","","","","","","","",""]
["","","","","",{"$f":"IF(ISERROR(F287*INDIRECT(ADDRESS(ROW($A$105)+MATCH($A341,$A$105:$A$154,0)-1,COLUMN($A$105)+4,4,1))),\"\",F287*INDIRECT(ADDRESS(ROW($A$105)+MATCH($A341,$A$105:$A$154,0)-1,COLUMN($A$105)+4,4,1)))","v":""},"","","","","","","",""]
["","","","","","","","","","","","","",""]
["","","","","","","","","","","","","",""]
["","","","","","","","","","","","","",""]
["","","","","","","","","","","","","",""]
["","","","","","","","","","","","","",""]
["","","","","","","","","","","","","",""]
["","","","","","","","","","","","","",""]
["","","","","","","","","","","","","",""]
["","","","","","","","","","","","","",""]
["","","","","","","","","","","","","",""]
["","","","","","","","","","","","","",""]
["","","","",{"$f":"IF(ISBLANK(I191),\"\",INDEX(Nutrient_Source_Description,MATCH(I191,Nutrient_Source,0),4))","v":""},"","","","","","","","",""]
["","","","","","","","","","","","","",""]
["","","","","","","","","","","","","",""]
["","","","","","","","","","","","","",""]
["","","","","","","","","","","","","",""]
["","","","","","","","","","","","","",""]
["","","","","","","","","","","","","",""]
["","","","","","","","","","","","","",""]
["",{"$f":"IF(ISBLANK(I199),\"\",I199)","v":""},"","",{"$f":"IF(ISBLANK(I199),\"\",INDEX(Nutrient_Source_Description,MATCH(I199,Nutrient_Source,0),4))","v":""},{"$f":"IF(ISERROR(F307*INDIRECT(ADDRESS(ROW($A$105)+MATCH($A361,$A$105:$A$154,0)-1,COLUMN($A$105)+4,4,1))),\"\",F307*INDIRECT(ADDRESS(ROW($A$105)+MATCH($A361,$A$105:$A$154,0)-1,COLUMN($A$105)+4,4,1)))","v":""},"","","","","","","",""]
["",{"$f":"IF(ISBLANK(I200),\"\",I200)","v":""},"","",{"$f":"IF(ISBLANK(I200),\"\",INDEX(Nutrient_Source_Description,MATCH(I200,Nutrient_Source,0),4))","v":""},"","","","","","","","",""]
["","","","","","","","","","","","","",""]
["","","","","","","","","","","","","",""]
["","","","","","","","","","","","","",""]
["","","","","","","","","","","","","",""]
["","","","","","","","","","","","","",""]
["","","","","","","","","","","","","",""]
["","","","","","","","","","","","","",""]
["","","","","","","","","","","","","",""]
[null,null,null,null,"Totals",{"$f":"IF(SUM(F321:F370)=0,\"\",SUM(F321:F370))","v":7370},960,1280,4190.8500000000004,6190.8,5979.75,-3179.1499999999996,5230.8,4699.75]
[]
["Manure Distribution Summary"]
["Units Applied by Field and Source"]
["Field","Source"]
[null,{"$f":"IF(ISBLANK(A21),\"\",A21)","v":"CleanOut"},{"$f":"IF(ISBLANK(A22),\"\",A22)","v":"Cake"},{"$f":"IF(ISBLANK(A23),\"\",A23)","v":""},{"$f":"IF(ISBLANK(A24),\"\",A24)","v":""},{"$f":"IF(ISBLANK(A25),\"\",A25)","v":""}]
[null,{"$f":"IF(LEN(B376)=0,\"\",\"(\"&INDEX(Nutrient_Source_Description,MATCH(B376,Nutrient_Source,0),4)&\")\")","v":"(ton)"},{"$f":"IF(LEN(C376)=0,\"\",\"(\"&INDEX(Nutrient_Source_Description,MATCH(C376,Nutrient_Source,0),4)&\")\")","v":"(ton)"},{"$f":"IF(LEN(D376)=0,\"\",\"(\"&INDEX(Nutrient_Source_Description,MATCH(D376,Nutrient_Source,0),4)&\")\")","v":""},{"$f":"IF(LEN(E376)=0,\"\",\"(\"&INDEX(Nutrient_Source_Description,MATCH(E376,Nutrient_Source,0),4)&\")\")","v":""},{"$f":"IF(LEN(F376)=0,\"\",\"(\"&INDEX(Nutrient_Source_Description,MATCH(F376,Nutrient_Source,0),4)&\")\")","v":""}]
[{"$f":"IF(ISBLANK(A53),\"\",A53)","v":"Rotation"},{"$f":"IF(B$376=$B321,$D321,\"\")","v":""},52.5,"","",""]
[{"$f":"IF(ISBLANK(A54),\"\",A54)","v":"Continuous"},"",48,"","",""]
["","","","","",""]
["","","","","",""]
["","","","","",""]
["","","","","",""]
["","","","","",""]
["","","","","",""]
["","","","","",""]
["","","","","",""]
["",{"$f":"IF(B$376=$B331,$D331,\"\")","v":""},"","","",""]
["","","","","",""]
["","","","","",""]
["","","","","",""]
["","","","","",""]
["","","","","",""]
["","","","","",""]
["","","","","",""]
["","","","","",""]
["","","","","",""]
["",{"$f":"IF(B$376=$B341,$D341,\"\")","v":""},"","","",""]
["","","","","",""]
["","","","","",""]
["","","","","",""]
["","","","","",""]
["","","","","",""]
["","","","","",""]
["","","","","",""]
["","","","","",""]
["","","","","",""]
["",{"$f":"IF(B$376=$B351,$D351,\"\")","v":""},"","","",""]
["","","","","",""]
["","","","","",""]
["","","","","",""]
["","","","","",""]
["","","","","",""]
["","","","","",""]
["","","","","",""]
["","","","","",""]
["","","","","",""]
["",{"$f":"IF(B$376=$B361,$D361,\"\")","v":""},"","","",""]
["","","","","",""]
["","","","","",""]
["","","","","",""]
["","","","","",""]
["","","","","",""]
["","","","","",""]
["","","","","",""]
["","","","","",""]
["","","","","",""]
["Total Applied",{"$f":"IF(TRIM(CELL(\"contents\",B$376))>\"\",IF(SUM(B378:B427)>0,SUM(B378:B427),\"\"),\"\")","v":""},{"$f":"IF(TRIM(CELL(\"contents\",C$376))>\"\",IF(SUM(C378:C427)>0,SUM(C378:C427),\"\"),\"\")","v":100.5},{"$f":"IF(TRIM(CELL(\"contents\",D$376))>\"\",IF(SUM(D378:D427)>0,SUM(D378:D427),\"\"),\"\")","v":""},{"$f":"IF(TRIM(CELL(\"contents\",E$376))>\"\",IF(SUM(E378:E427)>0,SUM(E378:E427),\"\"),\"\")","v":""},{"$f":"IF(TRIM(CELL(\"contents\",F$376))>\"\",IF(SUM(F378:F427)>0,SUM(F378:F427),\"\"),\"\")","v":""}]
["Available",{"$f":"IF(ISBLANK(D21),\"\",D21)","v":300},{"$f":"IF(ISBLANK(D22),\"\",D22)","v":100},{"$f":"IF(ISBLANK(D23),\"\",D23)","v":""},{"$f":"IF(ISBLANK(D24),\"\",D24)","v":""},{"$f":"IF(ISBLANK(D25),\"\",D25)","v":""}]
["Deficit/Surplus (-/+)",{"$f":"IF(AND(B429=\"\",B428=\"\"),\"\",IFERROR(VALUE(B429),0)-IFERROR(VALUE(B428),0))","v":300},{"$f":"IF(AND(C429=\"\",C428=\"\"),\"\",IFERROR(VALUE(C429),0)-IFERROR(VALUE(C428),0))","v":-0.5},"","",""]

{"sheet":"BMP Summary","index":5,"n_rows":76,"n_cols":2,"rows_kept":76,"cut":false,"hidden":false,"merged":[[0,0,0,13],[2,0,2,13],[3,1,3,13],[5,1,5,13],[7,1,7,13],[17,1,17,13],[19,1,19,13],[21,1,21,13],[23,1,23,13],[25,1,25,13],[9,0,9,13],[10,1,10,13],[12,1,12,13],[14,1,14,13],[16,0,16,13],[36,1,36,13],[38,0,38,13],[39,1,39,13],[41,1,41,13],[43,0,43,13],[27,1,27,13],[29,0,29,13],[30,1,30,13],[32,1,32,13],[34,1,34,13],[53,1,53,13],[55,1,55,13],[57,1,57,13],[59,1,59,13],[61,0,61,13],[44,1,44,13],[46,1,46,13],[48,1,48,13],[50,1,50,13],[52,0,52,13],[62,1,62,13],[75,1,75,13],[64,1,64,13],[66,1,66,13],[68,1,68,13],[70,0,70,13],[71,1,71,13],[73,1,73,13]]}
["2010 PI Best Management Practices"]
[]
["Diversion 362 "]
[null,"Diversions must comply with NRCS conservation practice 362."]
[]
[null,"The maximum percent effectiveness allowed is 5%."]
[]
[null,"The desired assigned value should be entered as whole number, for example 5 for 5%."]
[]
["Terrace 600"]
[null,"Terraces must comply with NRCS conservation practice 600."]
[]
[null,"The maximum percent effectiveness allowed is 10%."]
[]
[null,"The desired assigned value should be entered as whole number, for example 10 for 10%."]
[]
["Pond 378 "]
[null,"Ponds must comply with NRCS conservation practice 378."]
[]
[null,"The maximum percent effectiveness allowed is 20% if the pond is not fenced. If fenced the maximum percent effectiveness allowed is 30%."]
[]
[null,"If fencing is used it must comply with NRCS conservation practice 382. The fencing associated with this practice should not receive any additional Fencing Supplemental Management Practice credit."]
[]
[null,"The percent effectiveness is prorated based on the amount of the field that drains into the pond. For example if ½ the field drains into the pond the percent effectiveness for this practice for this field is ½ of the 20% or 10%."]
[]
[null,"The desired assigned value should be entered as whole number, for example 20 for 20%. If desired the proration calculations can be done in the spread sheet by entering the formula in the appropriate cell. For the example above “=0.5*0.2” is entered."]
[]
[null,"The determination of the percentage of the field that drains into the pond will be made by professional judgment utilizing at least a visual inspection. Use of topographic maps and other tools may also be used."]
[]
["Fencing 382 "]
[null,"Fencing must comply with NRCS conservation practice 382."]
[]
[null,"The maximum percent effectiveness allowed is 30%."]
[]
[null,"Normally Fencing is associated with other practices such as Ponds, Riparian Forest Buffers, Riparian Herbaceous Covers, and Filter Strips. When associated with these practices the presence of the fence increases the allowed maximum effectiveness."]
[]
[null,"Normally the effectiveness of fencing is accounted for in the other Supplemental Management Practice areas and therefore the assigned Fencing effectiveness is not entered or set to 0."]
[]
["Field Borders 386 "]
[null,"Field Borders must comply with NRCS conservation practice 386."]
[]
[null,"The maximum percent effectiveness allowed is 10%."]
[]
["Riparian Herbaceous Cover  390 "]
[null,"Riparian Herbaceous Covers must comply with NRCS conservation practice 393."]
[]
[null,"The maximum percent effectiveness allowed is 20% if the practice is not fenced. If fenced the maximum percent effectiveness allowed is 30%."]
[]
[null,"If fencing is used it must comply with NRCS conservation practice 382. The fencing associated with this practice should not receive any additional Fencing Supplemental Management Practice credit."]
[]
[null,"The desired assigned value should be entered as whole number, for example 20 for 20%."]
[]
["Riparian Forest Buffer 391 "]
[null,"Riparian Forest Buffers must comply with NRCS conservation practice 391."]
[]
[null,"The maximum percent effectiveness allowed is 20% if the practice is not fenced. If fenced the maximum percent effectiveness allowed is 35%."]
[]
[null,"If fencing is used it must comply with NRCS conservation practice 382. The fencing associated with this practice should not receive any additional Fencing Supplemental Management Practice credit."]
[]
[null,"The desired assigned value should be entered as whole number, for example 20 for 20%."]
[]
["Filter Strip 393 "]
[null,"Filter Strips must comply with NRCS conservation practice 393."]
[]
[null,"The maximum percent effectiveness allowed is 20% if the practice is not fenced. If fenced the maximum percent effectiveness allowed is 30%."]
[]
[null,"If fencing is used it must comply with NRCS conservation practice 382. The fencing associated with this practice should not receive any additional Fencing Supplemental Management Practice credit."]
[]
[null,"The desired assigned value should be entered as whole number, for example 20 for 20%."]
[]
["Grassed Waterway 412 "]
[null,"Grassed Waterways must comply with NRCS conservation practice 412."]
[]
[null,"The maximum percent effectiveness allowed is 5%."]
[]
[null,"The desired assigned value should be entered as whole number, for example 5 for 5%."]

{"sheet":"Data","index":6,"n_rows":3455,"n_cols":58,"rows_kept":1125,"cut":true,"hidden":true,"merged":[[29,12,29,13],[30,2,30,3],[29,6,29,7],[29,8,29,9],[29,10,29,11],[33,2,33,3],[34,2,34,3],[31,2,31,3],[32,2,32,3],[28,1,28,4],[29,2,29,3],[29,4,29,5]],"bounds":{"rows_first":500,"rows_last":125,"rows_between":500,"halvings":2}}
[]
[]
[]
[]
[]
[]
[]
[]
[]
[]
[]
[]
[]
[]
[]
[]
[]
[]
[]
[]
[]
[]
[]
[]
[]
[]
[]
[]
[]
[]
[]
[]
[]
[]
[]
[]
[]
[]
[]
[]
[]
[]
[]
[]
[]
[]
[]
[]
[]
[]
[]
[]
[]
[]
[]
[]
[]
[null,null,null,null,null,null,null,null,null,null,null,null,null,null,null,null,null,null,null,null,null,null,null,null,null,null,null,null,null,null,null,null,null,null,null,null,null,null,null,null,null,null,null,null,null,null,null,null,"cells below indicate NRCS Missing soils values replaced with best estimate"]
[null,null,null,null,null,null,null,null,null,null,null,null,null,null,null,null,null,null,null,null,null,null,null,null,null,null,"County and Soil Data"]
[null,null,null,null,null,null,null,null,null,null,null,null,null,null,null,null,null,null,null,null,null,null,null,null,null,null,null,null,null,null,null,null,null,null,null,null,null,null,"Soil Codes",null,null,null,null,null,0,1,2,3,4,5,6,7,8,9,10,11,12,13]
[null,"Menu & Data block",null,null,null,null,null,null,null,null,null,null,null,null,null,null,null,null,null,null,null,null,null,null,null,null,null,null,null,null,null,null,null,null,null,null,null,"Count","row Num","code",null,null,null,null,"County","Soil Code","Soil Name","Slope Grad Min","Slope Grad Rep","Slope Grad Max","Slope Len Min","Slope Len Rep","Slope Len Max","K","T","Flood Frequency","Hydrologic Group","row"]
[null,null,null,null,null,null,null,null,null,null,null,null,null,null,null,null,null,null,null,null,null,null,null,null,null,null,null,null,null,null,null,null,null,null,null,null,null,null,null,null,null,null,{"$f":"\"Blank Co content =\"&\"|\"&AS62&\"|\"","v":"Blank Co content =| |"},"seq"," "," "," "," "," "," "," "," "," "," "," "," "," ",{"$f":"CELL(\"row\",AR62)","v":62}]
[null,null,"Annual Percepitation and Weight Factors",null,null,null,null,null,null,"Field Num","Field names",null,"Manure Production Value to Use",null,null,null,"Alum Used",null,null,null,null,null,null,null,null,null,null,null,null,null,null,"Rusle Info X Refence Guide",null,null,null,null,null,1,{"$f":"$AG$67","v":3177},{"$f":"IF(AM63<=$AG$68,INDIRECT(ADDRESS(AM63,CELL(\"col\",$AT$61),1,1)),\"\")","v":"AeC"},null,null,null,1,"Arkansas","1C","Crevasse loamy fine sand, 0 to 5 percent slopes, occasionally flooded",0,2.5,5,15,30,45,0.1,5,"Occasional","A",63]
[null,null,null,null,null,null,null,null,null,null,null,null,null,null,null,null,null,null,null,null,null,null,null,null,null,null,null,null,null,null,null,"Current County",{"$f":"IF(ISNA(VLOOKUP(Planning!$C$14,$AF$89:$AK$164,1,0)),\"\",VLOOKUP(Planning!$C$14,$AF$89:$AK$164,1,0))","v":"Washington"},null,null,null,null,2,{"$f":"IF(AM63<$AG$68,AM63+1,$AG$68+1)","v":3178},{"$f":"IF(AM64<=$AG$68,INDIRECT(ADDRESS(AM64,CELL(\"col\",$AT$61),1,1)),\"\")","v":"AeC2"},null,null,null,2,"Arkansas","2B","Desha silty clay, 0 to 3 percent slopes, occasionally flooded",0,1.5,3,15,45,75,0.28000000000000003,5,"Occasional","D",64]
[null,null,"0-10",0.2,null,null,null,null,null,1,{"$f":"IF(ISBLANK(Planning!A53),\"\",Planning!A53)","v":"Rotation"},null,"Calculated",null,null,null,"No",0.05,null,null,null,null,null,null,null,null,null,null,null,null,null,"Current Start Col",{"$f":"CELL(\"col\",AT61)","v":46},null,null,null,null,3,3179,"AeD2",null,null,null,3,"Arkansas","3A","Dewitt silt loam, 0 to 1 percent slopes",0,0.5,1,30,75,150,0.43,5,"None","D",65]
[null,null,"10-20",0.4,null,null,null,null,null,2,{"$f":"IF(ISBLANK(Planning!A76),\"\",Planning!A76)","v":""},null,"Historical",null,null,null,"Yes",5.0000000000000001E-3,null,null,null,null,null,null,null,null,null,null,null,null,null,"Current End Col",{"$f":"CELL(\"col\",BE61)","v":57},null,null,null,null,4,3180,"AgD",null,null,null,4,"Arkansas","4B","Dubbs silt loam, 0 to 3 percent slopes",0,2,3,15,45,75,0.49,5,"None","B",66]
[null,null,"20-30",0.6,null,null,null,null,null,3,{"$f":"IF(ISBLANK(Planning!A77),\"\",Planning!A77)","v":""},null,null,null,null,null,null,null,null,null,null,null,null,null,null,null,null,null,null,null,null,"Current Start Row",{"$f":"VLOOKUP($AG$64,$AF$89:$AK$164,2,0)","v":3177},null,null,null,null,5,3181,"AgF",null,null,null,5,"Arkansas","5B","Dundee silt loam, 0 to 2 percent slopes, occasionally flooded",0,1,2,15,45,75,0.43,5,"Occasional","C",67]
[null,null,"30-40",0.8,null,null,null,null,null,4,{"$f":"IF(ISBLANK(Planning!A78),\"\",Planning!A78)","v":""},null,null,null,"Litter Num",{"$f":"Planning!A20","v":"Manure Source"},"Manure Type","Base Unit","Conc Unit","Rate Unit","WEP Unit","WEP lb/ac Conv","Calc PI",null,null,null,null,null,null,null,null,"Current End Row",{"$f":"VLOOKUP($AG$64,$AF$89:$AK$164,3,0)","v":3260},null,null,null,null,6,3182,"AhF",null,null,null,6,"Arkansas","6A","Ethel silt loam, 0 to 1 percent slopes",0,0.5,1,30,75,150,0.49,5,"None","D",68]
[null,null,"40-50",1,null,null,null,null,null,5,{"$f":"IF(ISBLANK(Planning!A79),\"\",Planning!A79)","v":""},null,null,null,null,null,null,null,null,null,null,null,null,null,null,null,"Table 6-2. Average Annual K Factors K-Factor Ratio: .79 - .84",null,null,null,null,"R Factor",{"$f":"VLOOKUP($AG$64,$AF$89:$AK$164,4,0)","v":311},null,null,null,null,7,3183,"AhG",null,null,null,7,"Arkansas","7A","Forestdale silty clay loam, 0 to 1 percent slopes, frequently flooded",0,0.5,1,30,75,150,0.37,5,"Frequent","D",69]
[null,null,"50-60",1.2,null,null,null,null,null,6,{"$f":"IF(ISBLANK(Planning!A80),\"\",Planning!A80)","v":""},null,null,null,1,{"$f":"IF(ISBLANK(Planning!A21),\"\",Planning!A21)","v":"CleanOut"},{"$f":"IF(ISBLANK(Planning!A21),\"\",Planning!B21)","v":"Dry Litter"},{"$f":"IF(ISBLANK(Planning!A21),\"\",INDEX(Nutrient_Table,MATCH(Q70,Manure_Type,0),5))","v":"ton"},{"$f":"IF(ISBLANK(Planning!A21),\"\",INDEX(Nutrient_Table,MATCH(Q70,Manure_Type,0),6))","v":"lb/ton"},{"$f":"IF(ISBLANK(Planning!A21),\"\",INDEX(Nutrient_Table,MATCH(Q70,Manure_Type,0),7))","v":"ton/ac"},{"$f":"IF(ISBLANK(Planning!A21),\"\",INDEX(Nutrient_Table,MATCH(Q70,Manure_Type,0),8))","v":"ppm"},null,null,null,null,null,"Kf","Adj Kf","Check to make sure Soil Kfs match list does after missing value Arkansas 22 is set equal to .32 (assusmes near worst erosion potential)",null,null,"10 Yr-EI",{"$f":"VLOOKUP($AG$64,$AF$89:$AK$164,5,0)","v":120},null,null,null,null,8,3184,"AlC2",null,null,null,8,"Arkansas","8A","Hebert silt loam, 0 to 1 percent slopes",0,0.5,1,30,46,61,0.43,5,"None","C",70]
[null,null,"60-70",1.4,null,null,null,null,null,7,{"$f":"IF(ISBLANK(Planning!A93),\"\",Planning!A93)","v":""},null,null,null,2,{"$f":"IF(ISBLANK(Planning!A22),\"\",Planning!A22)","v":"Cake"},{"$f":"IF(ISBLANK(Planning!A22),\"\",Planning!B22)","v":"Dry Litter"},{"$f":"IF(ISBLANK(Planning!A22),\"\",INDEX(Nutrient_Table,MATCH(Q71,Manure_Type,0),5))","v":"ton"},{"$f":"IF(ISBLANK(Planning!A22),\"\",INDEX(Nutrient_Table,MATCH(Q71,Manure_Type,0),6))","v":"lb/ton"},{"$f":"IF(ISBLANK(Planning!A22),\"\",INDEX(Nutrient_Table,MATCH(Q71,Manure_Type,0),7))","v":"ton/ac"},{"$f":"IF(ISBLANK(Planning!A22),\"\",INDEX(Nutrient_Table,MATCH(Q71,Manure_Type,0),8))","v":"ppm"},null,null,null,null,null,1,null,{"$f":"COUNTIF($BB$63:$BB$3453,AA71)","v":0},null,null,"Kf adj flag",{"$f":"IF(VLOOKUP($AG$64,$AF$89:$AK$164,6,0)=\"\",\"\",VLOOKUP($AG$64,$AF$89:$AK$164,6,0))","v":1},null,null,null,null,9,3185,"AlD2",null,null,null,9,"Arkansas","9A","Immanuel silt loam, 0 to 1 percent slopes",0,0.5,1,30,75,150,0.55000000000000004,4,"None","C",71]
[null,null,null,null,null,null,null,null,null,8,{"$f":"IF(ISBLANK(Planning!A94),\"\",Planning!A94)","v":""},null,null,null,3,{"$f":"IF(ISBLANK(Planning!A23),\"\",Planning!A23)","v":""},{"$f":"IF(ISBLANK(Planning!A23),\"\",Planning!B23)","v":""},{"$f":"IF(ISBLANK(Planning!A23),\"\",INDEX(Nutrient_Table,MATCH(Q72,Manure_Type,0),5))","v":""},{"$f":"IF(ISBLANK(Planning!A23),\"\",INDEX(Nutrient_Table,MATCH(Q72,Manure_Type,0),6))","v":""},{"$f":"IF(ISBLANK(Planning!A23),\"\",INDEX(Nutrient_Table,MATCH(Q72,Manure_Type,0),7))","v":""},{"$f":"IF(ISBLANK(Planning!A23),\"\",INDEX(Nutrient_Table,MATCH(Q72,Manure_Type,0),8))","v":""},{"$f":"IF(ISBLANK(Planning!A23),\"\",INDEX(Nutrient_Table,MATCH(Q72,Manure_Type,0),9))","v":""},{"$f":"IF(ISBLANK(Planning!A23),\"\",INDEX(Nutrient_Table,MATCH(Q72,Manure_Type,0),10))","v":""},null,null,null,0.02,0.02,6,null,null,"County",0,null,null,null,null,10,3186,"AlE2",null,null,null,10,"Arkansas","9B","Immanuel silt loam, 1 to 3 percent slopes",1,2,3,15,60,100,0.55000000000000004,4,"None","C",72]
[null,null,null,null,null,null,null,null,null,9,{"$f":"IF(ISBLANK(Planning!A101),\"\",Planning!A101)","v":""},null,null,null,4,{"$f":"IF(ISBLANK(Planning!A24),\"\",Planning!A24)","v":""},{"$f":"IF(ISBLANK(Planning!A24),\"\",Planning!B24)","v":""},{"$f":"IF(ISBLANK(Planning!A24),\"\",INDEX(Nutrient_Table,MATCH(Q73,Manure_Type,0),5))","v":""},{"$f":"IF(ISBLANK(Planning!A24),\"\",INDEX(Nutrient_Table,MATCH(Q73,Manure_Type,0),6))","v":""},{"$f":"IF(ISBLANK(Planning!A24),\"\",INDEX(Nutrient_Table,MATCH(Q73,Manure_Type,0),7))","v":""},{"$f":"IF(ISBLANK(Planning!A24),\"\",INDEX(Nutrient_Table,MATCH(Q73,Manure_Type,0),8))","v":""},{"$f":"IF(ISBLANK(Planning!A24),\"\",INDEX(Nutrient_Table,MATCH(Q73,Manure_Type,0),9))","v":""},{"$f":"IF(ISBLANK(Planning!A24),\"\",INDEX(Nutrient_Table,MATCH(Q73,Manure_Type,0),10))","v":""},null,null,null,0.05,0.05,8,null,null,"Soil Code",1,null,null,null,null,11,3187,"AnE",null,null,null,11,"Arkansas","9E","Immanuel silt loam, 15 to 25 percent slopes",15,20,25,5,15,30,0.55000000000000004,4,"None","C",73]
[null,null,null,null,null,null,null,null,null,10,{"$f":"IF(ISBLANK(Planning!A102),\"\",Planning!A102)","v":""},null,null,null,5,{"$f":"IF(ISBLANK(Planning!A25),\"\",Planning!A25)","v":""},{"$f":"IF(ISBLANK(Planning!A25),\"\",Planning!B25)","v":""},{"$f":"IF(ISBLANK(Planning!A25),\"\",INDEX(Nutrient_Table,MATCH(Q74,Manure_Type,0),5))","v":""},{"$f":"IF(ISBLANK(Planning!A25),\"\",INDEX(Nutrient_Table,MATCH(Q74,Manure_Type,0),6))","v":""},{"$f":"IF(ISBLANK(Planning!A25),\"\",INDEX(Nutrient_Table,MATCH(Q74,Manure_Type,0),7))","v":""},{"$f":"IF(ISBLANK(Planning!A25),\"\",INDEX(Nutrient_Table,MATCH(Q74,Manure_Type,0),8))","v":""},{"$f":"IF(ISBLANK(Planning!A25),\"\",INDEX(Nutrient_Table,MATCH(Q74,Manure_Type,0),9))","v":""},{"$f":"IF(ISBLANK(Planning!A25),\"\",INDEX(Nutrient_Table,MATCH(Q74,Manure_Type,0),10))","v":""},null,null,null,0.1,0.08,41,null,null,"Soil Name",2,null,null,null,null,12,3188,"AoF",null,null,null,12,"Arkansas","9C","Immanuel silt loam, 3 to 8 percent slopes",3,5.5,8,15,45,75,0.43,5,"None","C",74]
[null,null,null,null,null,null,null,null,null,null,null,null,null,null,null,null,null,null,null,null,null,null,null,null,null,null,0.15,0.12,44,null,null,"Slope Grad Min",3,null,null,null,null,13,3189,"ApB",null,null,null,13,"Arkansas","9D","Immanuel silt loam, 8 to 15 percent slopes",8,11.5,15,15,30,45,0.55000000000000004,4,"None","C",75]
[null,null,null,null,null,null,null,null,null,null,null,null,null,null,null,null,null,null,null,null,null,null,null,null,null,null,0.17,0.15,50,null,null,"Slope Grad Rep",4,null,null,null,null,14,3190,"ApC2",null,null,null,14,"Arkansas","10A","Keo loam, 0 to 1 percent slopes, occasionally flooded",0,0.5,1,30,75,150,0.43,5,"Occasional","B",76]
[null,null,null,null,null,null,null,null,null,null,null,null,null,null,null,null,null,null,null,null,null,null,null,null,null,null,0.2,0.17,224,null,null,"Slope Grad Max",5,null,null,null,null,15,3191,"AsC2",null,null,null,15,"Arkansas","10C","Keo loam, 1 to 6 percent slopes, occasionally flooded",1,3.5,6,15,45,75,0.43,5,"Occasional","B",77]
[null,null,"Predominate Vegetation",null,null,null," Percent Ground Cover",null,null,"Conservation Support Practices (P)",null,null,null,"Not used Potential use for full C table",null,null,null,null,"Poultry Type",null,null,null,null,null,null,null,0.24,0.2,514,null,null,"Slope Len Min",6,null,null,null,null,16,3192,"BaC",null,null,null,16,"Arkansas","11A","Kobel silty clay, 0 to 1 percent slopes, frequently flooded",0,0.5,1,30,75,150,0.32,5,"Frequent","D",78]
[null,null,null,null,null,null,null,null,null,null,null,null,null,"Vegetal Canopy: Type and Height of Raised Canopy",null,null,null,null,"Type","XLable1","XLable2","XLable3","XLable4","Prod Rate","Rate Units","Index",0.28000000000000003,0.22,376,null,null,"Slope Len Rep",7,null,null,null,null,17,3193,"BaD",null,null,null,17,"Arkansas","12A","Kobel silty clay, ponded, 0 to 1 percent slopes, frequently flooded",0,0.5,1,30,75,150,0.32,5,"Frequent","D",79]
[null,null,"Grass",1,null,null,0,1,null,"None in place","No",null,null,null,null,null,null,null," "," "," "," "," "," "," ",1,0.32,0.26,346,null,null,"Slope Len Max",8,null,null,null,null,18,3194,"BaE",null,null,null,18,"Arkansas","13A","Lagrue silty clay loam, 0 to 1 percent slopes",0,0.5,1,30,75,150,0.37,5,"None","D",80]
[null,null,"Weed",2,null,null,20,2,null,"At least one in place","Yes",null,null,"No appreciable canopy of tall weeds or brush",{"$f":"B155","v":1},null,null,null,"Broiler/Cornish","Number Houses:","Flocks/Year:","Birds/House:","Market Wt (lb/bird):",{"$f":"IF(#REF!<=0,0,IF(#REF!<=4,0.275*#REF!-0.1,IF(#REF!>4,0.25*#REF!)))","v":{"$error":"#REF!"}},"Ton/1000 Birds/Flock",2,0.37,0.3,478,null,null,"K",9,null,null,null,null,19,3195,"BaF",null,null,null,19,"Arkansas","14B","Muskogee silt loam, 1 to 3 percent slopes",1,2,3,15,60,100,0.49,5,"None","D",81]
[null,null,null,null,null,null,40,3,null,null,null,null,null,"Canopy of tall weeds or short brush (20 in. fall ht.)",{"$f":"B157","v":3},null,null,null,"Hen","Number Houses:","Birds/House:"," "," ",1.6E-2,"Ton/Bird",3,0.43,0.35,566,null,null,"T",10,null,null,null,null,20,3196,"CaB",null,null,null,20,"Arkansas","14C","Muskogee silt loam, 3 to 8 percent slopes",3,5.5,8,15,45,75,0.49,5,"None","D",82]
[null,null,null,null,null,null,60,4,null,null,null,null,null,"Canopy of tall weeds or short brush (6.5 ft fall ht.)",{"$f":"B164","v":10},null,null,null,"Pullets","Number Houses:","Flocks/Year:"," "," ",45,"Ton/flock/House",4,0.49,0.4,585,null,null,"Flood Frequency",11,null,null,null,null,21,3197,"CaC",null,null,null,21,"Arkansas","14D","Muskogee silt loam, 8 to 15 percent slopes",8,11.5,15,15,30,45,0.49,5,"None","D",83]
[null,null,null,null,null,null,80,5,null,"Pasture Use",null,null,null,"Canopy of tall weeds or short brush (13 ft fall ht.)",{"$f":"B171","v":17},null,null,null,"Turkey","Number Houses:","Birds/House:"," "," ",1.2E-2,"Ton/Bird",5,0.55000000000000004,0.46,125,null,null,"Hydrologic Group",12,null,null,null,null,22,3198,"CaC2",null,null,null,22,"Arkansas","15A","Oaklimeter silt loam, 0 to 1 percent slopes, occasionally flooded",0,0.5,1,30,75,150,0.49,5,"Occasional","C",84]
[null,null,null,null,null,null,"95-100",6,null,null,null,null,null,null,null,null,null,null,null,null,null,null,null,null,null,null,0.64,0.52,8,null,null,null,null,null,null,null,null,23,3199,"Ch",null,null,null,23,"Arkansas","16A","Overcup silt loam, 0 to 1 percent slopes",0,0.5,1,30,75,150,0.43,3,"None","D",85]
[null,null,null,null,null,null,null,null,null,"Continuously Grazed >0.75 An.Units",null,null,null,null,null,null,null,null,"Number Houses:","Flocks/Year:","Birds/House:","Bird Market Weight:","Prod Rate",null,null,null,null,null,{"$f":"SUM(AC71:AC85)","v":3371},{"$f":"COUNT($BB$63:$BB$3453)","v":3371},null,null,null,null,null,null,null,24,3200,"Ck",null,null,null,24,"Arkansas","17A","Perry clay, 0 to 1 percent slopes",0,0.5,1,30,75,150,0.24,5,"None","D",86]
[null,null,null,null,null,null,null,null,null,"Continuously Grazed <0.75 An.Units",null,null,null,null,null,null,null,null,null,null,null,null,null,null,null,null,null,null,null,null,null,null,null,null,null,null,null,25,3201,"ClG",null,null,null,25,"Arkansas","18A","Perry clay, 0 to 1 percent slopes, frequently flooded",0,0.5,1,30,75,150,0.24,5,"Frequent","D",87]
[null,null,null,null,null,null,null,null,null,"Rotational Grazing",null,null,null,"Not used Potential use for full C table",null,null,null,null,null,null,null,null,null,null,null,null,null,null,null,null,null,"county","Start row","End row","R factor","10-Yr EI","Kf adj Flag",26,3202,"Cr",null,null,null,26,"Arkansas","19A","Portland clay, 0 to 1 percent slopes",0,0.5,1,30,75,150,0.24,5,"None","D",88]
[null,null,"Pasture Condition and Runoff Curve Numbers",null,null,null,null,null,null,"Hayland",null,null,null,"Vegetal Canopy: Canopy Cover (percent)",null,null,null,null,"Soil Sample Depth",null,null,null,null,null,null,null,null,null,null,null,null," ",{"$f":"BF62","v":62},{"$f":"AG90-1","v":62}," "," ",null,27,3203,"Ec",null,null,null,27,"Arkansas","20A","Portland clay, 0 to 1 percent slopes, frequently flooded",0,0.5,1,30,75,150,0.24,5,"Frequent","D",89]
[null,null,null,"A","B","C","D",null,null,null,null,null,null,null,null,null,null,null,null,null,null,null,null,null,null,null,null,null,null,null,1,"Arkansas",{"$f":"VLOOKUP(AF90,$AS$62:$BF$3455,14,0)","v":63},{"$f":"AG91-1","v":99},357,140,0,28,3204,"Eg",null,null,null,28,"Arkansas","21A","Rilla silt loam, 0 to 1 percent slopes",0,0.5,1,15,45,75,0.49,5,"None","B",90]
[null,null,"Continuously Grazed <0.75 An.Units",49,69,79,84,null,null,"Grazing Management",null,null,null,"0 (No appreciable weed canopy)",0,null,null,null,"4 in",null,null,null,null,null,null,null,null,null,null,null,2,"Ashley",100,{"$f":"AG92-1","v":133},425,160,0,29,3205,"EnC",null,null,null,29,"Arkansas","21B","Rilla silt loam, 1 to 3 percent slopes",1,2,3,15,45,75,0.49,5,"None","B",91]
[null,null,"Continuously Grazed >0.75 An.Units",68,79,86,89,null,null,null,null,null,null,25,1,null,null,null,"6 in",null,null,null,null,null,null,null,null,null,null,null,3,"Baxter",134,173,264,100,1,30,3206,"EnC2",null,null,null,30,"Arkansas","22","Riverwash, sandy, frequently flooded",0,2,4,15,45,75,0.02,5,"Frequent","A",92]
[null,null,"Hayland",30,58,71,78,null,null,"Grazed",0.3,null,null,50,3,null,null,null,null,null,null,null,null,null,null,null,null,null,null,null,4,"Benton",174,210,285,110,1,31,3207,"EnD",null,null,null,31,"Arkansas","23A","Stuttgart silt loam, 0 to 1 percent slopes",0,0.5,1,30,75,150,0.49,3,"None","D",93]
[null,null,"Rotational Grazing",39,61,74,80,null,null,"Grazed and Hayed",0.2,null,null,75,5,null,null,null,null,null,null,null,null,null,null,null,null,null,null,null,5,"Boone",211,252,275,100,1,32,3208,"EnD2",null,null,null,32,"Arkansas","23B","Stuttgart silt loam, 1 to 3 percent slopes",1,2,3,15,60,100,0.49,3,"None","D",94]
[null,null,null,null,null,null,null,null,null,"Hayed only",0.1,null,null,null,null,null,null,null,null,null,null,null,null,null,null,null,null,null,null,null,6,"Bradley",253,327,413,160,0,33,3209,{"$f":"IF(AM95<=$AG$68,INDIRECT(ADDRESS(AM95,CELL(\"col\",$AT$61),1,1)),\"\")","v":"EoD"},null,null,null,33,"Arkansas","24A","Tichnor silt loam, 0 to 1 percent slopes, frequently flooded",0,0.5,1,15,75,150,0.55000000000000004,5,"Frequent","D",95]
[null,null,null,null,null,null,null,null,null,null,null,null,null,null,null,null,null,null,null,null,null,null,null,null,null,null,null,null,null,null,7,"Calhoun",328,358,394,150,0,34,{"$f":"IF(AM95<$AG$68,AM95+1,$AG$68+1)","v":3210},"ErE",null,null,null,34,"Arkansas","25A","Tichnor silt loam, ponded, 0 to 1 percent slopes, frequently flooded",0,0.5,1,30,75,150,0.49,5,"Frequent","D",96]
[null,null,"Application Method",null,null,null,"Application Timing",null,null,"Add Cons Practices",null,null,null,"Manure Type & P source Coeffiencients",null,null,null,null,null,null,null,null,null,null,null,null,null,null,null,null,8,"Carroll",359,392,264,100,1,35,3211,"ErF",null,null,null,35,"Arkansas","26C","Udipsamments, 0 to 8 percent slopes",0,3,5,15,30,45,0.15,5,"Occasional","A",97]
[null,null,null,null,null,null,null,null,null,0,null,null,null,"ManureType","Manure","Soil","Units","Base Unit","Conc Unit","Rate Unit","WEP Unit","WEP lb/ac Conv","Calc PI",null,null,null,null,null,null,null,9,"Chicot",393,428,405,140,0,36,3212,"FaC2",null,null,null,36,"Arkansas","28B","Yancopin silty clay loam, 1 to 3 percent slopes, frequently flooded",1,2,3,15,60,100,0.37,5,"Frequent","C",98]
[null,null,"Incorporated",0.1,null,null,"July-Oct",0.1,null,1,null,null,null," "," "," "," "," "," "," "," "," ","No",null,null,null,null,null,null,null,10,"Clark",429,518,390,130,0,37,3213,"FaD2",null,null,null,37,"Arkansas","29A","Yorktown silty clay, 0 to 1 percent slopes, frequently flooded, frequently ponded",0,0.5,1,15,75,150,0.28000000000000003,5,"Frequent","D",99]
[null,null,"Surface Applied",0.2,null,null,"March-June",0.25,null,2,null,null,null,"Dry Litter",9.5000000000000001E-2,1.8E-3,"dry","ton","lb/ton","ton/ac","ppm",null,"Yes",null,null,null,null,null,null,null,11,"Clay",519,547,287,120,0,38,3214,"FaE2",null,null,null,38,"Ashley",1,"Amy silt loam, 0 to 1 percent slopes",0,0.5,1,30,30,61,0.49,5,"None","D",100]
[null,null,"Surface Applied - Frozen Ground/Snow",0.5,null,null,"Nov-Feb",0.6,null,3,null,null,null,"Liquid Manure",3.1E-2,1.8E-3,"liquid","1000 gal","lb/1000 gal","1000 gal/ac","mg/L",null,"Yes",null,null,null,null,null,null,null,12,"Cleburne",548,581,325,120,1,39,3215,"FeF",null,null,null,39,"Ashley",2,"Arkabutla silt loam, 0 to 1 percent slopes, frequently flooded",0,0.5,1,30,61,91,0.43,5,"Frequent","D",101]
[null,null,null,null,null,null,null,null,null,null,null,null,null,"Biosolids Cake",5.8000000000000003E-2,1.8E-3,"dry","ton","lb/ton","ton/ac","ppm",null,"Yes",null,null,null,null,null,null,null,13,"Cleveland",582,637,388,160,0,40,3216,"FhF",null,null,null,40,"Ashley",3,"Bude silt loam, 0 to 2 percent slopes",0,1,2,15,45,75,0.49,4,"None","D",102]
[null,null,null,null,null,null,null,null,null,null,null,null,null,"Liquid Biosolids",2.9000000000000001E-2,1.8E-3,"liquid","1000 gal","lb/1000 gal","1000 gal/ac","mg/L",null,"Yes",null,null,null,null,null,null,null,14,"Columbia",638,667,400,120,0,41,3217,"GuC",null,null,null,41,"Ashley",4,"Calhoun silt loam, 0 to 1 percent slopes",0,0.5,1,15,37,75,0.55000000000000004,5,"None","D",103]
[null,null,"Soil Runoff Class LRV",null,null,"Flooding Frequency",null,null,null,"Soil Erosion factor",null,null,null,null,null,null,null,null,null,null,null,null,null,null,null,null,null,null,null,null,15,"Conway",668,703,319,120,1,42,3218,"HmC",null,null,null,42,"Ashley",5,"Calloway silt loam, 0 to 1 percent slopes",0,0.5,1,15,75,150,0.43,4,"None","D",104]
[null,null,"H",1,null,"Frequent",2,null,null,0,0,null,null,null,null,null,null,null,null,null,null,null,null,null,null,null,null,null,null,null,16,"Craighead",704,743,300,120,0,43,3219,"HmD",null,null,null,43,"Ashley",6,"Calloway silt loam, 1 to 3 percent slopes",1,2,3,15,60,100,0.43,4,"None","D",105]
[null,null,"L",0.2,null,"None",0,null,null,1,0.1,null,null,null,null,null,null,null,null,null,null,null,null,null,null,null,null,null,null,null,17,"Crawford",744,773,312,120,1,44,3220,"HoF",null,null,null,44,"Ashley",7,"Crevasse soils, frequently flooded",0,0.5,1,15,75,150,0.1,5,"Frequent","A",106]
[null,null,"M",0.5,null,"Occasional",0.5,null,null,2,0.2,null,null,null,null,null,null,null,null,null,null,null,null,null,null,null,null,null,null,null,18,"Crittenden",774,799,338,110,0,45,3221,"JaB",null,null,null,45,"Ashley",8,"Crowley silt loam, 0 to 1 percent slopes",0,0.5,1,15,75,150,0.43,5,"None","D",107]
[null,null,"N",0.1,null,"Rare",0.2,null,null,3,0.4,null,null,null,null,null,null,"Fields Shown",null,null,null,null,null,null,null,null,null,null,null,null,19,"Cross",800,849,323,120,0,46,3222,"JaC",null,null,null,46,"Ashley",10,"Grenada silt loam, 1 to 3 percent slopes",1,2,3,15,60,100,0.49,4,"None","D",108]
[null,null,"VH",1.5,null,null,null,null,null,5,1,null,null,null,null,null,null,10,null,null,null,null,null,null,null,null,null,null,null,null,20,"Dallas",850,880,384,150,0,47,3223,"Jo",null,null,null,47,"Ashley",11,"Grenada silt loam, 3 to 8 percent slopes",3,5,8,15,45,75,0.49,4,"None","D",109]
[null,null,"VL",0.15,null,null,null,null,null,100,1,null,null,null,null,null,null,null,null,null,null,null,null,null,null,null,null,null,null,null,21,"Desha",881,906,382,140,0,48,3224,"Js",null,null,null,48,"Ashley",12,"Grenada silt loam, 8 to 12 percent slopes",8,10,12,15,30,45,0.49,4,"None","D",110]
[null,null,null,null,null,null,null,null,null,null,null,null,null,null,null,null,"Litter Production Rate Ranges",null,null,null,null,null,null,null,null,null,null,null,null,null,22,"Drew",907,945,399,160,0,49,3225,"Le",null,null,null,49,"Ashley",13,"Guyton silt loam, 0 to 1 percent slopes",0,0.5,1,15,75,150,0.49,5,"None","D",111]
[null,null,null,null,null,null,null,null,null,null,null,null,null,null,null,null,"Type","lb/bird/flock",null,null,null,null,null,null,null,null,null,null,null,null,23,"Faulkner",946,978,332,140,1,50,3226,"Lf",null,null,null,50,"Ashley",14,"Guyton soils, frequently flooded",0,0.5,1,15,75,150,0.49,5,"Frequent","D",112]
[null,null,null,null,null,null,null,null,null,null,null,null,null,null,null,null,null,"Min","Max","Suggested",null,null,null,null,null,null,null,null,null,null,24,"Franklin",979,1048,301,120,1,51,3227,"LkB",null,null,null,51,"Ashley",15,"Hebert silt loam, 0 to 1 percent slopes",0,0.5,1,30,46,61,0.43,5,"None","C",113]
[null,null,"P Index Class Boundries",null,null,null,"Soil Runoff Class",null,null,null,null,null,null,null,null,null,null,null,null,null,null,null,null,null,null,null,null,null,null,null,25,"Fulton",1049,1071,269,100,1,52,3228,"LkC2",null,null,null,52,"Ashley",16,"Henry silt loam, 0 to 1 percent slopes",0,0.5,1,15,75,150,0.49,4,"None","D",114]
[null,null,"Min Value","Class",null,null,null,"<50","50-60","61-65","66-70","71-75","76-80","81-85",">85",null,"Broiler",0.90000000000000013,5.2,2,null,null,null,null,null,null,null,null,null,null,26,"Garland",1072,1108,393,120,1,53,3229,"LnC2",null,null,null,53,"Ashley",17,"Lafe silt loam, 0 to 1 percent slopes",0,0.5,1,15,75,150,0.55000000000000004,5,"None","D",115]
[null,null,0,"Low",null,null,null,0,50,61,66,71,76,81,86,null,"Pullet",5.5,13.4,6.7,null,null,null,null,null,null,null,null,null,null,27,"Grant",1109,1134,371,150,0,54,3230,"LnD",null,null,null,54,"Ashley",18,"Ouachita silt loam, frequently flooded",0,0.5,1,15,75,150,0.49,5,"Frequent","C",116]
[null,null,33,"Medium",null,"<1%",0,"N","N","N","N","N","VL","L","M",null,"Breeder Hen",32,48,33,null,null,null,null,null,null,null,null,null,null,28,"Greene",1135,1180,297,120,0,55,3231,"MoD",null,null,null,55,"Ashley",19,"Perry clay, 0 to 1 percent slopes",0,0.5,1,30,75,150,0.24,5,"None","D",117]
[null,null,67,"High",null,"1-3%",1,"N","N","N","VL","VL","L","L","M",null,"Table Egg Pullet",4.5,4.5,4.5,null,null,null,null,null,null,null,null,null,null,29,"Hempstead",1181,1232,397,120,0,56,3232,"MoE",null,null,null,56,"Ashley",20,"Pheba silt loam, 0 to 2 percent slopes",0,1,2,15,45,75,0.55000000000000004,4,"None","D",118]
[null,null,100.01,"Very High",null,"3-8%",3,"N","N","VL","L","M","M","H","H",null,"Table Egg Hen",35,39.4,37,null,null,null,null,null,null,null,null,null,null,30,"Hot Spring",1233,1308,393,130,0,57,3233,"NaC",null,null,null,57,"Ashley",21,"Pikeville fine sandy loam, 3 to 8 percent slopes",3,5,8,15,45,75,0.28000000000000003,4,"None","B",119]
[null,null,null,null,null,"8-15%",8,"VL","VL","L","M","M","H","H","VH",null,"Turkey",10,28,12,null,null,null,null,null,null,null,null,null,null,31,"Howard",1309,1350,397,130,0,58,3234,"NaD",null,null,null,58,"Ashley",22,"Portland silt loam, 0 to 1 percent slopes",0,0.5,1,30,75,150,0.43,5,"None","D",120]
[null,null,null,null,null,">15%",16,"VL","L","M","M","H","H","VH","VH",null,"Turkey Poult",1.5,2,1.7,null,null,null,null,null,null,null,null,null,null,32,"Independence",1351,1414,309,120,1,59,3235,"PeB",null,null,null,59,"Ashley",23,"Portland silty clay, 0 to 1 percent slopes",0,0.5,1,15,75,150,0.28000000000000003,5,"None","D",121]
[null,null,null,null,null,null,null,null,null,null,null,null,null,null,null,null,"Turkey Breeder",74.459999999999994,100,87,null,null,null,null,null,null,null,null,null,null,33,"Izard",{"$f":"VLOOKUP(AF122,$AS$62:$BF$3455,14,0)","v":1415},1447,279,100,1,60,3236,"PeC2",null,null,null,60,"Ashley",24,"Providence silt loam, 1 to 3 percent slopes",1,2,3,15,60,100,0.55000000000000004,4,"None","D",122]
[null,null,null,null,null,null,null,null,null,null,null,null,null,null,null,null,"Other",0,100,"?",null,null,null,null,null,null,null,null,null,null,34,"Jackson",1448,1476,311,130,0,61,3237,"PgC2",null,null,null,61,"Ashley",25,"Rilla silt loam, 0 to 1 percent slopes",0,0.5,1,15,45,75,0.49,5,"None","B",123]
[null,null,null,null,null,null,null,null,null,null,null,null,null,null,null,null,null,null,null,null,null,null,null,null,null,null,null,null,null,null,35,"Jefferson",1477,1527,362,160,0,62,3238,"PkC2",null,null,null,62,"Ashley",26,"Rilla silt loam, 3 to 5 percent slopes",3,4,5,15,45,75,0.49,5,"None","B",124]
[null,null,null,null,null,null,null,null,null,null,null,null,null,null,null,null,null,null,null,null,null,null,null,null,null,null,null,null,null,null,36,"Johnson",1528,1574,308,120,1,63,3239,"PkD2",null,null,null,63,"Ashley",27,"Ruston fine sandy loam, 1 to 3 percent slopes",1,2,3,15,60,100,0.28000000000000003,5,"None","B",125]
[null,null,"Rusle LS table",null,null,null,null,null,null,null,null,null,null,null,null,null,null,null,null,null,null,null,null,null,null,null,null,null,null,null,37,"Lafayette",1575,1655,391,120,0,64,3240,"PsB",null,null,null,64,"Ashley",28,"Ruston fine sandy loam, 3 to 8 percent slopes",3,5,8,7,15,23,0.28000000000000003,5,"None","B",126]
[null,null,"%\\Length",3,6,9,12,15,25,50,75,100,150,200,250,300,400,600,800,1000,null,null,null,null,null,null,null,null,null,null,38,"Lawrence",1656,1697,289,120,1,65,3241,{"$f":"IF(AM127<=$AG$68,INDIRECT(ADDRESS(AM127,CELL(\"col\",$AT$61),1,1)),\"\")","v":"PsC2"},null,null,null,65,"Ashley",29,"Sacul fine sandy loam, 1 to 3 percent slopes",1,2,3,30,91,91,0.32,5,"None","D",127]
[null,null,0.2,0.05,0.05,0.05,0.05,0.05,0.05,0.05,0.05,0.05,0.05,0.05,0.05,0.05,0.05,0.05,0.05,0.05,null,null,null,null,null,null,null,null,null,null,39,"Lee",1698,1739,351,120,0,66,{"$f":"IF(AM127<$AG$68,AM127+1,$AG$68+1)","v":3242},"Ra",null,null,null,66,"Ashley",30,"Savannah fine sandy loam, 1 to 3 percent slopes",1,2,3,15,60,100,0.24,4,"None","C",128]
[null,null,0.5,0.08,0.08,0.08,0.08,0.08,0.08,0.08,0.08,0.09,0.09,0.09,0.09,0.09,0.09,0.09,0.09,0.09,null,null,null,null,null,null,null,null,null,null,40,"Lincoln",1740,1790,381,160,0,67,3243,"Rg",null,null,null,67,"Ashley",31,"Savannah fine sandy loam, 3 to 8 percent slopes",3,5,8,15,60,100,0.24,4,"None","C",129]
[null,null,1,0.12,0.12,0.12,0.12,0.12,0.13,0.13,0.14000000000000001,0.14000000000000001,0.15,0.15,0.15,0.15,0.16,0.16,0.17,0.17,null,null,null,null,null,null,null,null,null,null,41,"Little River",1791,1871,375,130,0,68,3244,"Rk",null,null,null,68,"Ashley",32,"Smithdale fine sandy loam, 8 to 12 percent slopes",8,10,12,15,45,75,0.28000000000000003,5,"None","B",130]
[null,null,2,0.2,0.2,0.2,0.2,0.2,0.21,0.23,0.25,0.26,0.27,0.28000000000000003,0.28999999999999998,0.3,0.31,0.33,0.34,0.35,null,null,null,null,null,null,null,null,null,null,42,"Logan",1872,1905,315,120,1,69,3245,"Sa",null,null,null,69,"Ashley",33,"Spadra variant fine sandy loam, occasionally flooded",0,1.5,3,15,45,75,0.24,5,"Occasional","B",131]
[null,null,3,0.26,0.26,0.26,0.26,0.26,0.28999999999999998,0.33,0.36,0.38,0.4,0.43,0.44,0.46,0.48,0.52,0.55000000000000004,0.56999999999999995,null,null,null,null,null,null,null,null,null,null,43,"Lonoke",1906,1944,335,150,0,70,3246,"Sb",null,null,null,70,"Ashley",34,"Tippah silt loam, 1 to 3 percent slopes",1,2,3,15,60,100,0.49,5,"None","C",132]
[null,null,4,0.33,0.33,0.33,0.33,0.33,0.36,0.43,0.46,0.5,0.54,0.57999999999999996,0.61,0.63,0.67,0.74,0.78,0.82,null,null,null,null,null,null,null,null,null,null,44,"Madison",1945,1992,297,110,1,71,3247,"SfB",null,null,null,71,"Ashley",35,"Yorktown silty clay, 0 to 1 percent slopes, frequently flooded, frequently ponded",0,0.5,1,15,75,150,0.28000000000000003,5,"Frequent","D",133]
[null,null,5,0.38,0.38,0.38,0.38,0.38,0.44,0.52,0.56999999999999995,0.62,0.68,0.73,0.78,0.81,0.87,0.97,1.04,1.1000000000000001,null,null,null,null,null,null,null,null,null,null,45,"Marion",1993,2027,269,100,1,72,3248,"SfC2",null,null,null,72,"Baxter",1,"Arkana very cherty silt loam, 3 to 8 percent slopes",3,5,8,15,45,75,0.37,2,"None","D",134]
[null,null,6,0.44,0.44,0.44,0.44,0.44,0.5,0.61,0.68,0.74,0.83,0.9,0.95,1,1.08,1.21,1.31,1.4,null,null,null,null,null,null,null,null,null,null,46,"Miller",2028,2108,372,130,0,73,3249,"Sn",null,null,null,73,"Baxter",2,"Arkana-Moko complex, 3 to 8 percent slopes, very rocky",3,5,8,15,45,75,0.37,2,"None","D",135]
[null,null,8,0.54,0.54,0.54,0.54,0.54,0.64,0.79,0.9,0.99,1.1200000000000001,1.23,1.32,1.5,1.53,1.74,1.91,2.0499999999999998,null,null,null,null,null,null,null,null,null,null,47,"Mississippi",2109,2138,310,110,0,74,3250,"So",null,null,null,74,"Baxter",3,"Arkana-Moko complex, 8 to 20 percent slopes, very rocky",8,14,20,15,45,75,0.37,2,"None","D",136]
[null,null,10,0.6,0.63,0.65,0.66,0.68,0.81,1.03,1.19,1.31,1.51,1.67,1.8,1.92,2.13,2.4500000000000002,2.71,2.93,null,null,null,null,null,null,null,null,null,null,48,"Monroe",2139,2169,348,140,0,75,3251,"Sp",null,null,null,75,"Baxter",4,"Arkana-Moko complex, 20 to 40 percent slopes, very rocky",20,30,40,15,45,75,0.37,2,"None","D",137]
[null,null,12,0.61,0.7,0.75,0.8,0.83,1.01,1.31,1.52,1.69,1.97,2.2000000000000002,2.39,2.56,2.85,3.32,3.7,4.0199999999999996,null,null,null,null,null,null,null,null,null,null,49,"Montgomery",2170,2236,394,120,1,76,3252,"SsA",null,null,null,76,"Baxter",5,"Britwater silt loam, 1 to 3 percent slopes",1,2,3,60,91,91,0.43,5,"None","B",138]
[null,null,14,0.63,0.76,0.85,0.92,0.98,1.2,1.58,1.85,2.08,2.44,2.73,2.99,3.21,3.6,4.2300000000000004,4.74,5.18,null,null,null,null,null,null,null,null,null,null,50,"Nevada",2237,2276,398,120,0,77,3253,"SsB",null,null,null,77,"Baxter",6,"Britwater silt loam, 3 to 8 percent slopes",3,5,8,39,48,60,0.43,5,"None","B",139]
[null,null,16,0.65,0.82,0.94,1.04,1.1200000000000001,1.38,1.85,2.1800000000000002,2.46,2.91,3.28,3.6,3.88,4.37,5.17,5.82,6.39,null,null,null,null,null,null,null,null,null,null,51,"Newton",2277,2328,300,110,1,78,3254,"SsC2",null,null,null,78,"Baxter",7,"Britwater gravelly silt loam, 3 to 8 percent slopes",3,5,8,39,48,60,0.43,5,"None","B",140]
[null,null,20,0.68,0.93,1.1100000000000001,1.26,1.39,1.74,2.37,2.84,3.22,3.85,4.38,4.83,5.24,5.95,7.13,8.1,8.94,null,null,null,null,null,null,null,null,null,null,52,"Ouachita",2329,2363,391,150,0,79,3255,"SsD2",null,null,null,79,"Baxter",8,"Brockwell sandy loam, 3 to 8 percent slopes",3,5,8,15,45,75,0.24,5,"None","B",141]
[null,null,25,0.73,1.05,1.3,1.51,1.7,2.17,3,3.63,4.16,5.03,5.76,6.39,6.96,7.97,9.65,11.04,12.26,null,null,null,null,null,null,null,null,null,null,53,"Perry",2364,2394,350,120,1,80,3256,"StD2",null,null,null,80,"Baxter",9,"Brockwell gravelly sandy loam, 3 to 8 percent slopes",3,5,8,15,45,75,0.24,5,"None","B",142]
[null,null,30,0.77,1.1599999999999999,1.48,1.75,2,2.57,3.6,4.4000000000000004,5.0599999999999996,6.18,7.11,7.94,8.68,9.99,12.19,14.04,15.66,null,null,null,null,null,null,null,null,null,null,54,"Phillips",2395,2437,370,120,0,81,3257,"StE2",null,null,null,81,"Baxter",10,"Brockwell gravelly sandy loam, 8 to 20 percent slopes",8,14,20,15,20,30,0.24,5,"None","B",143]
[null,null,40,0.85,1.36,1.79,2.17,2.5299999999999998,3.3,4.7300000000000004,5.84,6.78,8.3699999999999992,9.7100000000000009,10.91,11.99,13.92,17.190000000000001,19.96,22.41,null,null,null,null,null,null,null,null,null,null,55,"Pike",2438,2535,410,120,0,82,3258,"Ta",null,null,null,82,"Baxter",11,"Captina silt loam, 1 to 3 percent slopes",1,2,3,60,91,91,0.43,3,"None","D",144]
[null,null,50,0.91,1.52,2.06,2.54,3,3.95,5.74,7.14,8.33,10.37,12.11,13.65,15.06,17.59,21.88,25.55,28.82,null,null,null,null,null,null,null,null,null,null,56,"Poinsett",2536,2565,311,120,0,83,3259,"ToA",null,null,null,83,"Baxter",12,"Captina silt loam, 3 to 8 percent slopes",3,5,8,39,48,60,0.43,3,"None","D",145]
[null,null,60,0.97,1.67,2.29,2.86,3.41,4.5199999999999996,6.63,8.2899999999999991,9.7200000000000006,12.16,14.26,16.13,18.84,20.92,26.17,30.68,34.71,null,null,null,null,null,null,null,null,null,null,57,"Polk",2566,2617,407,130,1,84,3260,"ToB",null,null,null,84,"Baxter",13,"Clarksville very gravelly silt loam, 20 to 50 percent slopes",20,35,50,15,15,15,0.37,3,"None","B",146]
[null,null,null,null,null,null,null,null,null,null,null,null,null,null,null,null,null,null,null,null,null,null,null,null,null,null,null,null,null,null,58,"Pope",2618,2664,315,120,1,85,3261,"",null,null,null,85,"Baxter",14,"Doniphan very cherty silt loam, 3 to 8 percent slopes",3,5,8,15,45,75,0.37,5,"None","B",147]
[null,null,null,null,null,null,null,null,null,null,null,null,null,null,null,null,null,null,null,null,null,null,null,null,null,null,null,null,null,null,59,"Prairie",2665,2703,339,150,0,86,3261,"",null,null,null,86,"Baxter",15,"Doniphan very cherty silt loam, 8 to 20 percent slopes",8,14,20,15,20,30,0.37,5,"None","B",148]
[null,null,null,null,null,null,null,null,null,null,null,null,null,null,null,null,null,null,null,null,null,null,null,null,null,null,null,null,null,null,60,"Pulaski",2704,2753,343,150,0,87,3261,"",null,null,null,87,"Baxter",16,"Elsah gravelly loam, 0 to 3 percent slopes, frequently flooded",0,1,3,30,60,91,0.32,5,"Frequent","B",149]
[null,null,null,null,null,1,2,3,4,5,6,null,null,null,null,"10 yr EI",null,null,null,null,null,null,null,null,null,null,null,null,null,null,61,"Randolph",2754,2784,284,120,1,88,3261,"",null,null,null,88,"Baxter",17,"Estate-Portia-Moko association, 8 to 20 percent slopes, stony",8,14,20,15,20,30,0.24,3,"None","C",150]
[null,null,"Table 6-4. “C” Values for Pasture, Rangeland, Idle Land, and Woodland Grazed",null,null,null,null,null,null,null,null,null,null,null,null,"Very Low Ridge Height",null,null,null,null,null,null,null,null,null,null,null,null,null,null,62,"Saline",2785,2817,375,130,0,89,3261,"",null,null,null,89,"Baxter",18,"Estate-Portia-Moko association, steep",20,30,40,5,15,30,0.24,3,"None","C",151]
[null,null,"Vegetal Canopy",null,null," Cover That Contacts The Surface",null,null,null,null,null,null,null,null,null,null,null,"Hydrologic Soil Group",null,null,null,null,null,null,null,null,null,null,null,null,63,"Scott",2818,2857,339,130,1,90,3261,"",null,null,null,90,"Baxter",19,"Gassville very cherty silt loam, 20 to 40 percent slopes",20,30,40,5,15,30,0.43,3,"None","D",152]
[null,null,"Type and Height of Raised Canopy","Canopy Cover (percent)","Type"," Percent of Ground Cover",null,null,null,null,null,null,"EI","Start Row","End row","%","?","A","B","C","D",null,null,null,null,null,null,null,null,null,64,"Searcy",2858,2907,289,110,1,91,3261,"",null,null,null,91,"Baxter",20,"Healing silt loam, 1 to 3 percent slopes, rarely flooded",1,2,3,61,91,91,0.37,5,"Rare","B",153]
[null,null,null,null,null,0,20,40,60,80,"95-100",null,100,{"$f":"CELL(\"row\",M154)","v":154},{"$f":"CELL(\"row\",M174)-1","v":173},0,1,1,1,1,1,null,null,null,null,null,null,null,null,null,65,"Sebastian",{"$f":"VLOOKUP(AF154,$AS$62:$BF$3455,14,0)","v":2908},2936,302,130,1,92,3261,"",null,null,null,92,"Baxter",21,"Moko-Rock outcrop complex, 3 to 15 percent slopes",3,9,15,15,30,45,0.37,1,"None","D",154]
[null,1,"No appreciable canopy of tall weeds or brush",0,"G",0.45,0.2,0.1,4.2000000000000003E-2,1.2999999999999999E-2,3.0000000000000001E-3,null,100,null,null,1,0.56000000000000005,0.66,0.82,0.91,0.95,null,null,null,null,null,null,null,null,null,66,"Sevier",2937,{"$f":"AG156-1","v":2983},385,130,0,93,3261,"",null,null,null,93,"Baxter",22,"Moko-Rock outcrop complex, 15 to 40 percent slopes",15,28,40,5,15,30,0.37,1,"None","D",155]
[null,2,null,null,"W",0.45,0.24,0.15,0.09,4.2999999999999997E-2,1.0999999999999999E-2,null,100,null,null,2,0.5,0.5,0.73,0.87,0.93,null,null,null,null,null,null,null,null,null,67,"Sharp",2984,3012,283,110,1,94,3261,"",null,null,null,94,"Baxter",23,"Mountainburg gravelly loam, 3 to 8 percent slopes",3,5,8,15,45,75,0.43,1,"None","D",156]
[null,3,"Canopy of tall weeds or short brush (20 in. fall ht.)",null,null,null,null,null,null,null,null,null,100,null,null,3,50,0.5,0.7,0.85,0.92,null,null,null,null,null,null,null,null,null,68,"St. Francis",3013,3067,340,120,0,95,3261,"",null,null,null,95,"Baxter",24,"Mountainburg very stony sandy loam, 3 to 15 percent slopes",3,9,15,15,30,45,0.28000000000000003,1,"None","D",157]
[null,4,null,25,"G",0.36,0.17,0.09,3.7999999999999999E-2,1.2E-2,3.0000000000000001E-3,null,100,null,null,4,0.5,0.5,0.69,0.85,0.92,null,null,null,null,null,null,null,null,null,69,"Stone",3068,3116,304,110,1,96,3261,"",null,null,null,96,"Baxter",25,"Mountainburg very stony sandy loam, 15 to 40 percent slopes",15,28,40,5,15,30,0.32,1,"None","D",158]
[null,5,null,null,"W",0.36,0.2,0.13,8.2000000000000003E-2,4.1000000000000002E-2,1.0999999999999999E-2,null,100,null,null,5,50,0.5,0.69,0.85,0.92,null,null,null,null,null,null,null,null,null,70,"Union",3117,3143,410,150,0,97,3261,{"$f":"IF(AM159<=$AG$68,INDIRECT(ADDRESS(AM159,CELL(\"col\",$AT$61),1,1)),\"\")","v":""},null,null,null,97,"Baxter",26,"Nixa very gravelly silt loam, 3 to 8 percent slopes",3,5,8,39,48,60,0.43,4,"None","D",159]
[null,6,null,50,"G",0.26,0.13,7.0000000000000007E-2,3.5000000000000003E-2,1.2E-2,3.0000000000000001E-3,null,100,null,null,6,50,0.5,0.71,0.86,0.93,null,null,null,null,null,null,null,null,null,71,"Van Buren",3144,3176,325,120,1,98,{"$f":"IF(AM159<$AG$68,AM159+1,$AG$68+1)","v":3261},"",null,null,null,98,"Baxter",27,"Nixa very gravelly silt loam, 8 to 12 percent slopes",8,10,12,30,36,39,0.43,3,"None","D",160]
[null,7,null,null,"W",0.26,0.16,0.11,7.4999999999999997E-2,3.9E-2,1.0999999999999999E-2,null,100,null,null,8,0.5,0.5,0.76,0.9,0.95,null,null,null,null,null,null,null,null,null,72,"Washington",3177,3260,311,120,1,99,3261,"",null,null,null,99,"Baxter",30,"Nixa-Noark complex, 3 to 8 percent slopes",3,5,8,39,48,60,0.43,4,"None","D",161]
[null,8,null,75,"G",0.17,0.1,0.06,3.1E-2,1.0999999999999999E-2,3.0000000000000001E-3,null,100,null,null,10,50,0.53,0.84,0.96,0.99,null,null,null,null,null,null,null,null,null,73,"White",3261,3296,334,140,0,100,3261,"",null,null,null,100,"Baxter",31,"Nixa-Noark complex, 8 to 20 percent slopes",8,15,20,15,21,39,0.43,3,"None","D",162]
[null,9,null,null,"W",0.17,0.12,0.09,6.7000000000000004E-2,3.7999999999999999E-2,1.0999999999999999E-2,null,100,null,null,12,0.5,0.6,0.94,1,1,null,null,null,null,null,null,null,null,null,74,"Woodruff",3297,3339,333,130,0,101,3261,"",null,null,null,101,"Baxter",32,"Noark very gravelly silt loam, 3 to 8 percent slopes",3,5,8,39,48,60,0.37,5,"None","C",163]
[null,10,"Canopy of tall weeds or short brush (6.5 ft fall ht.)",null,null,null,null,null,null,null,null,null,100,null,null,14,50,0.69,1,1,1,null,null,null,null,null,null,null,null,null,75,"Yell",3340,3433,331,120,1,102,3261,"",null,null,null,102,"Baxter",33,"Noark very gravelly silt loam, 8 to 20 percent slopes",8,15,20,15,21,39,0.37,5,"None","C",164]
[null,11,null,25,"G",0.4,0.18,0.09,0.04,1.2999999999999999E-2,3.0000000000000001E-3,null,100,null,null,16,50,0.78,1,1,1,null,null,null,null,null,null,null,null,null,null,{"$f":"AS3434","v":"End"},3434,null,null,null,null,103,3261,"",null,null,null,103,"Baxter",34,"Noark very gravelly silt loam, 20 to 40 percent slopes",20,30,40,15,15,15,0.37,5,"None","C",165]
[null,12,null,null,"W",0.4,0.22,0.14000000000000001,8.5000000000000006E-2,4.2000000000000003E-2,1.0999999999999999E-2,null,100,null,null,18,0.53,0.88,1,1,1,null,null,null,null,null,null,null,null,null,null,null,null,null,null,null,null,104,3261,"",null,null,null,104,"Baxter",35,"Portia fine sandy loam, 3 to 8 percent slopes",3,5,8,15,45,75,0.24,5,"None","B",166]
[null,13,null,50,"G",0.34,0.16,8.5000000000000006E-2,3.7999999999999999E-2,1.2E-2,3.0000000000000001E-3,null,100,null,null,20,0.59,0.94,1,1,1,null,null,null,null,null,null,null,null,null,null,null,null,null,null,null,null,105,3261,"",null,null,null,105,"Baxter",36,"Portia fine sandy loam, 8 to 12 percent slopes",8,10,12,15,30,45,0.24,5,"None","B",167]
[null,14,null,null,"W",0.34,0.19,0.13,8.1000000000000003E-2,4.1000000000000002E-2,1.0999999999999999E-2,null,100,null,null,24,0.73,1,1,1,1,null,null,null,null,null,null,null,null,null,null,null,null,null,null,null,null,106,3261,"",null,null,null,106,"Baxter",37,"Razort silt loam, frequently flooded",0,0.5,1,15,75,150,0.37,4,"Frequent","B",168]
[null,15,null,75,"G",0.28000000000000003,0.14000000000000001,0.08,3.5999999999999997E-2,1.2E-2,3.0000000000000001E-3,null,100,null,null,32,1,1,1,1,1,null,null,null,null,null,null,null,null,null,null,null,null,null,null,null,null,107,3261,"",null,null,null,107,"Baxter",38,"Sidon silt loam, 3 to 8 percent slopes",3,5,8,15,45,75,0.37,3,"None","C",169]
[null,16,null,null,"W",0.28000000000000003,0.17,0.12,7.6999999999999999E-2,0.04,1.0999999999999999E-2,null,100,null,null,36,1,1,1,1,1,null,null,null,null,null,null,null,null,null,null,null,null,null,null,null,null,108,3261,"",null,null,null,108,"Baxter",39,"Tonti cherty silt loam, 3 to 8 percent slopes",3,5,8,15,45,75,0.37,3,"None","D",170]
[null,17,"Canopy of tall weeds or short brush (13 ft fall ht.)",null,null,null,null,null,null,null,null,null,100,null,null,40,1,1,1,1,1,null,null,null,null,null,null,null,null,null,null,null,null,null,null,null,null,109,3261,"",null,null,null,109,"Baxter",40,"Udorthents-Ramsey-Rock outcrop complex, 3 to 20 percent slopes",10,15,20,15,20,30,0.2,1,"None","D",171]
[null,18,null,25,"G",0.42,0.19,0.1,4.1000000000000002E-2,1.2999999999999999E-2,3.0000000000000001E-3,null,100,null,null,45,1,1,1,1,1,null,null,null,null,null,null,null,null,null,null,null,null,null,null,null,null,110,3261,"",null,null,null,110,"Baxter",41,"Ventris cherty silt loam, 3 to 8 percent slopes",3,5,8,15,45,75,0.43,2,"None","D",172]
[null,19,null,null,"W",0.42,0.23,0.14000000000000001,8.6999999999999994E-2,4.2000000000000003E-2,1.0999999999999999E-2,null,100,null,null,50,1,1,1,1,1,null,null,null,null,null,null,null,null,null,null,null,null,null,null,null,null,null,null,null,null,null,null,111,"Baxter",42,"Wideman sandy loam, frequently flooded",0,0.5,1,15,75,150,0.2,5,"Frequent","A",173]
[null,20,null,50,"G",0.39,0.18,0.09,0.04,1.2999999999999999E-2,3.0000000000000001E-3,null,110,{"$f":"CELL(\"row\",M174)","v":174},{"$f":"CELL(\"row\",M194)-1","v":193},0,1,1,1,1,1,null,null,null,null,null,null,null,null,null,null,null,null,null,null,null,null,null,null,null,null,null,null,112,"Benton","BtC","Britwater gravelly silt loam, 3 to 8 percent slopes",3,5,8,39,48,60,0.43,5,"None","B",174]
[null,21,null,null,"W",0.39,0.21,0.14000000000000001,8.5000000000000006E-2,4.2000000000000003E-2,1.0999999999999999E-2,null,110,null,null,1,0.57999999999999996,0.69,0.86,0.96,1,null,null,null,null,null,null,null,null,null,null,null,null,null,null,null,null,null,null,null,null,null,null,113,"Benton","BtD","Britwater gravelly silt loam, 8 to 12 percent slopes",8,10,12,30,36,39,0.43,5,"None","B",175]
[null,22,null,75,"G",0.36,0.17,0.09,3.9E-2,1.2E-2,3.0000000000000001E-3,null,110,null,null,2,0.5,0.54,0.79,0.93,1,null,null,null,null,null,null,null,null,null,null,null,null,null,null,null,null,null,null,null,null,null,null,114,"Benton","CeC","Cane loam, 3 to 8 percent slopes",3,5,8,15,45,75,0.32,4,"None","C",176]
[null,23,null,null,"W",0.36,0.2,0.13,8.3000000000000004E-2,4.1000000000000002E-2,1.0999999999999999E-2,null,110,null,null,3,0.5,0.5,0.77,0.93,1,null,null,null,null,null,null,null,null,null,null,null,null,null,null,null,null,null,null,null,null,null,null,115,"Benton","CnB","Captina silt loam, 1 to 3 percent slopes",1,2,3,60,91,91,0.43,3,"None","D",177]
[null,null,null,null,null,null,null,null,null,null,null,null,110,null,null,4,0.5,0.5,0.76,0.92,1,null,null,null,null,null,null,null,null,null,null,null,null,null,null,null,null,null,null,null,null,null,null,116,"Benton","Co","Carytown silt loam",0,0.5,1,15,75,150,0.43,2,"None","D",178]
[null,null,null,null,null,null,null,null,null,null,null,null,110,null,null,5,0.5,0.5,0.76,0.92,1,null,null,null,null,null,null,null,null,null,null,null,null,null,null,null,null,null,null,null,null,null,null,117,"Benton","Cs","Cherokee silt loam",0,0.5,1,15,75,150,0.49,3,"None","D",179]
[null,null,"2008 PI",null,null,null,null,null,null,null,null,null,110,null,null,6,50,0.5,0.78,0.93,1,null,null,null,null,null,null,null,null,null,null,null,null,null,null,null,null,null,null,null,null,null,null,118,"Benton","CvF","Clarksville extremely gravelly silt loam, 12 to 50 percent slopes",12,31,50,5,15,30,0.37,5,"None","A",180]
[null,null,"Soil Runoff Class (12/21/07)",null,"<60","60-65","66-70","71-75","76-80","81-85",">85",null,110,null,null,8,0.5,0.53,0.83,0.96,1,null,null,null,null,null,null,null,null,null,null,null,null,null,null,null,null,null,null,null,null,null,null,119,"Benton","Eg","Elsah soils, occasionally and frequently flooded",0,1.5,3,15,45,75,0.43,5,"Occasional","B",181]
[null,null,null,"Slope%",0,60,66,71,76,81,85,null,110,null,null,10,50,0.6,0.9,0.99,1,null,null,null,null,null,null,null,null,null,null,null,null,null,null,null,null,null,null,null,null,null,null,120,"Benton","EnD","Enders very gravelly loam, 3 to 12 percent slopes",3,8,12,15,30,45,0.37,4,"None","D",182]
[null,null,null,null,2,3,4,5,6,7,8,null,110,null,null,12,0.5,0.68,1,1,1,null,null,null,null,null,null,null,null,null,null,null,null,null,null,null,null,null,null,null,null,null,null,121,"Benton","EoD","Enders very stony loam, 3 to 12 percent slopes",3,8,12,15,30,45,0.28000000000000003,4,"None","D",183]
[null,null,null,0,"N","N","N","N","VL","VL","VL",null,110,null,null,14,0.5,0.77,1,1,1,null,null,null,null,null,null,null,null,null,null,null,null,null,null,null,null,null,null,null,null,null,null,122,"Benton","EoF","Enders very stony loam, 12 to 30 percent slopes",12,21,30,5,15,30,0.28000000000000003,4,"None","D",184]
[null,null,null,1,"N","N","VL","VL","VL","L","L",null,110,null,null,16,0.55000000000000004,0.88,1,1,1,null,null,null,null,null,null,null,null,null,null,null,null,null,null,null,null,null,null,null,null,null,null,123,"Benton","Ft","Fatima silt loam, occasionally flooded",0,0.5,1,15,75,150,0.37,5,"Occasional","B",185]
[null,null,null,2,"N","VL","VL","VL","L","L","M",null,110,null,null,18,0.62,0.99,1,1,1,null,null,null,null,null,null,null,null,null,null,null,null,null,null,null,null,null,null,null,null,null,null,124,"Benton","He","Healing silt loam, rarely flooded",0,1,2,15,45,75,0.37,5,"Rare","B",186]
[null,null,null,3,"N","VL","VL","L","L","M","M",null,110,null,null,20,0.7,1,1,1,1,null,null,null,null,null,null,null,null,null,null,null,null,null,null,null,null,null,null,null,null,null,null,125,"Benton","Hf","Healing silt loam, 0 to 3 percent slopes, occasionally flooded",0,2,3,30,91,91,0.37,5,"Occasional","B",187]
[null,null,null,4,"N","VL","L","L","M","M","H",null,110,null,null,24,0.86,1,1,1,1,null,null,null,null,null,null,null,null,null,null,null,null,null,null,null,null,null,null,null,null,null,null,126,"Benton","JaB","Jay silt loam, 1 to 3 percent slopes",1,2,3,15,84,152,0.43,4,"None","C",188]
[null,null,null,5,"N","VL","L","L","M","M","H",null,110,null,null,32,1,1,1,1,1,null,null,null,null,null,null,null,null,null,null,null,null,null,null,null,null,null,null,null,null,null,null,127,"Benton","Jo","Johnsburg silt loam, 0 to 2 percent slopes",0,1,2,15,45,75,0.49,4,"None","D",189]
[null,null,null,6,"N","VL","L","M","M","H","H",null,110,null,null,36,1,1,1,1,1,null,null,null,null,null,null,null,null,null,null,null,null,null,null,null,null,null,null,null,null,null,null,128,"Benton","LrC","Linker fine sandy loam, 3 to 8 percent slopes",3,5,8,15,45,75,0.24,2,"None","C",190]
[null,null,null,7,"N","L","L","M","M","H","H",null,110,null,null,40,1,1,1,1,1,null,null,null,null,null,null,null,null,null,null,null,null,null,null,null,null,null,null,null,null,null,null,129,"Benton","Me","Mayes silty clay loam",0,0.5,1,15,75,150,0.37,5,"None","D",191]
[null,null,null,8,"N","L","L","M","M","H","VH",null,110,null,null,45,1,1,1,1,1,null,null,null,null,null,null,null,null,null,null,null,null,null,null,null,null,null,null,null,null,null,null,130,"Benton","MuD","Mountainburg very stony sandy loam, 3 to 12 percent slopes",3,8,12,15,30,45,0.28000000000000003,1,"None","D",192]
[null,null,null,9,"N","L","L","M","H","H","VH",null,110,null,null,50,1,1,1,1,1,null,null,null,null,null,null,null,null,null,null,null,null,null,null,null,null,null,null,null,null,null,null,131,"Benton","MuE","Mountainburg very stony sandy loam, 12 to 40 percent slopes",12,26,40,5,15,30,0.28000000000000003,1,"None","D",193]
[null,null,null,10,"N","L","M","M","H","H","VH",null,120,{"$f":"CELL(\"row\",M194)","v":194},{"$f":"CELL(\"row\",M214)-1","v":213},0,1,1,1,1,1,null,null,null,null,null,null,null,null,null,null,null,null,null,null,null,null,null,null,null,null,null,null,132,"Benton","NeB","Newtonia silt loam, 1 to 3 percent slopes",1,2,3,61,91,91,0.43,5,"None","B",194]
[null,null,null,11,"N","L","M","M","H","H","VH",null,120,null,null,1,0.61,0.72,0.9,1,1,null,null,null,null,null,null,null,null,null,null,null,null,null,null,null,null,null,null,null,null,null,null,133,"Benton","NfC","Nixa very gravelly silt loam, 3 to 8 percent slopes",3,5,8,39,48,60,0.43,4,"None","D",195]
[null,null,null,12,"N","L","M","M","H","VH","VH",null,120,null,null,2,0.5,0.59,0.85,1,1,null,null,null,null,null,null,null,null,null,null,null,null,null,null,null,null,null,null,null,null,null,null,134,"Benton","NfD","Nixa very gravelly silt loam, 8 to 12 percent slopes",8,10,12,15,30,45,0.43,3,"None","D",196]
[null,null,null,13,"N","L","M","M","H","VH","VH",null,120,null,null,3,0.5,0.54,0.84,1,1,null,null,null,null,null,null,null,null,null,null,null,null,null,null,null,null,null,null,null,null,null,null,135,"Benton","NoD","Noark very gravelly silt loam, 8 to 12 percent slopes",8,10,12,30,36,39,0.37,5,"None","C",197]
[null,null,null,14,"N","L","M","H","H","VH","VH",null,120,null,null,4,0.5,0.53,0.83,1,1,null,null,null,null,null,null,null,null,null,null,null,null,null,null,null,null,null,null,null,null,null,null,136,"Benton","NoE","Noark very gravelly silt loam, 12 to 20 percent slopes",12,16,20,15,20,30,0.37,5,"None","B",198]
[null,null,null,15,"N","L","M","H","H","VH","VH",null,120,null,null,5,0.5,0.53,0.83,1,1,null,null,null,null,null,null,null,null,null,null,null,null,null,null,null,null,null,null,null,null,null,null,137,"Benton","NoF","Noark very gravelly silt loam, 20 to 40 percent slopes",20,30,40,15,15,15,0.37,5,"None","C",199]
[null,null,null,100,"N","L","M","H","H","VH","VH",null,120,null,null,6,0.5,0.54,0.84,1,1,null,null,null,null,null,null,null,null,null,null,null,null,null,null,null,null,null,null,null,null,null,null,138,"Benton","PeB","Peridge silt loam, 1 to 3 percent slopes",1,2,3,15,60,100,0.43,5,"None","B",200]
[null,null,null,null,null,null,null,null,null,null,null,null,120,null,null,8,0.5,0.59,0.89,1,1,null,null,null,null,null,null,null,null,null,null,null,null,null,null,null,null,null,null,null,null,null,null,139,"Benton","PeC","Peridge silt loam, 3 to 8 percent slopes",3,5,8,15,45,75,0.43,5,"None","B",201]
[null,null,null,null,null,null,null,null,null,null,null,null,120,null,null,10,0.5,0.66,0.95,1,1,null,null,null,null,null,null,null,null,null,null,null,null,null,null,null,null,null,null,null,null,null,null,140,"Benton","Se","Secesh gravelly silt loam, occasionally flooded",0,1,2,15,45,75,0.37,4,"Occasional","B",202]
[null,null,null,null,null,null,null,null,null,null,null,null,120,null,null,12,0.5,0.75,1,1,1,null,null,null,null,null,null,null,null,null,null,null,null,null,null,null,null,null,null,null,null,null,null,141,"Benton","SoF","Sogn very cobbly silt loam, 12 to 40 percent slopes, very rocky (moko)",12,26,40,5,15,30,0.37,1,"None","D",203]
[null,null,null,null,null,null,null,null,null,null,null,null,120,null,null,14,0.56000000000000005,0.86,1,1,1,null,null,null,null,null,null,null,null,null,null,null,null,null,null,null,null,null,null,null,null,null,null,142,"Benton","SrE","Sogn-Clareson complex, 8 to 20 percent slopes, rubbly (moko, arkana)",8,14,20,15,20,30,0.37,1,"None","D",204]
[null,null,null,null,null,null,null,null,null,null,null,null,120,null,null,16,0.63,0.97,1,1,1,null,null,null,null,null,null,null,null,null,null,null,null,null,null,null,null,null,null,null,null,null,null,143,"Benton","SsD2","Summit silty clay, 3 to 15 percent slopes, eroded",3,8,15,15,30,45,0.2,5,"None","D",205]
[null,null,null,null,null,null,null,null,null,null,null,null,120,null,null,18,0.71,1,1,1,1,null,null,null,null,null,null,null,null,null,null,null,null,null,null,null,null,null,null,null,null,null,null,144,"Benton","ToA","Taloka silt loam, 0 to 1 percent slopes",0,0.5,1,15,99,182,0.37,4,"None","D",206]
[null,null,null,null,null,null,null,null,null,null,null,null,120,null,null,20,0.8,1,1,1,1,null,null,null,null,null,null,null,null,null,null,null,null,null,null,null,null,null,null,null,null,null,null,145,"Benton","TsC","Tonti gravelly silt loam, 3 to 8 percent slopes",3,5,8,15,45,75,0.49,3,"None","D",207]
[null,null,null,null,null,null,null,null,null,null,null,null,120,null,null,24,0.99,1,1,1,1,null,null,null,null,null,null,null,null,null,null,null,null,null,null,null,null,null,null,null,null,null,null,146,"Benton","VsF","Ventris very gravelly silt loam, 15 to 40 percent slopes, rubbly",15,28,40,5,15,30,0.43,2,"None","D",208]
[null,null,null,null,null,null,null,null,null,null,null,null,120,null,null,32,1,1,1,1,1,null,null,null,null,null,null,null,null,null,null,null,null,null,null,null,null,null,null,null,null,null,null,147,"Benton","WeC","Waben very gravelly silt loam, 3 to 8 percent slopes",3,5,8,15,45,75,0.49,5,"None","A",209]
[null,null,null,null,null,null,null,null,null,null,null,null,120,null,null,36,1,1,1,1,1,null,null,null,null,null,null,null,null,null,null,null,null,null,null,null,null,null,null,null,null,null,null,148,"Benton","WeD","Waben very gravelly silt loam, 8 to 12 percent slopes",8,10,12,15,30,45,0.49,5,"None","A",210]
[null,null,null,null,null,null,null,null,null,null,null,null,120,null,null,40,1,1,1,1,1,null,null,null,null,null,null,null,null,null,null,null,null,null,null,null,null,null,null,null,null,null,null,149,"Boone",1,"Arkana cherty silt loam, 3 to 8 percent slopes",3,5,8,15,45,75,0.37,2,"None","D",211]
[null,null,null,null,null,null,null,null,null,null,null,null,120,null,null,45,1,1,1,1,1,null,null,null,null,null,null,null,null,null,null,null,null,null,null,null,null,null,null,null,null,null,null,150,"Boone",2,"Arkana very cherty silt loam, 8 to 12 percent slopes",8,10,12,15,30,45,0.37,2,"None","D",212]
[null,null,null,null,null,null,null,null,null,null,null,null,120,null,null,50,1,1,1,1,1,null,null,null,null,null,null,null,null,null,null,null,null,null,null,null,null,null,null,null,null,null,null,151,"Boone",3,"Arkana-Moko complex, 3 to 8 percent slopes, very rocky",3,5,8,15,45,75,0.37,2,"None","D",213]
[null,null,null,null,null,null,null,null,null,null,null,null,130,{"$f":"CELL(\"row\",M214)","v":214},{"$f":"CELL(\"row\",M234)-1","v":233},0,1,1,1,1,1,null,null,null,null,null,null,null,null,null,null,null,null,null,null,null,null,null,null,null,null,null,null,152,"Boone",4,"Arkana-Moko complex, 8 to 20 percent slopes, very rocky",8,14,20,15,45,75,0.37,2,"None","D",214]
[null,null,null,null,null,null,null,null,null,null,null,null,130,null,null,1,0.63,0.75,0.94,1,1,null,null,null,null,null,null,null,null,null,null,null,null,null,null,null,null,null,null,null,null,null,null,153,"Boone",5,"Arkana-Moko complex, 20 to 40 percent slopes, very rocky",20,30,40,15,45,75,0.37,2,"None","D",215]
[null,null,null,null,null,null,null,null,null,null,null,null,130,null,null,2,0.5,0.64,0.91,1,1,null,null,null,null,null,null,null,null,null,null,null,null,null,null,null,null,null,null,null,null,null,null,154,"Boone",6,"Boden stony sandy loam, 8 to 20 percent slopes",8,14,20,15,20,30,0.2,3,"None","C",216]
[null,null,null,null,null,null,null,null,null,null,null,null,130,null,null,3,50,0.59,0.9,1,1,null,null,null,null,null,null,null,null,null,null,null,null,null,null,null,null,null,null,null,null,null,null,155,"Boone",7,"Boden variant-Rock outcrop complex, 20 to 40 percent slopes",20,30,40,5,15,30,0.2,2,"None","C",217]
[null,null,null,null,null,null,null,null,null,null,null,null,130,null,null,4,0.5,0.57999999999999996,0.9,1,1,null,null,null,null,null,null,null,null,null,null,null,null,null,null,null,null,null,null,null,null,null,null,156,"Boone",8,"Britwater gravelly silt loam, 3 to 8 percent slopes",3,5,8,39,48,60,0.43,5,"None","B",218]
[null,null,null,null,null,null,null,null,null,null,null,null,130,null,null,5,50,0.57999999999999996,0.9,1,1,null,null,null,null,null,null,null,null,null,null,null,null,null,null,null,null,null,null,null,null,null,null,157,"Boone",9,"Britwater gravelly silt loam, 8 to 12 percent slopes",8,10,12,30,36,39,0.43,5,"None","B",219]
[null,null,null,null,null,null,null,null,null,null,null,null,130,null,null,6,50,0.6,0.91,1,1,null,null,null,null,null,null,null,null,null,null,null,null,null,null,null,null,null,null,null,null,null,null,158,"Boone",10,"Cane loam, 3 to 8 percent slopes",3,5,8,15,45,75,0.37,4,"None","C",220]
[null,null,null,null,null,null,null,null,null,null,null,null,130,null,null,8,0.5,0.65,0.94,1,1,null,null,null,null,null,null,null,null,null,null,null,null,null,null,null,null,null,null,null,null,null,null,159,"Boone",11,"Cane loam, 8 to 12 percent slopes",8,10,12,15,30,45,0.37,4,"None","C",221]
[null,null,null,null,null,null,null,null,null,null,null,null,130,null,null,10,0.5,0.73,0.99,1,1,null,null,null,null,null,null,null,null,null,null,null,null,null,null,null,null,null,null,null,null,null,null,160,"Boone",12,"Captina silt loam, 1 to 3 percent slopes",1,2,3,60,91,91,0.43,3,"None","D",222]
[null,null,null,null,null,null,null,null,null,null,null,null,130,null,null,12,0.55000000000000004,0.82,1,1,1,null,null,null,null,null,null,null,null,null,null,null,null,null,null,null,null,null,null,null,null,null,null,161,"Boone",13,"Captina silt loam, 3 to 8 percent slopes",3,5,8,39,48,60,0.43,3,"None","D",223]
[null,null,null,null,null,null,null,null,null,null,null,null,130,null,null,14,0.63,0.93,1,1,1,null,null,null,null,null,null,null,null,null,null,null,null,null,null,null,null,null,null,null,null,null,null,162,"Boone",14,"Clarksville very gravelly silt loam, 20 to 50 percent slopes",20,35,50,15,15,15,0.37,3,"None","B",224]
[null,null,null,null,null,null,null,null,null,null,null,null,130,null,null,16,0.71,1,1,1,1,null,null,null,null,null,null,null,null,null,null,null,null,null,null,null,null,null,null,null,null,null,null,163,"Boone",15,"Enders gravelly loam, 3 to 8 percent slopes",3,5,8,15,45,75,0.32,4,"None","D",225]
[null,null,null,null,null,null,null,null,null,null,null,null,130,null,null,18,0.8,1,1,1,1,null,null,null,null,null,null,null,null,null,null,null,null,null,null,null,null,null,null,null,null,null,null,164,"Boone",16,"Enders-Nella complex, 8 to 20 percent slopes",8,14,20,15,20,30,0.24,4,"None","D",226]
[null,null,null,null,null,null,null,null,null,null,null,null,130,null,null,20,0.9,1,1,1,1,null,null,null,null,null,null,null,null,null,null,null,null,null,null,null,null,null,null,null,null,null,null,165,"Boone",17,"Enders-Nella complex, 20 to 40 percent slopes",20,30,40,5,15,30,0.24,4,"None","D",227]
[null,null,null,null,null,null,null,null,null,null,null,null,130,null,null,24,1,1,1,1,1,null,null,null,null,null,null,null,null,null,null,null,null,null,null,null,null,null,null,null,null,null,null,166,"Boone",18,"Gassville very cherty silt loam, 3 to 8 percent slopes",3,5,8,15,45,75,0.43,3,"None","D",228]
[null,null,null,null,null,null,null,null,null,null,null,null,130,null,null,32,1,1,1,1,1,null,null,null,null,null,null,null,null,null,null,null,null,null,null,null,null,null,null,null,null,null,null,167,"Boone",19,"Gassville very cherty silt loam, 8 to 20 percent slopes",8,14,20,15,20,30,0.43,3,"None","D",229]
[null,null,null,null,null,null,null,null,null,null,null,null,130,null,null,36,1,1,1,1,1,null,null,null,null,null,null,null,null,null,null,null,null,null,null,null,null,null,null,null,null,null,null,168,"Boone",20,"Leadvale silt loam, 1 to 3 percent slopes",1,2,3,15,45,75,0.49,4,"None","C",230]
[null,null,null,null,null,null,null,null,null,null,null,null,130,null,null,40,1,1,1,1,1,null,null,null,null,null,null,null,null,null,null,null,null,null,null,null,null,null,null,null,null,null,null,169,"Boone",21,"Leadvale silt loam, 3 to 8 percent slopes",3,5,8,15,45,75,0.49,4,"None","C",231]
[null,null,null,null,null,null,null,null,null,null,null,null,130,null,null,45,1,1,1,1,1,null,null,null,null,null,null,null,null,null,null,null,null,null,null,null,null,null,null,null,null,null,null,170,"Boone",22,"Linker fine sandy loam, 3 to 8 percent slopes",3,5,8,15,45,75,0.24,2,"None","C",232]
[null,null,null,null,null,null,null,null,null,null,null,null,130,null,null,50,1,1,1,1,1,null,null,null,null,null,null,null,null,null,null,null,null,null,null,null,null,null,null,null,null,null,null,171,"Boone",23,"Linker gravelly fine sandy loam, 3 to 8 percent slopes",3,5,8,15,45,75,0.24,2,"None","C",233]
[null,null,null,null,null,null,null,null,null,null,null,null,140,{"$f":"CELL(\"row\",M234)","v":234},{"$f":"CELL(\"row\",M254)-1","v":253},0,1,1,1,1,1,null,null,null,null,null,null,null,null,null,null,null,null,null,null,null,null,null,null,null,null,null,null,172,"Boone",24,"Linker-Mountainburg complex, 8 to 20 percent slopes",8,14,20,15,20,30,0.37,2,"None","C",234]
[null,null,null,null,null,null,null,null,null,null,null,null,140,null,null,1,0.66,0.79,0.98,1,1,null,null,null,null,null,null,null,null,null,null,null,null,null,null,null,null,null,null,null,null,null,null,173,"Boone",25,"Moko-Rock outcrop complex, 3 to 15 percent slopes",3,9,15,15,30,45,0.37,1,"None","D",235]
[null,null,null,null,null,null,null,null,null,null,null,null,140,null,null,2,0.5,0.68,0.97,1,1,null,null,null,null,null,null,null,null,null,null,null,null,null,null,null,null,null,null,null,null,null,null,174,"Boone",26,"Moko-Rock outcrop complex, 15 to 50 percent slopes",15,33,50,5,15,30,0.37,1,"None","D",236]
[null,null,null,null,null,null,null,null,null,null,null,null,140,null,null,3,0.5,0.65,0.97,1,1,null,null,null,null,null,null,null,null,null,null,null,null,null,null,null,null,null,null,null,null,null,null,175,"Boone",27,"Mountainburg very gravelly fine sandy loam, 3 to 8 percent slopes",3,5,8,15,45,75,0.32,1,"None","D",237]
[null,null,null,null,null,null,null,null,null,null,null,null,140,null,null,4,0.5,0.64,0.96,1,1,null,null,null,null,null,null,null,null,null,null,null,null,null,null,null,null,null,null,null,null,null,null,176,"Boone",28,"Mountainburg-Steprock very stony fine sandy loam, 3 to 8 percent slopes",3,5,8,15,45,75,0.32,1,"None","D",238]
[null,null,null,null,null,null,null,null,null,null,null,null,140,null,null,5,0.5,0.64,0.96,1,1,null,null,null,null,null,null,null,null,null,null,null,null,null,null,null,null,null,null,null,null,null,null,177,"Boone",29,"Mountainburg very stony fine sandy loam, 8 to 20 percent slopes",8,14,20,15,20,30,0.32,1,"None","D",239]
[null,null,null,null,null,null,null,null,null,null,null,null,140,null,null,6,0.5,0.65,0.97,1,1,null,null,null,null,null,null,null,null,null,null,null,null,null,null,null,null,null,null,null,null,null,null,178,"Boone",30,"Mountainburg very stony fine sandy loam, 20 to 40 percent slopes",20,30,40,5,15,30,0.32,1,"None","D",240]
[null,null,null,null,null,null,null,null,null,null,null,null,140,null,null,8,0.5,0.71,0.98,1,1,null,null,null,null,null,null,null,null,null,null,null,null,null,null,null,null,null,null,null,null,null,null,179,"Boone",31,"Nella-Mountainburg complex, 20 to 40 percent slopes",20,30,40,5,15,30,0.28000000000000003,5,"None","B",241]
[null,null,null,null,null,null,null,null,null,null,null,null,140,null,null,10,0.54,0.79,1,1,1,null,null,null,null,null,null,null,null,null,null,null,null,null,null,null,null,null,null,null,null,null,null,180,"Boone",32,"Nixa very gravelly silt loam, 3 to 8 percent slopes",3,5,8,39,48,60,0.43,4,"None","D",242]
[null,null,null,null,null,null,null,null,null,null,null,null,140,null,null,12,0.61,0.88,1,1,1,null,null,null,null,null,null,null,null,null,null,null,null,null,null,null,null,null,null,null,null,null,null,181,"Boone",33,"Nixa very gravelly silt loam, 8 to 12 percent slopes",8,10,12,30,36,39,0.43,3,"None","D",243]
[null,null,null,null,null,null,null,null,null,null,null,null,140,null,null,14,0.7,1,1,1,1,null,null,null,null,null,null,null,null,null,null,null,null,null,null,null,null,null,null,null,null,null,null,182,"Boone",34,"Noark very gravelly silt loam, 3 to 8 percent slopes",3,5,8,39,48,60,0.37,5,"None","C",244]
[null,null,null,null,null,null,null,null,null,null,null,null,140,null,null,16,0.79,1,1,1,1,null,null,null,null,null,null,null,null,null,null,null,null,null,null,null,null,null,null,null,null,null,null,183,"Boone",35,"Noark very gravelly silt loam, 8 to 20 percent slopes",8,15,20,15,21,39,0.37,5,"None","C",245]
[null,null,null,null,null,null,null,null,null,null,null,null,140,null,null,18,0.89,1,1,1,1,null,null,null,null,null,null,null,null,null,null,null,null,null,null,null,null,null,null,null,null,null,null,184,"Boone",36,"Noark very gravelly silt loam, 20 to 40 percent slopes",20,30,40,15,15,15,0.37,5,"None","C",246]
[null,null,null,null,null,null,null,null,null,null,null,null,140,null,null,20,1,1,1,1,1,null,null,null,null,null,null,null,null,null,null,null,null,null,null,null,null,null,null,null,null,null,null,185,"Boone",37,"Peridge silt loam, 1 to 3 percent slopes",1,2,3,15,60,100,0.43,5,"None","B",247]
[null,null,null,null,null,null,null,null,null,null,null,null,140,null,null,24,1,1,1,1,1,null,null,null,null,null,null,null,null,null,null,null,null,null,null,null,null,null,null,null,null,null,null,186,"Boone",38,"Peridge silt loam, 3 to 8 percent slopes",3,5,8,15,45,75,0.43,5,"None","B",248]
[null,null,null,null,null,null,null,null,null,null,null,null,140,null,null,32,1,1,1,1,1,null,null,null,null,null,null,null,null,null,null,null,null,null,null,null,null,null,null,null,null,null,null,187,"Boone",39,"Portia sandy loam, 3 to 8 percent slopes, eroded",3,5,8,15,45,75,0.24,5,"None","B",249]
[null,null,null,null,null,null,null,null,null,null,null,null,140,null,null,36,1,1,1,1,1,null,null,null,null,null,null,null,null,null,null,null,null,null,null,null,null,null,null,null,null,null,null,188,"Boone",40,"Portia sandy loam, 8 to 12 percent slopes",8,10,12,15,30,45,0.2,5,"None","B",250]
[null,null,null,null,null,null,null,null,null,null,null,null,140,null,null,40,1,1,1,1,1,null,null,null,null,null,null,null,null,null,null,null,null,null,null,null,null,null,null,null,null,null,null,189,"Boone",41,"Razort soils, frequently flooded",0,0.5,1,15,75,150,0.32,5,"Frequent","B",251]
[null,null,null,null,null,null,null,null,null,null,null,null,140,null,null,45,1,1,1,1,1,null,null,null,null,null,null,null,null,null,null,null,null,null,null,null,null,null,null,null,null,null,null,190,"Boone",42,"Samba silt loam, 0 to 1 percent slopes",0,0.5,1,15,75,150,0.43,5,"None","D",252]
[null,null,null,null,null,null,null,null,null,null,null,null,140,null,null,50,1,1,1,1,1,null,null,null,null,null,null,null,null,null,null,null,null,null,null,null,null,null,null,null,null,null,null,191,"Bradley","Bb","Bibb silt loam (guyton)",0,0.5,1,30,75,150,0.49,5,"Frequent","D",253]
[null,null,null,null,null,null,null,null,null,null,null,null,150,{"$f":"CELL(\"row\",M254)","v":254},{"$f":"CELL(\"row\",M274)-1","v":273},0,1,1,1,1,1,null,null,null,null,null,null,null,null,null,null,null,null,null,null,null,null,null,null,null,null,null,null,192,"Bradley","BgB","Boswell gravelly fine sandy loam, nearly level phase (sacul)",1,2,3,15,60,100,0.32,5,"None","D",254]
[null,null,null,null,null,null,null,null,null,null,null,null,150,null,null,1,0.69,0.82,1,1,1,null,null,null,null,null,null,null,null,null,null,null,null,null,null,null,null,null,null,null,null,null,null,193,"Bradley","BgC","Boswell gravelly fine sandy loam, gently sloping phase (sacul)",3,6,8,15,45,75,0.32,5,"None","D",255]
[null,null,null,null,null,null,null,null,null,null,null,null,150,null,null,2,0.54,0.73,1,1,1,null,null,null,null,null,null,null,null,null,null,null,null,null,null,null,null,null,null,null,null,null,null,194,"Bradley","BgC2","Boswell gravelly fine sandy loam, eroded gently sloping phase (sacul)",3,6,8,15,45,75,0.32,5,"None","D",256]
[null,null,null,null,null,null,null,null,null,null,null,null,150,null,null,3,0.5,0.7,1,1,1,null,null,null,null,null,null,null,null,null,null,null,null,null,null,null,null,null,null,null,null,null,null,195,"Bradley","BoC3","Boswell sandy clay, severely eroded gently sloping phase (sacul)",3,6,8,15,45,75,0.2,4,"None","D",257]
[null,null,null,null,null,null,null,null,null,null,null,null,150,null,null,4,0.5,0.69,1,1,1,null,null,null,null,null,null,null,null,null,null,null,null,null,null,null,null,null,null,null,null,null,null,196,"Bradley","BwB","Boswell very fine sandy loam, nearly level phase (sacul)",1,2,3,15,60,100,0.49,5,"None","D",258]
[null,null,null,null,null,null,null,null,null,null,null,null,150,null,null,5,0.5,0.69,1,1,1,null,null,null,null,null,null,null,null,null,null,null,null,null,null,null,null,null,null,null,null,null,null,197,"Bradley","BwB2","Boswell very fine sandy loam, eroded nearly level phase (sacul)",1,2,3,15,60,100,0.49,5,"None","D",259]
[null,null,null,null,null,null,null,null,null,null,null,null,150,null,null,6,0.5,0.7,1,1,1,null,null,null,null,null,null,null,null,null,null,null,null,null,null,null,null,null,null,null,null,null,null,198,"Bradley","BwC","Boswell very fine sandy loam, gently sloping phase (sacul)",3,6,8,15,45,75,0.49,5,"None","D",260]
[null,null,null,null,null,null,null,null,null,null,null,null,150,null,null,8,0.53,0.76,1,1,1,null,null,null,null,null,null,null,null,null,null,null,null,null,null,null,null,null,null,null,null,null,null,199,"Bradley","BwC2","Boswell very fine sandy loam, eroded gently sloping phase (sacul)",3,6,8,15,45,75,0.49,5,"None","D",261]
[null,null,null,null,null,null,null,null,null,null,null,null,150,null,null,10,0.59,0.84,1,1,1,null,null,null,null,null,null,null,null,null,null,null,null,null,null,null,null,null,null,null,null,null,null,200,"Bradley","BwE","Boswell very fine sandy loam, 8 to 20 percent slopes (sacul)",8,14,20,15,20,30,0.49,5,"None","D",262]
[null,null,null,null,null,null,null,null,null,null,null,null,150,null,null,12,0.67,0.94,1,1,1,null,null,null,null,null,null,null,null,null,null,null,null,null,null,null,null,null,null,null,null,null,null,201,"Bradley","CaB","Cahaba sandy loam, nearly level phase",1,2,3,15,60,100,0.2,5,"None","B",263]
[null,null,null,null,null,null,null,null,null,null,null,null,150,null,null,14,0.77,1,1,1,1,null,null,null,null,null,null,null,null,null,null,null,null,null,null,null,null,null,null,null,null,null,null,202,"Bradley","CaC","Cahaba sandy loam, gently sloping phase",3,6,8,15,45,75,0.2,5,"None","B",264]
[null,null,null,null,null,null,null,null,null,null,null,null,150,null,null,16,0.87,1,1,1,1,null,null,null,null,null,null,null,null,null,null,null,null,null,null,null,null,null,null,null,null,null,null,203,"Bradley","CaC2","Cahaba sandy loam, eroded gently sloping phase",3,6,8,15,45,75,0.2,5,"None","B",265]
[null,null,null,null,null,null,null,null,null,null,null,null,150,null,null,18,0.98,1,1,1,1,null,null,null,null,null,null,null,null,null,null,null,null,null,null,null,null,null,null,null,null,null,null,204,"Bradley","CaD","Cahaba sandy loam, sloping phase (smithdale)",8,10,12,15,30,45,0.32,5,"None","B",266]
[null,null,null,null,null,null,null,null,null,null,null,null,150,null,null,20,1,1,1,1,1,null,null,null,null,null,null,null,null,null,null,null,null,null,null,null,null,null,null,null,null,null,null,205,"Bradley","Ch","Chastain silty clay",0,0.5,1,30,75,150,0.28000000000000003,4,"Frequent","D",267]
[null,null,null,null,null,null,null,null,null,null,null,null,150,null,null,24,1,1,1,1,1,null,null,null,null,null,null,null,null,null,null,null,null,null,null,null,null,null,null,null,null,null,null,206,"Bradley","CT","Amy silt loam, 0 to 1 percent slopes",0,0.5,1,30,30,61,0.49,5,"None","D",268]
[null,null,null,null,null,null,null,null,null,null,null,null,150,null,null,32,1,1,1,1,1,null,null,null,null,null,null,null,null,null,null,null,null,null,null,null,null,null,null,null,null,null,null,207,"Bradley","IM","Iuka-Mantachie silt loams (ouachita, guyton)",0,0.5,1,30,75,150,0.55000000000000004,5,"Occasional","C",269]
[null,null,null,null,null,null,null,null,null,null,null,null,150,null,null,36,1,1,1,1,1,null,null,null,null,null,null,null,null,null,null,null,null,null,null,null,null,null,null,null,null,null,null,208,"Bradley","KaB","Kalmia fine sandy loam, nearly level low terrace phase",1,2,3,15,60,100,0.32,3,"None","B",270]
[null,null,null,null,null,null,null,null,null,null,null,null,150,null,null,40,1,1,1,1,1,null,null,null,null,null,null,null,null,null,null,null,null,null,null,null,null,null,null,null,null,null,null,209,"Bradley","KaC","Kalmia fine sandy loam, gently sloping low terrace phase",3,6,8,15,45,75,0.32,3,"None","B",271]
[null,null,null,null,null,null,null,null,null,null,null,null,150,null,null,45,1,1,1,1,1,null,null,null,null,null,null,null,null,null,null,null,null,null,null,null,null,null,null,null,null,null,null,210,"Bradley","La","Lafe very fine sandy loam",0,0.5,1,30,75,150,0.49,5,"None","D",272]
[null,null,null,null,null,null,null,null,null,null,null,null,150,null,null,50,1,1,1,1,1,null,null,null,null,null,null,null,null,null,null,null,null,null,null,null,null,null,null,null,null,null,null,211,"Bradley","Le","Leaf silt loam",0,0.5,1,30,75,150,0.49,5,"Rare","D",273]
[null,null,null,null,null,null,null,null,null,null,null,null,160,{"$f":"CELL(\"row\",M274)","v":274},{"$f":"CELL(\"row\",M294)-1","v":293},0,1,1,1,1,1,null,null,null,null,null,null,null,null,null,null,null,null,null,null,null,null,null,null,null,null,null,null,212,"Bradley","Ma","Mixed alluvial land (guyton)",0,0.5,1,30,75,150,0.49,5,"Frequent","D",274]
[null,null,null,null,null,null,null,null,null,null,null,null,160,null,null,1,0.71,0.85,1,1,1,null,null,null,null,null,null,null,null,null,null,null,null,null,null,null,null,null,null,null,null,null,null,213,"Bradley","Mb","Amy silt loam, 0 to 1 percent slopes",0,0.5,1,30,30,61,0.49,5,"None","D",275]
[null,null,null,null,null,null,null,null,null,null,null,null,160,null,null,2,0.57999999999999996,0.78,1,1,1,null,null,null,null,null,null,null,null,null,null,null,null,null,null,null,null,null,null,null,null,null,null,214,"Bradley","MK","Myatt-Kalmia complex, mound phase (amy, kalmia)",0,0.5,1,30,75,150,0.55000000000000004,5,"None","D",276]
[null,null,null,null,null,null,null,null,null,null,null,null,160,null,null,3,0.53,0.75,1,1,1,null,null,null,null,null,null,null,null,null,null,null,null,null,null,null,null,null,null,null,null,null,null,215,"Bradley","Oc","Ochlockonee fine sandy loam (ouachita)",0,0.5,1,30,75,150,0.28000000000000003,5,"Occasional","C",277]
[null,null,null,null,null,null,null,null,null,null,null,null,160,null,null,4,0.51,0.75,1,1,1,null,null,null,null,null,null,null,null,null,null,null,null,null,null,null,null,null,null,null,null,null,null,216,"Bradley","OfC","Orangeburg fine sandy loam, gently sloping phase (ruston)",3,6,8,15,45,75,0.32,5,"None","B",278]
[null,null,null,null,null,null,null,null,null,null,null,null,160,null,null,5,0.51,0.75,1,1,1,null,null,null,null,null,null,null,null,null,null,null,null,null,null,null,null,null,null,null,null,null,null,217,"Bradley","OfC2","Orangeburg fine sandy loam, eroded gently sloping phase (ruston)",3,6,8,15,45,75,0.32,5,"None","B",279]
[null,null,null,null,null,null,null,null,null,null,null,null,160,null,null,6,0.52,0.76,1,1,1,null,null,null,null,null,null,null,null,null,null,null,null,null,null,null,null,null,null,null,null,null,null,218,"Bradley","OfD","Smithdale fine sandy loam, 8 to 12 percent slopes",8,10,12,15,45,75,0.28000000000000003,5,"None","B",280]
[null,null,null,null,null,null,null,null,null,null,null,null,160,null,null,8,0.57999999999999996,0.81,1,1,1,null,null,null,null,null,null,null,null,null,null,null,null,null,null,null,null,null,null,null,null,null,null,219,"Bradley","ORE","Orangeburg and Ruston fine sandy loams, moderately steep phases (smithdale, smithdale)",12,16,20,15,20,30,0.37,5,"None","B",281]
[null,null,null,null,null,null,null,null,null,null,null,null,160,null,null,10,0.65,0.89,1,1,1,null,null,null,null,null,null,null,null,null,null,null,null,null,null,null,null,null,null,null,null,null,null,220,"Bradley","PLA","Pheba and Lewiston soils, level phases (pheba, pheba)",0,0.5,1,30,75,150,0.49,4,"None","D",282]
[null,null,null,null,null,null,null,null,null,null,null,null,160,null,null,12,0.73,0.98,1,1,1,null,null,null,null,null,null,null,null,null,null,null,null,null,null,null,null,null,null,null,null,null,null,221,"Bradley","PLB","Pheba and Lewiston soils, nearly level phases (pheba, pheba)",1,2,3,15,60,100,0.49,4,"None","D",283]
[null,null,null,null,null,null,null,null,null,null,null,null,160,null,null,14,0.83,1,1,1,1,null,null,null,null,null,null,null,null,null,null,null,null,null,null,null,null,null,null,null,null,null,null,222,"Bradley","PLB2","Pheba and Lewiston soils, eroded nearly level phases (pheba, pheba)",1,2,3,15,60,100,0.49,4,"None","D",284]
[null,null,null,null,null,null,null,null,null,null,null,null,160,null,null,16,0.94,1,1,1,1,null,null,null,null,null,null,null,null,null,null,null,null,null,null,null,null,null,null,null,null,null,null,223,"Bradley","PrA","Prentiss very fine sandy loam, level phase (savannah)",0,0.5,1,30,75,150,0.49,4,"None","C",285]
[null,null,null,null,null,null,null,null,null,null,null,null,160,null,null,18,1,1,1,1,1,null,null,null,null,null,null,null,null,null,null,null,null,null,null,null,null,null,null,null,null,null,null,224,"Bradley","PrB","Prentiss very fine sandy loam, nearly level phase (savannah)",1,2,3,15,60,100,0.49,4,"None","C",286]
[null,null,null,null,null,null,null,null,null,null,null,null,160,null,null,20,1,1,1,1,1,null,null,null,null,null,null,null,null,null,null,null,null,null,null,null,null,null,null,null,null,null,null,225,"Bradley","PrB2","Prentiss very fine sandy loam, eroded nearly level phase (savannah)",1,2,3,15,60,100,0.49,4,"None","C",287]
[null,null,null,null,null,null,null,null,null,null,null,null,160,null,null,24,1,1,1,1,1,null,null,null,null,null,null,null,null,null,null,null,null,null,null,null,null,null,null,null,null,null,null,226,"Bradley","PrC","Prentiss very fine sandy loam, gently sloping phase (savannah)",3,6,8,15,45,75,0.49,4,"None","C",288]
[null,null,null,null,null,null,null,null,null,null,null,null,160,null,null,32,1,1,1,1,1,null,null,null,null,null,null,null,null,null,null,null,null,null,null,null,null,null,null,null,null,null,null,227,"Bradley","PrC2","Prentiss very fine sandy loam, eroded gently sloping phase (savannah)",3,6,8,15,45,75,0.49,4,"None","C",289]
[null,null,null,null,null,null,null,null,null,null,null,null,160,null,null,36,1,1,1,1,1,null,null,null,null,null,null,null,null,null,null,null,null,null,null,null,null,null,null,null,null,null,null,228,"Bradley","PrD","Prentiss very fine sandy loam, sloping phase (savannah)",8,10,12,15,30,45,0.49,4,"None","C",290]
[null,null,null,null,null,null,null,null,null,null,null,null,160,null,null,40,1,1,1,1,1,null,null,null,null,null,null,null,null,null,null,null,null,null,null,null,null,null,null,null,null,null,null,229,"Bradley","Ps","Prentiss very fine sandy loam, mound phase (savannah)",0,2,3,15,45,75,0.49,4,"None","C",291]
[null,null,null,null,null,null,null,null,null,null,null,null,160,null,null,45,1,1,1,1,1,null,null,null,null,null,null,null,null,null,null,null,null,null,null,null,null,null,null,null,null,null,null,230,"Bradley","Ps2","Prentiss very fine sandy loam, eroded mound phase (savannah)",0,2,3,15,45,75,0.49,4,"None","C",292]
[null,null,null,null,null,null,null,null,null,null,null,null,160,null,null,50,1,1,1,1,1,null,null,null,null,null,null,null,null,null,null,null,null,null,null,null,null,null,null,null,null,null,null,231,"Bradley","RuB","Ruston fine sandy loam, nearly level phase",1,2,3,15,60,100,0.28000000000000003,5,"None","B",293]
[null,null,null,null,null,null,null,null,null,null,null,null,null,null,null,null,null,null,null,null,null,null,null,null,null,null,null,null,null,null,null,null,null,null,null,null,null,null,null,null,null,null,null,232,"Bradley","RuC","Ruston fine sandy loam, 3 to 8 percent slopes",3,5,8,7,15,23,0.28000000000000003,5,"None","B",294]
[null,null,null,null,null,null,null,null,null,null,null,null,null,null,null,null,null,null,null,null,null,null,null,null,null,null,null,null,null,null,null,null,null,null,null,null,null,null,null,null,null,null,null,233,"Bradley","RuC2","Ruston fine sandy loam, eroded gently sloping phase",3,6,8,15,45,75,0.28000000000000003,5,"None","B",295]
[null,null,null,null,null,null,null,null,null,null,null,null,null,null,null,null,null,null,null,null,null,null,null,null,null,null,null,null,null,null,null,null,null,null,null,null,null,null,null,null,null,null,null,234,"Bradley","RuD","Smithdale fine sandy loam, 8 to 12 percent slopes",8,10,12,15,45,75,0.28000000000000003,5,"None","B",296]
[null,null,null,null,null,null,null,null,null,null,null,null,null,null,null,null,null,null,null,null,null,null,null,null,null,null,null,null,null,null,null,null,null,null,null,null,null,null,null,null,null,null,null,235,"Bradley","RyC3","Ruston sandy clay loam, severely eroded gently sloping phases",3,6,8,15,45,75,0.28000000000000003,4,"None","B",297]
[null,null,null,null,null,null,null,null,null,null,null,null,null,null,null,null,null,null,null,null,null,null,null,null,null,null,null,null,null,null,null,null,null,null,null,null,null,null,null,null,null,null,null,236,"Bradley","SaC","Saffell gravelly fine sandy loam, 3 to 8 percent slopes",3,6,8,15,45,75,0.17,5,"None","B",298]
[null,null,null,null,null,null,null,null,null,null,null,null,null,null,null,null,null,null,null,null,null,null,null,null,null,null,null,null,null,null,null,null,null,null,null,null,null,null,null,null,null,null,null,237,"Bradley","SaC2","Saffell gravelly fine sandy loam, eroded gently sloping phase",3,6,8,15,45,75,0.28000000000000003,5,"None","B",299]
[null,null,null,null,null,null,null,null,null,null,null,null,null,null,null,null,null,null,null,null,null,null,null,null,null,null,null,null,null,null,null,null,null,null,null,null,null,null,null,null,null,null,null,238,"Bradley","SaC3","Saffell gravelly fine sandy loam, severely eroded gently sloping phase",3,6,8,15,45,75,0.28000000000000003,5,"None","B",300]
[null,null,null,null,null,null,null,null,null,null,null,null,null,null,null,null,null,null,null,null,null,null,null,null,null,null,null,null,null,null,null,null,null,null,null,null,null,null,null,null,null,null,null,239,"Bradley","SaD","Saffell gravelly fine sandy loam, sloping phase",8,10,12,15,30,45,0.28000000000000003,5,"None","B",301]
[null,null,null,null,null,null,null,null,null,null,null,null,null,null,null,null,null,null,null,null,null,null,null,null,null,null,null,null,null,null,null,null,null,null,null,null,null,null,null,null,null,null,null,240,"Bradley","SaD2","Saffell gravelly fine sandy loam, eroded sloping phase",8,10,12,15,30,45,0.28000000000000003,5,"None","B",302]
[null,null,null,null,null,null,null,null,null,null,null,null,null,null,null,null,null,null,null,null,null,null,null,null,null,null,null,null,null,null,null,null,null,null,null,null,null,null,null,null,null,null,null,241,"Bradley","SaE","Saffell gravelly fine sandy loam, 12 to 25 percent slopes",12,19,25,15,20,30,0.28000000000000003,5,"None","B",303]
[null,null,null,null,null,null,null,null,null,null,null,null,null,null,null,null,null,null,null,null,null,null,null,null,null,null,null,null,null,null,null,null,null,null,null,null,null,null,null,null,null,null,null,242,"Bradley","SdA","Savannah very fine sandy loam, level phase",0,0.5,1,30,75,150,0.49,4,"None","C",304]
[null,null,null,null,null,null,null,null,null,null,null,null,null,null,null,null,null,null,null,null,null,null,null,null,null,null,null,null,null,null,null,null,null,null,null,null,null,null,null,null,null,null,null,243,"Bradley","SdB","Savannah very fine sandy loam, nearly level phase",1,2,3,15,60,100,0.49,4,"None","C",305]
[null,null,null,null,null,null,null,null,null,null,null,null,null,null,null,null,null,null,null,null,null,null,null,null,null,null,null,null,null,null,null,null,null,null,null,null,null,null,null,null,null,null,null,244,"Bradley","SdB2","Savannah very fine sandy loam, eroded nearly level phase",1,2,3,15,60,100,0.49,4,"None","C",306]
[null,null,null,null,null,null,null,null,null,null,null,null,null,null,null,null,null,null,null,null,null,null,null,null,null,null,null,null,null,null,null,null,null,null,null,null,null,null,null,null,null,null,null,245,"Bradley","SdC","Savannah very fine sandy loam, gently sloping phase",3,6,8,15,45,75,0.49,4,"None","C",307]
[null,null,null,null,null,null,null,null,null,null,null,null,null,null,null,null,null,null,null,null,null,null,null,null,null,null,null,null,null,null,null,null,null,null,null,null,null,null,null,null,null,null,null,246,"Bradley","SdC2","Savannah very fine sandy loam, eroded gently sloping phase",3,6,8,15,45,75,0.49,4,"None","C",308]
[null,null,null,null,null,null,null,null,null,null,null,null,null,null,null,null,null,null,null,null,null,null,null,null,null,null,null,null,null,null,null,null,null,null,null,null,null,null,null,null,null,null,null,247,"Bradley","SdD","Savannah very fine sandy loam, sloping phase",8,10,12,15,30,45,0.49,4,"None","C",309]
[null,null,null,null,null,null,null,null,null,null,null,null,null,null,null,null,null,null,null,null,null,null,null,null,null,null,null,null,null,null,null,null,null,null,null,null,null,null,null,null,null,null,null,248,"Bradley","SfA","Sawyer very fine sandy loam, level phase",0,1,2,15,45,75,0.49,5,"None","C",310]
[null,null,null,null,null,null,null,null,null,null,null,null,null,null,null,null,null,null,null,null,null,null,null,null,null,null,null,null,null,null,null,null,null,null,null,null,null,null,null,null,null,null,null,249,"Bradley","SfB","Sawyer very fine sandy loam, nearly level phase",1,2,3,15,60,100,0.49,5,"None","C",311]
[null,null,null,null,null,null,null,null,null,null,null,null,null,null,null,null,null,null,null,null,null,null,null,null,null,null,null,null,null,null,null,null,null,null,null,null,null,null,null,null,null,null,null,250,"Bradley","SfB2","Sawyer very fine sandy loam, eroded nearly level phase",1,2,3,15,60,100,0.49,5,"None","C",312]
[null,null,null,null,null,null,null,null,null,null,null,null,null,null,null,null,null,null,null,null,null,null,null,null,null,null,null,null,null,null,null,null,null,null,null,null,null,null,null,null,null,null,null,251,"Bradley","SfC","Sawyer very fine sandy loam, gently sloping phase",3,6,8,15,45,75,0.49,5,"None","C",313]
[null,null,null,null,null,null,null,null,null,null,null,null,null,null,null,null,null,null,null,null,null,null,null,null,null,null,null,null,null,null,null,null,null,null,null,null,null,null,null,null,null,null,null,252,"Bradley","SfC2","Sawyer very fine sandy loam, eroded gently sloping phase",3,6,8,15,45,75,0.49,5,"None","C",314]
[null,null,null,null,null,null,null,null,null,null,null,null,null,null,null,null,null,null,null,null,null,null,null,null,null,null,null,null,null,null,null,null,null,null,null,null,null,null,null,null,null,null,null,253,"Bradley","SfE","Sawyer very fine sandy loam, moderately steep phase (sacul)",12,16,20,15,20,30,0.49,5,"None","D",315]
[null,null,null,null,null,null,null,null,null,null,null,null,null,null,null,null,null,null,null,null,null,null,null,null,null,null,null,null,null,null,null,null,null,null,null,null,null,null,null,null,null,null,null,254,"Bradley","ShB2","Shubuta fine sandy loam, eroded nearly level phase (kirvin)",1,2,3,15,60,100,0.32,5,"None","C",316]
[null,null,null,null,null,null,null,null,null,null,null,null,null,null,null,null,null,null,null,null,null,null,null,null,null,null,null,null,null,null,null,null,null,null,null,null,null,null,null,null,null,null,null,255,"Bradley","ShC2","Shubuta fine sandy loam, eroded gently sloping phase (kirvin)",3,6,8,15,45,75,0.32,5,"None","C",317]
[null,null,null,null,null,null,null,null,null,null,null,null,null,null,null,null,null,null,null,null,null,null,null,null,null,null,null,null,null,null,null,null,null,null,null,null,null,null,null,null,null,null,null,256,"Bradley","ShE","Shubuta gravelly fine sandy loam, moderately steep phase (kirvin)",12,14,15,15,30,45,0.32,5,"None","C",318]
[null,null,null,null,null,null,null,null,null,null,null,null,null,null,null,null,null,null,null,null,null,null,null,null,null,null,null,null,null,null,null,null,null,null,null,null,null,null,null,null,null,null,null,257,"Bradley","SK","Stough-Kalmia complex, 0 to 2 percent slopes",0,1,2,15,45,75,0.37,4,"None","D",319]
[null,null,null,null,null,null,null,null,null,null,null,null,null,null,null,null,null,null,null,null,null,null,null,null,null,null,null,null,null,null,null,null,null,null,null,null,null,null,null,null,null,null,null,258,"Bradley","StA","Stough very fine sandy loam, 0 to 1 percent slopes",0,0.5,1,30,75,150,0.37,4,"None","D",320]
[null,null,null,null,null,null,null,null,null,null,null,null,null,null,null,null,null,null,null,null,null,null,null,null,null,null,null,null,null,null,null,null,null,null,null,null,null,null,null,null,null,null,null,259,"Bradley","StB","Stough very fine sandy loam, 0 to 2 percent slopes",0,1,2,15,45,75,0.37,4,"None","D",321]
[null,null,null,null,null,null,null,null,null,null,null,null,null,null,null,null,null,null,null,null,null,null,null,null,null,null,null,null,null,null,null,null,null,null,null,null,null,null,null,null,null,null,null,260,"Bradley","WcA","Wilcox silty clay loam, level phase",0,1,2,15,45,75,0.43,4,"None","D",322]
[null,null,null,null,null,null,null,null,null,null,null,null,null,null,null,null,null,null,null,null,null,null,null,null,null,null,null,null,null,null,null,null,null,null,null,null,null,null,null,null,null,null,null,261,"Bradley","WcB","Wilcox silty clay loam, nearly level phase",1,2,3,15,60,100,0.43,4,"None","D",323]
[null,null,null,null,null,null,null,null,null,null,null,null,null,null,null,null,null,null,null,null,null,null,null,null,null,null,null,null,null,null,null,null,null,null,null,null,null,null,null,null,null,null,null,262,"Bradley","WcC","Wilcox silty clay loam, gently sloping phase",3,6,8,15,45,75,0.43,4,"None","D",324]
[null,null,null,null,null,null,null,null,null,null,null,null,null,null,null,null,null,null,null,null,null,null,null,null,null,null,null,null,null,null,null,null,null,null,null,null,null,null,null,null,null,null,null,263,"Bradley","WcC2","Wilcox silty clay loam, eroded gently sloping phase",3,6,8,15,45,75,0.43,4,"None","D",325]
[null,null,null,null,null,null,null,null,null,null,null,null,null,null,null,null,null,null,null,null,null,null,null,null,null,null,null,null,null,null,null,null,null,null,null,null,null,null,null,null,null,null,null,264,"Bradley","WcE","Wilcox silty clay loam, moderately steep phase",12,16,20,15,20,30,0.43,4,"None","D",326]
[null,null,null,null,null,null,null,null,null,null,null,null,null,null,null,null,null,null,null,null,null,null,null,null,null,null,null,null,null,null,null,null,null,null,null,null,null,null,null,null,null,null,null,265,"Bradley","WcF","Wilcox silty clay loam, steep phase",20,23,25,5,15,30,0.43,4,"None","D",327]
[null,null,null,null,null,null,null,null,null,null,null,null,null,null,null,null,null,null,null,null,null,null,null,null,null,null,null,null,null,null,null,null,null,null,null,null,null,null,null,null,null,null,null,266,"Calhoun",1,"Amy silt loam, 0 to 1 percent slopes, frequently flooded",0,0.5,1,30,30,61,0.49,5,"Frequent","D",328]
[null,null,null,null,null,null,null,null,null,null,null,null,null,null,null,null,null,null,null,null,null,null,null,null,null,null,null,null,null,null,null,null,null,null,null,null,null,null,null,null,null,null,null,267,"Calhoun",2,"Bonn silt loam,  0 to 1 percent slopes",0,0.5,1,15,75,150,0.55000000000000004,2,"None","D",329]
[null,null,null,null,null,null,null,null,null,null,null,null,null,null,null,null,null,null,null,null,null,null,null,null,null,null,null,null,null,null,null,null,null,null,null,null,null,null,null,null,null,null,null,268,"Calhoun",3,"Briley loamy fine sand, 3 to 8 percent slopes",3,6,8,0,18,0,0.1,5,"None","B",330]
[null,null,null,null,null,null,null,null,null,null,null,null,null,null,null,null,null,null,null,null,null,null,null,null,null,null,null,null,null,null,null,null,null,null,null,null,null,null,null,null,null,null,null,269,"Calhoun",4,"Briley loamy fine sand, 8 to 12 percent slopes",8,10,12,0,18,0,0.1,5,"None","B",331]
[null,null,null,null,null,null,null,null,null,null,null,null,null,null,null,null,null,null,null,null,null,null,null,null,null,null,null,null,null,null,null,null,null,null,null,null,null,null,null,null,null,null,null,270,"Calhoun",5,"Guyton soils, frequently flooded",0,0.5,1,15,75,150,0.49,5,"Frequent","D",332]
[null,null,null,null,null,null,null,null,null,null,null,null,null,null,null,null,null,null,null,null,null,null,null,null,null,null,null,null,null,null,null,null,null,null,null,null,null,null,null,null,null,null,null,271,"Calhoun",6,"Ouachita soils, frequently flooded",0,0.5,1,15,75,150,0.49,5,"Frequent","C",333]
[null,null,null,null,null,null,null,null,null,null,null,null,null,null,null,null,null,null,null,null,null,null,null,null,null,null,null,null,null,null,null,null,null,null,null,null,null,null,null,null,null,null,null,272,"Calhoun",7,"Pheba silt loam, 0 to 2 percent slopes",0,1,2,15,45,75,0.55000000000000004,4,"None","D",334]
[null,null,null,null,null,null,null,null,null,null,null,null,null,null,null,null,null,null,null,null,null,null,null,null,null,null,null,null,null,null,null,null,null,null,null,null,null,null,null,null,null,null,null,273,"Calhoun",8,"Pheba-Savannah association, gently rolling",0,1,2,15,45,75,0.55000000000000004,4,"None","D",335]
[null,null,null,null,null,null,null,null,null,null,null,null,null,null,null,null,null,null,null,null,null,null,null,null,null,null,null,null,null,null,null,null,null,null,null,null,null,null,null,null,null,null,null,274,"Calhoun",9,"Pikeville fine sandy loam, 1 to 3 percent slopes",1,2,3,61,61,91,0.28000000000000003,4,"None","B",336]
[null,null,null,null,null,null,null,null,null,null,null,null,null,null,null,null,null,null,null,null,null,null,null,null,null,null,null,null,null,null,null,null,null,null,null,null,null,null,null,null,null,null,null,275,"Calhoun",10,"Pikeville fine sandy loam, 3 to 8 percent slopes",3,5,8,15,45,75,0.28000000000000003,4,"None","B",337]
[null,null,null,null,null,null,null,null,null,null,null,null,null,null,null,null,null,null,null,null,null,null,null,null,null,null,null,null,null,null,null,null,null,null,null,null,null,null,null,null,null,null,null,276,"Calhoun",11,"Pikeville fine sandy loam, 8 to 12 percent slopes",8,10,12,15,30,45,0.28000000000000003,4,"None","B",338]
[null,null,null,null,null,null,null,null,null,null,null,null,null,null,null,null,null,null,null,null,null,null,null,null,null,null,null,null,null,null,null,null,null,null,null,null,null,null,null,null,null,null,null,277,"Calhoun",12,"Pikeville association, gently rolling",1,5,8,15,45,75,0.28000000000000003,4,"None","B",339]
[null,null,null,null,null,null,null,null,null,null,null,null,null,null,null,null,null,null,null,null,null,null,null,null,null,null,null,null,null,null,null,null,null,null,null,null,null,null,null,null,null,null,null,278,"Calhoun",13,"Pikeville association, rolling",8,14,20,15,20,30,0.28000000000000003,4,"None","B",340]
[null,null,null,null,null,null,null,null,null,null,null,null,null,null,null,null,null,null,null,null,null,null,null,null,null,null,null,null,null,null,null,null,null,null,null,null,null,null,null,null,null,null,null,279,"Calhoun",14,"Ruston fine sandy loam, 1 to 3 percent slopes",1,2,3,15,60,100,0.28000000000000003,5,"None","B",341]
[null,null,null,null,null,null,null,null,null,null,null,null,null,null,null,null,null,null,null,null,null,null,null,null,null,null,null,null,null,null,null,null,null,null,null,null,null,null,null,null,null,null,null,280,"Calhoun",15,"Sacul fine sandy loam, 1 to 3 percent slopes",1,2,3,30,91,91,0.32,5,"None","D",342]
[null,null,null,null,null,null,null,null,null,null,null,null,null,null,null,null,null,null,null,null,null,null,null,null,null,null,null,null,null,null,null,null,null,null,null,null,null,null,null,null,null,null,null,281,"Calhoun",16,"Sacul fine sandy loam, 3 to 8 percent slopes",3,5,8,15,45,75,0.32,5,"None","D",343]
[null,null,null,null,null,null,null,null,null,null,null,null,null,null,null,null,null,null,null,null,null,null,null,null,null,null,null,null,null,null,null,null,null,null,null,null,null,null,null,null,null,null,null,282,"Calhoun",17,"Sacul fine sandy loam, 8 to 12 percent slopes",8,10,12,15,30,45,0.28000000000000003,5,"None","D",344]
[null,null,null,null,null,null,null,null,null,null,null,null,null,null,null,null,null,null,null,null,null,null,null,null,null,null,null,null,null,null,null,null,null,null,null,null,null,null,null,null,null,null,null,283,"Calhoun",18,"Sacul association, rolling",8,12,15,15,30,45,0.28000000000000003,5,"None","D",345]
[null,null,null,null,null,null,null,null,null,null,null,null,null,null,null,null,null,null,null,null,null,null,null,null,null,null,null,null,null,null,null,null,null,null,null,null,null,null,null,null,null,null,null,284,"Calhoun",19,"Sacul-Sawyer association, gently rolling",0,4,8,15,30,45,0.28000000000000003,5,"None","D",346]
[null,null,null,null,null,null,null,null,null,null,null,null,null,null,null,null,null,null,null,null,null,null,null,null,null,null,null,null,null,null,null,null,null,null,null,null,null,null,null,null,null,null,null,285,"Calhoun",20,"Sacul-Smithdale association, gently rolling",1,5,8,15,45,75,0.28000000000000003,5,"None","D",347]
[null,null,null,null,null,null,null,null,null,null,null,null,null,null,null,null,null,null,null,null,null,null,null,null,null,null,null,null,null,null,null,null,null,null,null,null,null,null,null,null,null,null,null,286,"Calhoun",21,"Savannah fine sandy loam, 1 to 3 percent slopes",1,2,3,15,60,100,0.24,4,"None","C",348]
[null,null,null,null,null,null,null,null,null,null,null,null,null,null,null,null,null,null,null,null,null,null,null,null,null,null,null,null,null,null,null,null,null,null,null,null,null,null,null,null,null,null,null,287,"Calhoun",22,"Savannah fine sandy loam, 3 to 8 percent slopes",3,5,8,15,60,100,0.24,4,"None","C",349]
[null,null,null,null,null,null,null,null,null,null,null,null,null,null,null,null,null,null,null,null,null,null,null,null,null,null,null,null,null,null,null,null,null,null,null,null,null,null,null,null,null,null,null,288,"Calhoun",23,"Sawyer silt loam, 1 to 3 percent slopes",1,2,3,15,60,100,0.43,5,"None","C",350]
[null,null,null,null,null,null,null,null,null,null,null,null,null,null,null,null,null,null,null,null,null,null,null,null,null,null,null,null,null,null,null,null,null,null,null,null,null,null,null,null,null,null,null,289,"Calhoun",24,"Sawyer silt loam, 3 to 8 percent slopes",3,5,8,15,45,75,0.43,5,"None","C",351]
[null,null,null,null,null,null,null,null,null,null,null,null,null,null,null,null,null,null,null,null,null,null,null,null,null,null,null,null,null,null,null,null,null,null,null,null,null,null,null,null,null,null,null,290,"Calhoun",25,"Smithdale fine sandy loam, 3 to 8 percent slopes",3,5,8,15,45,75,0.28000000000000003,5,"None","B",352]
[null,null,null,null,null,null,null,null,null,null,null,null,null,null,null,null,null,null,null,null,null,null,null,null,null,null,null,null,null,null,null,null,null,null,null,null,null,null,null,null,null,null,null,291,"Calhoun",26,"Smithdale fine sandy loam, 8 to 12 percent slopes",8,10,12,15,45,75,0.28000000000000003,5,"None","B",353]
[null,null,null,null,null,null,null,null,null,null,null,null,null,null,null,null,null,null,null,null,null,null,null,null,null,null,null,null,null,null,null,null,null,null,null,null,null,null,null,null,null,null,null,292,"Calhoun",27,"Smithdale fine sandy loam, 3 to 8 percent slopes",3,5,8,15,45,75,0.28000000000000003,5,"None","B",354]
[null,null,null,null,null,null,null,null,null,null,null,null,null,null,null,null,null,null,null,null,null,null,null,null,null,null,null,null,null,null,null,null,null,null,null,null,null,null,null,null,null,null,null,293,"Calhoun",28,"Smithdale association, rolling",8,14,20,15,20,30,0.28000000000000003,5,"None","B",355]
[null,null,null,null,null,null,null,null,null,null,null,null,null,null,null,null,null,null,null,null,null,null,null,null,null,null,null,null,null,null,null,null,null,null,null,null,null,null,null,null,null,null,null,294,"Calhoun",29,"Smithdale-Sacul association, rolling",8,14,20,15,20,30,0.28000000000000003,5,"None","B",356]
[null,null,null,null,null,null,null,null,null,null,null,null,null,null,null,null,null,null,null,null,null,null,null,null,null,null,null,null,null,null,null,null,null,null,null,null,null,null,null,null,null,null,null,295,"Calhoun",30,"Smithton fine sandy loam, 0 to 2 percent slopes",0,1,2,10,15,25,0.28000000000000003,5,"None","D",357]
[null,null,null,null,null,null,null,null,null,null,null,null,null,null,null,null,null,null,null,null,null,null,null,null,null,null,null,null,null,null,null,null,null,null,null,null,null,null,null,null,null,null,null,296,"Calhoun",31,"Smithton-Pheba association",0,0.5,1,15,75,150,0.28000000000000003,5,"None","D",358]
[null,null,null,null,null,null,null,null,null,null,null,null,null,null,null,null,null,null,null,null,null,null,null,null,null,null,null,null,null,null,null,null,null,null,null,null,null,null,null,null,null,null,null,297,"Carroll",1,"Arkana-Eldon complex, 3 to 8 percent slopes",3,5,8,15,45,75,0.37,2,"None","D",359]
[null,null,null,null,null,null,null,null,null,null,null,null,null,null,null,null,null,null,null,null,null,null,null,null,null,null,null,null,null,null,null,null,null,null,null,null,null,null,null,null,null,null,null,298,"Carroll",2,"Arkana-Eldon complex, 8 to 12 percent slopes",8,10,12,15,30,45,0.37,2,"None","D",360]
[null,null,null,null,null,null,null,null,null,null,null,null,null,null,null,null,null,null,null,null,null,null,null,null,null,null,null,null,null,null,null,null,null,null,null,null,null,null,null,null,null,null,null,299,"Carroll",3,"Arkana-Moko complex, 8 to 20 percent slopes, very rocky",8,14,20,15,45,75,0.37,2,"None","D",361]
[null,null,null,null,null,null,null,null,null,null,null,null,null,null,null,null,null,null,null,null,null,null,null,null,null,null,null,null,null,null,null,null,null,null,null,null,null,null,null,null,null,null,null,300,"Carroll",4,"Arkana-Moko complex, 20 to 40 percent slopes, very rocky",20,30,40,15,45,75,0.37,2,"None","D",362]
[null,null,null,null,null,null,null,null,null,null,null,null,null,null,null,null,null,null,null,null,null,null,null,null,null,null,null,null,null,null,null,null,null,null,null,null,null,null,null,null,null,null,null,301,"Carroll",5,"Britwater gravelly silt loam, 3 to 8 percent slopes",3,5,8,39,48,60,0.43,5,"None","B",363]
[null,null,null,null,null,null,null,null,null,null,null,null,null,null,null,null,null,null,null,null,null,null,null,null,null,null,null,null,null,null,null,null,null,null,null,null,null,null,null,null,null,null,null,302,"Carroll",6,"Britwater gravelly silt loam, 8 to 12 percent slopes",8,10,12,30,36,39,0.43,5,"None","B",364]
[null,null,null,null,null,null,null,null,null,null,null,null,null,null,null,null,null,null,null,null,null,null,null,null,null,null,null,null,null,null,null,null,null,null,null,null,null,null,null,null,null,null,null,303,"Carroll",7,"Cane loam, 3 to 8 percent slopes",3,5,8,15,45,75,0.37,4,"None","C",365]
[null,null,null,null,null,null,null,null,null,null,null,null,null,null,null,null,null,null,null,null,null,null,null,null,null,null,null,null,null,null,null,null,null,null,null,null,null,null,null,null,null,null,null,304,"Carroll",8,"Captina silt loam, 1 to 3 percent slopes",1,2,3,60,91,91,0.43,3,"None","D",366]
[null,null,null,null,null,null,null,null,null,null,null,null,null,null,null,null,null,null,null,null,null,null,null,null,null,null,null,null,null,null,null,null,null,null,null,null,null,null,null,null,null,null,null,305,"Carroll",9,"Captina silt loam, 3 to 8 percent slopes",3,5,8,39,48,60,0.43,3,"None","D",367]
[null,null,null,null,null,null,null,null,null,null,null,null,null,null,null,null,null,null,null,null,null,null,null,null,null,null,null,null,null,null,null,null,null,null,null,null,null,null,null,null,null,null,null,306,"Carroll",10,"Clarksville very gravelly silt loam, 20 to 50 percent slopes",20,35,50,15,15,15,0.37,3,"None","B",368]
[null,null,null,null,null,null,null,null,null,null,null,null,null,null,null,null,null,null,null,null,null,null,null,null,null,null,null,null,null,null,null,null,null,null,null,null,null,null,null,null,null,null,null,307,"Carroll",11,"Elsah gravelly silt loam, 0 to 3 percent slopes, frequently flooded",0,1,3,30,60,91,0.43,4,"Frequent","B",369]
[null,null,null,null,null,null,null,null,null,null,null,null,null,null,null,null,null,null,null,null,null,null,null,null,null,null,null,null,null,null,null,null,null,null,null,null,null,null,null,null,null,null,null,308,"Carroll",12,"Enders gravelly loam, 3 to 8 percent slopes",3,5,8,15,45,75,0.32,4,"None","D",370]
[null,null,null,null,null,null,null,null,null,null,null,null,null,null,null,null,null,null,null,null,null,null,null,null,null,null,null,null,null,null,null,null,null,null,null,null,null,null,null,null,null,null,null,309,"Carroll",13,"Enders gravelly loam, 8 to 15 percent slopes",8,11,15,15,30,45,0.32,4,"None","D",371]
[null,null,null,null,null,null,null,null,null,null,null,null,null,null,null,null,null,null,null,null,null,null,null,null,null,null,null,null,null,null,null,null,null,null,null,null,null,null,null,null,null,null,null,310,"Carroll",14,"Enders-Leesburg complex, 8 to 20 percent slopes",8,14,20,15,20,30,0.37,4,"None","D",372]
[null,null,null,null,null,null,null,null,null,null,null,null,null,null,null,null,null,null,null,null,null,null,null,null,null,null,null,null,null,null,null,null,null,null,null,null,null,null,null,null,null,null,null,311,"Carroll",15,"Enders-Mountainburg association, 20 to 40 percent slopes",20,30,40,5,15,30,0.24,4,"None","D",373]
[null,null,null,null,null,null,null,null,null,null,null,null,null,null,null,null,null,null,null,null,null,null,null,null,null,null,null,null,null,null,null,null,null,null,null,null,null,null,null,null,null,null,null,312,"Carroll",16,"Linker loam, 3 to 8 percent slopes",3,5,8,39,48,60,0.28000000000000003,2,"None","C",374]
[null,null,null,null,null,null,null,null,null,null,null,null,null,null,null,null,null,null,null,null,null,null,null,null,null,null,null,null,null,null,null,null,null,null,null,null,null,null,null,null,null,null,null,313,"Carroll",17,"Linker-Mountainburg complex, 3 to 8 percent slopes",3,5,8,15,45,75,0.24,2,"None","C",375]
[null,null,null,null,null,null,null,null,null,null,null,null,null,null,null,null,null,null,null,null,null,null,null,null,null,null,null,null,null,null,null,null,null,null,null,null,null,null,null,null,null,null,null,314,"Carroll",18,"Linker-Mountainburg complex, 8 to 20 percent slopes",8,14,20,15,20,30,0.24,2,"None","C",376]
[null,null,null,null,null,null,null,null,null,null,null,null,null,null,null,null,null,null,null,null,null,null,null,null,null,null,null,null,null,null,null,null,null,null,null,null,null,null,null,null,null,null,null,315,"Carroll",19,"Mayes silt loam, 0 to 2 percent slopes",0,1,2,15,45,75,0.49,5,"None","D",377]
[null,null,null,null,null,null,null,null,null,null,null,null,null,null,null,null,null,null,null,null,null,null,null,null,null,null,null,null,null,null,null,null,null,null,null,null,null,null,null,null,null,null,null,316,"Carroll",20,"Moko-Rock outcrop complex, 12 to 50 percent slopes",12,31,50,5,15,30,0.37,1,"None","D",378]
[null,null,null,null,null,null,null,null,null,null,null,null,null,null,null,null,null,null,null,null,null,null,null,null,null,null,null,null,null,null,null,null,null,null,null,null,null,null,null,null,null,null,null,317,"Carroll",21,"Mountainburg gravelly fine sandy loam, 8 to 12 percent slopes",8,10,12,15,30,45,0.32,1,"None","D",379]
[null,null,null,null,null,null,null,null,null,null,null,null,null,null,null,null,null,null,null,null,null,null,null,null,null,null,null,null,null,null,null,null,null,null,null,null,null,null,null,null,null,null,null,318,"Carroll",22,"Mountainburg very stony fine sandy loam, 8 to 20 percent slopes",8,14,20,15,20,30,0.32,1,"None","D",380]
[null,null,null,null,null,null,null,null,null,null,null,null,null,null,null,null,null,null,null,null,null,null,null,null,null,null,null,null,null,null,null,null,null,null,null,null,null,null,null,null,null,null,null,319,"Carroll",23,"Mountainburg very stony fine sandy loam, 20 to 40 percent slopes",20,30,40,5,15,30,0.32,1,"None","D",381]
[null,null,null,null,null,null,null,null,null,null,null,null,null,null,null,null,null,null,null,null,null,null,null,null,null,null,null,null,null,null,null,null,null,null,null,null,null,null,null,null,null,null,null,320,"Carroll",24,"Nella-Mountainburg complex, 20 to 40 percent slopes",20,30,40,5,15,30,0.2,5,"None","B",382]
[null,null,null,null,null,null,null,null,null,null,null,null,null,null,null,null,null,null,null,null,null,null,null,null,null,null,null,null,null,null,null,null,null,null,null,null,null,null,null,null,null,null,null,321,"Carroll",25,"Nixa very gravelly silt loam, 3 to 8 percent slopes",3,5,8,39,48,60,0.43,4,"None","D",383]
[null,null,null,null,null,null,null,null,null,null,null,null,null,null,null,null,null,null,null,null,null,null,null,null,null,null,null,null,null,null,null,null,null,null,null,null,null,null,null,null,null,null,null,322,"Carroll",26,"Nixa very gravelly silt loam, 8 to 12 percent slopes",8,10,12,30,36,39,0.43,3,"None","D",384]
[null,null,null,null,null,null,null,null,null,null,null,null,null,null,null,null,null,null,null,null,null,null,null,null,null,null,null,null,null,null,null,null,null,null,null,null,null,null,null,null,null,null,null,323,"Carroll",27,"Noark very gravelly silt loam, 3 to 8 percent slopes",3,5,8,39,48,60,0.37,5,"None","C",385]
[null,null,null,null,null,null,null,null,null,null,null,null,null,null,null,null,null,null,null,null,null,null,null,null,null,null,null,null,null,null,null,null,null,null,null,null,null,null,null,null,null,null,null,324,"Carroll",28,"Noark very gravelly silt loam, 8 to 20 percent slopes",8,15,20,15,21,39,0.37,5,"None","C",386]
[null,null,null,null,null,null,null,null,null,null,null,null,null,null,null,null,null,null,null,null,null,null,null,null,null,null,null,null,null,null,null,null,null,null,null,null,null,null,null,null,null,null,null,325,"Carroll",29,"Noark very gravelly silt loam, 20 to 40 percent slopes",20,30,40,15,15,15,0.37,5,"None","C",387]
[null,null,null,null,null,null,null,null,null,null,null,null,null,null,null,null,null,null,null,null,null,null,null,null,null,null,null,null,null,null,null,null,null,null,null,null,null,null,null,null,null,null,null,326,"Carroll",30,"Peridge silt loam, 3 to 8 percent slopes",3,5,8,15,45,75,0.43,5,"None","B",388]
[null,null,null,null,null,null,null,null,null,null,null,null,null,null,null,null,null,null,null,null,null,null,null,null,null,null,null,null,null,null,null,null,null,null,null,null,null,null,null,null,null,null,null,327,"Carroll",31,"Portia loam, 3 to 8 percent slopes",3,5,8,15,45,75,0.32,5,"None","B",389]
[null,null,null,null,null,null,null,null,null,null,null,null,null,null,null,null,null,null,null,null,null,null,null,null,null,null,null,null,null,null,null,null,null,null,null,null,null,null,null,null,null,null,null,328,"Carroll",32,"Ramsey-Lily complex, 20 to 40 percent slopes",20,30,40,5,15,30,0.37,1,"None","D",390]
[null,null,null,null,null,null,null,null,null,null,null,null,null,null,null,null,null,null,null,null,null,null,null,null,null,null,null,null,null,null,null,null,null,null,null,null,null,null,null,null,null,null,null,329,"Carroll",33,"Razort loam, occasionally flooded",0,2,3,15,45,75,0.32,4,"Occasional","B",391]
[null,null,null,null,null,null,null,null,null,null,null,null,null,null,null,null,null,null,null,null,null,null,null,null,null,null,null,null,null,null,null,null,null,null,null,null,null,null,null,null,null,null,null,330,"Carroll",34,"Wideman loamy fine sand, frequently flooded",0,2,3,15,45,75,0.15,5,"Frequent","A",392]
[null,null,null,null,null,null,null,null,null,null,null,null,null,null,null,null,null,null,null,null,null,null,null,null,null,null,null,null,null,null,null,null,null,null,null,null,null,null,null,null,null,null,null,331,"Chicot","BoA","Bowdre silty clay loam, 0 to 1 percent slopes",0,0.5,1,30,75,150,0.37,5,"Rare","D",393]
[null,null,null,null,null,null,null,null,null,null,null,null,null,null,null,null,null,null,null,null,null,null,null,null,null,null,null,null,null,null,null,null,null,null,null,null,null,null,null,null,null,null,null,332,"Chicot","BoU","Bowdre silty clay loam, gently undulating",0,1,2,15,45,75,0.37,5,"Rare","D",394]
[null,null,null,null,null,null,null,null,null,null,null,null,null,null,null,null,null,null,null,null,null,null,null,null,null,null,null,null,null,null,null,null,null,null,null,null,null,null,null,null,null,null,null,333,"Chicot","CaA","Calloway silt loam, 0 to 1 percent slopes",0,0.5,1,30,75,150,0.49,4,"None","D",395]
[null,null,null,null,null,null,null,null,null,null,null,null,null,null,null,null,null,null,null,null,null,null,null,null,null,null,null,null,null,null,null,null,null,null,null,null,null,null,null,null,null,null,null,334,"Chicot","CaB","Calloway silt loam, 1 to 3 percent slopes",1,1.5,3,15,60,100,0.49,4,"None","D",396]
[null,null,null,null,null,null,null,null,null,null,null,null,null,null,null,null,null,null,null,null,null,null,null,null,null,null,null,null,null,null,null,null,null,null,null,null,null,null,null,null,null,null,null,335,"Chicot","CGB","Calloway-Grenada silt loams, 0 to 3 percent slopes",0,1.5,3,15,45,75,0.49,4,"None","D",397]
[null,null,null,null,null,null,null,null,null,null,null,null,null,null,null,null,null,null,null,null,null,null,null,null,null,null,null,null,null,null,null,null,null,null,null,null,null,null,null,null,null,null,null,336,"Chicot","CHA","Calloway-Henry silt loams, 0 to 2 percent slopes",0,1,2,15,45,75,0.49,4,"None","D",398]
[null,null,null,null,null,null,null,null,null,null,null,null,null,null,null,null,null,null,null,null,null,null,null,null,null,null,null,null,null,null,null,null,null,null,null,null,null,null,null,null,null,null,null,337,"Chicot","Cm","Commerce silty clay loam",0,0.5,1,30,75,150,0.32,5,"Rare","C",399]
[null,null,null,null,null,null,null,null,null,null,null,null,null,null,null,null,null,null,null,null,null,null,null,null,null,null,null,null,null,null,null,null,null,null,null,null,null,null,null,null,null,null,null,338,"Chicot","Co","Commerce loam",0,0.5,1,30,75,150,0.43,5,"Rare","C",400]
[null,null,null,null,null,null,null,null,null,null,null,null,null,null,null,null,null,null,null,null,null,null,null,null,null,null,null,null,null,null,null,null,null,null,null,null,null,null,null,null,null,null,null,339,"Chicot","DnA","Dundee silt loam, 0 to 1 percent slopes",0,0.5,1,30,75,150,0.43,5,"None","C",401]
[null,null,null,null,null,null,null,null,null,null,null,null,null,null,null,null,null,null,null,null,null,null,null,null,null,null,null,null,null,null,null,null,null,null,null,null,null,null,null,null,null,null,null,340,"Chicot","DnU","Dundee silt loam, gently undulating",0,1,3,15,45,75,0.43,5,"None","C",402]
[null,null,null,null,null,null,null,null,null,null,null,null,null,null,null,null,null,null,null,null,null,null,null,null,null,null,null,null,null,null,null,null,null,null,null,null,null,null,null,null,null,null,null,341,"Chicot","GaB","Gallion fine sandy loam, 1 to 3 percent slopes (rilla)",1,2,3,15,60,100,0.24,5,"None","B",403]
[null,null,null,null,null,null,null,null,null,null,null,null,null,null,null,null,null,null,null,null,null,null,null,null,null,null,null,null,null,null,null,null,null,null,null,null,null,null,null,null,null,null,null,342,"Chicot","GnA","Gallion silt loam, 0 to 1 percent slopes (rilla)",0,0.5,1,30,75,150,0.43,5,"None","B",404]
[null,null,null,null,null,null,null,null,null,null,null,null,null,null,null,null,null,null,null,null,null,null,null,null,null,null,null,null,null,null,null,null,null,null,null,null,null,null,null,null,null,null,null,343,"Chicot","GnB","Gallion silt loam, 1 to 3 percent slopes (rilla)",1,2,3,15,60,100,0.43,5,"None","B",405]
[null,null,null,null,null,null,null,null,null,null,null,null,null,null,null,null,null,null,null,null,null,null,null,null,null,null,null,null,null,null,null,null,null,null,null,null,null,null,null,null,null,null,null,344,"Chicot","GPA","Gallion and Pulaski fine sandy loams, 0 to 1 percent slopes (rilla, rilla)",0,0.5,1,30,75,150,0.49,5,"None","B",406]
[null,null,null,null,null,null,null,null,null,null,null,null,null,null,null,null,null,null,null,null,null,null,null,null,null,null,null,null,null,null,null,null,null,null,null,null,null,null,null,null,null,null,null,345,"Chicot","GrA","Grenada silt loam, 0 to 1 percent slopes",0,0.5,1,30,75,150,0.49,4,"None","D",407]
[null,null,null,null,null,null,null,null,null,null,null,null,null,null,null,null,null,null,null,null,null,null,null,null,null,null,null,null,null,null,null,null,null,null,null,null,null,null,null,null,null,null,null,346,"Chicot","GrB","Grenada silt loam, 1 to 3 percent slopes",1,2,3,15,60,100,0.49,4,"None","D",408]
[null,null,null,null,null,null,null,null,null,null,null,null,null,null,null,null,null,null,null,null,null,null,null,null,null,null,null,null,null,null,null,null,null,null,null,null,null,null,null,null,null,null,null,347,"Chicot","GrB2","Grenada silt loam, 1 to 3 percent slopes, eroded",1,2,3,15,60,100,0.49,4,"None","D",409]
[null,null,null,null,null,null,null,null,null,null,null,null,null,null,null,null,null,null,null,null,null,null,null,null,null,null,null,null,null,null,null,null,null,null,null,null,null,null,null,null,null,null,null,348,"Chicot","GrC","Grenada silt loam, 3 to 8 percent slopes",3,5,8,15,45,75,0.49,4,"None","D",410]
[null,null,null,null,null,null,null,null,null,null,null,null,null,null,null,null,null,null,null,null,null,null,null,null,null,null,null,null,null,null,null,null,null,null,null,null,null,null,null,null,null,null,null,349,"Chicot","GrC2","Grenada silt loam, 3 to 8 percent slopes, eroded",3,5,8,15,45,75,0.49,4,"None","D",411]
[null,null,null,null,null,null,null,null,null,null,null,null,null,null,null,null,null,null,null,null,null,null,null,null,null,null,null,null,null,null,null,null,null,null,null,null,null,null,null,null,null,null,null,350,"Chicot","GrD2","Grenada silt loam, 8 to 12 percent slopes, eroded",8,10,12,15,30,45,0.49,4,"None","D",412]
[null,null,null,null,null,null,null,null,null,null,null,null,null,null,null,null,null,null,null,null,null,null,null,null,null,null,null,null,null,null,null,null,null,null,null,null,null,null,null,null,null,null,null,351,"Chicot","HC","Hebert and Crowley silt loams",0,0.5,1,30,75,150,0.43,5,"None","C",413]
[null,null,null,null,null,null,null,null,null,null,null,null,null,null,null,null,null,null,null,null,null,null,null,null,null,null,null,null,null,null,null,null,null,null,null,null,null,null,null,null,null,null,null,352,"Chicot","He","Henry silt loam",0,0.5,1,30,75,150,0.55000000000000004,4,"None","D",414]
[null,null,null,null,null,null,null,null,null,null,null,null,null,null,null,null,null,null,null,null,null,null,null,null,null,null,null,null,null,null,null,null,null,null,null,null,null,null,null,null,null,null,null,353,"Chicot","Lo","Lonoke silt loam (rilla)",0,0.5,1,30,75,150,0.37,5,"None","B",415]
[null,null,null,null,null,null,null,null,null,null,null,null,null,null,null,null,null,null,null,null,null,null,null,null,null,null,null,null,null,null,null,null,null,null,null,null,null,null,null,null,null,null,null,354,"Chicot","McA","McGehee silt loam, 0 to 1 percent slopes",0,0.5,1,30,75,150,0.43,5,"None","D",416]
[null,null,null,null,null,null,null,null,null,null,null,null,null,null,null,null,null,null,null,null,null,null,null,null,null,null,null,null,null,null,null,null,null,null,null,null,null,null,null,null,null,null,null,355,"Chicot","McU","McGehee silt loam, gently undulating",0,1,2,15,45,75,0.49,5,"None","D",417]
[null,null,null,null,null,null,null,null,null,null,null,null,null,null,null,null,null,null,null,null,null,null,null,null,null,null,null,null,null,null,null,null,null,null,null,null,null,null,null,null,null,null,null,356,"Chicot","Mu","Alluvial land, frequently flooded",0,1,3,30,46,61,0.24,5,"Frequent","D",418]
[null,null,null,null,null,null,null,null,null,null,null,null,null,null,null,null,null,null,null,null,null,null,null,null,null,null,null,null,null,null,null,null,null,null,null,null,null,null,null,null,null,null,null,357,"Chicot","PeA","Perry clay, 0 to 1 percent slopes",0,0.5,1,30,75,150,0.24,5,"None","D",419]
[null,null,null,null,null,null,null,null,null,null,null,null,null,null,null,null,null,null,null,null,null,null,null,null,null,null,null,null,null,null,null,null,null,null,null,null,null,null,null,null,null,null,null,358,"Chicot","PeP","Yorktown clay, ponded, 0 to 1 percent slopes, frequently flooded",0,0.5,1,15,75,150,0.2,5,"Frequent","D",420]
[null,null,null,null,null,null,null,null,null,null,null,null,null,null,null,null,null,null,null,null,null,null,null,null,null,null,null,null,null,null,null,null,null,null,null,null,null,null,null,null,null,null,null,359,"Chicot","PeU","Perry clay, 1 to 3 percent slopes",1,2,3,15,45,75,0.24,5,"None","D",421]
[null,null,null,null,null,null,null,null,null,null,null,null,null,null,null,null,null,null,null,null,null,null,null,null,null,null,null,null,null,null,null,null,null,null,null,null,null,null,null,null,null,null,null,360,"Chicot","Pr","Perry silt loam, 0 to 1 percent slopes",0,0.5,1,30,75,150,0.49,5,"None","D",422]
[null,null,null,null,null,null,null,null,null,null,null,null,null,null,null,null,null,null,null,null,null,null,null,null,null,null,null,null,null,null,null,null,null,null,null,null,null,null,null,null,null,null,null,361,"Chicot","PtA","Portland clay, 0 to 1 percent slopes",0,0.5,1,30,75,150,0.24,5,"None","D",423]
[null,null,null,null,null,null,null,null,null,null,null,null,null,null,null,null,null,null,null,null,null,null,null,null,null,null,null,null,null,null,null,null,null,null,null,null,null,null,null,null,null,null,null,362,"Chicot","PtU","Portland clay, 0 to 3 percent slopes",0,1,3,15,45,75,0.24,5,"None","D",424]
[null,null,null,null,null,null,null,null,null,null,null,null,null,null,null,null,null,null,null,null,null,null,null,null,null,null,null,null,null,null,null,null,null,null,null,null,null,null,null,null,null,null,null,363,"Chicot","RoU","Robinsonville loam, gently undulating",0,2,3,15,45,75,0.43,5,"Occasional","A",425]
[null,null,null,null,null,null,null,null,null,null,null,null,null,null,null,null,null,null,null,null,null,null,null,null,null,null,null,null,null,null,null,null,null,null,null,null,null,null,null,null,null,null,null,364,"Chicot","ShA","Sharkey clay, 1 to 3 percent slopes",1,2,3,15,60,100,0.24,5,"None","D",426]
[null,null,null,null,null,null,null,null,null,null,null,null,null,null,null,null,null,null,null,null,null,null,null,null,null,null,null,null,null,null,null,null,null,null,null,null,null,null,null,null,null,null,null,365,"Chicot","ShU","Sharkey clay, gently undulating",0,1,3,15,45,75,0.24,5,"None","D",427]
[null,null,null,null,null,null,null,null,null,null,null,null,null,null,null,null,null,null,null,null,null,null,null,null,null,null,null,null,null,null,null,null,null,null,null,null,null,null,null,null,null,null,null,366,"Chicot","Wa","Waverly silt loam",0,0.5,1,30,75,150,0.49,5,"Frequent","D",428]
[null,null,null,null,null,null,null,null,null,null,null,null,null,null,null,null,null,null,null,null,null,null,null,null,null,null,null,null,null,null,null,null,null,null,null,null,null,null,null,null,null,null,null,367,"Clark",1,"Adaton silt loam, 0 to 1 percent slopes",0,0.5,1,15,75,150,0.49,5,"Rare","D",429]
[null,null,null,null,null,null,null,null,null,null,null,null,null,null,null,null,null,null,null,null,null,null,null,null,null,null,null,null,null,null,null,null,null,null,null,null,null,null,null,null,null,null,null,368,"Clark",2,"Amy silt loam, 0 to 2 percent slopes",0,1,2,15,45,75,0.49,5,"Rare","D",430]
[null,null,null,null,null,null,null,null,null,null,null,null,null,null,null,null,null,null,null,null,null,null,null,null,null,null,null,null,null,null,null,null,null,null,null,null,null,null,null,null,null,null,null,369,"Clark",3,"Avilla fine sandy loam, 3 to 8 percent slopes",3,5,8,15,45,75,0.28000000000000003,5,"Rare","B",431]
[null,null,null,null,null,null,null,null,null,null,null,null,null,null,null,null,null,null,null,null,null,null,null,null,null,null,null,null,null,null,null,null,null,null,null,null,null,null,null,null,null,null,null,370,"Clark",4,"Bigfork-Rock outcrop complex, 3 to 8 percent slopes",3,5,8,15,45,75,0.37,2,"None","C",432]
[null,null,null,null,null,null,null,null,null,null,null,null,null,null,null,null,null,null,null,null,null,null,null,null,null,null,null,null,null,null,null,null,null,null,null,null,null,null,null,null,null,null,null,371,"Clark",5,"Bigfork-Rock outcrop complex, 40 to 60 percent slopes",40,50,60,5,15,30,0.37,2,"None","C",433]
[null,null,null,null,null,null,null,null,null,null,null,null,null,null,null,null,null,null,null,null,null,null,null,null,null,null,null,null,null,null,null,null,null,null,null,null,null,null,null,null,null,null,null,372,"Clark",6,"Bismarck very shaly loam, 3 to 12 percent slopes",3,8,12,15,30,45,0.37,2,"None","D",434]
[null,null,null,null,null,null,null,null,null,null,null,null,null,null,null,null,null,null,null,null,null,null,null,null,null,null,null,null,null,null,null,null,null,null,null,null,null,null,null,null,null,null,null,373,"Clark",7,"Bismarck very shaly loam, 12 to 20 percent slopes",12,16,20,15,20,30,0.37,2,"None","D",435]
[null,null,null,null,null,null,null,null,null,null,null,null,null,null,null,null,null,null,null,null,null,null,null,null,null,null,null,null,null,null,null,null,null,null,null,null,null,null,null,null,null,null,null,374,"Clark",8,"Bonnerdale fine sandy loam, 0 to 5 percent slopes",0,3,5,15,30,45,0.28000000000000003,4,"None","D",436]
[null,null,null,null,null,null,null,null,null,null,null,null,null,null,null,null,null,null,null,null,null,null,null,null,null,null,null,null,null,null,null,null,null,null,null,null,null,null,null,null,null,null,null,375,"Clark",9,"Bowie fine sandy loam, 1 to 3 percent slopes",1,2,3,8,15,24,0.32,5,"None","B",437]
[null,null,null,null,null,null,null,null,null,null,null,null,null,null,null,null,null,null,null,null,null,null,null,null,null,null,null,null,null,null,null,null,null,null,null,null,null,null,null,null,null,null,null,376,"Clark",10,"Bowie fine sandy loam, 3 to 8 percent slopes",3,6,8,15,46,75,0.28000000000000003,5,"None","C",438]
[null,null,null,null,null,null,null,null,null,null,null,null,null,null,null,null,null,null,null,null,null,null,null,null,null,null,null,null,null,null,null,null,null,null,null,null,null,null,null,null,null,null,null,377,"Clark",11,"Cahaba fine sandy loam, 1 to 3 percent slopes",1,2,3,15,60,100,0.24,5,"Rare","B",439]
[null,null,null,null,null,null,null,null,null,null,null,null,null,null,null,null,null,null,null,null,null,null,null,null,null,null,null,null,null,null,null,null,null,null,null,null,null,null,null,null,null,null,null,378,"Clark",12,"Cahaba fine sandy loam, 3 to 6 percent slopes",3,5,6,15,45,75,0.24,5,"Rare","B",440]
[null,null,null,null,null,null,null,null,null,null,null,null,null,null,null,null,null,null,null,null,null,null,null,null,null,null,null,null,null,null,null,null,null,null,null,null,null,null,null,null,null,null,null,379,"Clark",13,"Carnasaw-Bismarck-Sherless complex, 3 to 8 percent slopes",3,5,8,15,45,75,0.43,4,"None","C",441]
[null,null,null,null,null,null,null,null,null,null,null,null,null,null,null,null,null,null,null,null,null,null,null,null,null,null,null,null,null,null,null,null,null,null,null,null,null,null,null,null,null,null,null,380,"Clark",14,"Carnasaw-Bismarck-Zafra complex, 8 to 20 percent slopes",8,14,20,15,20,30,0.43,4,"None","C",442]
[null,null,null,null,null,null,null,null,null,null,null,null,null,null,null,null,null,null,null,null,null,null,null,null,null,null,null,null,null,null,null,null,null,null,null,null,null,null,null,null,null,null,null,381,"Clark",15,"Carnasaw-Bismarck-Zafra complex, 20 to 40 percent slopes",20,30,40,5,15,30,0.43,4,"None","C",443]
[null,null,null,null,null,null,null,null,null,null,null,null,null,null,null,null,null,null,null,null,null,null,null,null,null,null,null,null,null,null,null,null,null,null,null,null,null,null,null,null,null,null,null,382,"Clark",16,"Ceda gravelly fine sandy loam, 0 to 1 percent slopes, occasionally flooded",0,1,1,15,99,182,0.17,5,"Occasional","A",444]
[null,null,null,null,null,null,null,null,null,null,null,null,null,null,null,null,null,null,null,null,null,null,null,null,null,null,null,null,null,null,null,null,null,null,null,null,null,null,null,null,null,null,null,383,"Clark",17,"Cuthbert fine sandy loam, 20 to 40 percent slopes",20,30,40,5,15,30,0.37,3,"None","C",445]
[null,null,null,null,null,null,null,null,null,null,null,null,null,null,null,null,null,null,null,null,null,null,null,null,null,null,null,null,null,null,null,null,null,null,null,null,null,null,null,null,null,null,null,384,"Clark",19,"Demopolis channery silty clay loam, 3 to 12 percent slopes, severely eroded",3,8,12,15,30,45,0.37,1,"None","D",446]
[null,null,null,null,null,null,null,null,null,null,null,null,null,null,null,null,null,null,null,null,null,null,null,null,null,null,null,null,null,null,null,null,null,null,null,null,null,null,null,null,null,null,null,385,"Clark",20,"Eutaw silty clay loam, 0 to 2 percent slopes",0,1,2,15,45,75,0.32,5,"None","D",447]
[null,null,null,null,null,null,null,null,null,null,null,null,null,null,null,null,null,null,null,null,null,null,null,null,null,null,null,null,null,null,null,null,null,null,null,null,null,null,null,null,null,null,null,386,"Clark",21,"Foley silt loam, 0 to 2 percent slopes",0,1,2,15,45,75,0.49,3,"None","D",448]
[null,null,null,null,null,null,null,null,null,null,null,null,null,null,null,null,null,null,null,null,null,null,null,null,null,null,null,null,null,null,null,null,null,null,null,null,null,null,null,null,null,null,null,387,"Clark",22,"Gurdon silt loam, 1 to 3 percent slopes",1,2,3,15,60,100,0.49,5,"Rare","D",449]
[null,null,null,null,null,null,null,null,null,null,null,null,null,null,null,null,null,null,null,null,null,null,null,null,null,null,null,null,null,null,null,null,null,null,null,null,null,null,null,null,null,null,null,388,"Clark",23,"Gurdon silt loam, occasionally flooded",0,2,3,15,45,75,0.49,5,"Occasional","D",450]
[null,null,null,null,null,null,null,null,null,null,null,null,null,null,null,null,null,null,null,null,null,null,null,null,null,null,null,null,null,null,null,null,null,null,null,null,null,null,null,null,null,null,null,389,"Clark",24,"Guyton silt loam, occasionally flooded",0,0.5,1,15,75,150,0.43,5,"Occasional","D",451]
[null,null,null,null,null,null,null,null,null,null,null,null,null,null,null,null,null,null,null,null,null,null,null,null,null,null,null,null,null,null,null,null,null,null,null,null,null,null,null,null,null,null,null,390,"Clark",25,"Guyton silt loam, ponded",0,0.5,1,15,75,150,0.49,5,"Frequent","D",452]
[null,null,null,null,null,null,null,null,null,null,null,null,null,null,null,null,null,null,null,null,null,null,null,null,null,null,null,null,null,null,null,null,null,null,null,null,null,null,null,null,null,null,null,391,"Clark",26,"Harleston fine sandy loam, 1 to 3 percent slopes",1,2,3,15,60,100,0.37,5,"Rare","C",453]
[null,null,null,null,null,null,null,null,null,null,null,null,null,null,null,null,null,null,null,null,null,null,null,null,null,null,null,null,null,null,null,null,null,null,null,null,null,null,null,null,null,null,null,392,"Clark",27,"Houston clay, 1 to 3 percent slopes",1,2,3,15,60,100,0.2,5,"None","D",454]
[null,null,null,null,null,null,null,null,null,null,null,null,null,null,null,null,null,null,null,null,null,null,null,null,null,null,null,null,null,null,null,null,null,null,null,null,null,null,null,null,null,null,null,393,"Clark",28,"Houston clay, 3 to 8 percent slopes, eroded",3,5,8,15,45,75,0.2,5,"None","D",455]
[null,null,null,null,null,null,null,null,null,null,null,null,null,null,null,null,null,null,null,null,null,null,null,null,null,null,null,null,null,null,null,null,null,null,null,null,null,null,null,null,null,null,null,394,"Clark",29,"Iuka fine sandy loam, occasionally flooded",0,0.5,1,15,75,150,0.32,5,"Occasional","C",456]
[null,null,null,null,null,null,null,null,null,null,null,null,null,null,null,null,null,null,null,null,null,null,null,null,null,null,null,null,null,null,null,null,null,null,null,null,null,null,null,null,null,null,null,395,"Clark",30,"Kenn fine sandy loam, occasionally flooded",0,2,3,15,45,75,0.2,4,"Occasional","B",457]
[null,null,null,null,null,null,null,null,null,null,null,null,null,null,null,null,null,null,null,null,null,null,null,null,null,null,null,null,null,null,null,null,null,null,null,null,null,null,null,null,null,null,null,396,"Clark",31,"Kipling silt loam, 0 to 2 percent slopes",0,1,2,15,45,75,0.43,5,"None","D",458]
[null,null,null,null,null,null,null,null,null,null,null,null,null,null,null,null,null,null,null,null,null,null,null,null,null,null,null,null,null,null,null,null,null,null,null,null,null,null,null,null,null,null,null,397,"Clark",32,"Kipling silty clay loam, 2 to 5 percent slopes",2,4,5,15,45,75,0.43,5,"None","D",459]
[null,null,null,null,null,null,null,null,null,null,null,null,null,null,null,null,null,null,null,null,null,null,null,null,null,null,null,null,null,null,null,null,null,null,null,null,null,null,null,null,null,null,null,398,"Clark",34,"Leeper silty clay, occasionally flooded",0,0.5,1,15,75,150,0.24,5,"Occasional","D",460]
[null,null,null,null,null,null,null,null,null,null,null,null,null,null,null,null,null,null,null,null,null,null,null,null,null,null,null,null,null,null,null,null,null,null,null,null,null,null,null,null,null,null,null,399,"Clark",35,"Macon fine sandy loam, 3 to 8 percent slopes",3,5,8,15,45,75,0.32,5,"None","C",461]
[null,null,null,null,null,null,null,null,null,null,null,null,null,null,null,null,null,null,null,null,null,null,null,null,null,null,null,null,null,null,null,null,null,null,null,null,null,null,null,null,null,null,null,400,"Clark",36,"Macon fine sandy loam, 8 to 20 percent slopes",8,14,20,15,20,30,0.32,5,"None","C",462]
[null,null,null,null,null,null,null,null,null,null,null,null,null,null,null,null,null,null,null,null,null,null,null,null,null,null,null,null,null,null,null,null,null,null,null,null,null,null,null,null,null,null,null,401,"Clark",40,"Marietta fine sandy loam, occasionally flooded",0,0.5,1,15,75,150,0.24,5,"Occasional","D",463]
[null,null,null,null,null,null,null,null,null,null,null,null,null,null,null,null,null,null,null,null,null,null,null,null,null,null,null,null,null,null,null,null,null,null,null,null,null,null,null,null,null,null,null,402,"Clark",41,"Mayhew silty clay loam, 0 to 2 percent slopes",0,1,2,15,45,75,0.32,5,"None","D",464]
[null,null,null,null,null,null,null,null,null,null,null,null,null,null,null,null,null,null,null,null,null,null,null,null,null,null,null,null,null,null,null,null,null,null,null,null,null,null,null,null,null,null,null,403,"Clark",42,"McLaurin loamy fine sand, 1 to 3 percent slopes",1,2,3,8,15,24,0.28000000000000003,5,"None","B",465]
[null,null,null,null,null,null,null,null,null,null,null,null,null,null,null,null,null,null,null,null,null,null,null,null,null,null,null,null,null,null,null,null,null,null,null,null,null,null,null,null,null,null,null,404,"Clark",43,"Nugent loamy fine sand, frequently flooded",0,0.5,1,15,75,150,0.24,5,"Frequent","A",466]
[null,null,null,null,null,null,null,null,null,null,null,null,null,null,null,null,null,null,null,null,null,null,null,null,null,null,null,null,null,null,null,null,null,null,null,null,null,null,null,null,null,null,null,405,"Clark",44,"Ochlockonee fine sandy loam, occasionally flooded",0,0.5,1,15,75,150,0.28000000000000003,5,"Occasional","B",467]
[null,null,null,null,null,null,null,null,null,null,null,null,null,null,null,null,null,null,null,null,null,null,null,null,null,null,null,null,null,null,null,null,null,null,null,null,null,null,null,null,null,null,null,406,"Clark",45,"Oktibbeha fine sandy loam, 3 to 8 percent slopes, eroded",3,5,8,15,45,75,0.28000000000000003,4,"None","D",468]
[null,null,null,null,null,null,null,null,null,null,null,null,null,null,null,null,null,null,null,null,null,null,null,null,null,null,null,null,null,null,null,null,null,null,null,null,null,null,null,null,null,null,null,407,"Clark",46,"Oktibbeha fine sandy loam, 8 to 12 percent slopes, eroded",8,10,12,15,30,45,0.28000000000000003,4,"None","D",469]
[null,null,null,null,null,null,null,null,null,null,null,null,null,null,null,null,null,null,null,null,null,null,null,null,null,null,null,null,null,null,null,null,null,null,null,null,null,null,null,null,null,null,null,408,"Clark",47,"Ora fine sandy loam, 3 to 8 percent slopes",3,5,8,15,45,75,0.2,4,"None","C",470]
[null,null,null,null,null,null,null,null,null,null,null,null,null,null,null,null,null,null,null,null,null,null,null,null,null,null,null,null,null,null,null,null,null,null,null,null,null,null,null,null,null,null,null,409,"Clark",48,"Ouachita silt loam, 0 to 3 percent slopes",0,2,3,15,45,75,0.49,5,"Rare","C",471]
[null,null,null,null,null,null,null,null,null,null,null,null,null,null,null,null,null,null,null,null,null,null,null,null,null,null,null,null,null,null,null,null,null,null,null,null,null,null,null,null,null,null,null,410,"Clark",49,"Ouachita silt loam, occasionally flooded",0,2,3,15,45,75,0.49,5,"Occasional","C",472]
[null,null,null,null,null,null,null,null,null,null,null,null,null,null,null,null,null,null,null,null,null,null,null,null,null,null,null,null,null,null,null,null,null,null,null,null,null,null,null,null,null,null,null,411,"Clark",50,"Ozan fine sandy loam, occasionally flooded",0,0.5,1,15,75,150,0.37,5,"Occasional","D",473]
[null,null,null,null,null,null,null,null,null,null,null,null,null,null,null,null,null,null,null,null,null,null,null,null,null,null,null,null,null,null,null,null,null,null,null,null,null,null,null,null,null,null,null,412,"Clark",51,"Pikeville fine sandy loam, 1 to 3 percent slopes",1,2,3,61,61,91,0.28000000000000003,4,"None","B",474]
[null,null,null,null,null,null,null,null,null,null,null,null,null,null,null,null,null,null,null,null,null,null,null,null,null,null,null,null,null,null,null,null,null,null,null,null,null,null,null,null,null,null,null,413,"Clark",52,"Pikeville fine sandy loam, 3 to 8 percent slopes",3,5,8,15,45,75,0.28000000000000003,4,"None","B",475]
[null,null,null,null,null,null,null,null,null,null,null,null,null,null,null,null,null,null,null,null,null,null,null,null,null,null,null,null,null,null,null,null,null,null,null,null,null,null,null,null,null,null,null,414,"Clark",53,"Pirum fine sandy loam, 3 to 8 percent slopes",3,5,8,15,45,75,0.24,3,"None","B",476]
[null,null,null,null,null,null,null,null,null,null,null,null,null,null,null,null,null,null,null,null,null,null,null,null,null,null,null,null,null,null,null,null,null,null,null,null,null,null,null,null,null,null,null,415,"Clark",54,"Pirum-Sherless-Shermore fine sandy loams, 3 to 8 percent slopes",3,5,8,15,45,75,0.24,3,"None","C",477]
[null,null,null,null,null,null,null,null,null,null,null,null,null,null,null,null,null,null,null,null,null,null,null,null,null,null,null,null,null,null,null,null,null,null,null,null,null,null,null,null,null,null,null,416,"Clark",55,"Pirum-Zafra-Clebit complex, 3 to 8 percent slopes",3,5,8,15,45,75,0.24,3,"None","B",478]
[null,null,null,null,null,null,null,null,null,null,null,null,null,null,null,null,null,null,null,null,null,null,null,null,null,null,null,null,null,null,null,null,null,null,null,null,null,null,null,null,null,null,null,417,"Clark",57,"Sacul fine sandy loam, 3 to 8 percent slopes",3,5,8,15,45,75,0.32,5,"None","D",479]
[null,null,null,null,null,null,null,null,null,null,null,null,null,null,null,null,null,null,null,null,null,null,null,null,null,null,null,null,null,null,null,null,null,null,null,null,null,null,null,null,null,null,null,418,"Clark",58,"Sacul fine sandy loam, 8 to 12 percent slopes",8,10,12,15,30,45,0.28000000000000003,5,"None","D",480]
[null,null,null,null,null,null,null,null,null,null,null,null,null,null,null,null,null,null,null,null,null,null,null,null,null,null,null,null,null,null,null,null,null,null,null,null,null,null,null,null,null,null,null,419,"Clark",59,"Sacul fine sandy loam, 12 to 20 percent slopes",12,16,20,15,20,30,0.28000000000000003,5,"None","D",481]
[null,null,null,null,null,null,null,null,null,null,null,null,null,null,null,null,null,null,null,null,null,null,null,null,null,null,null,null,null,null,null,null,null,null,null,null,null,null,null,null,null,null,null,420,"Clark",60,"Sacul gravelly fine sandy loam, 3 to 8 percent slopes",3,5,8,15,45,75,0.28000000000000003,5,"None","D",482]
[null,null,null,null,null,null,null,null,null,null,null,null,null,null,null,null,null,null,null,null,null,null,null,null,null,null,null,null,null,null,null,null,null,null,null,null,null,null,null,null,null,null,null,421,"Clark",61,"Sacul gravelly fine sandy loam, 8 to 20 percent slopes",8,14,20,15,20,30,0.28000000000000003,5,"None","D",483]
[null,null,null,null,null,null,null,null,null,null,null,null,null,null,null,null,null,null,null,null,null,null,null,null,null,null,null,null,null,null,null,null,null,null,null,null,null,null,null,null,null,null,null,422,"Clark",62,"Sacul-Ruston association, undulating",1,5,8,15,45,75,0.28000000000000003,5,"None","D",484]
[null,null,null,null,null,null,null,null,null,null,null,null,null,null,null,null,null,null,null,null,null,null,null,null,null,null,null,null,null,null,null,null,null,null,null,null,null,null,null,null,null,null,null,423,"Clark",63,"Sacul-Smithdale association, rolling",8,14,20,15,20,30,0.28000000000000003,5,"None","D",485]
[null,null,null,null,null,null,null,null,null,null,null,null,null,null,null,null,null,null,null,null,null,null,null,null,null,null,null,null,null,null,null,null,null,null,null,null,null,null,null,null,null,null,null,424,"Clark",64,"Saffell gravelly fine sandy loam, 3 to 8 percent slopes",3,6,8,15,45,75,0.17,5,"None","B",486]
[null,null,null,null,null,null,null,null,null,null,null,null,null,null,null,null,null,null,null,null,null,null,null,null,null,null,null,null,null,null,null,null,null,null,null,null,null,null,null,null,null,null,null,425,"Clark",65,"Saffell gravelly fine sandy loam, 8 to 12 percent slopes",8,10,12,15,30,45,0.2,4,"None","B",487]
[null,null,null,null,null,null,null,null,null,null,null,null,null,null,null,null,null,null,null,null,null,null,null,null,null,null,null,null,null,null,null,null,null,null,null,null,null,null,null,null,null,null,null,426,"Clark",66,"Saffell-Sacul association, rolling",8,14,20,15,20,30,0.2,4,"None","B",488]
[null,null,null,null,null,null,null,null,null,null,null,null,null,null,null,null,null,null,null,null,null,null,null,null,null,null,null,null,null,null,null,null,null,null,null,null,null,null,null,null,null,null,null,427,"Clark",67,"Sardis silt loam, 0 to 3 percent slopes",0,2,3,15,45,75,0.43,5,"Rare","C",489]
[null,null,null,null,null,null,null,null,null,null,null,null,null,null,null,null,null,null,null,null,null,null,null,null,null,null,null,null,null,null,null,null,null,null,null,null,null,null,null,null,null,null,null,428,"Clark",68,"Sardis silt loam, occasionally flooded",0,0.5,1,15,75,150,0.43,5,"Occasional","C",490]
[null,null,null,null,null,null,null,null,null,null,null,null,null,null,null,null,null,null,null,null,null,null,null,null,null,null,null,null,null,null,null,null,null,null,null,null,null,null,null,null,null,null,null,429,"Clark",69,"Savannah fine sandy loam, 1 to 3 percent slopes",1,2,3,15,60,100,0.24,4,"None","C",491]
[null,null,null,null,null,null,null,null,null,null,null,null,null,null,null,null,null,null,null,null,null,null,null,null,null,null,null,null,null,null,null,null,null,null,null,null,null,null,null,null,null,null,null,430,"Clark",70,"Savannah fine sandy loam, 3 to 8 percent slopes",3,5,8,15,60,100,0.24,4,"None","C",492]
[null,null,null,null,null,null,null,null,null,null,null,null,null,null,null,null,null,null,null,null,null,null,null,null,null,null,null,null,null,null,null,null,null,null,null,null,null,null,null,null,null,null,null,431,"Clark",71,"Sawyer loam, 1 to 3 percent slopes",1,2,3,15,60,100,0.43,5,"None","C",493]
[null,null,null,null,null,null,null,null,null,null,null,null,null,null,null,null,null,null,null,null,null,null,null,null,null,null,null,null,null,null,null,null,null,null,null,null,null,null,null,null,null,null,null,432,"Clark",72,"Sawyer loam, 3 to 8 percent slopes",3,5,8,15,45,75,0.43,5,"None","C",494]
[null,null,null,null,null,null,null,null,null,null,null,null,null,null,null,null,null,null,null,null,null,null,null,null,null,null,null,null,null,null,null,null,null,null,null,null,null,null,null,null,null,null,null,433,"Clark",73,"Shermore fine sandy loam, 3 to 8 percent slopes",3,5,8,15,45,75,0.24,4,"None","C",495]
[null,null,null,null,null,null,null,null,null,null,null,null,null,null,null,null,null,null,null,null,null,null,null,null,null,null,null,null,null,null,null,null,null,null,null,null,null,null,null,null,null,null,null,434,"Clark",74,"Sallisaw fine sandy loam, 1 to 8 percent slopes, eroded",3,5,8,15,45,75,0.2,3,"None","B",496]
[null,null,null,null,null,null,null,null,null,null,null,null,null,null,null,null,null,null,null,null,null,null,null,null,null,null,null,null,null,null,null,null,null,null,null,null,null,null,null,null,null,null,null,435,"Clark",75,"Sherwood fine sandy loam, 8 to 12 percent slopes",8,10,12,15,30,45,0.2,3,"None","B",497]
[null,null,null,null,null,null,null,null,null,null,null,null,null,null,null,null,null,null,null,null,null,null,null,null,null,null,null,null,null,null,null,null,null,null,null,null,null,null,null,null,null,null,null,436,"Clark",76,"Smithdale fine sandy loam, 3 to 8 percent slopes",3,5,8,15,45,75,0.28000000000000003,5,"None","B",498]
[null,null,null,null,null,null,null,null,null,null,null,null,null,null,null,null,null,null,null,null,null,null,null,null,null,null,null,null,null,null,null,null,null,null,null,null,null,null,null,null,null,null,null,437,"Clark",77,"Smithdale-Bowie-Sacul association, undulating",1,5,8,15,45,75,0.28000000000000003,5,"None","B",499]
[null,null,null,null,null,null,null,null,null,null,null,null,null,null,null,null,null,null,null,null,null,null,null,null,null,null,null,null,null,null,null,null,null,null,null,null,null,null,null,null,null,null,null,438,"Clark",78,"Smithton very fine sandy loam, 0 to 1 percent slopes",0,0.5,1,15,75,150,0.43,5,"Rare","D",500]
[null,null,null,null,null,null,null,null,null,null,null,null,null,null,null,null,null,null,null,null,null,null,null,null,null,null,null,null,null,null,null,null,null,null,null,null,null,null,null,null,null,null,null,439,"Clark",79,"Stough fine sandy loam, 0 to 2 percent slopes",0,1,2,15,45,75,0.32,3,"Rare","D",501]
[null,null,null,null,null,null,null,null,null,null,null,null,null,null,null,null,null,null,null,null,null,null,null,null,null,null,null,null,null,null,null,null,null,null,null,null,null,null,null,null,null,null,null,448,"Clark",89,"Urbo silty clay loam, occassionally flooded",0,0.5,1,15,75,150,0.43,5,"Occasional","D",510]
[null,null,null,null,null,null,null,null,null,null,null,null,null,null,null,null,null,null,null,null,null,null,null,null,null,null,null,null,null,null,null,null,null,null,null,null,null,null,null,null,null,null,null,451,"Clark",92,"Wing variant fine sandy loam, 0 to 2 percent slopes",0,1,2,15,45,75,0.24,2,"None","D",513]
[null,null,null,null,null,null,null,null,null,null,null,null,null,null,null,null,null,null,null,null,null,null,null,null,null,null,null,null,null,null,null,null,null,null,null,null,null,null,null,null,null,null,null,457,"Clay",10,"Amagon silt loam, 0 to 1 percent slopes",0,0.5,1,30,75,150,0.49,5,"None","D",519]
[null,null,null,null,null,null,null,null,null,null,null,null,null,null,null,null,null,null,null,null,null,null,null,null,null,null,null,null,null,null,null,null,null,null,null,null,null,null,null,null,null,null,null,466,"Clay",19,"Calhoun silt loam",0,0.5,1,15,75,150,0.49,5,"None","D",528]
[null,null,null,null,null,null,null,null,null,null,null,null,null,null,null,null,null,null,null,null,null,null,null,null,null,null,null,null,null,null,null,null,null,null,null,null,null,null,null,null,null,null,null,469,"Clay",22,"Crowley silt loam",0,0.5,1,15,75,150,0.49,5,"None","D",531]
[null,null,null,null,null,null,null,null,null,null,null,null,null,null,null,null,null,null,null,null,null,null,null,null,null,null,null,null,null,null,null,null,null,null,null,null,null,null,null,null,null,null,null,475,"Clay",28,"Fountain silt loam, 0 to 1 percent slopes",0,0.5,1,15,75,150,0.43,5,"None","D",537]
[null,null,null,null,null,null,null,null,null,null,null,null,null,null,null,null,null,null,null,null,null,null,null,null,null,null,null,null,null,null,null,null,null,null,null,null,null,null,null,null,null,null,null,478,"Clay",31,"Kobel soils, frequently flooded",0,0.5,1,15,75,150,0.32,5,"Frequent","D",540]
[null,null,null,null,null,null,null,null,null,null,null,null,null,null,null,null,null,null,null,null,null,null,null,null,null,null,null,null,null,null,null,null,null,null,null,null,null,null,null,null,null,null,null,488,"Cleburne",3,"Dela loamy fine sand, 0 to 2 percent slopes",0,1,2,15,45,75,0.2,5,"Rare","A",550]
[null,null,null,null,null,null,null,null,null,null,null,null,null,null,null,null,null,null,null,null,null,null,null,null,null,null,null,null,null,null,null,null,null,null,null,null,null,null,null,null,null,null,null,493,"Cleburne",8,"Enders-Nella-Steprock complex, 20 to 40 percent slopes",20,30,40,5,15,30,0.24,4,"None","D",555]
[null,null,null,null,null,null,null,null,null,null,null,null,null,null,null,null,null,null,null,null,null,null,null,null,null,null,null,null,null,null,null,null,null,null,null,null,null,null,null,null,null,null,null,496,"Cleburne",11,"Guthrie silt loam, 0 to 1 percent slopes, occasionally flooded",0,0.5,1,15,45,75,0.43,4,"Occasional","D",558]
[null,null,null,null,null,null,null,null,null,null,null,null,null,null,null,null,null,null,null,null,null,null,null,null,null,null,null,null,null,null,null,null,null,null,null,null,null,null,null,null,null,null,null,501,"Cleburne",16,"Linker gravelly fine sandy loam, 3 to 8 percent slopes",3,5,8,15,45,75,0.24,2,"None","C",563]
[null,null,null,null,null,null,null,null,null,null,null,null,null,null,null,null,null,null,null,null,null,null,null,null,null,null,null,null,null,null,null,null,null,null,null,null,null,null,null,null,null,null,null,511,"Cleburne",26,"Spadra loam, 0 to 1 percent slopes",0,0.5,1,15,75,150,0.32,5,"Rare","B",573]
[null,null,null,null,null,null,null,null,null,null,null,null,null,null,null,null,null,null,null,null,null,null,null,null,null,null,null,null,null,null,null,null,null,null,null,null,null,null,null,null,null,null,null,514,"Cleburne",29,"Steprock-Linker complex, 3 to 8 percent slopes",3,5,8,40,49,61,0.24,3,"None","C",576]
[null,null,null,null,null,null,null,null,null,null,null,null,null,null,null,null,null,null,null,null,null,null,null,null,null,null,null,null,null,null,null,null,null,null,null,null,null,null,null,null,null,null,null,519,"Cleburne",34,"Taft silt loam, 0 to 2 percent slopes",0,1,2,15,45,75,0.49,4,"None","D",581]
[null,null,null,null,null,null,null,null,null,null,null,null,null,null,null,null,null,null,null,null,null,null,null,null,null,null,null,null,null,null,null,null,null,null,null,null,null,null,null,null,null,null,null,523,"Cleveland","AnB","Angie silt loam, 1 to 3 percent slope",1,2,3,15,60,100,0.49,5,"None","C",585]
[null,null,null,null,null,null,null,null,null,null,null,null,null,null,null,null,null,null,null,null,null,null,null,null,null,null,null,null,null,null,null,null,null,null,null,null,null,null,null,null,null,null,null,530,"Cleveland","CaB","Caddo silt loam, 1 to 3 percent slopes",1,2,3,15,60,100,0.49,5,"None","D",592]
[null,null,null,null,null,null,null,null,null,null,null,null,null,null,null,null,null,null,null,null,null,null,null,null,null,null,null,null,null,null,null,null,null,null,null,null,null,null,null,null,null,null,null,537,"Cleveland","La","Lafe silt loam",0,0.5,1,30,75,150,0.55000000000000004,5,"None","D",599]
[null,null,null,null,null,null,null,null,null,null,null,null,null,null,null,null,null,null,null,null,null,null,null,null,null,null,null,null,null,null,null,null,null,null,null,null,null,null,null,null,null,null,null,541,"Cleveland","PeA","Pheba very fine sandy loam, 0 to 1 percent slopes",0,0.5,1,30,75,150,0.55000000000000004,4,"None","D",603]
[null,null,null,null,null,null,null,null,null,null,null,null,null,null,null,null,null,null,null,null,null,null,null,null,null,null,null,null,null,null,null,null,null,null,null,null,null,null,null,null,null,null,null,548,"Cleveland","SaE","Saffell gravelly fine sandy loam, 8 to 25 percent slopes",8,17,25,15,30,45,0.2,5,"None","B",610]
[null,null,null,null,null,null,null,null,null,null,null,null,null,null,null,null,null,null,null,null,null,null,null,null,null,null,null,null,null,null,null,null,null,null,null,null,null,null,null,null,null,null,null,555,"Cleveland","SnC2","Shubuta gravelly fine sandy loam 3 to 8 percent slopes, eroded",3,6,8,15,45,75,0.32,5,"None","C",617]
[null,null,null,null,null,null,null,null,null,null,null,null,null,null,null,null,null,null,null,null,null,null,null,null,null,null,null,null,null,null,null,null,null,null,null,null,null,null,null,null,null,null,null,557,"Cleveland","StB","Stough fine sandy loam, 1 to 3 percent slopes",1,2,3,15,45,75,0.28000000000000003,4,"None","D",619]
[null,null,null,null,null,null,null,null,null,null,null,null,null,null,null,null,null,null,null,null,null,null,null,null,null,null,null,null,null,null,null,null,null,null,null,null,null,null,null,null,null,null,null,566,"Cleveland","TaB2","Tippah silt loam, 1 to 3 percent slopes, moderately eroded",1,2,3,15,60,100,0.49,5,"None","C",628]
[null,null,null,null,null,null,null,null,null,null,null,null,null,null,null,null,null,null,null,null,null,null,null,null,null,null,null,null,null,null,null,null,null,null,null,null,null,null,null,null,null,null,null,573,"Cleveland","Wf","Wehadkee-Falaya association",0,0.5,1,30,75,150,0.43,5,"Frequent","D",635]
[null,null,null,null,null,null,null,null,null,null,null,null,null,null,null,null,null,null,null,null,null,null,null,null,null,null,null,null,null,null,null,null,null,null,null,null,null,null,null,null,null,null,null,575,"Cleveland","WsB","Weston fine sandy loam, 0 to 3 percent slopes",0,2,3,15,45,75,0.28000000000000003,5,"None","D",637]
[null,null,null,null,null,null,null,null,null,null,null,null,null,null,null,null,null,null,null,null,null,null,null,null,null,null,null,null,null,null,null,null,null,null,null,null,null,null,null,null,null,null,null,584,"Columbia",9,"Bowie fine sandy loam, 3 to 8 percent slopes",3,6,8,15,46,75,0.28000000000000003,5,"None","C",646]
[null,null,null,null,null,null,null,null,null,null,null,null,null,null,null,null,null,null,null,null,null,null,null,null,null,null,null,null,null,null,null,null,null,null,null,null,null,null,null,null,null,null,null,586,"Columbia",11,"Briley loamy fine sand, 3 to 8 percent slopes",3,6,8,0,18,0,0.1,5,"None","B",648]
[null,null,null,null,null,null,null,null,null,null,null,null,null,null,null,null,null,null,null,null,null,null,null,null,null,null,null,null,null,null,null,null,null,null,null,null,null,null,null,null,null,null,null,593,"Columbia",18,"Harleston very fine sandy loam, 3 to 8 percent slopes",3,5,8,15,45,75,0.55000000000000004,5,"None","C",655]
[null,null,null,null,null,null,null,null,null,null,null,null,null,null,null,null,null,null,null,null,null,null,null,null,null,null,null,null,null,null,null,null,null,null,null,null,null,null,null,null,null,null,null,602,"Columbia",28,"Smithton fine sandy loam, 0 to 2 percent slopes",0,1,2,10,15,25,0.28000000000000003,5,"None","D",664]
[null,null,null,null,null,null,null,null,null,null,null,null,null,null,null,null,null,null,null,null,null,null,null,null,null,null,null,null,null,null,null,null,null,null,null,null,null,null,null,null,null,null,null,605,"Columbia",31,"Wrightsville silty clay loam, 0 to 1 percent slopes",0,0.5,1,15,75,150,0.32,5,"None","D",667]
[null,null,null,null,null,null,null,null,null,null,null,null,null,null,null,null,null,null,null,null,null,null,null,null,null,null,null,null,null,null,null,null,null,null,null,null,null,null,null,null,null,null,null,611,"Conway",6,"Dardanelle silt loam",0,0.5,1,15,75,150,0.37,5,"None","B",673]
[null,null,null,null,null,null,null,null,null,null,null,null,null,null,null,null,null,null,null,null,null,null,null,null,null,null,null,null,null,null,null,null,null,null,null,null,null,null,null,null,null,null,null,614,"Conway",9,"Enders gravelly fine sandy loam, 8 to 12 percent slopes",8,10,12,15,30,45,0.24,4,"None","D",676]
[null,null,null,null,null,null,null,null,null,null,null,null,null,null,null,null,null,null,null,null,null,null,null,null,null,null,null,null,null,null,null,null,null,null,null,null,null,null,null,null,null,null,null,623,"Conway",18,"McKamie silt loam, 1 to 3 percent slopes",1,2,3,15,60,100,0.49,5,"None","D",685]
[null,null,null,null,null,null,null,null,null,null,null,null,null,null,null,null,null,null,null,null,null,null,null,null,null,null,null,null,null,null,null,null,null,null,null,null,null,null,null,null,null,null,null,629,"Conway",24,"Mountainburg stony fine sandy loam, 12 to 40 percent slopes, rocky",12,26,40,5,15,30,0.32,1,"None","D",691]
[null,null,null,null,null,null,null,null,null,null,null,null,null,null,null,null,null,null,null,null,null,null,null,null,null,null,null,null,null,null,null,null,null,null,null,null,null,null,null,null,null,null,null,632,"Conway",27,"Muskogee silt loam, 3 to 8 percent slopes",3,5,8,15,45,75,0.49,5,"None","D",694]
[null,null,null,null,null,null,null,null,null,null,null,null,null,null,null,null,null,null,null,null,null,null,null,null,null,null,null,null,null,null,null,null,null,null,null,null,null,null,null,null,null,null,null,641,"Conway",36,"Yorktown silty clay, 0 to 1 percent slopes, frequently flooded, frequently ponded",0,0.5,1,15,75,150,0.28000000000000003,5,"Frequent","D",703]
[null,null,null,null,null,null,null,null,null,null,null,null,null,null,null,null,null,null,null,null,null,null,null,null,null,null,null,null,null,null,null,null,null,null,null,null,null,null,null,null,null,null,null,647,"Craighead",6,"Brandon-Saffell association, moderately steep",12,15,20,15,20,30,0.37,4,"None","B",709]
[null,null,null,null,null,null,null,null,null,null,null,null,null,null,null,null,null,null,null,null,null,null,null,null,null,null,null,null,null,null,null,null,null,null,null,null,null,null,null,null,null,null,null,648,"Craighead",7,"Bruno loamy sand",0,0.5,1,15,75,150,0.1,5,"Rare","A",710]
[null,null,null,null,null,null,null,null,null,null,null,null,null,null,null,null,null,null,null,null,null,null,null,null,null,null,null,null,null,null,null,null,null,null,null,null,null,null,null,null,null,null,null,654,"Craighead",13,"Commerce soils, 0 to 1 percent slopes, frequently flooded",0,0.5,1,30,75,150,0.49,5,"Frequent","D",716]
[null,null,null,null,null,null,null,null,null,null,null,null,null,null,null,null,null,null,null,null,null,null,null,null,null,null,null,null,null,null,null,null,null,null,null,null,null,null,null,null,null,null,null,659,"Craighead",18,"Dundee fine sandy loam",0,0.5,1,15,75,150,0.28000000000000003,5,"None","C",721]
[null,null,null,null,null,null,null,null,null,null,null,null,null,null,null,null,null,null,null,null,null,null,null,null,null,null,null,null,null,null,null,null,null,null,null,null,null,null,null,null,null,null,null,666,"Craighead",25,"Henry silt loam, 0 to 1 percent slopes",0,0.5,1,15,75,150,0.49,4,"None","D",728]
[null,null,null,null,null,null,null,null,null,null,null,null,null,null,null,null,null,null,null,null,null,null,null,null,null,null,null,null,null,null,null,null,null,null,null,null,null,null,null,null,null,null,null,672,"Craighead",31,"Loring silt loam, 8 to 12 percent slopes, west",8,10,12,15,30,45,0.49,4,"None","D",734]
[null,null,null,null,null,null,null,null,null,null,null,null,null,null,null,null,null,null,null,null,null,null,null,null,null,null,null,null,null,null,null,null,null,null,null,null,null,null,null,null,null,null,null,681,"Craighead",40,"Udorthents",8,24,40,5,15,30,0.37,5,"None","D",743]
[null,null,null,null,null,null,null,null,null,null,null,null,null,null,null,null,null,null,null,null,null,null,null,null,null,null,null,null,null,null,null,null,null,null,null,null,null,null,null,null,null,null,null,684,"Crawford",3,"Dardanelle silt loam",0,0.5,1,15,75,150,0.37,5,"None","B",746]
[null,null,null,null,null,null,null,null,null,null,null,null,null,null,null,null,null,null,null,null,null,null,null,null,null,null,null,null,null,null,null,null,null,null,null,null,null,null,null,null,null,null,null,690,"Crawford",9,"Enders-Mountainburg association, 20 to 40 percent slopes",20,30,40,5,15,30,0.24,4,"None","D",752]
[null,null,null,null,null,null,null,null,null,null,null,null,null,null,null,null,null,null,null,null,null,null,null,null,null,null,null,null,null,null,null,null,null,null,null,null,null,null,null,null,null,null,null,693,"Crawford",12,"Leadvale silt loam, 1 to 3 percent slopes",1,2,3,15,60,100,0.55000000000000004,4,"None","D",755]
[null,null,null,null,null,null,null,null,null,null,null,null,null,null,null,null,null,null,null,null,null,null,null,null,null,null,null,null,null,null,null,null,null,null,null,null,null,null,null,null,null,null,null,702,"Crawford",21,"Nella-Enders complex, 8 to 20 percent slopes",8,14,20,15,20,30,0.37,5,"None","D",764]
[null,null,null,null,null,null,null,null,null,null,null,null,null,null,null,null,null,null,null,null,null,null,null,null,null,null,null,null,null,null,null,null,null,null,null,null,null,null,null,null,null,null,null,708,"Crawford",27,"Roxana silt loam",0,0.5,1,15,75,150,0.43,5,"None","B",770]
[null,null,null,null,null,null,null,null,null,null,null,null,null,null,null,null,null,null,null,null,null,null,null,null,null,null,null,null,null,null,null,null,null,null,null,null,null,null,null,null,null,null,null,711,"Crawford",30,"Wrightsville silt loam",0,0.5,1,15,75,150,0.43,3,"None","D",773]
[null,null,null,null,null,null,null,null,null,null,null,null,null,null,null,null,null,null,null,null,null,null,null,null,null,null,null,null,null,null,null,null,null,null,null,null,null,null,null,null,null,null,null,720,"Crittenden","Cr","Crevasse fine sand",0,1,3,15,45,75,0.02,5,"Rare","A",782]
[null,null,null,null,null,null,null,null,null,null,null,null,null,null,null,null,null,null,null,null,null,null,null,null,null,null,null,null,null,null,null,null,null,null,null,null,null,null,null,null,null,null,null,722,"Crittenden","DsA","Dubbs silt loam, 0 to 1 percent slopes",0,0.5,1,15,45,75,0.49,5,"None","B",784]
[null,null,null,null,null,null,null,null,null,null,null,null,null,null,null,null,null,null,null,null,null,null,null,null,null,null,null,null,null,null,null,null,null,null,null,null,null,null,null,null,null,null,null,729,"Crittenden","Mh","Mhoon silt loam",0,0.5,1,30,75,150,0.49,5,"None","D",791]
[null,null,null,null,null,null,null,null,null,null,null,null,null,null,null,null,null,null,null,null,null,null,null,null,null,null,null,null,null,null,null,null,null,null,null,null,null,null,null,null,null,null,null,733,"Crittenden","ShU","Sharkey silty clay, gently undulating",0,1,3,15,45,75,0.28000000000000003,5,"None","D",795]
[null,null,null,null,null,null,null,null,null,null,null,null,null,null,null,null,null,null,null,null,null,null,null,null,null,null,null,null,null,null,null,null,null,null,null,null,null,null,null,null,null,null,null,738,"Cross","AaA","Alligator clay, 0 to 1 percent slopes, rarely flooded, west",0,0.5,1,30,75,150,0.17,5,"Rare","D",800]
[null,null,null,null,null,null,null,null,null,null,null,null,null,null,null,null,null,null,null,null,null,null,null,null,null,null,null,null,null,null,null,null,null,null,null,null,null,null,null,null,null,null,null,747,"Cross","BoC","Bowdre silty clay loam, undulating",0,4,8,15,30,45,0.28000000000000003,5,"Rare","D",809]
[null,null,null,null,null,null,null,null,null,null,null,null,null,null,null,null,null,null,null,null,null,null,null,null,null,null,null,null,null,null,null,null,null,null,null,null,null,null,null,null,null,null,null,752,"Cross","Co","Collins silt loam",0,0.5,1,30,75,150,0.49,5,"Rare","B",814]
[null,null,null,null,null,null,null,null,null,null,null,null,null,null,null,null,null,null,null,null,null,null,null,null,null,null,null,null,null,null,null,null,null,null,null,null,null,null,null,null,null,null,null,756,"Cross","DbC","Dubbs fine sandy loam, undulating",0,4,8,15,30,45,0.24,5,"None","B",818]
[null,null,null,null,null,null,null,null,null,null,null,null,null,null,null,null,null,null,null,null,null,null,null,null,null,null,null,null,null,null,null,null,null,null,null,null,null,null,null,null,null,null,null,765,"Cross","FgA","Foley and Grubbs silt loams, 0 to 2 percent slopes",0,1,2,15,45,75,0.55000000000000004,2,"None","D",827]
[null,null,null,null,null,null,null,null,null,null,null,null,null,null,null,null,null,null,null,null,null,null,null,null,null,null,null,null,null,null,null,null,null,null,null,null,null,null,null,null,null,null,null,770,"Cross","IuB","Iuka loam, gently undulating",0,1,2,15,45,75,0.43,5,"Rare","C",832]
[null,null,null,null,null,null,null,null,null,null,null,null,null,null,null,null,null,null,null,null,null,null,null,null,null,null,null,null,null,null,null,null,null,null,null,null,null,null,null,null,null,null,null,774,"Cross","LgB","Loring silt loam, 1 to 3 percent slopes, west",1,2,3,15,30,61,0.49,4,"None","D",836]
[null,null,null,null,null,null,null,null,null,null,null,null,null,null,null,null,null,null,null,null,null,null,null,null,null,null,null,null,null,null,null,null,null,null,null,null,null,null,null,null,null,null,null,783,"Cross","Ma","Mantachie loam",0,0.5,1,30,75,150,0.32,5,"Occasional","D",845]
[null,null,null,null,null,null,null,null,null,null,null,null,null,null,null,null,null,null,null,null,null,null,null,null,null,null,null,null,null,null,null,null,null,null,null,null,null,null,null,null,null,null,null,788,"Dallas",1,"Amy silt loam, 0 to 1 percent slopes, frequently flooded",0,0.5,1,30,30,61,0.49,5,"Frequent","D",850]
[null,null,null,null,null,null,null,null,null,null,null,null,null,null,null,null,null,null,null,null,null,null,null,null,null,null,null,null,null,null,null,null,null,null,null,null,null,null,null,null,null,null,null,792,"Dallas",5,"Guyton soils, frequently flooded",0,0.5,1,15,75,150,0.49,5,"Frequent","D",854]
[null,null,null,null,null,null,null,null,null,null,null,null,null,null,null,null,null,null,null,null,null,null,null,null,null,null,null,null,null,null,null,null,null,null,null,null,null,null,null,null,null,null,null,799,"Dallas",12,"Pikeville association, gently rolling",1,5,8,15,45,75,0.28000000000000003,4,"None","B",861]
[null,null,null,null,null,null,null,null,null,null,null,null,null,null,null,null,null,null,null,null,null,null,null,null,null,null,null,null,null,null,null,null,null,null,null,null,null,null,null,null,null,null,null,801,"Dallas",14,"Ruston fine sandy loam, 1 to 3 percent slopes",1,2,3,15,60,100,0.28000000000000003,5,"None","B",863]
[null,null,null,null,null,null,null,null,null,null,null,null,null,null,null,null,null,null,null,null,null,null,null,null,null,null,null,null,null,null,null,null,null,null,null,null,null,null,null,null,null,null,null,810,"Dallas",23,"Sawyer silt loam, 1 to 3 percent slopes",1,2,3,15,60,100,0.43,5,"None","C",872]
[null,null,null,null,null,null,null,null,null,null,null,null,null,null,null,null,null,null,null,null,null,null,null,null,null,null,null,null,null,null,null,null,null,null,null,null,null,null,null,null,null,null,null,817,"Dallas",30,"Smithton fine sandy loam, 0 to 2 percent slopes",0,1,2,10,15,25,0.28000000000000003,5,"None","D",879]
[null,null,null,null,null,null,null,null,null,null,null,null,null,null,null,null,null,null,null,null,null,null,null,null,null,null,null,null,null,null,null,null,null,null,null,null,null,null,null,null,null,null,null,819,"Desha","BdU","Bowdre, Desha, and Robinsonville soils, gently undulating",0,1,2,15,45,75,0.2,5,"Rare","D",881]
[null,null,null,null,null,null,null,null,null,null,null,null,null,null,null,null,null,null,null,null,null,null,null,null,null,null,null,null,null,null,null,null,null,null,null,null,null,null,null,null,null,null,null,828,"Desha","NeA","Newellton clay, 0 to 1 percent slopes",0,0.5,1,30,75,150,0.28000000000000003,5,"Rare","D",890]
[null,null,null,null,null,null,null,null,null,null,null,null,null,null,null,null,null,null,null,null,null,null,null,null,null,null,null,null,null,null,null,null,null,null,null,null,null,null,null,null,null,null,null,829,"Desha","NeU","Newellton clay, gently undulating",0,1,3,15,45,75,0.28000000000000003,5,"Rare","D",891]
[null,null,null,null,null,null,null,null,null,null,null,null,null,null,null,null,null,null,null,null,null,null,null,null,null,null,null,null,null,null,null,null,null,null,null,null,null,null,null,null,null,null,null,837,"Desha","Sm","Sharkey-Commerce-Coushatta association, frequently flooded",0,1,3,15,45,75,0.28000000000000003,5,"Frequent","D",899]
[null,null,null,null,null,null,null,null,null,null,null,null,null,null,null,null,null,null,null,null,null,null,null,null,null,null,null,null,null,null,null,null,null,null,null,null,null,null,null,null,null,null,null,844,"Desha","Tw","Tutwiler silt loam",0,0.5,1,30,75,150,0.49,5,"None","B",906]
[null,null,null,null,null,null,null,null,null,null,null,null,null,null,null,null,null,null,null,null,null,null,null,null,null,null,null,null,null,null,null,null,null,null,null,null,null,null,null,null,null,null,null,847,"Drew","Ar","Ariel silt loam, frequently flooded",0,0.5,1,15,75,150,0.43,5,"Frequent","C",909]
[null,null,null,null,null,null,null,null,null,null,null,null,null,null,null,null,null,null,null,null,null,null,null,null,null,null,null,null,null,null,null,null,null,null,null,null,null,null,null,null,null,null,null,855,"Drew","Cr","Crowley silt loam",0,0.5,1,15,75,150,0.43,5,"None","D",917]
[null,null,null,null,null,null,null,null,null,null,null,null,null,null,null,null,null,null,null,null,null,null,null,null,null,null,null,null,null,null,null,null,null,null,null,null,null,null,null,null,null,null,null,862,"Drew","Hb","Henry silt loam",0,0.5,1,15,75,150,0.49,4,"None","D",924]
[null,null,null,null,null,null,null,null,null,null,null,null,null,null,null,null,null,null,null,null,null,null,null,null,null,null,null,null,null,null,null,null,null,null,null,null,null,null,null,null,null,null,null,865,"Drew","Le","Leaf silt loam",0,0.5,1,15,75,150,0.49,5,"Rare","D",927]
[null,null,null,null,null,null,null,null,null,null,null,null,null,null,null,null,null,null,null,null,null,null,null,null,null,null,null,null,null,null,null,null,null,null,null,null,null,null,null,null,null,null,null,869,"Drew","Po","Portland silt loam, 0 to 1 percent slopes",0,0.5,1,30,75,150,0.43,5,"None","D",931]
[null,null,null,null,null,null,null,null,null,null,null,null,null,null,null,null,null,null,null,null,null,null,null,null,null,null,null,null,null,null,null,null,null,null,null,null,null,null,null,null,null,null,null,874,"Drew","ScB2","Sacul soils, 1 to 3 percent slopes, eroded",1,2,3,15,60,100,0.37,5,"None","D",936]
[null,null,null,null,null,null,null,null,null,null,null,null,null,null,null,null,null,null,null,null,null,null,null,null,null,null,null,null,null,null,null,null,null,null,null,null,null,null,null,null,null,null,null,883,"Drew","UgE3","Udorthents and Grenada soils, 8 to 20 percent slopes, severely eroded (loring)",12,16,20,15,20,30,0.49,4,"None","C",945]
[null,null,null,null,null,null,null,null,null,null,null,null,null,null,null,null,null,null,null,null,null,null,null,null,null,null,null,null,null,null,null,null,null,null,null,null,null,null,null,null,null,null,null,887,"Faulkner",4,"Enders gravelly fine sandy loam, 8 to 12 percent slopes",8,10,12,15,30,45,0.24,4,"None","D",949]
[null,null,null,null,null,null,null,null,null,null,null,null,null,null,null,null,null,null,null,null,null,null,null,null,null,null,null,null,null,null,null,null,null,null,null,null,null,null,null,null,null,null,null,892,"Faulkner",9,"Leadvale silt loam, 3 to 8 percent slopes",3,5,8,15,60,100,0.55000000000000004,4,"None","D",954]
[null,null,null,null,null,null,null,null,null,null,null,null,null,null,null,null,null,null,null,null,null,null,null,null,null,null,null,null,null,null,null,null,null,null,null,null,null,null,null,null,null,null,null,901,"Faulkner",18,"Mountainburg gravelly fine sandy loam, 8 to 12 percent slopes",8,10,12,15,30,45,0.32,1,"None","D",963]
[null,null,null,null,null,null,null,null,null,null,null,null,null,null,null,null,null,null,null,null,null,null,null,null,null,null,null,null,null,null,null,null,null,null,null,null,null,null,null,null,null,null,null,905,"Faulkner",22,"Muskogee silty clay loam, 3 to 8 percent slopes, severely eroded",3,5,8,15,45,75,0.37,4,"None","D",967]
[null,null,null,null,null,null,null,null,null,null,null,null,null,null,null,null,null,null,null,null,null,null,null,null,null,null,null,null,null,null,null,null,null,null,null,null,null,null,null,null,null,null,null,910,"Faulkner",27,"Roxana very fine sandy loam",0,0.5,1,15,75,150,0.43,5,"None","B",972]
[null,null,null,null,null,null,null,null,null,null,null,null,null,null,null,null,null,null,null,null,null,null,null,null,null,null,null,null,null,null,null,null,null,null,null,null,null,null,null,null,null,null,null,917,"Franklin","ADB","Allen soils, gently rolling, (nella)",3,5,8,15,45,75,0.2,5,"None","B",979]
[null,null,null,null,null,null,null,null,null,null,null,null,null,null,null,null,null,null,null,null,null,null,null,null,null,null,null,null,null,null,null,null,null,null,null,null,null,null,null,null,null,null,null,923,"Franklin","AgC","Nella gravelly fine sandy loam, 3 to 8 percent slopes",3,5,8,39,48,60,0.37,5,"None","B",985]
[null,null,null,null,null,null,null,null,null,null,null,null,null,null,null,null,null,null,null,null,null,null,null,null,null,null,null,null,null,null,null,null,null,null,null,null,null,null,null,null,null,null,null,928,"Franklin","AsD","Allen stony fine sandy loam, 8 to 12 percent slopes (nella)",8,10,12,15,30,45,0.2,5,"None","B",990]
[null,null,null,null,null,null,null,null,null,null,null,null,null,null,null,null,null,null,null,null,null,null,null,null,null,null,null,null,null,null,null,null,null,null,null,null,null,null,null,null,null,null,null,935,"Franklin","DbA","Dubbs fine sandy loam, 0 to 1 percent slopes",0,0.5,1,15,75,150,0.24,5,"None","B",997]
[null,null,null,null,null,null,null,null,null,null,null,null,null,null,null,null,null,null,null,null,null,null,null,null,null,null,null,null,null,null,null,null,null,null,null,null,null,null,null,null,null,null,null,941,"Franklin","EnD2","Enders gravelly silt loam, 8 to 20 percent slopes, eroded",8,14,20,15,20,30,0.37,4,"None","D",1003]
[null,null,null,null,null,null,null,null,null,null,null,null,null,null,null,null,null,null,null,null,null,null,null,null,null,null,null,null,null,null,null,null,null,null,null,null,null,null,null,null,null,null,null,946,"Franklin","Gt","Guthrie silt loam, 0 to 1 percent slopes, rarely flooded",0,0.5,1,15,45,75,0.43,4,"Rare","D",1008]
[null,null,null,null,null,null,null,null,null,null,null,null,null,null,null,null,null,null,null,null,null,null,null,null,null,null,null,null,null,null,null,null,null,null,null,null,null,null,null,null,null,null,null,953,"Franklin","HOE","Holston-Enders association, steep, (nella, enders)",20,30,40,5,15,30,0.24,5,"None","B",1015]
[null,null,null,null,null,null,null,null,null,null,null,null,null,null,null,null,null,null,null,null,null,null,null,null,null,null,null,null,null,null,null,null,null,null,null,null,null,null,null,null,null,null,null,954,"Franklin","HOF","Holston-Enders association, very steep, (nella, enders)",40,45,50,5,15,30,0.24,5,"None","B",1016]
[null,null,null,null,null,null,null,null,null,null,null,null,null,null,null,null,null,null,null,null,null,null,null,null,null,null,null,null,null,null,null,null,null,null,null,null,null,null,null,null,null,null,null,962,"Franklin","LnB","Linker fine sandy loam, 1 to 3 percent slopes",1,2,3,39,48,60,0.24,2,"None","C",1024]
[null,null,null,null,null,null,null,null,null,null,null,null,null,null,null,null,null,null,null,null,null,null,null,null,null,null,null,null,null,null,null,null,null,null,null,null,null,null,null,null,null,null,null,965,"Franklin","MkC","McKamie silt loam, 3 to 8 percent slopes",3,5,6,15,45,75,0.49,5,"None","D",1027]
[null,null,null,null,null,null,null,null,null,null,null,null,null,null,null,null,null,null,null,null,null,null,null,null,null,null,null,null,null,null,null,null,null,null,null,null,null,null,null,null,null,null,null,972,"Franklin","MtB","Mountainburg gravelly fine sandy loam, 1 to 3 percent slopes",1,2,3,15,60,100,0.32,1,"None","D",1034]
[null,null,null,null,null,null,null,null,null,null,null,null,null,null,null,null,null,null,null,null,null,null,null,null,null,null,null,null,null,null,null,null,null,null,null,null,null,null,null,null,null,null,null,980,"Franklin","OrC2","Ora fine sandy loam, 3 to 8 percent slopes, eroded",3,5,8,15,45,75,0.24,4,"None","C",1042]
[null,null,null,null,null,null,null,null,null,null,null,null,null,null,null,null,null,null,null,null,null,null,null,null,null,null,null,null,null,null,null,null,null,null,null,null,null,null,null,null,null,null,null,983,"Franklin","Tc","Taft complex, mounded",0,0.5,1,15,75,150,0.49,4,"None","D",1045]
[null,null,null,null,null,null,null,null,null,null,null,null,null,null,null,null,null,null,null,null,null,null,null,null,null,null,null,null,null,null,null,null,null,null,null,null,null,null,null,null,null,null,null,991,"Fulton",5,"Arkana-Moko complex, 20 to 40 percent slopes, very rocky",20,30,40,15,45,75,0.37,2,"None","D",1053]
[null,null,null,null,null,null,null,null,null,null,null,null,null,null,null,null,null,null,null,null,null,null,null,null,null,null,null,null,null,null,null,null,null,null,null,null,null,null,null,null,null,null,null,998,"Fulton",12,"Captina silt loam, 3 to 8 percent slopes",3,5,8,39,48,60,0.43,3,"None","D",1060]
[null,null,null,null,null,null,null,null,null,null,null,null,null,null,null,null,null,null,null,null,null,null,null,null,null,null,null,null,null,null,null,null,null,null,null,null,null,null,null,null,null,null,null,1001,"Fulton",15,"Gassville very cherty silt loam, 8 to 20 percent slopes",8,14,20,15,20,30,0.32,3,"None","D",1063]
[null,null,null,null,null,null,null,null,null,null,null,null,null,null,null,null,null,null,null,null,null,null,null,null,null,null,null,null,null,null,null,null,null,null,null,null,null,null,null,null,null,null,null,1009,"Fulton",32,"Sturkie silt loam, frequently flooded",1,2,3,15,60,100,0.43,5,"Frequent","B",1071]
[null,null,null,null,null,null,null,null,null,null,null,null,null,null,null,null,null,null,null,null,null,null,null,null,null,null,null,null,null,null,null,null,null,null,null,null,null,null,null,null,null,null,null,1010,"Garland",1,"Avant very gravelly silt loam, 3 to 15 percent slopes",3,9,15,15,30,45,0.43,2,"None","C",1072]
[null,null,null,null,null,null,null,null,null,null,null,null,null,null,null,null,null,null,null,null,null,null,null,null,null,null,null,null,null,null,null,null,null,null,null,null,null,null,null,null,null,null,null,1020,"Garland",11,"Bismarck-Clebit complex, 40 to 60 percent slopes",40,50,60,5,15,30,0.49,2,"None","D",1082]
[null,null,null,null,null,null,null,null,null,null,null,null,null,null,null,null,null,null,null,null,null,null,null,null,null,null,null,null,null,null,null,null,null,null,null,null,null,null,null,null,null,null,null,1025,"Garland",16,"Carnasaw gravelly silt loam, 3 to 8 percent slopes",3,5,8,15,45,75,0.43,4,"None","C",1087]
[null,null,null,null,null,null,null,null,null,null,null,null,null,null,null,null,null,null,null,null,null,null,null,null,null,null,null,null,null,null,null,null,null,null,null,null,null,null,null,null,null,null,null,1028,"Garland",19,"Carnasaw-Pirum complex, 3 to 8 percent slopes",3,5,8,15,45,75,0.32,4,"None","C",1090]
[null,null,null,null,null,null,null,null,null,null,null,null,null,null,null,null,null,null,null,null,null,null,null,null,null,null,null,null,null,null,null,null,null,null,null,null,null,null,null,null,null,null,null,1034,"Garland",25,"Leadvale silt loam, 1 to 3 percent slopes",1,2,3,15,60,100,0.49,4,"None","C",1096]
[null,null,null,null,null,null,null,null,null,null,null,null,null,null,null,null,null,null,null,null,null,null,null,null,null,null,null,null,null,null,null,null,null,null,null,null,null,null,null,null,null,null,null,1043,"Garland",35,"Spadra loam, occasionally flooded",0,1,2,15,45,75,0.32,5,"Occasional","B",1105]
[null,null,null,null,null,null,null,null,null,null,null,null,null,null,null,null,null,null,null,null,null,null,null,null,null,null,null,null,null,null,null,null,null,null,null,null,null,null,null,null,null,null,null,1046,"Garland",39,"Yanush-Avant complex, 40 to 60 percent slopes",40,50,60,5,15,30,0.37,5,"None","B",1108]
[null,null,null,null,null,null,null,null,null,null,null,null,null,null,null,null,null,null,null,null,null,null,null,null,null,null,null,null,null,null,null,null,null,null,null,null,null,null,null,null,null,null,null,1052,"Grant","11E","Sacul gravelly fine sandy loam, 15 to 35 percent slopes",15,25,35,15,30,45,0.24,5,"None","C",1114]
[null,null,null,null,null,null,null,null,null,null,null,null,null,null,null,null,null,null,null,null,null,null,null,null,null,null,null,null,null,null,null,null,null,null,null,null,null,null,null,null,null,null,null,1055,"Grant","12E","Saffell gravelly fine sandy loam, 15 to 35 percent slopes",15,25,35,5,15,30,0.2,5,"None","B",1117]
[null,null,null,null,null,null,null,null,null,null,null,null,null,null,null,null,null,null,null,null,null,null,null,null,null,null,null,null,null,null,null,null,null,null,null,null,null,null,null,null,null,null,null,1062,"Grant","19C","Warnock fine sandy loam, 1 to 7 percent slopes",1,4,7,15,45,75,0.24,4,"None","C",1124]
[null,null,null,null,null,null,null,null,null,null,null,null,null,null,null,null,null,null,null,null,null,null,null,null,null,null,null,null,null,null,null,null,null,null,null,null,null,null,null,null,null,null,null,1070,"Grant","6B","Ouachita silt loam, 0 to 2 percent slopes, frequently flooded",0,1,2,15,75,150,0.49,5,"Frequent","C",1132]
[null,null,null,null,null,null,null,null,null,null,null,null,null,null,null,null,null,null,null,null,null,null,null,null,null,null,null,null,null,null,null,null,null,null,null,null,null,null,null,null,null,null,null,1073,"Greene","10A","Falaya silt loam, 0 to 1 percent slopes, occasionally flooded, brief duration",0,0.5,1,15,75,150,0.49,4,"Occasional","D",1135]
[null,null,null,null,null,null,null,null,null,null,null,null,null,null,null,null,null,null,null,null,null,null,null,null,null,null,null,null,null,null,null,null,null,null,null,null,null,null,null,null,null,null,null,1080,"Greene","17A","Fountain silt loam, 0 to 1 percent slopes",0,0.5,1,15,75,150,0.43,5,"None","D",1142]
[null,null,null,null,null,null,null,null,null,null,null,null,null,null,null,null,null,null,null,null,null,null,null,null,null,null,null,null,null,null,null,null,null,null,null,null,null,null,null,null,null,null,null,1088,"Greene","21A","Kobel silty clay loam, 0 to 1 percent slopes, frequently flooded",0,0.5,1,30,75,150,0.37,5,"Frequent","D",1150]
[null,null,null,null,null,null,null,null,null,null,null,null,null,null,null,null,null,null,null,null,null,null,null,null,null,null,null,null,null,null,null,null,null,null,null,null,null,null,null,null,null,null,null,1091,"Greene","23B","Lafe silt loam, 1 to 5 percent slopes",1,3,5,15,45,75,0.55000000000000004,2,"None","D",1153]
[null,null,null,null,null,null,null,null,null,null,null,null,null,null,null,null,null,null,null,null,null,null,null,null,null,null,null,null,null,null,null,null,null,null,null,null,null,null,null,null,null,null,null,1098,"Greene","26E","Memphis silt loam, 15 to 35 percent slopes",15,25,35,5,15,30,0.49,5,"None","B",1160]
[null,null,null,null,null,null,null,null,null,null,null,null,null,null,null,null,null,null,null,null,null,null,null,null,null,null,null,null,null,null,null,null,null,null,null,null,null,null,null,null,null,null,null,1101,"Greene","28B","Overcup silt loam, 1 to 3 percent slopes",1,1.5,3,15,60,100,0.43,3,"None","D",1163]
[null,null,null,null,null,null,null,null,null,null,null,null,null,null,null,null,null,null,null,null,null,null,null,null,null,null,null,null,null,null,null,null,null,null,null,null,null,null,null,null,null,null,null,1107,"Greene","35B","Wiville fine sandy loam, 1 to 3 percent slopes",1,2,3,15,60,100,0.28000000000000003,5,"None","A",1169]
[null,null,null,null,null,null,null,null,null,null,null,null,null,null,null,null,null,null,null,null,null,null,null,null,null,null,null,null,null,null,null,null,null,null,null,null,null,null,null,null,null,null,null,1116,"Greene","7B","Calloway silt loam, 1 to 3 percent slopes",1,2,3,30,75,150,0.49,4,"None","D",1178]
[null,null,null,null,null,null,null,null,null,null,null,null,null,null,null,null,null,null,null,null,null,null,null,null,null,null,null,null,null,null,null,null,null,null,null,null,null,null,null,null,null,null,null,1119,"Hempstead",1,"Alaga fine sand, 3 to 8 percent slopes",3,5,8,15,45,75,0.02,5,"None","A",1181]
[null,null,null,null,null,null,null,null,null,null,null,null,null,null,null,null,null,null,null,null,null,null,null,null,null,null,null,null,null,null,null,null,null,null,null,null,null,null,null,null,null,null,null,1125,"Hempstead",7,"Desha clay, 0 to 1 percent slopes, occasionally flooded",0,0.5,1,5,15,20,0.24,5,"Occasional","D",1187]
[null,null,null,null,null,null,null,null,null,null,null,null,null,null,null,null,null,null,null,null,null,null,null,null,null,null,null,null,null,null,null,null,null,null,null,null,null,null,null,null,null,null,null,1134,"Hempstead",16,"Kirvin fine sandy loam, 3 to 8 percent slopes",3,5,8,15,45,75,0.37,5,"None","C",1196]
[null,null,null,null,null,null,null,null,null,null,null,null,null,null,null,null,null,null,null,null,null,null,null,null,null,null,null,null,null,null,null,null,null,null,null,null,null,null,null,null,null,null,null,1137,"Hempstead",19,"Latanier silty clay, frequently flooded",0,0.5,1,15,75,150,0.28000000000000003,5,"Frequent","D",1199]
[null,null,null,null,null,null,null,null,null,null,null,null,null,null,null,null,null,null,null,null,null,null,null,null,null,null,null,null,null,null,null,null,null,null,null,null,null,null,null,null,null,null,null,1143,"Hempstead",25,"Oklared very fine sandy loam",0,1,2,15,45,75,0.37,5,"Rare","A",1205]
[null,null,null,null,null,null,null,null,null,null,null,null,null,null,null,null,null,null,null,null,null,null,null,null,null,null,null,null,null,null,null,null,null,null,null,null,null,null,null,null,null,null,null,1146,"Hempstead",28,"Oktibbeha clay, 8 to 12 percent slopes, eroded",8,10,12,15,30,45,0.32,4,"None","D",1208]
[null,null,null,null,null,null,null,null,null,null,null,null,null,null,null,null,null,null,null,null,null,null,null,null,null,null,null,null,null,null,null,null,null,null,null,null,null,null,null,null,null,null,null,1156,"Hempstead",38,"Saffell gravelly fine sandy loam, 3 to 8 percent slopes",3,6,8,15,45,75,0.17,5,"None","B",1218]
[null,null,null,null,null,null,null,null,null,null,null,null,null,null,null,null,null,null,null,null,null,null,null,null,null,null,null,null,null,null,null,null,null,null,null,null,null,null,null,null,null,null,null,1161,"Hempstead",43,"Sawyer loam, 1 to 3 percent slopes",1,2,3,15,60,100,0.43,5,"None","C",1223]
[null,null,null,null,null,null,null,null,null,null,null,null,null,null,null,null,null,null,null,null,null,null,null,null,null,null,null,null,null,null,null,null,null,null,null,null,null,null,null,null,null,null,null,1164,"Hempstead",46,"Smithton fine sandy loam, 0 to 2 percent slopes",0,1,2,10,15,25,0.28000000000000003,5,"None","D",1226]
[null,null,null,null,null,null,null,null,null,null,null,null,null,null,null,null,null,null,null,null,null,null,null,null,null,null,null,null,null,null,null,null,null,null,null,null,null,null,null,null,null,null,null,1169,"Hempstead",51,"Tuscumbia clay, occasionally flooded",0,0.5,1,15,75,150,0.24,5,"Occasional","D",1231]
[null,null,null,null,null,null,null,null,null,null,null,null,null,null,null,null,null,null,null,null,null,null,null,null,null,null,null,null,null,null,null,null,null,null,null,null,null,null,null,null,null,null,null,1179,"Hot Spring",9,"Bowie fine sandy loam, 1 to 3 percent slopes",1,2,3,8,15,24,0.32,5,"None","B",1241]
[null,null,null,null,null,null,null,null,null,null,null,null,null,null,null,null,null,null,null,null,null,null,null,null,null,null,null,null,null,null,null,null,null,null,null,null,null,null,null,null,null,null,null,1180,"Hot Spring",10,"Bowie fine sandy loam, 3 to 8 percent slopes",3,6,8,15,46,75,0.28000000000000003,5,"None","C",1242]
[null,null,null,null,null,null,null,null,null,null,null,null,null,null,null,null,null,null,null,null,null,null,null,null,null,null,null,null,null,null,null,null,null,null,null,null,null,null,null,null,null,null,null,1187,"Hot Spring",18,"Darden loamy fine sand, 5 to 12 percent slopes",5,9,12,15,30,45,0.2,5,"None","A",1249]
[null,null,null,null,null,null,null,null,null,null,null,null,null,null,null,null,null,null,null,null,null,null,null,null,null,null,null,null,null,null,null,null,null,null,null,null,null,null,null,null,null,null,null,1191,"Hot Spring",24,"Guyton silt loam, occasionally flooded",0,0.5,1,15,75,150,0.43,5,"Occasional","D",1253]
[null,null,null,null,null,null,null,null,null,null,null,null,null,null,null,null,null,null,null,null,null,null,null,null,null,null,null,null,null,null,null,null,null,null,null,null,null,null,null,null,null,null,null,1198,"Hot Spring",38,"Magnet stony loam, 8 to 20 percent slopes",8,14,20,15,20,30,0.28000000000000003,3,"None","C",1260]
[null,null,null,null,null,null,null,null,null,null,null,null,null,null,null,null,null,null,null,null,null,null,null,null,null,null,null,null,null,null,null,null,null,null,null,null,null,null,null,null,null,null,null,1205,"Hot Spring",46,"Oktibbeha fine sandy loam, 8 to 12 percent slopes, eroded",8,10,12,15,30,45,0.28000000000000003,4,"None","D",1267]
[null,null,null,null,null,null,null,null,null,null,null,null,null,null,null,null,null,null,null,null,null,null,null,null,null,null,null,null,null,null,null,null,null,null,null,null,null,null,null,null,null,null,null,1209,"Hot Spring",50,"Ozan fine sandy loam, occasionally flooded",0,0.5,1,15,75,150,0.37,5,"Occasional","D",1271]
[null,null,null,null,null,null,null,null,null,null,null,null,null,null,null,null,null,null,null,null,null,null,null,null,null,null,null,null,null,null,null,null,null,null,null,null,null,null,null,null,null,null,null,1216,"Hot Spring",58,"Sacul fine sandy loam, 8 to 12 percent slopes",8,10,12,15,30,45,0.28000000000000003,5,"None","D",1278]
[null,null,null,null,null,null,null,null,null,null,null,null,null,null,null,null,null,null,null,null,null,null,null,null,null,null,null,null,null,null,null,null,null,null,null,null,null,null,null,null,null,null,null,1223,"Hot Spring",65,"Saffell gravelly fine sandy loam, 8 to 12 percent slopes",8,10,12,15,30,45,0.2,4,"None","B",1285]
[null,null,null,null,null,null,null,null,null,null,null,null,null,null,null,null,null,null,null,null,null,null,null,null,null,null,null,null,null,null,null,null,null,null,null,null,null,null,null,null,null,null,null,1225,"Hot Spring",67,"Sardis silt loam, 0 to 3 percent slopes",0,2,3,15,45,75,0.43,5,"Rare","C",1287]
[null,null,null,null,null,null,null,null,null,null,null,null,null,null,null,null,null,null,null,null,null,null,null,null,null,null,null,null,null,null,null,null,null,null,null,null,null,null,null,null,null,null,null,1234,"Hot Spring",76,"Smithdale fine sandy loam, 3 to 8 percent slopes",3,5,8,15,45,75,0.28000000000000003,5,"None","B",1296]
[null,null,null,null,null,null,null,null,null,null,null,null,null,null,null,null,null,null,null,null,null,null,null,null,null,null,null,null,null,null,null,null,null,null,null,null,null,null,null,null,null,null,null,1241,"Hot Spring",92,"Wing variant fine sandy loam, 0 to 2 percent slopes",0,1,2,15,45,75,0.24,2,"None","D",1303]
[null,null,null,null,null,null,null,null,null,null,null,null,null,null,null,null,null,null,null,null,null,null,null,null,null,null,null,null,null,null,null,null,null,null,null,null,null,null,null,null,null,null,null,1243,"Hot Spring",94,"Yanush-Carnasaw-Bigfork complex, 8 to 20 percent slopes",8,14,20,15,20,30,0.37,5,"None","C",1305]
[null,null,null,null,null,null,null,null,null,null,null,null,null,null,null,null,null,null,null,null,null,null,null,null,null,null,null,null,null,null,null,null,null,null,null,null,null,null,null,null,null,null,null,1252,"Howard","CaC","Cane fine sandy loam, 3 to 8 percent slopes",3,5,8,15,45,75,0.28000000000000003,4,"None","C",1314]
[null,null,null,null,null,null,null,null,null,null,null,null,null,null,null,null,null,null,null,null,null,null,null,null,null,null,null,null,null,null,null,null,null,null,null,null,null,null,null,null,null,null,null,1255,"Howard","Ka","Kaufman clay",0,0.5,1,15,75,150,0.15,5,"Occasional","D",1317]
[null,null,null,null,null,null,null,null,null,null,null,null,null,null,null,null,null,null,null,null,null,null,null,null,null,null,null,null,null,null,null,null,null,null,null,null,null,null,null,null,null,null,null,1261,"Howard","MuB","Muskogee silt loam, 1 to 3 percent slopes",1,2,3,15,60,100,0.43,5,"None","D",1323]
[null,null,null,null,null,null,null,null,null,null,null,null,null,null,null,null,null,null,null,null,null,null,null,null,null,null,null,null,null,null,null,null,null,null,null,null,null,null,null,null,null,null,null,1270,"Howard","RuB","Ruston fine sandy loam, 1 to 3 percent slopes",1,2,3,15,60,100,0.28000000000000003,5,"None","B",1332]
[null,null,null,null,null,null,null,null,null,null,null,null,null,null,null,null,null,null,null,null,null,null,null,null,null,null,null,null,null,null,null,null,null,null,null,null,null,null,null,null,null,null,null,1273,"Howard","SaC","Sacul fine sandy loam, 3 to 8 percent slopes",3,5,8,15,45,75,0.28000000000000003,3,"None","D",1335]
[null,null,null,null,null,null,null,null,null,null,null,null,null,null,null,null,null,null,null,null,null,null,null,null,null,null,null,null,null,null,null,null,null,null,null,null,null,null,null,null,null,null,null,1279,"Howard","SfC","Savannah fine sandy loam, 3 to 8 percent slopes",3,5,8,15,45,75,0.32,4,"None","C",1341]
[null,null,null,null,null,null,null,null,null,null,null,null,null,null,null,null,null,null,null,null,null,null,null,null,null,null,null,null,null,null,null,null,null,null,null,null,null,null,null,null,null,null,null,1282,"Howard","SkD","Sherwood-Pickens association, rolling",8,14,20,15,20,30,0.24,3,"None","C",1344]
[null,null,null,null,null,null,null,null,null,null,null,null,null,null,null,null,null,null,null,null,null,null,null,null,null,null,null,null,null,null,null,null,null,null,null,null,null,null,null,null,null,null,null,1291,"Independence",3,"Arrington silt loam, gently undulating",0,2,3,15,45,75,0.37,5,"None","B",1353]
[null,null,null,null,null,null,null,null,null,null,null,null,null,null,null,null,null,null,null,null,null,null,null,null,null,null,null,null,null,null,null,null,null,null,null,null,null,null,null,null,null,null,null,1297,"Independence",9,"Captina silt loam, 1 to 3 percent slopes",1,2,3,60,91,91,0.43,3,"None","D",1359]
[null,null,null,null,null,null,null,null,null,null,null,null,null,null,null,null,null,null,null,null,null,null,null,null,null,null,null,null,null,null,null,null,null,null,null,null,null,null,null,null,null,null,null,1303,"Independence",15,"Crowley silt loam, 0 to 1 percent slopes",0,0.5,1,15,75,150,0.43,5,"None","D",1365]
[null,null,null,null,null,null,null,null,null,null,null,null,null,null,null,null,null,null,null,null,null,null,null,null,null,null,null,null,null,null,null,null,null,null,null,null,null,null,null,null,null,null,null,1306,"Independence",18,"Egam silty clay loam, occasionally flooded",0,1,2,15,45,75,0.32,5,"Occasional","C",1368]
[null,null,null,null,null,null,null,null,null,null,null,null,null,null,null,null,null,null,null,null,null,null,null,null,null,null,null,null,null,null,null,null,null,null,null,null,null,null,null,null,null,null,null,1315,"Independence",27,"Gepp very cherty silt loam, 12 to 30 percent slopes",12,21,30,5,15,30,0.37,5,"None","B",1377]
[null,null,null,null,null,null,null,null,null,null,null,null,null,null,null,null,null,null,null,null,null,null,null,null,null,null,null,null,null,null,null,null,null,null,null,null,null,null,null,null,null,null,null,1316,"Independence",28,"Hontas silt loam, occasionally flooded",0,0.5,1,15,75,150,0.43,5,"Occasional","C",1378]
[null,null,null,null,null,null,null,null,null,null,null,null,null,null,null,null,null,null,null,null,null,null,null,null,null,null,null,null,null,null,null,null,null,null,null,null,null,null,null,null,null,null,null,1324,"Independence",36,"Linker gravelly fine sandy loam, 8 to 12 percent slopes",8,10,12,15,30,45,0.24,2,"None","C",1386]
[null,null,null,null,null,null,null,null,null,null,null,null,null,null,null,null,null,null,null,null,null,null,null,null,null,null,null,null,null,null,null,null,null,null,null,null,null,null,null,null,null,null,null,1327,"Independence",39,"Loring silt loam, 3 to 8 percent slopes",3,5,8,15,45,75,0.49,4,"None","C",1389]
[null,null,null,null,null,null,null,null,null,null,null,null,null,null,null,null,null,null,null,null,null,null,null,null,null,null,null,null,null,null,null,null,null,null,null,null,null,null,null,null,null,null,null,1334,"Independence",46,"Noark very gravelly silt loam, 8 to 12 percent slopes",8,10,12,30,36,39,0.37,5,"None","C",1396]
[null,null,null,null,null,null,null,null,null,null,null,null,null,null,null,null,null,null,null,null,null,null,null,null,null,null,null,null,null,null,null,null,null,null,null,null,null,null,null,null,null,null,null,1342,"Independence",54,"Secesh silt loam, frequently flooded",1,2,3,15,60,100,0.37,4,"Frequent","B",1404]
[null,null,null,null,null,null,null,null,null,null,null,null,null,null,null,null,null,null,null,null,null,null,null,null,null,null,null,null,null,null,null,null,null,null,null,null,null,null,null,null,null,null,null,1349,"Independence",61,"Wallen gravelly silt loam, 3 to 8 percent slopes",3,5,8,15,45,75,0.43,2,"None","B",1411]
[null,null,null,null,null,null,null,null,null,null,null,null,null,null,null,null,null,null,null,null,null,null,null,null,null,null,null,null,null,null,null,null,null,null,null,null,null,null,null,null,null,null,null,1352,"Independence",64,"Wideman loamy fine sand, frequently flooded",0,0.5,1,15,75,150,0.15,5,"Frequent","A",1414]
[null,null,null,null,null,null,null,null,null,null,null,null,null,null,null,null,null,null,null,null,null,null,null,null,null,null,null,null,null,null,null,null,null,null,null,null,null,null,null,null,null,null,null,1360,"Izard",8,"Brockwell fine sandy loam, 3 to 8 percent slopes",3,5,8,15,45,75,0.32,5,"None","B",1422]
[null,null,null,null,null,null,null,null,null,null,null,null,null,null,null,null,null,null,null,null,null,null,null,null,null,null,null,null,null,null,null,null,null,null,null,null,null,null,null,null,null,null,null,1361,"Izard",9,"Brockwell fine sandy loam, 8 to 12 percent slopes, eroded",8,10,12,15,30,45,0.32,5,"None","B",1423]
[null,null,null,null,null,null,null,null,null,null,null,null,null,null,null,null,null,null,null,null,null,null,null,null,null,null,null,null,null,null,null,null,null,null,null,null,null,null,null,null,null,null,null,1370,"Izard",18,"Gepp very cherty silt loam, 8 to 20 percent slopes",8,14,20,15,20,30,0.37,5,"None","B",1432]
[null,null,null,null,null,null,null,null,null,null,null,null,null,null,null,null,null,null,null,null,null,null,null,null,null,null,null,null,null,null,null,null,null,null,null,null,null,null,null,null,null,null,null,1376,"Izard",24,"Noark very gravelly silt loam, 20 to 40 percent slopes",20,30,40,15,15,15,0.37,5,"None","C",1438]
[null,null,null,null,null,null,null,null,null,null,null,null,null,null,null,null,null,null,null,null,null,null,null,null,null,null,null,null,null,null,null,null,null,null,null,null,null,null,null,null,null,null,null,1379,"Izard",27,"Portia sandy loam, 8 to 12 percent slopes, eroded",8,10,12,15,30,45,0.2,5,"None","B",1441]
[null,null,null,null,null,null,null,null,null,null,null,null,null,null,null,null,null,null,null,null,null,null,null,null,null,null,null,null,null,null,null,null,null,null,null,null,null,null,null,null,null,null,null,1388,"Jackson","BoA","Bosket fine sandy loam, 0 to 1 percent slopes",0,0.5,1,15,45,75,0.37,4,"None","B",1450]
[null,null,null,null,null,null,null,null,null,null,null,null,null,null,null,null,null,null,null,null,null,null,null,null,null,null,null,null,null,null,null,null,null,null,null,null,null,null,null,null,null,null,null,1394,"Jackson","DvA","Dundee silt loam, 0 to 1 percent slopes",0,0.5,1,30,30,61,0.43,5,"None","C",1456]
[null,null,null,null,null,null,null,null,null,null,null,null,null,null,null,null,null,null,null,null,null,null,null,null,null,null,null,null,null,null,null,null,null,null,null,null,null,null,null,null,null,null,null,1397,"Jackson","EnD","Enders silt loam, 3 to 12 percent slopes",3,8,12,15,30,45,0.37,3,"None","D",1459]
[null,null,null,null,null,null,null,null,null,null,null,null,null,null,null,null,null,null,null,null,null,null,null,null,null,null,null,null,null,null,null,null,null,null,null,null,null,null,null,null,null,null,null,1401,"Jackson","Fo","Forestdale silty clay loam",0,0.5,1,15,75,150,0.37,5,"Rare","D",1463]
[null,null,null,null,null,null,null,null,null,null,null,null,null,null,null,null,null,null,null,null,null,null,null,null,null,null,null,null,null,null,null,null,null,null,null,null,null,null,null,null,null,null,null,1406,"Jackson","LdC","Leadvale silt loam, 3 to 8 percent slopes",3,5,8,15,60,100,0.55000000000000004,4,"None","D",1468]
[null,null,null,null,null,null,null,null,null,null,null,null,null,null,null,null,null,null,null,null,null,null,null,null,null,null,null,null,null,null,null,null,null,null,null,null,null,null,null,null,null,null,null,1415,"Jefferson",1,"Amy silt loam, 0 to 1 percent slopes",0,0.5,1,30,30,61,0.49,5,"None","D",1477]
[null,null,null,null,null,null,null,null,null,null,null,null,null,null,null,null,null,null,null,null,null,null,null,null,null,null,null,null,null,null,null,null,null,null,null,null,null,null,null,null,null,null,null,1420,"Jefferson",6,"Calloway-Urban land complex",1,2,3,15,60,100,0.43,4,"None","D",1482]
[null,null,null,null,null,null,null,null,null,null,null,null,null,null,null,null,null,null,null,null,null,null,null,null,null,null,null,null,null,null,null,null,null,null,null,null,null,null,null,null,null,null,null,1424,"Jefferson",10,"Coushatta-Urban land complex",0,0.5,1,15,75,150,0.43,5,"None","B",1486]
[null,null,null,null,null,null,null,null,null,null,null,null,null,null,null,null,null,null,null,null,null,null,null,null,null,null,null,null,null,null,null,null,null,null,null,null,null,null,null,null,null,null,null,1433,"Jefferson",19,"Hebert silt loam, 0 to 1 percent slopes",0,0.5,1,30,46,61,0.43,5,"None","C",1495]
[null,null,null,null,null,null,null,null,null,null,null,null,null,null,null,null,null,null,null,null,null,null,null,null,null,null,null,null,null,null,null,null,null,null,null,null,null,null,null,null,null,null,null,1438,"Jefferson",24,"Oklared fine sandy loam, 0 to 1 percent slopes, occasionally flooded",0,0.5,1,15,75,150,0.2,5,"Occasional","A",1500]
[null,null,null,null,null,null,null,null,null,null,null,null,null,null,null,null,null,null,null,null,null,null,null,null,null,null,null,null,null,null,null,null,null,null,null,null,null,null,null,null,null,null,null,1442,"Jefferson",28,"Pheba silt loam, 0 to 2 percent slopes",0,1,2,15,45,75,0.55000000000000004,4,"None","D",1504]
[null,null,null,null,null,null,null,null,null,null,null,null,null,null,null,null,null,null,null,null,null,null,null,null,null,null,null,null,null,null,null,null,null,null,null,null,null,null,null,null,null,null,null,1451,"Jefferson",37,"Roxana-Urban land complex",0,0.5,1,15,75,150,0.43,5,"None","B",1513]
[null,null,null,null,null,null,null,null,null,null,null,null,null,null,null,null,null,null,null,null,null,null,null,null,null,null,null,null,null,null,null,null,null,null,null,null,null,null,null,null,null,null,null,1456,"Jefferson",42,"Savannah fine sandy loam, 3 to 8 percent slopes",3,5,8,15,60,100,0.24,4,"None","C",1518]
[null,null,null,null,null,null,null,null,null,null,null,null,null,null,null,null,null,null,null,null,null,null,null,null,null,null,null,null,null,null,null,null,null,null,null,null,null,null,null,null,null,null,null,1460,"Jefferson",46,"Sawyer silt loam, 3 to 8 percent slopes",3,5,8,15,45,75,0.43,5,"None","C",1522]
[null,null,null,null,null,null,null,null,null,null,null,null,null,null,null,null,null,null,null,null,null,null,null,null,null,null,null,null,null,null,null,null,null,null,null,null,null,null,null,null,null,null,null,1467,"Johnson","CaB","Cane fine sandy loam, 1 to 3 percent slopes",1,2,3,15,60,100,0.24,4,"None","C",1529]
[null,null,null,null,null,null,null,null,null,null,null,null,null,null,null,null,null,null,null,null,null,null,null,null,null,null,null,null,null,null,null,null,null,null,null,null,null,null,null,null,null,null,null,1469,"Johnson","Cp","Caspiana silt loam",0,0.5,1,15,75,150,0.37,5,"None","B",1531]
[null,null,null,null,null,null,null,null,null,null,null,null,null,null,null,null,null,null,null,null,null,null,null,null,null,null,null,null,null,null,null,null,null,null,null,null,null,null,null,null,null,null,null,1478,"Johnson","LeC","Leadvale silt loam, 3 to 8 percent slopes",3,5,8,15,60,100,0.55000000000000004,4,"None","D",1540]
[null,null,null,null,null,null,null,null,null,null,null,null,null,null,null,null,null,null,null,null,null,null,null,null,null,null,null,null,null,null,null,null,null,null,null,null,null,null,null,null,null,null,null,1485,"Johnson","LnD","Linker fine sandy loam, 8 to 12 percent slopes",8,10,12,15,30,45,0.24,2,"None","C",1547]
[null,null,null,null,null,null,null,null,null,null,null,null,null,null,null,null,null,null,null,null,null,null,null,null,null,null,null,null,null,null,null,null,null,null,null,null,null,null,null,null,null,null,null,1487,"Johnson","Md","Moreland clay",0,1,2,15,45,75,0.24,5,"None","D",1549]
[null,null,null,null,null,null,null,null,null,null,null,null,null,null,null,null,null,null,null,null,null,null,null,null,null,null,null,null,null,null,null,null,null,null,null,null,null,null,null,null,null,null,null,1494,"Johnson","MsD","Mountainburg stony fine sandy loam, 1 to 12 percent slopes, rocky",1,7,12,15,30,45,0.32,1,"None","D",1556]
[null,null,null,null,null,null,null,null,null,null,null,null,null,null,null,null,null,null,null,null,null,null,null,null,null,null,null,null,null,null,null,null,null,null,null,null,null,null,null,null,null,null,null,1497,"Johnson","NaB","Nella gravelly fine sandy loam, 1 to 3 percent slopes",1,2,3,15,60,100,0.24,5,"None","B",1559]
[null,null,null,null,null,null,null,null,null,null,null,null,null,null,null,null,null,null,null,null,null,null,null,null,null,null,null,null,null,null,null,null,null,null,null,null,null,null,null,null,null,null,null,1505,"Johnson","NMF","Nella-Mountainburg association, very steep",40,45,50,5,15,30,0.24,5,"None","B",1567]
[null,null,null,null,null,null,null,null,null,null,null,null,null,null,null,null,null,null,null,null,null,null,null,null,null,null,null,null,null,null,null,null,null,null,null,null,null,null,null,null,null,null,null,1512,"Johnson","Ta","Taft silt loam, 0 to 1 percent slopes",0,0.5,1,15,45,75,0.49,4,"None","D",1574]
[null,null,null,null,null,null,null,null,null,null,null,null,null,null,null,null,null,null,null,null,null,null,null,null,null,null,null,null,null,null,null,null,null,null,null,null,null,null,null,null,null,null,null,1515,"Lafayette",3,"Amy silt loam, 0 to 1 percent slopes",0,0.5,1,30,30,61,0.49,5,"None","D",1577]
[null,null,null,null,null,null,null,null,null,null,null,null,null,null,null,null,null,null,null,null,null,null,null,null,null,null,null,null,null,null,null,null,null,null,null,null,null,null,null,null,null,null,null,1523,"Lafayette",11,"Briley loamy fine sand, 1 to 3 percent slopes",1,2,3,15,60,100,0.15,5,"None","B",1585]
[null,null,null,null,null,null,null,null,null,null,null,null,null,null,null,null,null,null,null,null,null,null,null,null,null,null,null,null,null,null,null,null,null,null,null,null,null,null,null,null,null,null,null,1530,"Lafayette",18,"Eylau fine sandy loam, 3 to 5 percent slopes",3,4,5,15,45,75,0.24,5,"None","D",1592]
[null,null,null,null,null,null,null,null,null,null,null,null,null,null,null,null,null,null,null,null,null,null,null,null,null,null,null,null,null,null,null,null,null,null,null,null,null,null,null,null,null,null,null,1533,"Lafayette",21,"Felker silt loam, 0 to 1 percent slopes",0,0.5,1,15,75,150,0.49,5,"None","C",1595]
[null,null,null,null,null,null,null,null,null,null,null,null,null,null,null,null,null,null,null,null,null,null,null,null,null,null,null,null,null,null,null,null,null,null,null,null,null,null,null,null,null,null,null,1537,"Lafayette",26,"Gladewater clay, frequently flooded",0,0.5,1,15,75,150,0.2,5,"Frequent","D",1599]
[null,null,null,null,null,null,null,null,null,null,null,null,null,null,null,null,null,null,null,null,null,null,null,null,null,null,null,null,null,null,null,null,null,null,null,null,null,null,null,null,null,null,null,1542,"Lafayette",31,"Houston clay, 1 to 3 percent slopes",1,2,3,15,60,100,0.2,5,"None","D",1604]
[null,null,null,null,null,null,null,null,null,null,null,null,null,null,null,null,null,null,null,null,null,null,null,null,null,null,null,null,null,null,null,null,null,null,null,null,null,null,null,null,null,null,null,1551,"Lafayette",40,"Ashford silty clay, 0 to 1 percent slopes",0,0.5,1,15,46,75,0.32,5,"None","D",1613]
[null,null,null,null,null,null,null,null,null,null,null,null,null,null,null,null,null,null,null,null,null,null,null,null,null,null,null,null,null,null,null,null,null,null,null,null,null,null,null,null,null,null,null,1555,"Lafayette",44,"Morse clay, 3 to 8 percent slopes, eroded",3,5,8,15,45,75,0.2,5,"None","D",1617]
[null,null,null,null,null,null,null,null,null,null,null,null,null,null,null,null,null,null,null,null,null,null,null,null,null,null,null,null,null,null,null,null,null,null,null,null,null,null,null,null,null,null,null,1560,"Lafayette",49,"Oktibbeha silt loam, 3 to 8 percent slopes",3,5,8,15,45,75,0.43,4,"None","D",1622]
[null,null,null,null,null,null,null,null,null,null,null,null,null,null,null,null,null,null,null,null,null,null,null,null,null,null,null,null,null,null,null,null,null,null,null,null,null,null,null,null,null,null,null,1567,"Lafayette",56,"Rilla silt loam, gently undulating",1,2,3,15,60,100,0.49,5,"None","B",1629]
[null,null,null,null,null,null,null,null,null,null,null,null,null,null,null,null,null,null,null,null,null,null,null,null,null,null,null,null,null,null,null,null,null,null,null,null,null,null,null,null,null,null,null,1573,"Lafayette",62,"Sacul fine sandy loam, 20 to 40 percent slopes",20,30,40,5,15,30,0.28000000000000003,5,"None","D",1635]
[null,null,null,null,null,null,null,null,null,null,null,null,null,null,null,null,null,null,null,null,null,null,null,null,null,null,null,null,null,null,null,null,null,null,null,null,null,null,null,null,null,null,null,1578,"Lafayette",67,"Sardis silt loam, occasionally flooded",0,2,3,15,45,75,0.43,5,"Occasional","C",1640]
[null,null,null,null,null,null,null,null,null,null,null,null,null,null,null,null,null,null,null,null,null,null,null,null,null,null,null,null,null,null,null,null,null,null,null,null,null,null,null,null,null,null,null,1585,"Lafayette",74,"Smithdale fine sandy loam, 5 to 8 percent slopes",5,7,8,15,30,45,0.28000000000000003,5,"None","B",1647]
[null,null,null,null,null,null,null,null,null,null,null,null,null,null,null,null,null,null,null,null,null,null,null,null,null,null,null,null,null,null,null,null,null,null,null,null,null,null,null,null,null,null,null,1587,"Lafayette",76,"Sumter silty clay loam, 5 to 12 percent slopes, eroded",5,9,12,15,30,45,0.24,3,"None","C",1649]
[null,null,null,null,null,null,null,null,null,null,null,null,null,null,null,null,null,null,null,null,null,null,null,null,null,null,null,null,null,null,null,null,null,null,null,null,null,null,null,null,null,null,null,1596,"Lawrence","AgD","Agnos stony silt loam, 3 to 12 percent slopes",3,8,12,15,30,45,0.43,4,"None","D",1658]
[null,null,null,null,null,null,null,null,null,null,null,null,null,null,null,null,null,null,null,null,null,null,null,null,null,null,null,null,null,null,null,null,null,null,null,null,null,null,null,null,null,null,null,1603,"Lawrence","BoA","Bosket fine sandy loam, 0 to 1 percent slopes",0,0.5,1,15,45,75,0.37,4,"None","B",1665]
[null,null,null,null,null,null,null,null,null,null,null,null,null,null,null,null,null,null,null,null,null,null,null,null,null,null,null,null,null,null,null,null,null,null,null,null,null,null,null,null,null,null,null,1605,"Lawrence","CaB","Captina silt loam, 1 to 3 percent slopes",1,2,3,60,91,91,0.43,3,"None","D",1667]
[null,null,null,null,null,null,null,null,null,null,null,null,null,null,null,null,null,null,null,null,null,null,null,null,null,null,null,null,null,null,null,null,null,null,null,null,null,null,null,null,null,null,null,1612,"Lawrence","DeB","Dubbs silt loam, 1 to 3 percent slopes",1,2,3,15,45,75,0.49,5,"None","B",1674]
[null,null,null,null,null,null,null,null,null,null,null,null,null,null,null,null,null,null,null,null,null,null,null,null,null,null,null,null,null,null,null,null,null,null,null,null,null,null,null,null,null,null,null,1616,"Lawrence","GpD","Gepp cherty silt loam, 8 to 12 percent slopes",8,10,12,15,30,45,0.37,5,"None","B",1678]
[null,null,null,null,null,null,null,null,null,null,null,null,null,null,null,null,null,null,null,null,null,null,null,null,null,null,null,null,null,null,null,null,null,null,null,null,null,null,null,null,null,null,null,1623,"Lawrence","LoC2","Loring silt loam, 3 to 8 percent slopes, eroded",3,5,8,15,45,75,0.55000000000000004,4,"None","D",1685]
[null,null,null,null,null,null,null,null,null,null,null,null,null,null,null,null,null,null,null,null,null,null,null,null,null,null,null,null,null,null,null,null,null,null,null,null,null,null,null,null,null,null,null,1630,"Lawrence","Sh","Sharkey silty clay (kobel)",0,0.5,1,15,75,150,0.32,5,"Rare","D",1692]
[null,null,null,null,null,null,null,null,null,null,null,null,null,null,null,null,null,null,null,null,null,null,null,null,null,null,null,null,null,null,null,null,null,null,null,null,null,null,null,null,null,null,null,1634,"Lawrence","VrD","Ventris-Rock outcrop complex, 3 to 12 percent slopes",3,8,12,15,30,45,0.43,2,"None","D",1696]
[null,null,null,null,null,null,null,null,null,null,null,null,null,null,null,null,null,null,null,null,null,null,null,null,null,null,null,null,null,null,null,null,null,null,null,null,null,null,null,null,null,null,null,1641,"Lee","CbA","Calloway silt loam, 0 to 1 percent slopes",0,0.5,1,30,75,150,0.49,4,"None","D",1703]
[null,null,null,null,null,null,null,null,null,null,null,null,null,null,null,null,null,null,null,null,null,null,null,null,null,null,null,null,null,null,null,null,null,null,null,null,null,null,null,null,null,null,null,1648,"Lee","EaB","Earle silty clay, gently undulating",0,1,3,15,45,75,0.28000000000000003,5,"Rare","D",1710]
[null,null,null,null,null,null,null,null,null,null,null,null,null,null,null,null,null,null,null,null,null,null,null,null,null,null,null,null,null,null,null,null,null,null,null,null,null,null,null,null,null,null,null,1652,"Lee","He","Henry silt loam, 0 to 1 percent slopes",0,0.5,1,15,75,150,0.49,4,"None","D",1714]
[null,null,null,null,null,null,null,null,null,null,null,null,null,null,null,null,null,null,null,null,null,null,null,null,null,null,null,null,null,null,null,null,null,null,null,null,null,null,null,null,null,null,null,1657,"Lee","LoC2","Loring silt loam, 3 to 8 percent slopes, eroded",3,5,8,15,45,75,0.49,4,"None","D",1719]
[null,null,null,null,null,null,null,null,null,null,null,null,null,null,null,null,null,null,null,null,null,null,null,null,null,null,null,null,null,null,null,null,null,null,null,null,null,null,null,null,null,null,null,1666,"Lee","NeA","Newellton silty clay loam, 0 to 1 percent slopes",0,0.5,1,30,75,150,0.32,5,"Rare","D",1728]
[null,null,null,null,null,null,null,null,null,null,null,null,null,null,null,null,null,null,null,null,null,null,null,null,null,null,null,null,null,null,null,null,null,null,null,null,null,null,null,null,null,null,null,1670,"Lee","Ro","Robinsonville fine sandy loam",0,0.5,1,30,75,150,0.32,5,"Rare","A",1732]
[null,null,null,null,null,null,null,null,null,null,null,null,null,null,null,null,null,null,null,null,null,null,null,null,null,null,null,null,null,null,null,null,null,null,null,null,null,null,null,null,null,null,null,1675,"Lee","TnB","Tunica silty clay, gently undulating",0,1,2,15,45,75,0.28000000000000003,5,"None","D",1737]
[null,null,null,null,null,null,null,null,null,null,null,null,null,null,null,null,null,null,null,null,null,null,null,null,null,null,null,null,null,null,null,null,null,null,null,null,null,null,null,null,null,null,null,1678,"Lincoln",1,"Amy silt loam, 0 to 1 percent slopes",0,0.5,1,30,30,61,0.49,5,"None","D",1740]
[null,null,null,null,null,null,null,null,null,null,null,null,null,null,null,null,null,null,null,null,null,null,null,null,null,null,null,null,null,null,null,null,null,null,null,null,null,null,null,null,null,null,null,1684,"Lincoln",7,"Caspiana silt loam, 0 to 1 percent slopes",0,0.5,1,15,75,150,0.37,5,"None","B",1746]
[null,null,null,null,null,null,null,null,null,null,null,null,null,null,null,null,null,null,null,null,null,null,null,null,null,null,null,null,null,null,null,null,null,null,null,null,null,null,null,null,null,null,null,1693,"Lincoln",16,"Grenada silt loam, 3 to 8 percent slopes",3,5,8,15,45,75,0.49,4,"None","D",1755]
[null,null,null,null,null,null,null,null,null,null,null,null,null,null,null,null,null,null,null,null,null,null,null,null,null,null,null,null,null,null,null,null,null,null,null,null,null,null,null,null,null,null,null,1696,"Lincoln",19,"Hebert silt loam, 0 to 1 percent slopes",0,0.5,1,30,46,61,0.43,5,"None","C",1758]
[null,null,null,null,null,null,null,null,null,null,null,null,null,null,null,null,null,null,null,null,null,null,null,null,null,null,null,null,null,null,null,null,null,null,null,null,null,null,null,null,null,null,null,1702,"Lincoln",25,"Ouachita soils, frequently flooded",0,0.5,1,15,75,150,0.49,5,"Frequent","C",1764]
[null,null,null,null,null,null,null,null,null,null,null,null,null,null,null,null,null,null,null,null,null,null,null,null,null,null,null,null,null,null,null,null,null,null,null,null,null,null,null,null,null,null,null,1711,"Lincoln",34,"Rilla silt loam, 1 to 3 percent slopes",1,2,3,15,45,75,0.49,5,"None","B",1773]
[null,null,null,null,null,null,null,null,null,null,null,null,null,null,null,null,null,null,null,null,null,null,null,null,null,null,null,null,null,null,null,null,null,null,null,null,null,null,null,null,null,null,null,1714,"Lincoln",37,"Roxana-Urban land complex",0,0.5,1,15,75,150,0.43,5,"None","B",1776]
[null,null,null,null,null,null,null,null,null,null,null,null,null,null,null,null,null,null,null,null,null,null,null,null,null,null,null,null,null,null,null,null,null,null,null,null,null,null,null,null,null,null,null,1720,"Lincoln",43,"Savannah-Urban land complex, 1 to 3 percent slopes",1,2,3,15,60,100,0.28000000000000003,4,"None","C",1782]
[null,null,null,null,null,null,null,null,null,null,null,null,null,null,null,null,null,null,null,null,null,null,null,null,null,null,null,null,null,null,null,null,null,null,null,null,null,null,null,null,null,null,null,1723,"Lincoln",46,"Sawyer silt loam, 3 to 8 percent slopes",3,5,8,15,45,75,0.43,5,"None","C",1785]
[null,null,null,null,null,null,null,null,null,null,null,null,null,null,null,null,null,null,null,null,null,null,null,null,null,null,null,null,null,null,null,null,null,null,null,null,null,null,null,null,null,null,null,1730,"Little River",2,"Adaton silt loam, 0 to 1 percent slopes, rarely flooded",0,0.5,1,15,75,150,0.49,5,"Rare","D",1792]
[null,null,null,null,null,null,null,null,null,null,null,null,null,null,null,null,null,null,null,null,null,null,null,null,null,null,null,null,null,null,null,null,null,null,null,null,null,null,null,null,null,null,null,1738,"Little River",10,"Bowie fine sandy loam, 3 to 8 percent slopes",3,6,8,15,46,75,0.28000000000000003,5,"None","C",1800]
[null,null,null,null,null,null,null,null,null,null,null,null,null,null,null,null,null,null,null,null,null,null,null,null,null,null,null,null,null,null,null,null,null,null,null,null,null,null,null,null,null,null,null,1741,"Little River",13,"Briley loamy fine sand, 8 to 12 percent slopes",8,10,12,15,18,45,0.1,5,"None","B",1803]
[null,null,null,null,null,null,null,null,null,null,null,null,null,null,null,null,null,null,null,null,null,null,null,null,null,null,null,null,null,null,null,null,null,null,null,null,null,null,null,null,null,null,null,1748,"Little River",20,"Eylau-Urban land complex, 3 to 5 percent slopes",3,4,5,15,45,75,0.24,5,"None","D",1810]
[null,null,null,null,null,null,null,null,null,null,null,null,null,null,null,null,null,null,null,null,null,null,null,null,null,null,null,null,null,null,null,null,null,null,null,null,null,null,null,null,null,null,null,1756,"Little River",29,"Guyton silt loam, 0 to 1 percent slopes, frequently flooded",0,0.5,1,5,18,30,0.49,5,"Frequent","D",1818]
[null,null,null,null,null,null,null,null,null,null,null,null,null,null,null,null,null,null,null,null,null,null,null,null,null,null,null,null,null,null,null,null,null,null,null,null,null,null,null,null,null,null,null,1759,"Little River",32,"Houston clay, 3 to 8 percent slopes",3,5,8,15,45,75,0.2,5,"None","D",1821]
[null,null,null,null,null,null,null,null,null,null,null,null,null,null,null,null,null,null,null,null,null,null,null,null,null,null,null,null,null,null,null,null,null,null,null,null,null,null,null,null,null,null,null,1766,"Little River",39,"Latonia loamy fine sand, 2 to 5 percent slopes",2,4,5,15,45,75,0.17,5,"None","A",1828]
[null,null,null,null,null,null,null,null,null,null,null,null,null,null,null,null,null,null,null,null,null,null,null,null,null,null,null,null,null,null,null,null,null,null,null,null,null,null,null,null,null,null,null,1769,"Little River",42,"McKamie silt loam, 5 to 20 percent slopes",5,13,20,15,20,30,0.49,5,"None","D",1831]
[null,null,null,null,null,null,null,null,null,null,null,null,null,null,null,null,null,null,null,null,null,null,null,null,null,null,null,null,null,null,null,null,null,null,null,null,null,null,null,null,null,null,null,1775,"Little River",48,"Oklared fine sandy loam, 0 to 2 percent slopes, occasionally flooded",0,1,2,15,45,75,0.2,5,"Occasional","A",1837]
[null,null,null,null,null,null,null,null,null,null,null,null,null,null,null,null,null,null,null,null,null,null,null,null,null,null,null,null,null,null,null,null,null,null,null,null,null,null,null,null,null,null,null,1784,"Little River",57,"Ruston fine sandy loam, 1 to 5 percent slopes",1,3,5,7,15,23,0.24,5,"None","B",1846]
[null,null,null,null,null,null,null,null,null,null,null,null,null,null,null,null,null,null,null,null,null,null,null,null,null,null,null,null,null,null,null,null,null,null,null,null,null,null,null,null,null,null,null,1787,"Little River",60,"Sacul fine sandy loam, 8 to 12 percent slopes",8,10,12,15,30,45,0.28000000000000003,5,"None","D",1849]
[null,null,null,null,null,null,null,null,null,null,null,null,null,null,null,null,null,null,null,null,null,null,null,null,null,null,null,null,null,null,null,null,null,null,null,null,null,null,null,null,null,null,null,1793,"Little River",66,"Saffell gravelly fine sandy loam, 8 to 12 percent slopes",8,10,12,15,30,45,0.2,5,"None","B",1855]
[null,null,null,null,null,null,null,null,null,null,null,null,null,null,null,null,null,null,null,null,null,null,null,null,null,null,null,null,null,null,null,null,null,null,null,null,null,null,null,null,null,null,null,1802,"Little River",75,"Smithton fine sandy loam, 0 to 2 percent slopes",0,1,2,10,15,25,0.28000000000000003,5,"None","D",1864]
[null,null,null,null,null,null,null,null,null,null,null,null,null,null,null,null,null,null,null,null,null,null,null,null,null,null,null,null,null,null,null,null,null,null,null,null,null,null,null,null,null,null,null,1806,"Little River",80,"Woden fine sandy loam, 1 to 3 percent slopes",1,2,3,15,60,100,0.32,5,"None","A",1868]
[null,null,null,null,null,null,null,null,null,null,null,null,null,null,null,null,null,null,null,null,null,null,null,null,null,null,null,null,null,null,null,null,null,null,null,null,null,null,null,null,null,null,null,1811,"Logan",2,"Cane fine sandy loam, 3 to 8 percent slopes",3,5,8,15,45,75,0.24,4,"None","C",1873]
[null,null,null,null,null,null,null,null,null,null,null,null,null,null,null,null,null,null,null,null,null,null,null,null,null,null,null,null,null,null,null,null,null,null,null,null,null,null,null,null,null,null,null,1814,"Logan",5,"Dardanelle silt loam, 0 to 1 percent slopes",0,0.5,1,15,75,150,0.37,5,"None","B",1876]
[null,null,null,null,null,null,null,null,null,null,null,null,null,null,null,null,null,null,null,null,null,null,null,null,null,null,null,null,null,null,null,null,null,null,null,null,null,null,null,null,null,null,null,1824,"Logan",15,"Guthrie silt loam, 0 to 1 percent slopes, rarely flooded",0,0.5,1,15,45,75,0.43,4,"Rare","D",1886]
[null,null,null,null,null,null,null,null,null,null,null,null,null,null,null,null,null,null,null,null,null,null,null,null,null,null,null,null,null,null,null,null,null,null,null,null,null,null,null,null,null,null,null,1829,"Logan",20,"Moreland silty clay, 0 to 1 percent slopes",0,0.5,1,15,75,150,0.32,5,"None","D",1891]
[null,null,null,null,null,null,null,null,null,null,null,null,null,null,null,null,null,null,null,null,null,null,null,null,null,null,null,null,null,null,null,null,null,null,null,null,null,null,null,null,null,null,null,1832,"Logan",23,"Mountainburg stony fine sandy loam, 1 to 12 percent slopes, rocky",1,7,12,15,30,45,0.32,1,"None","D",1894]
[null,null,null,null,null,null,null,null,null,null,null,null,null,null,null,null,null,null,null,null,null,null,null,null,null,null,null,null,null,null,null,null,null,null,null,null,null,null,null,null,null,null,null,1837,"Logan",28,"Nella-Enders complex, 20 to 40 percent slopes",20,30,40,15,20,30,0.37,5,"None","B",1899]
[null,null,null,null,null,null,null,null,null,null,null,null,null,null,null,null,null,null,null,null,null,null,null,null,null,null,null,null,null,null,null,null,null,null,null,null,null,null,null,null,null,null,null,1847,"Lonoke",4,"Caspiana silt loam, 0 to 1 percent slopes",0,0.5,1,15,75,150,0.37,5,"None","B",1909]
[null,null,null,null,null,null,null,null,null,null,null,null,null,null,null,null,null,null,null,null,null,null,null,null,null,null,null,null,null,null,null,null,null,null,null,null,null,null,null,null,null,null,null,1848,"Lonoke",5,"Commerce silt loam, 0 to 1 percent slopes",0,0.5,1,15,75,150,0.43,5,"Rare","C",1910]
[null,null,null,null,null,null,null,null,null,null,null,null,null,null,null,null,null,null,null,null,null,null,null,null,null,null,null,null,null,null,null,null,null,null,null,null,null,null,null,null,null,null,null,1855,"Lonoke",12,"Jackport silty clay loam, 0 to 1 percent slopes",0,0.5,1,15,75,150,0.43,5,"Rare","D",1917]
[null,null,null,null,null,null,null,null,null,null,null,null,null,null,null,null,null,null,null,null,null,null,null,null,null,null,null,null,null,null,null,null,null,null,null,null,null,null,null,null,null,null,null,1859,"Lonoke",16,"Kobel silty clay loam, 0 to 1 percent slopes",0,0.5,1,15,75,150,0.37,5,"Rare","D",1921]
[null,null,null,null,null,null,null,null,null,null,null,null,null,null,null,null,null,null,null,null,null,null,null,null,null,null,null,null,null,null,null,null,null,null,null,null,null,null,null,null,null,null,null,1867,"Lonoke",24,"Moreland silty clay, 0 to 1 percent slopes",0,0.5,1,15,75,150,0.32,5,"None","D",1929]
[null,null,null,null,null,null,null,null,null,null,null,null,null,null,null,null,null,null,null,null,null,null,null,null,null,null,null,null,null,null,null,null,null,null,null,null,null,null,null,null,null,null,null,1874,"Lonoke",31,"Rilla silt loam, 1 to 3 percent slopes",1,2,3,15,45,75,0.49,5,"None","B",1936]
[null,null,null,null,null,null,null,null,null,null,null,null,null,null,null,null,null,null,null,null,null,null,null,null,null,null,null,null,null,null,null,null,null,null,null,null,null,null,null,null,null,null,null,1881,"Lonoke",38,"Tichnor silt loam, 0 to 1 percent slopes, frequently flooded",0,0.5,1,15,75,150,0.55000000000000004,5,"Frequent","D",1943]
[null,null,null,null,null,null,null,null,null,null,null,null,null,null,null,null,null,null,null,null,null,null,null,null,null,null,null,null,null,null,null,null,null,null,null,null,null,null,null,null,null,null,null,1885,"Madison",3,"Arkana-Moko complex, 8 to 20 percent slopes, very rocky",8,14,20,15,45,75,0.37,2,"None","D",1947]
[null,null,null,null,null,null,null,null,null,null,null,null,null,null,null,null,null,null,null,null,null,null,null,null,null,null,null,null,null,null,null,null,null,null,null,null,null,null,null,null,null,null,null,1892,"Madison",10,"Cleora fine sandy loam, occasionally flooded",0,2,3,5,15,30,0.17,5,"Occasional","A",1954]
[null,null,null,null,null,null,null,null,null,null,null,null,null,null,null,null,null,null,null,null,null,null,null,null,null,null,null,null,null,null,null,null,null,null,null,null,null,null,null,null,null,null,null,1893,"Madison",11,"Elsah very cherty silt loam, occasionally flooded",0,2,3,5,15,30,0.37,5,"Frequent","B",1955]
[null,null,null,null,null,null,null,null,null,null,null,null,null,null,null,null,null,null,null,null,null,null,null,null,null,null,null,null,null,null,null,null,null,null,null,null,null,null,null,null,null,null,null,1903,"Madison",21,"Leesburg gravelly loam, 8 to 12 percent slopes",8,10,12,5,15,30,0.37,5,"None","B",1965]
[null,null,null,null,null,null,null,null,null,null,null,null,null,null,null,null,null,null,null,null,null,null,null,null,null,null,null,null,null,null,null,null,null,null,null,null,null,null,null,null,null,null,null,1904,"Madison",22,"Leesburg stony loam, 8 to 12 percent slopes",8,10,12,5,15,30,0.32,5,"None","B",1966]
[null,null,null,null,null,null,null,null,null,null,null,null,null,null,null,null,null,null,null,null,null,null,null,null,null,null,null,null,null,null,null,null,null,null,null,null,null,null,null,null,null,null,null,1911,"Madison",29,"Nella gravelly loam, 3 to 8 percent slopes",3,5,8,39,49,60,0.32,5,"None","B",1973]
[null,null,null,null,null,null,null,null,null,null,null,null,null,null,null,null,null,null,null,null,null,null,null,null,null,null,null,null,null,null,null,null,null,null,null,null,null,null,null,null,null,null,null,1916,"Madison",34,"Nella-Steprock-Mountainburg very stony loams, 40 to 60 percent slopes",40,45,50,5,15,30,0.28000000000000003,5,"None","C",1978]
[null,null,null,null,null,null,null,null,null,null,null,null,null,null,null,null,null,null,null,null,null,null,null,null,null,null,null,null,null,null,null,null,null,null,null,null,null,null,null,null,null,null,null,1926,"Madison",44,"Steprock stony loam, 3 to 12 percent slopes",3,8,12,5,15,30,0.37,3,"None","C",1988]
[null,null,null,null,null,null,null,null,null,null,null,null,null,null,null,null,null,null,null,null,null,null,null,null,null,null,null,null,null,null,null,null,null,null,null,null,null,null,null,null,null,null,null,1929,"Madison",47,"Tonti cherty silt loam, 3 to 8 percent slopes",3,5,8,5,15,30,0.37,3,"None","D",1991]
[null,null,null,null,null,null,null,null,null,null,null,null,null,null,null,null,null,null,null,null,null,null,null,null,null,null,null,null,null,null,null,null,null,null,null,null,null,null,null,null,null,null,null,1934,"Marion",4,"Arkana-Moko complex, 20 to 40 percent slopes, very rocky",20,30,40,15,45,75,0.37,2,"None","D",1996]
[null,null,null,null,null,null,null,null,null,null,null,null,null,null,null,null,null,null,null,null,null,null,null,null,null,null,null,null,null,null,null,null,null,null,null,null,null,null,null,null,null,null,null,1938,"Marion",8,"Brockwell sandy loam, 3 to 8 percent slopes",3,5,8,15,45,75,0.24,5,"None","B",2000]
[null,null,null,null,null,null,null,null,null,null,null,null,null,null,null,null,null,null,null,null,null,null,null,null,null,null,null,null,null,null,null,null,null,null,null,null,null,null,null,null,null,null,null,1947,"Marion",17,"Estate-Portia-Moko association, 8 to 20 percent slopes, stony",8,14,20,15,20,30,0.24,3,"None","C",2009]
[null,null,null,null,null,null,null,null,null,null,null,null,null,null,null,null,null,null,null,null,null,null,null,null,null,null,null,null,null,null,null,null,null,null,null,null,null,null,null,null,null,null,null,1952,"Marion",22,"Moko-Rock outcrop complex, 15 to 40 percent slopes",15,28,40,5,15,30,0.37,1,"None","D",2014]
[null,null,null,null,null,null,null,null,null,null,null,null,null,null,null,null,null,null,null,null,null,null,null,null,null,null,null,null,null,null,null,null,null,null,null,null,null,null,null,null,null,null,null,1956,"Marion",31,"Nixa-Noark complex, 8 to 20 percent slopes",8,15,20,15,21,39,0.43,3,"None","D",2018]
[null,null,null,null,null,null,null,null,null,null,null,null,null,null,null,null,null,null,null,null,null,null,null,null,null,null,null,null,null,null,null,null,null,null,null,null,null,null,null,null,null,null,null,1965,"Marion",42,"Wideman sandy loam, frequently flooded",0,0.5,1,15,75,150,0.2,5,"Frequent","A",2027]
[null,null,null,null,null,null,null,null,null,null,null,null,null,null,null,null,null,null,null,null,null,null,null,null,null,null,null,null,null,null,null,null,null,null,null,null,null,null,null,null,null,null,null,1971,"Miller",6,"Billyhaw clay, ridge and swale, 0 to 3 percent slopes, rarely flooded",0,2,3,10,15,25,0.15,5,"Rare","D",2033]
[null,null,null,null,null,null,null,null,null,null,null,null,null,null,null,null,null,null,null,null,null,null,null,null,null,null,null,null,null,null,null,null,null,null,null,null,null,null,null,null,null,null,null,1974,"Miller",9,"Bowie fine sandy loam, 1 to 3 percent slopes",1,2,3,8,15,24,0.32,5,"None","B",2036]
[null,null,null,null,null,null,null,null,null,null,null,null,null,null,null,null,null,null,null,null,null,null,null,null,null,null,null,null,null,null,null,null,null,null,null,null,null,null,null,null,null,null,null,1983,"Miller",18,"Eylau fine sandy loam, 3 to 5 percent slopes",3,4,5,15,45,75,0.24,5,"None","D",2045]
[null,null,null,null,null,null,null,null,null,null,null,null,null,null,null,null,null,null,null,null,null,null,null,null,null,null,null,null,null,null,null,null,null,null,null,null,null,null,null,null,null,null,null,1984,"Miller",19,"Eylau-Urban land complex, 1 to 3 percent slopes",1,2,3,15,60,100,0.24,5,"None","D",2046]
[null,null,null,null,null,null,null,null,null,null,null,null,null,null,null,null,null,null,null,null,null,null,null,null,null,null,null,null,null,null,null,null,null,null,null,null,null,null,null,null,null,null,null,1992,"Miller",28,"Gore silt loam, 3 to 8 percent slopes",3,5,8,15,45,75,0.64,5,"None","D",2054]
[null,null,null,null,null,null,null,null,null,null,null,null,null,null,null,null,null,null,null,null,null,null,null,null,null,null,null,null,null,null,null,null,null,null,null,null,null,null,null,null,null,null,null,1999,"Miller",35,"Kamie fine sandy loam, 8 to 20 percent slopes",8,14,20,15,20,30,0.2,5,"None","B",2061]
[null,null,null,null,null,null,null,null,null,null,null,null,null,null,null,null,null,null,null,null,null,null,null,null,null,null,null,null,null,null,null,null,null,null,null,null,null,null,null,null,null,null,null,2002,"Miller",38,"Latanier clay, ridge and swale, 0 to 3 percent slopes",0,2,3,10,15,20,0.32,5,"None","D",2064]
[null,null,null,null,null,null,null,null,null,null,null,null,null,null,null,null,null,null,null,null,null,null,null,null,null,null,null,null,null,null,null,null,null,null,null,null,null,null,null,null,null,null,null,2010,"Miller",46,"Muskogee silt loam, 3 to 8 percent slopes",3,5,8,15,45,75,0.49,5,"None","D",2072]
[null,null,null,null,null,null,null,null,null,null,null,null,null,null,null,null,null,null,null,null,null,null,null,null,null,null,null,null,null,null,null,null,null,null,null,null,null,null,null,null,null,null,null,2017,"Miller",53,"Bossier clay, 0 to 1 percent slopes",0,0.5,1,8,15,24,0.24,5,"None","D",2079]
[null,null,null,null,null,null,null,null,null,null,null,null,null,null,null,null,null,null,null,null,null,null,null,null,null,null,null,null,null,null,null,null,null,null,null,null,null,null,null,null,null,null,null,2020,"Miller",56,"Rilla silt loam, gently undulating",1,2,3,15,60,100,0.49,5,"None","B",2082]
[null,null,null,null,null,null,null,null,null,null,null,null,null,null,null,null,null,null,null,null,null,null,null,null,null,null,null,null,null,null,null,null,null,null,null,null,null,null,null,null,null,null,null,2028,"Miller",64,"Saffell gravelly fine sandy loam, 1 to 3 percent slopes",1,2,3,15,60,100,0.2,5,"None","B",2090]
[null,null,null,null,null,null,null,null,null,null,null,null,null,null,null,null,null,null,null,null,null,null,null,null,null,null,null,null,null,null,null,null,null,null,null,null,null,null,null,null,null,null,null,2029,"Miller",65,"Saffell gravelly fine sandy loam, 3 to 8 percent slopes",3,5,8,15,45,75,0.2,5,"None","B",2091]
[null,null,null,null,null,null,null,null,null,null,null,null,null,null,null,null,null,null,null,null,null,null,null,null,null,null,null,null,null,null,null,null,null,null,null,null,null,null,null,null,null,null,null,2038,"Miller",74,"Smithdale fine sandy loam, 5 to 8 percent slopes",5,7,8,15,30,45,0.28000000000000003,5,"None","B",2100]
[null,null,null,null,null,null,null,null,null,null,null,null,null,null,null,null,null,null,null,null,null,null,null,null,null,null,null,null,null,null,null,null,null,null,null,null,null,null,null,null,null,null,null,2044,"Miller",81,"Woden fine sandy loam, 3 to 8 percent slopes",3,5,8,15,45,75,0.32,5,"None","A",2106]
[null,null,null,null,null,null,null,null,null,null,null,null,null,null,null,null,null,null,null,null,null,null,null,null,null,null,null,null,null,null,null,null,null,null,null,null,null,null,null,null,null,null,null,2047,"Mississippi","Aa","Alligator clay, 0 to 1 percent slopes, rarely flooded, west",0,0.5,1,30,75,150,0.17,5,"Rare","D",2109]
[null,null,null,null,null,null,null,null,null,null,null,null,null,null,null,null,null,null,null,null,null,null,null,null,null,null,null,null,null,null,null,null,null,null,null,null,null,null,null,null,null,null,null,2056,"Mississippi","Dv","Dundee-Dubbs-Crevasse complex",0,0.5,1,30,75,150,0.43,5,"None","C",2118]
[null,null,null,null,null,null,null,null,null,null,null,null,null,null,null,null,null,null,null,null,null,null,null,null,null,null,null,null,null,null,null,null,null,null,null,null,null,null,null,null,null,null,null,2062,"Mississippi","Ib","Iberia clay",0,0.5,1,30,75,150,0.24,5,"None","D",2124]
[null,null,null,null,null,null,null,null,null,null,null,null,null,null,null,null,null,null,null,null,null,null,null,null,null,null,null,null,null,null,null,null,null,null,null,null,null,null,null,null,null,null,null,2065,"Mississippi","Rd","Routon-Dundee-Crevasse complex",0,0.5,1,30,75,150,0.49,5,"None","D",2127]
[null,null,null,null,null,null,null,null,null,null,null,null,null,null,null,null,null,null,null,null,null,null,null,null,null,null,null,null,null,null,null,null,null,null,null,null,null,null,null,null,null,null,null,2070,"Mississippi","Sn","Sharkey and Steele soils",0,0.5,1,30,75,150,0.28000000000000003,5,"None","D",2132]
[null,null,null,null,null,null,null,null,null,null,null,null,null,null,null,null,null,null,null,null,null,null,null,null,null,null,null,null,null,null,null,null,null,null,null,null,null,null,null,null,null,null,null,2074,"Mississippi","St","Steele and Tunica soils",0,0.5,1,30,75,150,0.1,4,"Rare","A",2136]
[null,null,null,null,null,null,null,null,null,null,null,null,null,null,null,null,null,null,null,null,null,null,null,null,null,null,null,null,null,null,null,null,null,null,null,null,null,null,null,null,null,null,null,2083,"Monroe","Cr","Dewitt silt loam, 0 to 1 percent slopes",0,0.5,1,30,75,150,0.43,5,"None","D",2145]
[null,null,null,null,null,null,null,null,null,null,null,null,null,null,null,null,null,null,null,null,null,null,null,null,null,null,null,null,null,null,null,null,null,null,null,null,null,null,null,null,null,null,null,2088,"Monroe","Fo","Foley-Calhoun-Bonn complex",0,0.5,1,15,75,150,0.55000000000000004,2,"None","D",2150]
[null,null,null,null,null,null,null,null,null,null,null,null,null,null,null,null,null,null,null,null,null,null,null,null,null,null,null,null,null,null,null,null,null,null,null,null,null,null,null,null,null,null,null,2092,"Monroe","GrC","Grenada silt loam, 3 to 8 percent slopes",3,5,8,15,45,75,0.49,4,"None","C",2154]
[null,null,null,null,null,null,null,null,null,null,null,null,null,null,null,null,null,null,null,null,null,null,null,null,null,null,null,null,null,null,null,null,null,null,null,null,null,null,null,null,null,null,null,2101,"Monroe","MeC","Memphis silt loam, 3 to 8 percent slopes",3,5,8,15,45,75,0.49,5,"None","B",2163]
[null,null,null,null,null,null,null,null,null,null,null,null,null,null,null,null,null,null,null,null,null,null,null,null,null,null,null,null,null,null,null,null,null,null,null,null,null,null,null,null,null,null,null,2106,"Monroe","StB","Stuttgart silt loam, 1 to 3 percent slopes",1,2,3,15,60,100,0.49,3,"None","D",2168]
[null,null,null,null,null,null,null,null,null,null,null,null,null,null,null,null,null,null,null,null,null,null,null,null,null,null,null,null,null,null,null,null,null,null,null,null,null,null,null,null,null,null,null,2110,"Montgomery","11D","Bismarck-Nashoba-Sherless complex, 8 to 15 percent slopes",8,12,15,15,30,45,0.43,2,"None","D",2172]
[null,null,null,null,null,null,null,null,null,null,null,null,null,null,null,null,null,null,null,null,null,null,null,null,null,null,null,null,null,null,null,null,null,null,null,null,null,null,null,null,null,null,null,2117,"Montgomery","17F","Caston-Carnasaw complex, 15 to 35 percent slopes, very rubbly",15,25,35,5,15,30,0.28000000000000003,5,"None","B",2179]
[null,null,null,null,null,null,null,null,null,null,null,null,null,null,null,null,null,null,null,null,null,null,null,null,null,null,null,null,null,null,null,null,null,null,null,null,null,null,null,null,null,null,null,2124,"Montgomery","23B","Dela fine sandy loam, 0 to 2 percent slopes, occasionally flooded",0,1,2,15,99,182,0.28000000000000003,5,"Occasional","A",2186]
[null,null,null,null,null,null,null,null,null,null,null,null,null,null,null,null,null,null,null,null,null,null,null,null,null,null,null,null,null,null,null,null,null,null,null,null,null,null,null,null,null,null,null,2128,"Montgomery","27B","Kenn gravelly fine sandy loam, 0 to 3 percent slopes occasionally flooded",0,2,3,15,45,75,0.2,4,"Occasional","B",2190]
[null,null,null,null,null,null,null,null,null,null,null,null,null,null,null,null,null,null,null,null,null,null,null,null,null,null,null,null,null,null,null,null,null,null,null,null,null,null,null,null,null,null,null,2135,"Montgomery","32B","Mazarn silt loam, 0 to 3 percent slopes",0,2,3,15,45,75,0.37,3,"None","D",2197]
[null,null,null,null,null,null,null,null,null,null,null,null,null,null,null,null,null,null,null,null,null,null,null,null,null,null,null,null,null,null,null,null,null,null,null,null,null,null,null,null,null,null,null,2137,"Montgomery","34C","Mena silt loam, 1 to 6 percent slopes",1,4,6,15,45,75,0.43,4,"None","C",2199]
[null,null,null,null,null,null,null,null,null,null,null,null,null,null,null,null,null,null,null,null,null,null,null,null,null,null,null,null,null,null,null,null,null,null,null,null,null,null,null,null,null,null,null,2146,"Montgomery","40G","Octavia-Carnasaw-Caston complex, 35 to 60 percent slopes, rubbly",35,48,60,5,15,30,0.28000000000000003,5,"None","B",2208]
[null,null,null,null,null,null,null,null,null,null,null,null,null,null,null,null,null,null,null,null,null,null,null,null,null,null,null,null,null,null,null,null,null,null,null,null,null,null,null,null,null,null,null,2149,"Montgomery","44B","Riverwash-Ceda complex, 0 to 3 percent slopes, frequently flooded",0,2,3,15,45,75,0.15,5,"Frequent","A",2211]
[null,null,null,null,null,null,null,null,null,null,null,null,null,null,null,null,null,null,null,null,null,null,null,null,null,null,null,null,null,null,null,null,null,null,null,null,null,null,null,null,null,null,null,2155,"Montgomery","49G","Sherwood-Caston-Carnasaw complex, 35 to 60 percent slopes, rubbly",35,48,60,5,15,30,0.2,3,"None","B",2217]
[null,null,null,null,null,null,null,null,null,null,null,null,null,null,null,null,null,null,null,null,null,null,null,null,null,null,null,null,null,null,null,null,null,null,null,null,null,null,null,null,null,null,null,2162,"Montgomery","56C","Yanush gravelly silt loam, 1 to 8 percent slopes",1,5,8,15,45,75,0.37,5,"None","B",2224]
[null,null,null,null,null,null,null,null,null,null,null,null,null,null,null,null,null,null,null,null,null,null,null,null,null,null,null,null,null,null,null,null,null,null,null,null,null,null,null,null,null,null,null,2167,"Montgomery","58G","Yanush-Bigfork complex, 35 to 60 percent slopes, rubbly",35,45,60,5,15,30,0.37,5,"None","B",2229]
[null,null,null,null,null,null,null,null,null,null,null,null,null,null,null,null,null,null,null,null,null,null,null,null,null,null,null,null,null,null,null,null,null,null,null,null,null,null,null,null,null,null,null,2173,"Montgomery","9D","Bismarck-Honobia complex, 8 to 15 percent slopes",8,11,15,5,15,30,0.43,2,"None","D",2235]
[null,null,null,null,null,null,null,null,null,null,null,null,null,null,null,null,null,null,null,null,null,null,null,null,null,null,null,null,null,null,null,null,null,null,null,null,null,null,null,null,null,null,null,2180,"Nevada","BoC","Bowie fine sandy loam, 3 to 8 percent slopes",3,6,8,15,46,75,0.28000000000000003,5,"None","C",2242]
[null,null,null,null,null,null,null,null,null,null,null,null,null,null,null,null,null,null,null,null,null,null,null,null,null,null,null,null,null,null,null,null,null,null,null,null,null,null,null,null,null,null,null,2185,"Nevada","DeC","DeAnn clay, 3 to 8 percent slopes",3,5,8,15,45,75,0.17,5,"None","D",2247]
[null,null,null,null,null,null,null,null,null,null,null,null,null,null,null,null,null,null,null,null,null,null,null,null,null,null,null,null,null,null,null,null,null,null,null,null,null,null,null,null,null,null,null,2189,"Nevada","LaB","Laneburg silty clay loam, 1 to 3 percent slopes",1,2,3,15,60,100,0.37,5,"None","D",2251]
[null,null,null,null,null,null,null,null,null,null,null,null,null,null,null,null,null,null,null,null,null,null,null,null,null,null,null,null,null,null,null,null,null,null,null,null,null,null,null,null,null,null,null,2198,"Nevada","SaE","Sacul fine sandy loam, 15 to 35 percent slopes",15,25,35,5,15,30,0.24,5,"None","D",2260]
[null,null,null,null,null,null,null,null,null,null,null,null,null,null,null,null,null,null,null,null,null,null,null,null,null,null,null,null,null,null,null,null,null,null,null,null,null,null,null,null,null,null,null,2203,"Nevada","SnC","Savannah fine sandy loam, 3 to 8 percent slopes",3,5,8,15,60,100,0.24,4,"None","C",2265]
[null,null,null,null,null,null,null,null,null,null,null,null,null,null,null,null,null,null,null,null,null,null,null,null,null,null,null,null,null,null,null,null,null,null,null,null,null,null,null,null,null,null,null,2207,"Nevada","StD","Smithdale fine sandy loam, 8 to 15 percent slopes",8,12,15,15,30,45,0.24,5,"None","B",2269]
[null,null,null,null,null,null,null,null,null,null,null,null,null,null,null,null,null,null,null,null,null,null,null,null,null,null,null,null,null,null,null,null,null,null,null,null,null,null,null,null,null,null,null,2210,"Nevada","UnA","Una silty clay loam, 0 to 1 percent slopes, frequently flooded",0,0.5,1,30,75,150,0.32,5,"Frequent","D",2272]
[null,null,null,null,null,null,null,null,null,null,null,null,null,null,null,null,null,null,null,null,null,null,null,null,null,null,null,null,null,null,null,null,null,null,null,null,null,null,null,null,null,null,null,2216,"Newton",2,"Arkana-Moko complex, 8 to 20 percent slopes",8,14,20,15,20,30,0.37,2,"None","D",2278]
[null,null,null,null,null,null,null,null,null,null,null,null,null,null,null,null,null,null,null,null,null,null,null,null,null,null,null,null,null,null,null,null,null,null,null,null,null,null,null,null,null,null,null,2225,"Newton",11,"Enders gravelly loam, 3 to 8 percent slopes",3,5,8,15,45,75,0.32,4,"None","D",2287]
[null,null,null,null,null,null,null,null,null,null,null,null,null,null,null,null,null,null,null,null,null,null,null,null,null,null,null,null,null,null,null,null,null,null,null,null,null,null,null,null,null,null,null,2228,"Newton",14,"Enders stony loam, 15  to 40 percent slopes",15,30,40,5,15,30,0.37,4,"None","D",2290]
[null,null,null,null,null,null,null,null,null,null,null,null,null,null,null,null,null,null,null,null,null,null,null,null,null,null,null,null,null,null,null,null,null,null,null,null,null,null,null,null,null,null,null,2235,"Newton",21,"Lily-Udorthents-Rock outcrop complex, 20 to 40 percent slopes",20,30,40,5,15,30,0.15,2,"None","B",2297]
[null,null,null,null,null,null,null,null,null,null,null,null,null,null,null,null,null,null,null,null,null,null,null,null,null,null,null,null,null,null,null,null,null,null,null,null,null,null,null,null,null,null,null,2243,"Newton",29,"Mountainburg very stony fine sandy loam, 8 to 20 percent slopes",8,14,20,15,20,30,0.32,1,"None","D",2305]
[null,null,null,null,null,null,null,null,null,null,null,null,null,null,null,null,null,null,null,null,null,null,null,null,null,null,null,null,null,null,null,null,null,null,null,null,null,null,null,null,null,null,null,2246,"Newton",32,"Nella gravelly loam, 12 to 20 percent slopes",12,16,20,15,24,40,0.32,5,"None","B",2308]
[null,null,null,null,null,null,null,null,null,null,null,null,null,null,null,null,null,null,null,null,null,null,null,null,null,null,null,null,null,null,null,null,null,null,null,null,null,null,null,null,null,null,null,2253,"Newton",39,"Nella-Steprock-Mountainburg very stony loams, 40 to 60 percent slopes",40,50,60,5,15,30,0.28000000000000003,5,"None","B",2315]
[null,null,null,null,null,null,null,null,null,null,null,null,null,null,null,null,null,null,null,null,null,null,null,null,null,null,null,null,null,null,null,null,null,null,null,null,null,null,null,null,null,null,null,2255,"Newton",41,"Nixa very gravelly silt loam, 8 to 12 percent slopes",8,10,12,30,36,39,0.43,3,"None","D",2317]
[null,null,null,null,null,null,null,null,null,null,null,null,null,null,null,null,null,null,null,null,null,null,null,null,null,null,null,null,null,null,null,null,null,null,null,null,null,null,null,null,null,null,null,2264,"Newton",51,"Spadra loam, 2 to 5 percent slopes",2,2.5,5,15,45,75,0.32,5,"None","B",2326]
[null,null,null,null,null,null,null,null,null,null,null,null,null,null,null,null,null,null,null,null,null,null,null,null,null,null,null,null,null,null,null,null,null,null,null,null,null,null,null,null,null,null,null,2271,"Ouachita","Am","Amy silt loam, 0 to 1 percent slopes",0,0.5,1,30,30,61,0.49,5,"None","D",2333]
[null,null,null,null,null,null,null,null,null,null,null,null,null,null,null,null,null,null,null,null,null,null,null,null,null,null,null,null,null,null,null,null,null,null,null,null,null,null,null,null,null,null,null,2273,"Ouachita","BB","Bibb fine sandy loam, 0 to 1 percent slopes, frequently flooded",0,0.5,1,10,15,25,0.24,5,"Frequent","D",2335]
[null,null,null,null,null,null,null,null,null,null,null,null,null,null,null,null,null,null,null,null,null,null,null,null,null,null,null,null,null,null,null,null,null,null,null,null,null,null,null,null,null,null,null,2280,"Ouachita","KfC","Kirvin fine sandy loam, 3 to 8 percent slopes",3,5,8,15,45,75,0.32,4,"None","C",2342]
[null,null,null,null,null,null,null,null,null,null,null,null,null,null,null,null,null,null,null,null,null,null,null,null,null,null,null,null,null,null,null,null,null,null,null,null,null,null,null,null,null,null,null,2284,"Ouachita","KSD","Kirvin-Sacul association, hilly",20,30,40,5,15,30,0.24,4,"None","D",2346]
[null,null,null,null,null,null,null,null,null,null,null,null,null,null,null,null,null,null,null,null,null,null,null,null,null,null,null,null,null,null,null,null,null,null,null,null,null,null,null,null,null,null,null,2291,"Ouachita","NoC","Norfolk fine sandy loam, 3 to 8 percent slopes",3,5,8,15,45,75,0.24,5,"None","B",2353]
[null,null,null,null,null,null,null,null,null,null,null,null,null,null,null,null,null,null,null,null,null,null,null,null,null,null,null,null,null,null,null,null,null,null,null,null,null,null,null,null,null,null,null,2298,"Ouachita","SKB","Sacul-Kirvin association, undulating",1,5,8,15,45,75,0.28000000000000003,5,"None","D",2360]
[null,null,null,null,null,null,null,null,null,null,null,null,null,null,null,null,null,null,null,null,null,null,null,null,null,null,null,null,null,null,null,null,null,null,null,null,null,null,null,null,null,null,null,2302,"Perry",1,"Allen loam, 3 to 8 percent slopes",3,5,8,15,45,75,0.32,5,"None","B",2364]
[null,null,null,null,null,null,null,null,null,null,null,null,null,null,null,null,null,null,null,null,null,null,null,null,null,null,null,null,null,null,null,null,null,null,null,null,null,null,null,null,null,null,null,2307,"Perry",6,"Carnasaw-Pirum-Clebit association, rolling",8,14,20,15,20,30,0.37,4,"None","C",2369]
[null,null,null,null,null,null,null,null,null,null,null,null,null,null,null,null,null,null,null,null,null,null,null,null,null,null,null,null,null,null,null,null,null,null,null,null,null,null,null,null,null,null,null,2316,"Perry",15,"Guthrie silt loam, 0 to 2 percent slopes, occasionally flooded",0,1,2,15,45,75,0.43,4,"Occasional","D",2378]
[null,null,null,null,null,null,null,null,null,null,null,null,null,null,null,null,null,null,null,null,null,null,null,null,null,null,null,null,null,null,null,null,null,null,null,null,null,null,null,null,null,null,null,2320,"Perry",19,"Linker fine sandy loam, 8 to 12 percent slopes",8,10,12,15,30,45,0.24,2,"None","C",2382]
[null,null,null,null,null,null,null,null,null,null,null,null,null,null,null,null,null,null,null,null,null,null,null,null,null,null,null,null,null,null,null,null,null,null,null,null,null,null,null,null,null,null,null,2325,"Perry",24,"Muskogee silt loam, 3 to 8 percent slopes",3,5,8,15,45,75,0.49,5,"None","D",2387]
[null,null,null,null,null,null,null,null,null,null,null,null,null,null,null,null,null,null,null,null,null,null,null,null,null,null,null,null,null,null,null,null,null,null,null,null,null,null,null,null,null,null,null,2334,"Phillips","Ag","Alligator soils, frequently flooded",0,0.5,1,30,75,150,0.24,5,"Frequent","D",2396]
[null,null,null,null,null,null,null,null,null,null,null,null,null,null,null,null,null,null,null,null,null,null,null,null,null,null,null,null,null,null,null,null,null,null,null,null,null,null,null,null,null,null,null,2338,"Phillips","BeU","Beulah fine sandy loam, 0 to 3 percent slopes",0,1,3,15,45,75,0.24,3,"None","A",2400]
[null,null,null,null,null,null,null,null,null,null,null,null,null,null,null,null,null,null,null,null,null,null,null,null,null,null,null,null,null,null,null,null,null,null,null,null,null,null,null,null,null,null,null,2343,"Phillips","Cm","Commerce silt loam, 0 to 1 percent slopes",0,0.5,1,30,46,60,0.49,5,"None","C",2405]
[null,null,null,null,null,null,null,null,null,null,null,null,null,null,null,null,null,null,null,null,null,null,null,null,null,null,null,null,null,null,null,null,null,null,null,null,null,null,null,null,null,null,null,2346,"Phillips","Cr","Crevasse soils, frequently flooded",0,1,3,15,45,75,0.02,5,"Frequent","A",2408]
[null,null,null,null,null,null,null,null,null,null,null,null,null,null,null,null,null,null,null,null,null,null,null,null,null,null,null,null,null,null,null,null,null,null,null,null,null,null,null,null,null,null,null,2352,"Phillips","He","Henry silt loam, 0 to 1 percent slopes",0,0.5,1,15,75,150,0.49,4,"None","D",2414]
[null,null,null,null,null,null,null,null,null,null,null,null,null,null,null,null,null,null,null,null,null,null,null,null,null,null,null,null,null,null,null,null,null,null,null,null,null,null,null,null,null,null,null,2361,"Phillips","MeE","Memphis silt loam, 12 to 40 percent slopes",12,25,40,5,15,30,0.49,5,"None","B",2423]
[null,null,null,null,null,null,null,null,null,null,null,null,null,null,null,null,null,null,null,null,null,null,null,null,null,null,null,null,null,null,null,null,null,null,null,null,null,null,null,null,null,null,null,2364,"Phillips","Ne","Newellton silty clay",0,0.5,1,30,75,150,0.28000000000000003,5,"None","D",2426]
[null,null,null,null,null,null,null,null,null,null,null,null,null,null,null,null,null,null,null,null,null,null,null,null,null,null,null,null,null,null,null,null,null,null,null,null,null,null,null,null,null,null,null,2370,"Phillips","Sh","Sharkey silty clay",0,0.5,1,30,75,150,0.28000000000000003,5,"None","D",2432]
[null,null,null,null,null,null,null,null,null,null,null,null,null,null,null,null,null,null,null,null,null,null,null,null,null,null,null,null,null,null,null,null,null,null,null,null,null,null,null,null,null,null,null,2379,"Pike",4,"Avilla gravelly fine sandy loam, 6 to 12 percent slopes",6,9,12,15,45,75,0.2,5,"None","B",2441]
[null,null,null,null,null,null,null,null,null,null,null,null,null,null,null,null,null,null,null,null,null,null,null,null,null,null,null,null,null,null,null,null,null,null,null,null,null,null,null,null,null,null,null,2380,"Pike",5,"Bengal-Bismarck-Yanush complex, 8 to 15 percent slopes",8,12,15,15,30,45,0.49,3,"None","D",2442]
[null,null,null,null,null,null,null,null,null,null,null,null,null,null,null,null,null,null,null,null,null,null,null,null,null,null,null,null,null,null,null,null,null,null,null,null,null,null,null,null,null,null,null,2388,"Pike",13,"Bonnerdale fine sandy loam, 3 to 8 percent slopes",3,6,8,15,45,75,0.2,4,"None","D",2450]
[null,null,null,null,null,null,null,null,null,null,null,null,null,null,null,null,null,null,null,null,null,null,null,null,null,null,null,null,null,null,null,null,null,null,null,null,null,null,null,null,null,null,null,2391,"Pike",16,"Carnasaw-Sherless complex, 15 to 35 percent slopes, extremely stony",15,25,35,5,15,30,0.24,4,"None","C",2453]
[null,null,null,null,null,null,null,null,null,null,null,null,null,null,null,null,null,null,null,null,null,null,null,null,null,null,null,null,null,null,null,null,null,null,null,null,null,null,null,null,null,null,null,2398,"Pike",24,"Dela fine sandy loam, 0 to 2 percent slopes, occasionally flooded",0,1,2,15,99,182,0.28000000000000003,5,"Occasional","A",2460]
[null,null,null,null,null,null,null,null,null,null,null,null,null,null,null,null,null,null,null,null,null,null,null,null,null,null,null,null,null,null,null,null,null,null,null,null,null,null,null,null,null,null,null,2406,"Pike",32,"Kenn fine sandy loam, 0 to 2 percent slopes, rarely flooded",0,1,2,15,45,75,0.2,4,"Rare","B",2468]
[null,null,null,null,null,null,null,null,null,null,null,null,null,null,null,null,null,null,null,null,null,null,null,null,null,null,null,null,null,null,null,null,null,null,null,null,null,null,null,null,null,null,null,2409,"Pike",35,"Kenn-Ceda complex, 0 to 3 percent slopes, frequently flooded",0,2,3,15,45,75,0.2,4,"Frequent","B",2471]
[null,null,null,null,null,null,null,null,null,null,null,null,null,null,null,null,null,null,null,null,null,null,null,null,null,null,null,null,null,null,null,null,null,null,null,null,null,null,null,null,null,null,null,2416,"Pike",42,"Mazarn silt loam, 0 to 3 percent slopes, occasionally flooded",0,2,3,15,45,75,0.37,3,"Occasional","D",2478]
[null,null,null,null,null,null,null,null,null,null,null,null,null,null,null,null,null,null,null,null,null,null,null,null,null,null,null,null,null,null,null,null,null,null,null,null,null,null,null,null,null,null,null,2424,"Pike",50,"Nashoba-Bismarck-Littlefir complex, 1 to 8 percent slopes",1,5,8,15,45,75,0.17,2,"None","B",2486]
[null,null,null,null,null,null,null,null,null,null,null,null,null,null,null,null,null,null,null,null,null,null,null,null,null,null,null,null,null,null,null,null,null,null,null,null,null,null,null,null,null,null,null,2425,"Pike",51,"Nashoba-Bismarck-Littlefir complex, 8 to 15 percent slopes",8,12,15,15,30,45,0.2,2,"None","C",2487]
[null,null,null,null,null,null,null,null,null,null,null,null,null,null,null,null,null,null,null,null,null,null,null,null,null,null,null,null,null,null,null,null,null,null,null,null,null,null,null,null,null,null,null,2431,"Pike",57,"Ouachita silt loam, 0 to 3 percent slopes, rarely flooded",0,2,3,15,45,75,0.55000000000000004,5,"Rare","B",2493]
[null,null,null,null,null,null,null,null,null,null,null,null,null,null,null,null,null,null,null,null,null,null,null,null,null,null,null,null,null,null,null,null,null,null,null,null,null,null,null,null,null,null,null,2436,"Pike",62,"Peanutrock very gravelly fine sandy loam, 8 to 15 percent slopes",8,12,15,15,30,45,0.24,5,"None","B",2498]
[null,null,null,null,null,null,null,null,null,null,null,null,null,null,null,null,null,null,null,null,null,null,null,null,null,null,null,null,null,null,null,null,null,null,null,null,null,null,null,null,null,null,null,2443,"Pike",70,"Sardis silt loam, 0 to 2 percent slopes, rarely flooded",0,1,2,15,45,75,0.43,5,"Rare","C",2505]
[null,null,null,null,null,null,null,null,null,null,null,null,null,null,null,null,null,null,null,null,null,null,null,null,null,null,null,null,null,null,null,null,null,null,null,null,null,null,null,null,null,null,null,2449,"Pike",76,"Smithton fine sandy loam, 0 to 2 percent slopes",0,1,2,15,45,75,0.43,5,"None","D",2511]
[null,null,null,null,null,null,null,null,null,null,null,null,null,null,null,null,null,null,null,null,null,null,null,null,null,null,null,null,null,null,null,null,null,null,null,null,null,null,null,null,null,null,null,2454,"Pike",81,"Tiak very fine sandy loam, 1 to 8 percent slopes",1,5,8,15,45,75,0.43,5,"None","D",2516]
[null,null,null,null,null,null,null,null,null,null,null,null,null,null,null,null,null,null,null,null,null,null,null,null,null,null,null,null,null,null,null,null,null,null,null,null,null,null,null,null,null,null,null,2461,"Pike",88,"Una silty clay loam, 0 to 2 percent slopes, occasionally flooded",0,1,2,30,75,150,0.37,5,"Occasional","D",2523]
[null,null,null,null,null,null,null,null,null,null,null,null,null,null,null,null,null,null,null,null,null,null,null,null,null,null,null,null,null,null,null,null,null,null,null,null,null,null,null,null,null,null,null,2467,"Pike",95,"Yanush very gravelly silt loam, 1 to 8 percent slopes",1,5,8,15,45,75,0.37,5,"None","B",2529]
[null,null,null,null,null,null,null,null,null,null,null,null,null,null,null,null,null,null,null,null,null,null,null,null,null,null,null,null,null,null,null,null,null,null,null,null,null,null,null,null,null,null,null,2470,"Pike",98,"Yanush-Avant-Bengal complex, 35 to 60 percent slopes",35,48,60,5,15,30,0.37,5,"None","B",2532]
[null,null,null,null,null,null,null,null,null,null,null,null,null,null,null,null,null,null,null,null,null,null,null,null,null,null,null,null,null,null,null,null,null,null,null,null,null,null,null,null,null,null,null,2479,"Poinsett","BsE","Brandon-Saffell complex, 12 to 20 percent slopes",12,15,20,15,20,30,0.37,4,"None","B",2541]
[null,null,null,null,null,null,null,null,null,null,null,null,null,null,null,null,null,null,null,null,null,null,null,null,null,null,null,null,null,null,null,null,null,null,null,null,null,null,null,null,null,null,null,2485,"Poinsett","DdA","Dundee silt loam, 0 to 2 percent slopes",0,1,2,15,45,75,0.43,5,"None","C",2547]
[null,null,null,null,null,null,null,null,null,null,null,null,null,null,null,null,null,null,null,null,null,null,null,null,null,null,null,null,null,null,null,null,null,null,null,null,null,null,null,null,null,null,null,2488,"Poinsett","Fo","Foley-Calhoun complex, 0 to 1 percent slopes",0,0.5,1,15,75,150,0.49,3,"None","D",2550]
[null,null,null,null,null,null,null,null,null,null,null,null,null,null,null,null,null,null,null,null,null,null,null,null,null,null,null,null,null,null,null,null,null,null,null,null,null,null,null,null,null,null,null,2497,"Poinsett","Mo","Mhoon silt loam",0,0.5,1,15,75,150,0.49,5,"Occasional","D",2559]
[null,null,null,null,null,null,null,null,null,null,null,null,null,null,null,null,null,null,null,null,null,null,null,null,null,null,null,null,null,null,null,null,null,null,null,null,null,null,null,null,null,null,null,2499,"Poinsett","Sm","Sharkey-Steele complex, 0 to 1 percent slopes",0,0.5,1,30,30,61,0.24,5,"None","D",2561]
[null,null,null,null,null,null,null,null,null,null,null,null,null,null,null,null,null,null,null,null,null,null,null,null,null,null,null,null,null,null,null,null,null,null,null,null,null,null,null,null,null,null,null,2506,"Polk","11CD","Carnasaw-Pirum complex, 3 to 15 percent slopes, rubbly",3,9,15,15,30,45,0.43,4,"None","C",2568]
[null,null,null,null,null,null,null,null,null,null,null,null,null,null,null,null,null,null,null,null,null,null,null,null,null,null,null,null,null,null,null,null,null,null,null,null,null,null,null,null,null,null,null,2515,"Polk","18B","Kenn gravelly fine sandy loam, 0 to 3 percent slopes, occasionally flooded",0,2,3,15,45,75,0.2,4,"Occasional","B",2577]
[null,null,null,null,null,null,null,null,null,null,null,null,null,null,null,null,null,null,null,null,null,null,null,null,null,null,null,null,null,null,null,null,null,null,null,null,null,null,null,null,null,null,null,2517,"Polk","1CD","Avant very cobbly silt loam, 3 to 15 percent slopes",3,9,15,15,30,45,0.37,2,"None","C",2579]
[null,null,null,null,null,null,null,null,null,null,null,null,null,null,null,null,null,null,null,null,null,null,null,null,null,null,null,null,null,null,null,null,null,null,null,null,null,null,null,null,null,null,null,2524,"Polk","25F","Nashoba-Bismarck complex, 15 to 35 percent slopes, rubbly",15,25,35,5,15,30,0.17,2,"None","B",2586]
[null,null,null,null,null,null,null,null,null,null,null,null,null,null,null,null,null,null,null,null,null,null,null,null,null,null,null,null,null,null,null,null,null,null,null,null,null,null,null,null,null,null,null,2527,"Polk","27F","Octavia-Carnasaw complex, 15 to 35 percent slopes, rubbly",15,25,35,5,15,30,0.32,5,"None","C",2589]
[null,null,null,null,null,null,null,null,null,null,null,null,null,null,null,null,null,null,null,null,null,null,null,null,null,null,null,null,null,null,null,null,null,null,null,null,null,null,null,null,null,null,null,2535,"Polk","32C","Sherless-Nashoba complex, 1 to 8 percent slopes, stony",1,5,8,15,45,75,0.2,3,"None","C",2597]
[null,null,null,null,null,null,null,null,null,null,null,null,null,null,null,null,null,null,null,null,null,null,null,null,null,null,null,null,null,null,null,null,null,null,null,null,null,null,null,null,null,null,null,2542,"Polk","39C","Yanush gravelly silt loam, 1 to 8 percent slopes",1,5,8,15,45,75,0.37,5,"None","B",2604]
[null,null,null,null,null,null,null,null,null,null,null,null,null,null,null,null,null,null,null,null,null,null,null,null,null,null,null,null,null,null,null,null,null,null,null,null,null,null,null,null,null,null,null,2549,"Polk","4F","Bengal-Bismarck-Yanush complex, 15 to 35 percent slopes",15,25,35,5,15,30,0.49,3,"None","D",2611]
[null,null,null,null,null,null,null,null,null,null,null,null,null,null,null,null,null,null,null,null,null,null,null,null,null,null,null,null,null,null,null,null,null,null,null,null,null,null,null,null,null,null,null,2553,"Polk","8D","Bismarck-Littlefir complex, 8 to 15 percent slopes",8,12,15,15,30,45,0.49,2,"None","D",2615]
[null,null,null,null,null,null,null,null,null,null,null,null,null,null,null,null,null,null,null,null,null,null,null,null,null,null,null,null,null,null,null,null,null,null,null,null,null,null,null,null,null,null,null,2560,"Pope",5,"Dardanelle silt loam, 0 to 1 percent slopes",0,0.5,1,15,75,150,0.37,5,"None","B",2622]
[null,null,null,null,null,null,null,null,null,null,null,null,null,null,null,null,null,null,null,null,null,null,null,null,null,null,null,null,null,null,null,null,null,null,null,null,null,null,null,null,null,null,null,2561,"Pope",6,"Dardanelle silt loam, gently undulating",0,2,3,15,45,75,0.37,5,"None","B",2623]
[null,null,null,null,null,null,null,null,null,null,null,null,null,null,null,null,null,null,null,null,null,null,null,null,null,null,null,null,null,null,null,null,null,null,null,null,null,null,null,null,null,null,null,2571,"Pope",16,"Linker fine sandy loam, 1 to 3 percent slopes",1,2,3,39,48,60,0.24,2,"None","C",2633]
[null,null,null,null,null,null,null,null,null,null,null,null,null,null,null,null,null,null,null,null,null,null,null,null,null,null,null,null,null,null,null,null,null,null,null,null,null,null,null,null,null,null,null,2576,"Pope",21,"McKamie very fine sandy loam, 3 to 8 percent slopes",3,5,8,15,45,75,0.49,5,"None","D",2638]
[null,null,null,null,null,null,null,null,null,null,null,null,null,null,null,null,null,null,null,null,null,null,null,null,null,null,null,null,null,null,null,null,null,null,null,null,null,null,null,null,null,null,null,2579,"Pope",24,"Mountainburg gravelly fine sandy loam, 8 to 12 percent slopes",8,10,12,15,30,45,0.32,1,"None","D",2641]
[null,null,null,null,null,null,null,null,null,null,null,null,null,null,null,null,null,null,null,null,null,null,null,null,null,null,null,null,null,null,null,null,null,null,null,null,null,null,null,null,null,null,null,2584,"Pope",29,"Nella gravelly fine sandy loam, 3 to 8 percent slopes",3,5,8,39,48,60,0.37,5,"None","B",2646]
[null,null,null,null,null,null,null,null,null,null,null,null,null,null,null,null,null,null,null,null,null,null,null,null,null,null,null,null,null,null,null,null,null,null,null,null,null,null,null,null,null,null,null,2594,"Pope",39,"Rilla silt loam, 0 to 2 percent slopes",0,1,2,15,45,75,0.49,5,"None","B",2656]
[null,null,null,null,null,null,null,null,null,null,null,null,null,null,null,null,null,null,null,null,null,null,null,null,null,null,null,null,null,null,null,null,null,null,null,null,null,null,null,null,null,null,null,2597,"Pope",42,"Roxana silt loam, 0 to 1 percent slopes",0,0.5,1,15,75,150,0.43,5,"None","B",2659]
[null,null,null,null,null,null,null,null,null,null,null,null,null,null,null,null,null,null,null,null,null,null,null,null,null,null,null,null,null,null,null,null,null,null,null,null,null,null,null,null,null,null,null,2602,"Pope",48,"Wrightsville silt loam, 0 to 1 percent slopes",0,0.5,1,15,75,150,0.43,3,"None","D",2664]
[null,null,null,null,null,null,null,null,null,null,null,null,null,null,null,null,null,null,null,null,null,null,null,null,null,null,null,null,null,null,null,null,null,null,null,null,null,null,null,null,null,null,null,2606,"Prairie",4,"Caspiana silt loam, 0 to 1 percent slopes",0,0.5,1,15,75,150,0.37,5,"None","B",2668]
[null,null,null,null,null,null,null,null,null,null,null,null,null,null,null,null,null,null,null,null,null,null,null,null,null,null,null,null,null,null,null,null,null,null,null,null,null,null,null,null,null,null,null,2615,"Prairie",13,"Jackport silty clay loam, 1 to 3 percent slopes",1,2,3,15,60,100,0.43,5,"Rare","D",2677]
[null,null,null,null,null,null,null,null,null,null,null,null,null,null,null,null,null,null,null,null,null,null,null,null,null,null,null,null,null,null,null,null,null,null,null,null,null,null,null,null,null,null,null,2621,"Prairie",19,"Leadvale silt loam, 3 to 8 percent slopes",3,5,8,15,60,100,0.55000000000000004,4,"None","D",2683]
[null,null,null,null,null,null,null,null,null,null,null,null,null,null,null,null,null,null,null,null,null,null,null,null,null,null,null,null,null,null,null,null,null,null,null,null,null,null,null,null,null,null,null,2624,"Prairie",22,"Immanuel silt loam, 3 to 8 percent slopes",3,5.5,8,15,45,75,0.43,5,"None","C",2686]
[null,null,null,null,null,null,null,null,null,null,null,null,null,null,null,null,null,null,null,null,null,null,null,null,null,null,null,null,null,null,null,null,null,null,null,null,null,null,null,null,null,null,null,2633,"Prairie",31,"Rilla silt loam, 1 to 3 percent slopes",1,2,3,15,45,75,0.49,5,"None","B",2695]
[null,null,null,null,null,null,null,null,null,null,null,null,null,null,null,null,null,null,null,null,null,null,null,null,null,null,null,null,null,null,null,null,null,null,null,null,null,null,null,null,null,null,null,2639,"Prairie",37,"Taft silt loam, 0 to 2 percent slopes",0,1,2,15,45,75,0.49,4,"None","D",2701]
[null,null,null,null,null,null,null,null,null,null,null,null,null,null,null,null,null,null,null,null,null,null,null,null,null,null,null,null,null,null,null,null,null,null,null,null,null,null,null,null,null,null,null,2642,"Pulaski","Am","Amy silt loam, 0 to 1 percent slopes",0,0.5,1,30,30,61,0.49,5,"None","D",2704]
[null,null,null,null,null,null,null,null,null,null,null,null,null,null,null,null,null,null,null,null,null,null,null,null,null,null,null,null,null,null,null,null,null,null,null,null,null,null,null,null,null,null,null,2651,"Pulaski","CbD","Carnasaw-Urban land complex, 8 to 12 percent slopes",8,10,12,15,30,45,0.43,4,"None","D",2713]
[null,null,null,null,null,null,null,null,null,null,null,null,null,null,null,null,null,null,null,null,null,null,null,null,null,null,null,null,null,null,null,null,null,null,null,null,null,null,null,null,null,null,null,2652,"Pulaski","CMC","Carnasaw-Mountainburg association, undulating",3,8,12,15,30,45,0.43,4,"None","C",2714]
[null,null,null,null,null,null,null,null,null,null,null,null,null,null,null,null,null,null,null,null,null,null,null,null,null,null,null,null,null,null,null,null,null,null,null,null,null,null,null,null,null,null,null,2660,"Pulaski","LdC","Leadvale-Urban land complex, 3 to 8 percent slopes",3,5,8,15,45,75,0.49,3,"None","D",2722]
[null,null,null,null,null,null,null,null,null,null,null,null,null,null,null,null,null,null,null,null,null,null,null,null,null,null,null,null,null,null,null,null,null,null,null,null,null,null,null,null,null,null,null,2667,"Pulaski","MoD","Mountainburg stony fine sandy loam, 3 to 12 percent slopes",3,8,12,15,30,45,0.32,1,"None","D",2729]
[null,null,null,null,null,null,null,null,null,null,null,null,null,null,null,null,null,null,null,null,null,null,null,null,null,null,null,null,null,null,null,null,null,null,null,null,null,null,null,null,null,null,null,2670,"Pulaski","No","Norwood silty clay loam",0,0.5,1,15,75,150,0.37,5,"Rare","B",2732]
[null,null,null,null,null,null,null,null,null,null,null,null,null,null,null,null,null,null,null,null,null,null,null,null,null,null,null,null,null,null,null,null,null,null,null,null,null,null,null,null,null,null,null,2678,"Pulaski","RuA","Rilla-Urban land complex, 0 to 1 percent slopes",0,0.5,1,15,75,150,0.49,5,"None","B",2740]
[null,null,null,null,null,null,null,null,null,null,null,null,null,null,null,null,null,null,null,null,null,null,null,null,null,null,null,null,null,null,null,null,null,null,null,null,null,null,null,null,null,null,null,2685,"Pulaski","StD","Smithdale fine sandy loam, 8 to 12 percent slopes",8,10,12,15,45,75,0.28000000000000003,5,"None","B",2747]
[null,null,null,null,null,null,null,null,null,null,null,null,null,null,null,null,null,null,null,null,null,null,null,null,null,null,null,null,null,null,null,null,null,null,null,null,null,null,null,null,null,null,null,2688,"Pulaski","TuC","Tiak-Urban land complex, 3 to 8 percent slopes",3,5,8,15,45,75,0.32,5,"None","D",2750]
[null,null,null,null,null,null,null,null,null,null,null,null,null,null,null,null,null,null,null,null,null,null,null,null,null,null,null,null,null,null,null,null,null,null,null,null,null,null,null,null,null,null,null,2694,"Randolph",3,"Ashton silt loam, occasionally flooded",0,0.5,1,15,75,150,0.37,5,"Occasional","B",2756]
[null,null,null,null,null,null,null,null,null,null,null,null,null,null,null,null,null,null,null,null,null,null,null,null,null,null,null,null,null,null,null,null,null,null,null,null,null,null,null,null,null,null,null,2697,"Randolph",6,"Brocket gravelly fine sandy loam, 8 to 12 percent slopes",8,10,12,15,30,45,0.24,5,"None","B",2759]
[null,null,null,null,null,null,null,null,null,null,null,null,null,null,null,null,null,null,null,null,null,null,null,null,null,null,null,null,null,null,null,null,null,null,null,null,null,null,null,null,null,null,null,2706,"Randolph",15,"Doniphan-Gepp association, undulating",3,5,8,15,45,75,0.37,5,"None","B",2768]
[null,null,null,null,null,null,null,null,null,null,null,null,null,null,null,null,null,null,null,null,null,null,null,null,null,null,null,null,null,null,null,null,null,null,null,null,null,null,null,null,null,null,null,2712,"Randolph",21,"Gepp-Ventris association, steep",20,25,30,5,15,30,0.37,5,"None","B",2774]
[null,null,null,null,null,null,null,null,null,null,null,null,null,null,null,null,null,null,null,null,null,null,null,null,null,null,null,null,null,null,null,null,null,null,null,null,null,null,null,null,null,null,null,2718,"Randolph",27,"McCrory fine sandy loam, 0 to 1 percent slopes",0,0.5,1,15,75,150,0.24,2,"None","D",2780]
[null,null,null,null,null,null,null,null,null,null,null,null,null,null,null,null,null,null,null,null,null,null,null,null,null,null,null,null,null,null,null,null,null,null,null,null,null,null,null,null,null,null,null,2723,"Saline",1,"Allen loam, 20 to 40 percent slopes",20,30,40,5,15,30,0.32,5,"None","B",2785]
[null,null,null,null,null,null,null,null,null,null,null,null,null,null,null,null,null,null,null,null,null,null,null,null,null,null,null,null,null,null,null,null,null,null,null,null,null,null,null,null,null,null,null,2730,"Saline",8,"Caddo-Messer variants complex",0,2,3,15,45,75,0.55000000000000004,5,"None","D",2792]
[null,null,null,null,null,null,null,null,null,null,null,null,null,null,null,null,null,null,null,null,null,null,null,null,null,null,null,null,null,null,null,null,null,null,null,null,null,null,null,null,null,null,null,2731,"Saline",9,"Carnasaw-Townley association, undulating",3,6,12,15,30,45,0.43,4,"None","C",2793]
[null,null,null,null,null,null,null,null,null,null,null,null,null,null,null,null,null,null,null,null,null,null,null,null,null,null,null,null,null,null,null,null,null,null,null,null,null,null,null,null,null,null,null,2739,"Saline",17,"Ouachita-Amy complex, frequently flooded",0,2,3,15,45,75,0.49,5,"Frequent","C",2801]
[null,null,null,null,null,null,null,null,null,null,null,null,null,null,null,null,null,null,null,null,null,null,null,null,null,null,null,null,null,null,null,null,null,null,null,null,null,null,null,null,null,null,null,2742,"Saline",20,"Savannah fine sandy loam, 1 to 3 percent slopes",1,2,3,15,60,100,0.24,4,"None","C",2804]
[null,null,null,null,null,null,null,null,null,null,null,null,null,null,null,null,null,null,null,null,null,null,null,null,null,null,null,null,null,null,null,null,null,null,null,null,null,null,null,null,null,null,null,2749,"Saline",27,"Smithdale loamy sand, 8 to 12 percent slopes",8,10,12,15,30,45,0.2,5,"None","B",2811]
[null,null,null,null,null,null,null,null,null,null,null,null,null,null,null,null,null,null,null,null,null,null,null,null,null,null,null,null,null,null,null,null,null,null,null,null,null,null,null,null,null,null,null,2757,"Scott","AvC","Avilla silt loam, 3 to 8 percent slopes",3,5,8,15,45,75,0.37,5,"None","B",2819]
[null,null,null,null,null,null,null,null,null,null,null,null,null,null,null,null,null,null,null,null,null,null,null,null,null,null,null,null,null,null,null,null,null,null,null,null,null,null,null,null,null,null,null,2760,"Scott","CCF","Carnasaw-Octavia complex, 15 to 35 percent slopes",15,25,35,5,15,30,0.37,4,"None","C",2822]
[null,null,null,null,null,null,null,null,null,null,null,null,null,null,null,null,null,null,null,null,null,null,null,null,null,null,null,null,null,null,null,null,null,null,null,null,null,null,null,null,null,null,null,2767,"Scott","Cr","Ceda very cobbly loam, 0 to 2 percent slopes, frequently flooded",0,2,2,15,45,75,0.28000000000000003,5,"Frequent","A",2829]
[null,null,null,null,null,null,null,null,null,null,null,null,null,null,null,null,null,null,null,null,null,null,null,null,null,null,null,null,null,null,null,null,null,null,null,null,null,null,null,null,null,null,null,2775,"Scott","EMG","Enders-Mountainburg complex, 40 to 65 percent slopes",40,53,65,5,15,30,0.37,4,"None","D",2837]
[null,null,null,null,null,null,null,null,null,null,null,null,null,null,null,null,null,null,null,null,null,null,null,null,null,null,null,null,null,null,null,null,null,null,null,null,null,null,null,null,null,null,null,2778,"Scott","EwF","Endsaw stony loam, 20 to 35 percent slopes",20,28,35,5,15,30,0.37,4,"None","C",2840]
[null,null,null,null,null,null,null,null,null,null,null,null,null,null,null,null,null,null,null,null,null,null,null,null,null,null,null,null,null,null,null,null,null,null,null,null,null,null,null,null,null,null,null,2786,"Scott","NEE","Nella-Enders complex, 8 to 20 percent slopes",8,14,20,15,20,30,0.37,5,"None","B",2848]
[null,null,null,null,null,null,null,null,null,null,null,null,null,null,null,null,null,null,null,null,null,null,null,null,null,null,null,null,null,null,null,null,null,null,null,null,null,null,null,null,null,null,null,2787,"Scott","NEF","Nella-Enders complex, 20 to 40 percent slopes",20,30,40,15,20,30,0.37,5,"None","B",2849]
[null,null,null,null,null,null,null,null,null,null,null,null,null,null,null,null,null,null,null,null,null,null,null,null,null,null,null,null,null,null,null,null,null,null,null,null,null,null,null,null,null,null,null,2796,"Searcy",10,"Ceda very cobbly loam, 0 to 2 percent slopes, frequently flooded",0,2,2,15,45,75,0.28000000000000003,5,"Frequent","A",2858]
[null,null,null,null,null,null,null,null,null,null,null,null,null,null,null,null,null,null,null,null,null,null,null,null,null,null,null,null,null,null,null,null,null,null,null,null,null,null,null,null,null,null,null,2799,"Searcy",30,"Healing silt loam, 0 to 3 percent slopes, occasionally flooded",0,2,3,30,91,91,0.37,5,"Occasional","B",2861]
[null,null,null,null,null,null,null,null,null,null,null,null,null,null,null,null,null,null,null,null,null,null,null,null,null,null,null,null,null,null,null,null,null,null,null,null,null,null,null,null,null,null,null,2805,"Searcy","20C","Enders gravelly loam, 3 to 8 percent slopes",3,5,8,15,45,75,0.32,4,"None","D",2867]
[null,null,null,null,null,null,null,null,null,null,null,null,null,null,null,null,null,null,null,null,null,null,null,null,null,null,null,null,null,null,null,null,null,null,null,null,null,null,null,null,null,null,null,2812,"Searcy","28EF","Estate-Lily-Udorthents complex, 15 to 35 percent slopes",15,25,35,5,15,30,0.24,3,"None","C",2874]
[null,null,null,null,null,null,null,null,null,null,null,null,null,null,null,null,null,null,null,null,null,null,null,null,null,null,null,null,null,null,null,null,null,null,null,null,null,null,null,null,null,null,null,2817,"Searcy","34D","Linker gravelly fine sandy loam, 8 to 12 percent slopes",8,10,12,15,30,45,0.24,2,"None","C",2879]
[null,null,null,null,null,null,null,null,null,null,null,null,null,null,null,null,null,null,null,null,null,null,null,null,null,null,null,null,null,null,null,null,null,null,null,null,null,null,null,null,null,null,null,2823,"Searcy","45C","Nauvoo fine sandy loam, 2 to 7 percent slopes",2,5,7,15,45,75,0.2,4,"None","B",2885]
[null,null,null,null,null,null,null,null,null,null,null,null,null,null,null,null,null,null,null,null,null,null,null,null,null,null,null,null,null,null,null,null,null,null,null,null,null,null,null,null,null,null,null,2830,"Searcy","54C2","Newnata-Summit silty clay loams, 3 to 8 percent slopes, eroded",3,5,8,15,45,75,0.32,3,"None","C",2892]
[null,null,null,null,null,null,null,null,null,null,null,null,null,null,null,null,null,null,null,null,null,null,null,null,null,null,null,null,null,null,null,null,null,null,null,null,null,null,null,null,null,null,null,2835,"Searcy","62C","Noark very gravelly silt loam, 3 to 8 percent slopes",3,5,8,39,48,60,0.37,5,"None","C",2897]
[null,null,null,null,null,null,null,null,null,null,null,null,null,null,null,null,null,null,null,null,null,null,null,null,null,null,null,null,null,null,null,null,null,null,null,null,null,null,null,null,null,null,null,2841,"Searcy","74B","Samba silty clay loam, 0 to 2 percent slopes",0,1,2,15,45,75,0.32,5,"Rare","D",2903]
[null,null,null,null,null,null,null,null,null,null,null,null,null,null,null,null,null,null,null,null,null,null,null,null,null,null,null,null,null,null,null,null,null,null,null,null,null,null,null,null,null,null,null,2848,"Sebastian","Cr","Cleora fine sandy loam",0,0.5,1,15,75,150,0.17,5,"Occasional","A",2910]
[null,null,null,null,null,null,null,null,null,null,null,null,null,null,null,null,null,null,null,null,null,null,null,null,null,null,null,null,null,null,null,null,null,null,null,null,null,null,null,null,null,null,null,2853,"Sebastian","EmC","Enders-Mountainburg complex, 8 to 20 percent slopes",8,14,20,15,20,30,0.24,4,"None","D",2915]
[null,null,null,null,null,null,null,null,null,null,null,null,null,null,null,null,null,null,null,null,null,null,null,null,null,null,null,null,null,null,null,null,null,null,null,null,null,null,null,null,null,null,null,2857,"Sebastian","LeC","Leadvale silt loam, 3 to 8 percent slopes",3,5,8,15,60,100,0.55000000000000004,4,"None","D",2919]
[null,null,null,null,null,null,null,null,null,null,null,null,null,null,null,null,null,null,null,null,null,null,null,null,null,null,null,null,null,null,null,null,null,null,null,null,null,null,null,null,null,null,null,2866,"Sebastian","SaB","Sallisaw loam, 1 to 3 percent slopes",1,2,3,15,60,100,0.32,5,"None","B",2928]
[null,null,null,null,null,null,null,null,null,null,null,null,null,null,null,null,null,null,null,null,null,null,null,null,null,null,null,null,null,null,null,null,null,null,null,null,null,null,null,null,null,null,null,2871,"Sebastian","Wg","Wing silt loam",0,0.5,1,15,75,150,0.49,2,"None","D",2933]
[null,null,null,null,null,null,null,null,null,null,null,null,null,null,null,null,null,null,null,null,null,null,null,null,null,null,null,null,null,null,null,null,null,null,null,null,null,null,null,null,null,null,null,2875,"Sevier","10B","Gurdon very fine sandy loam, 1 to 3 percent slopes",1,2,3,15,60,100,0.43,5,"None","D",2937]
[null,null,null,null,null,null,null,null,null,null,null,null,null,null,null,null,null,null,null,null,null,null,null,null,null,null,null,null,null,null,null,null,null,null,null,null,null,null,null,null,null,null,null,2878,"Sevier","13A","Guyton silt loam, 0 to 1 percent slopes, ponded",0,1,1,30,75,150,0.43,5,"Frequent","D",2940]
[null,null,null,null,null,null,null,null,null,null,null,null,null,null,null,null,null,null,null,null,null,null,null,null,null,null,null,null,null,null,null,null,null,null,null,null,null,null,null,null,null,null,null,2885,"Sevier","19B","McCaskill fine sandy loam, 0 to 2 percent slopes",0,1,2,15,45,75,0.24,5,"None","D",2947]
[null,null,null,null,null,null,null,null,null,null,null,null,null,null,null,null,null,null,null,null,null,null,null,null,null,null,null,null,null,null,null,null,null,null,null,null,null,null,null,null,null,null,null,2893,"Sevier","24C","Pikecity fine sandy loam, 1 to 8 percent slopes",1,5,8,15,45,75,0.24,4,"None","B",2955]
[null,null,null,null,null,null,null,null,null,null,null,null,null,null,null,null,null,null,null,null,null,null,null,null,null,null,null,null,null,null,null,null,null,null,null,null,null,null,null,null,null,null,null,2896,"Sevier","27C","Sacul very gravelly loam, 3 to 8 percent slopes",3,6,8,15,45,75,0.37,4,"None","D",2958]
[null,null,null,null,null,null,null,null,null,null,null,null,null,null,null,null,null,null,null,null,null,null,null,null,null,null,null,null,null,null,null,null,null,null,null,null,null,null,null,null,null,null,null,2903,"Sevier","31D","Sherless-Littlefir complex, 8 to 15 percent slopes, stony",8,12,15,15,35,45,0.28000000000000003,3,"None","C",2965]
[null,null,null,null,null,null,null,null,null,null,null,null,null,null,null,null,null,null,null,null,null,null,null,null,null,null,null,null,null,null,null,null,null,null,null,null,null,null,null,null,null,null,null,2911,"Sevier","38D","Sumter silty clay, 8 to 15 percent slopes, eroded",8,12,15,15,30,45,0.28000000000000003,3,"None","D",2973]
[null,null,null,null,null,null,null,null,null,null,null,null,null,null,null,null,null,null,null,null,null,null,null,null,null,null,null,null,null,null,null,null,null,null,null,null,null,null,null,null,null,null,null,2914,"Sevier","40A","Tuscumbia silty clay, 0 to 1 percent slopes, occasionally flooded",0,1,1,30,75,150,0.28000000000000003,5,"Occasional","D",2976]
[null,null,null,null,null,null,null,null,null,null,null,null,null,null,null,null,null,null,null,null,null,null,null,null,null,null,null,null,null,null,null,null,null,null,null,null,null,null,null,null,null,null,null,2921,"Sevier","9B","Felker very fine sandy loam, 1 to 3 percent slopes",1,2,3,15,60,100,0.43,5,"None","C",2983]
[null,null,null,null,null,null,null,null,null,null,null,null,null,null,null,null,null,null,null,null,null,null,null,null,null,null,null,null,null,null,null,null,null,null,null,null,null,null,null,null,null,null,null,2923,"Sharp",2,"Boden fine sandy loam, 3 to 8 percent slopes",3,5,8,15,45,75,0.24,3,"None","C",2985]
[null,null,null,null,null,null,null,null,null,null,null,null,null,null,null,null,null,null,null,null,null,null,null,null,null,null,null,null,null,null,null,null,null,null,null,null,null,null,null,null,null,null,null,2930,"Sharp",9,"Doniphan gravelly silt loam, 3 to 8 percent slopes",3,5,8,15,45,75,0.37,5,"None","B",2992]
[null,null,null,null,null,null,null,null,null,null,null,null,null,null,null,null,null,null,null,null,null,null,null,null,null,null,null,null,null,null,null,null,null,null,null,null,null,null,null,null,null,null,null,2939,"Sharp",18,"Hontas silt loam, 0 to 1 percent slopes, frequently flooded",0,0.5,1,30,30,61,0.43,5,"Frequent","C",3001]
[null,null,null,null,null,null,null,null,null,null,null,null,null,null,null,null,null,null,null,null,null,null,null,null,null,null,null,null,null,null,null,null,null,null,null,null,null,null,null,null,null,null,null,2941,"Sharp",20,"Lily fine sandy loam, 8 to 12 percent slopes",8,10,12,15,30,45,0.2,2,"None","B",3003]
[null,null,null,null,null,null,null,null,null,null,null,null,null,null,null,null,null,null,null,null,null,null,null,null,null,null,null,null,null,null,null,null,null,null,null,null,null,null,null,null,null,null,null,2948,"Sharp",27,"Sturkie silt loam, frequently flooded",0,2,3,15,45,75,0.43,5,"Frequent","B",3010]
[null,null,null,null,null,null,null,null,null,null,null,null,null,null,null,null,null,null,null,null,null,null,null,null,null,null,null,null,null,null,null,null,null,null,null,null,null,null,null,null,null,null,null,2952,"St. Francis","AcB","Alligator and Sharkey clays, gently undulating",0,1,3,15,45,75,0.24,5,"Rare","D",3014]
[null,null,null,null,null,null,null,null,null,null,null,null,null,null,null,null,null,null,null,null,null,null,null,null,null,null,null,null,null,null,null,null,null,null,null,null,null,null,null,null,null,null,null,2959,"St. Francis","BdB","Bosket-Dubbs fine sandy loam, gently undulating",0,1,3,15,45,75,0.28000000000000003,5,"None","B",3021]
[null,null,null,null,null,null,null,null,null,null,null,null,null,null,null,null,null,null,null,null,null,null,null,null,null,null,null,null,null,null,null,null,null,null,null,null,null,null,null,null,null,null,null,2966,"St. Francis","ClA","Calloway silt loam, 0 to 1 percent slopes",0,0.5,1,30,75,150,0.49,4,"None","D",3028]
[null,null,null,null,null,null,null,null,null,null,null,null,null,null,null,null,null,null,null,null,null,null,null,null,null,null,null,null,null,null,null,null,null,null,null,null,null,null,null,null,null,null,null,2970,"St. Francis","CwB","Crowley silt loam, 1 to 3 percent slopes",1,2,3,15,60,100,0.49,5,"None","D",3032]
[null,null,null,null,null,null,null,null,null,null,null,null,null,null,null,null,null,null,null,null,null,null,null,null,null,null,null,null,null,null,null,null,null,null,null,null,null,null,null,null,null,null,null,2975,"St. Francis","DdC","Dundee fine sandy loam, undulating",0,4,8,15,30,45,0.28000000000000003,5,"None","C",3037]
[null,null,null,null,null,null,null,null,null,null,null,null,null,null,null,null,null,null,null,null,null,null,null,null,null,null,null,null,null,null,null,null,null,null,null,null,null,null,null,null,null,null,null,2984,"St. Francis","HmB","Hillemann silt loam, 1 to 3 percent slopes",1,2,3,15,60,100,0.55000000000000004,2,"None","D",3046]
[null,null,null,null,null,null,null,null,null,null,null,null,null,null,null,null,null,null,null,null,null,null,null,null,null,null,null,null,null,null,null,null,null,null,null,null,null,null,null,null,null,null,null,2988,"St. Francis","LgB","Loring silt loam, 1 to 3 percent slopes, west",1,2,3,15,30,61,0.49,4,"None","D",3050]
[null,null,null,null,null,null,null,null,null,null,null,null,null,null,null,null,null,null,null,null,null,null,null,null,null,null,null,null,null,null,null,null,null,null,null,null,null,null,null,null,null,null,null,2993,"St. Francis","LgD","Loring silt loam, 8 to 12 percent slopes, west",8,10,12,15,30,45,0.49,4,"None","D",3055]
[null,null,null,null,null,null,null,null,null,null,null,null,null,null,null,null,null,null,null,null,null,null,null,null,null,null,null,null,null,null,null,null,null,null,null,null,null,null,null,null,null,null,null,3000,"St. Francis","LmF3","Loring and Memphis silt loams, 12 to 40 percent slopes, severely eroded",12,25,40,5,15,30,0.49,3,"None","C",3062]
[null,null,null,null,null,null,null,null,null,null,null,null,null,null,null,null,null,null,null,null,null,null,null,null,null,null,null,null,null,null,null,null,null,null,null,null,null,null,null,null,null,null,null,3002,"St. Francis","MeC2","Memphis silt loam, 3 to 8 percent slopes, eroded",3,5,8,15,45,75,0.49,5,"None","B",3064]
[null,null,null,null,null,null,null,null,null,null,null,null,null,null,null,null,null,null,null,null,null,null,null,null,null,null,null,null,null,null,null,null,null,null,null,null,null,null,null,null,null,null,null,3011,"Stone",6,"Cleora fine sandy loam, occasionally flooded",0,2,3,15,45,75,0.17,5,"Occasional","A",3073]
[null,null,null,null,null,null,null,null,null,null,null,null,null,null,null,null,null,null,null,null,null,null,null,null,null,null,null,null,null,null,null,null,null,null,null,null,null,null,null,null,null,null,null,3018,"Stone",13,"Estate-Portia-Moko association, steep",20,30,40,5,15,30,0.28000000000000003,3,"None","C",3080]
[null,null,null,null,null,null,null,null,null,null,null,null,null,null,null,null,null,null,null,null,null,null,null,null,null,null,null,null,null,null,null,null,null,null,null,null,null,null,null,null,null,null,null,3020,"Stone",15,"Linker fine sandy loam, 3 to 8 percent slopes",3,5,8,39,48,60,0.24,2,"None","C",3082]
[null,null,null,null,null,null,null,null,null,null,null,null,null,null,null,null,null,null,null,null,null,null,null,null,null,null,null,null,null,null,null,null,null,null,null,null,null,null,null,null,null,null,null,3029,"Stone",24,"Nella-Enders complex, 8 to 20 percent slopes",8,14,20,15,20,30,0.37,5,"None","D",3091]
[null,null,null,null,null,null,null,null,null,null,null,null,null,null,null,null,null,null,null,null,null,null,null,null,null,null,null,null,null,null,null,null,null,null,null,null,null,null,null,null,null,null,null,3031,"Stone",26,"Nella-Steprock complex, 8 to 20 percent slopes",8,14,20,15,20,30,0.2,5,"None","B",3093]
[null,null,null,null,null,null,null,null,null,null,null,null,null,null,null,null,null,null,null,null,null,null,null,null,null,null,null,null,null,null,null,null,null,null,null,null,null,null,null,null,null,null,null,3038,"Stone",33,"Noark very gravelly silt loam, 3 to 8 percent slopes",3,5,8,39,48,60,0.37,5,"None","C",3100]
[null,null,null,null,null,null,null,null,null,null,null,null,null,null,null,null,null,null,null,null,null,null,null,null,null,null,null,null,null,null,null,null,null,null,null,null,null,null,null,null,null,null,null,3047,"Stone",42,"Sidon fine sandy loam, 3 to 8 percent slopes",3,5,8,15,45,75,0.2,3,"None","D",3109]
[null,null,null,null,null,null,null,null,null,null,null,null,null,null,null,null,null,null,null,null,null,null,null,null,null,null,null,null,null,null,null,null,null,null,null,null,null,null,null,null,null,null,null,3050,"Stone",45,"Steprock-Nella-Mountainburg complex, 40 to 60 percent slopes",40,50,60,5,15,30,0.2,3,"None","C",3112]
[null,null,null,null,null,null,null,null,null,null,null,null,null,null,null,null,null,null,null,null,null,null,null,null,null,null,null,null,null,null,null,null,null,null,null,null,null,null,null,null,null,null,null,3056,"Union","AgB","Amy-Gurdon complex, 0 to 3 percent slopes, rarely flooded",0,2,3,15,45,75,0.49,5,"Rare","D",3118]
[null,null,null,null,null,null,null,null,null,null,null,null,null,null,null,null,null,null,null,null,null,null,null,null,null,null,null,null,null,null,null,null,null,null,null,null,null,null,null,null,null,null,null,3059,"Union","BrC","Briley loamy fine sand, 1 to 8 percent slopes",1,5,8,15,45,75,0.15,5,"None","B",3121]
[null,null,null,null,null,null,null,null,null,null,null,null,null,null,null,null,null,null,null,null,null,null,null,null,null,null,null,null,null,null,null,null,null,null,null,null,null,null,null,null,null,null,null,3068,"Union","SaD","Sacul fine sandy loam, 8 to 15 percent slopes",8,12,15,15,30,45,0.28000000000000003,5,"None","D",3130]
[null,null,null,null,null,null,null,null,null,null,null,null,null,null,null,null,null,null,null,null,null,null,null,null,null,null,null,null,null,null,null,null,null,null,null,null,null,null,null,null,null,null,null,3074,"Union","SmD","Smithdale fine sandy loam, 8 to 15 percent slopes",8,12,15,15,30,45,0.28000000000000003,5,"None","B",3136]
[null,null,null,null,null,null,null,null,null,null,null,null,null,null,null,null,null,null,null,null,null,null,null,null,null,null,null,null,null,null,null,null,null,null,null,null,null,null,null,null,null,null,null,3077,"Union","TrB","Trebloc silt loam, 0 to 2 percent slopes",0,1,2,15,45,75,0.49,5,"None","D",3139]
[null,null,null,null,null,null,null,null,null,null,null,null,null,null,null,null,null,null,null,null,null,null,null,null,null,null,null,null,null,null,null,null,null,null,null,null,null,null,null,null,null,null,null,3086,"Van Buren",5,"Enders gravelly fine sandy loam, 8 to 12 percent slopes",8,10,12,15,30,45,0.24,4,"None","D",3148]
[null,null,null,null,null,null,null,null,null,null,null,null,null,null,null,null,null,null,null,null,null,null,null,null,null,null,null,null,null,null,null,null,null,null,null,null,null,null,null,null,null,null,null,3092,"Van Buren",11,"Guthrie silt loam, 0 to 1 percent slopes, occasionally flooded",0,0.5,1,15,45,75,0.43,4,"Occasional","D",3154]
[null,null,null,null,null,null,null,null,null,null,null,null,null,null,null,null,null,null,null,null,null,null,null,null,null,null,null,null,null,null,null,null,null,null,null,null,null,null,null,null,null,null,null,3093,"Van Buren",12,"Kenn-Ceda complex, 0 to 3 percent slopes, frequently flooded",0,2,3,15,45,75,0.2,4,"Frequent","B",3155]
[null,null,null,null,null,null,null,null,null,null,null,null,null,null,null,null,null,null,null,null,null,null,null,null,null,null,null,null,null,null,null,null,null,null,null,null,null,null,null,null,null,null,null,3099,"Van Buren",18,"Linker-Mountainburg gravelly fine sandy loams, 3 to 8 percent slopes",3,5,8,15,45,75,0.24,2,"None","C",3161]
[null,null,null,null,null,null,null,null,null,null,null,null,null,null,null,null,null,null,null,null,null,null,null,null,null,null,null,null,null,null,null,null,null,null,null,null,null,null,null,null,null,null,null,3104,"Van Buren",23,"Nella-Steprock complex, 20 to 40 percent slopes",20,30,40,5,15,30,0.2,5,"None","B",3166]
[null,null,null,null,null,null,null,null,null,null,null,null,null,null,null,null,null,null,null,null,null,null,null,null,null,null,null,null,null,null,null,null,null,null,null,null,null,null,null,null,null,null,null,3111,"Van Buren",31,"Steprock-Mountainburg complex, 8 to 20 percent slopes",8,14,20,15,24,40,0.24,3,"None","C",3173]
[null,null,null,null,null,null,null,null,null,null,null,null,null,null,null,null,null,null,null,null,null,null,null,null,null,null,null,null,null,null,null,null,null,null,null,null,null,null,null,null,null,null,null,3117,"Washington","AeD2","Allegheny gravelly loam, 8 to 12 percent slopes, eroded (leesburg)",8,10,12,15,30,45,0.37,5,"None","B",3179]
[null,null,null,null,null,null,null,null,null,null,null,null,null,null,null,null,null,null,null,null,null,null,null,null,null,null,null,null,null,null,null,null,null,null,null,null,null,null,null,null,null,null,null,3126,"Washington","AoF","Allen stony loam, 12 to 35 percent slopes (nella)",12,24,35,5,15,30,0.32,5,"None","B",3188]
[null,null,null,null,null,null,null,null,null,null,null,null,null,null,null,null,null,null,null,null,null,null,null,null,null,null,null,null,null,null,null,null,null,null,null,null,null,null,null,null,null,null,null,3129,"Washington","AsC2","Apison gravelly loam, 3 to 8 percent slopes, eroded",3,5,8,15,45,75,0.32,3,"None","C",3191]
[null,null,null,null,null,null,null,null,null,null,null,null,null,null,null,null,null,null,null,null,null,null,null,null,null,null,null,null,null,null,null,null,null,null,null,null,null,null,null,null,null,null,null,3135,"Washington","CaC","Captina silt loam, 3 to 8 percent slopes",3,5,8,39,48,60,0.43,3,"None","D",3197]
[null,null,null,null,null,null,null,null,null,null,null,null,null,null,null,null,null,null,null,null,null,null,null,null,null,null,null,null,null,null,null,null,null,null,null,null,null,null,null,null,null,null,null,3138,"Washington","Ck","Cherokee complex, mounded",0,0.5,1,30,75,150,0.49,3,"None","D",3200]
[null,null,null,null,null,null,null,null,null,null,null,null,null,null,null,null,null,null,null,null,null,null,null,null,null,null,null,null,null,null,null,null,null,null,null,null,null,null,null,null,null,null,null,3147,"Washington","EoD","Enders stony loam, 3 to 15 percent slopes",3,12,15,15,20,30,0.37,4,"None","D",3209]
[null,null,null,null,null,null,null,null,null,null,null,null,null,null,null,null,null,null,null,null,null,null,null,null,null,null,null,null,null,null,null,null,null,null,null,null,null,null,null,null,null,null,null,3153,"Washington","FeF","Fayetteville stony fine sandy loam, 12 to 35 percent slopes",12,24,35,5,15,30,0.24,5,"None","B",3215]
[null,null,null,null,null,null,null,null,null,null,null,null,null,null,null,null,null,null,null,null,null,null,null,null,null,null,null,null,null,null,null,null,null,null,null,null,null,null,null,null,null,null,null,3156,"Washington","HmC","Hector-Mountainburg gravelly fine sandy loam, 3 to 8 percent slopes",3,6,8,15,45,75,0.28000000000000003,1,"None","D",3218]
[null,null,null,null,null,null,null,null,null,null,null,null,null,null,null,null,null,null,null,null,null,null,null,null,null,null,null,null,null,null,null,null,null,null,null,null,null,null,null,null,null,null,null,3165,"Washington","LkB","Linker loam, 1 to 3 percent slopes",1,2,3,15,60,100,0.32,2,"None","C",3227]
[null,null,null,null,null,null,null,null,null,null,null,null,null,null,null,null,null,null,null,null,null,null,null,null,null,null,null,null,null,null,null,null,null,null,null,null,null,null,null,null,null,null,null,3167,"Washington","LnC2","Linker gravelly loam, 3 to 8 percent slopes, eroded",3,5,8,15,45,75,0.37,2,"None","C",3229]
[null,null,null,null,null,null,null,null,null,null,null,null,null,null,null,null,null,null,null,null,null,null,null,null,null,null,null,null,null,null,null,null,null,null,null,null,null,null,null,null,null,null,null,3174,"Washington","PeC2","Pembroke silt loam, 3 to 6 percent slopes, eroded",3,4,6,15,45,75,0.37,5,"None","B",3236]
[null,null,null,null,null,null,null,null,null,null,null,null,null,null,null,null,null,null,null,null,null,null,null,null,null,null,null,null,null,null,null,null,null,null,null,null,null,null,null,null,null,null,null,3183,"Washington","Sa","Samba silt loam",0,0.5,1,30,75,150,0.43,5,"None","D",3245]
[null,null,null,null,null,null,null,null,null,null,null,null,null,null,null,null,null,null,null,null,null,null,null,null,null,null,null,null,null,null,null,null,null,null,null,null,null,null,null,null,null,null,null,3185,"Washington","SfB","Savannah fine sandy loam, 1 to 3 percent slopes",1,2,3,15,60,100,0.28000000000000003,4,"None","C",3247]
[null,null,null,null,null,null,null,null,null,null,null,null,null,null,null,null,null,null,null,null,null,null,null,null,null,null,null,null,null,null,null,null,null,null,null,null,null,null,null,null,null,null,null,3192,"Washington","SsC2","Summit silty clay, 3 to 8 percent slopes, eroded",3,5,8,15,45,75,0.24,5,"None","D",3254]
[null,null,null,null,null,null,null,null,null,null,null,null,null,null,null,null,null,null,null,null,null,null,null,null,null,null,null,null,null,null,null,null,null,null,null,null,null,null,null,null,null,null,null,3199,"White",1,"Allen fine sandy loam, 3 to 8 percent slopes",3,5,8,15,45,75,0.2,5,"None","B",3261]
[null,null,null,null,null,null,null,null,null,null,null,null,null,null,null,null,null,null,null,null,null,null,null,null,null,null,null,null,null,null,null,null,null,null,null,null,null,null,null,null,null,null,null,3203,"White",5,"Calloway silt loam, 0 to 1 percent slopes",0,0.5,1,15,75,150,0.43,4,"None","D",3265]
[null,null,null,null,null,null,null,null,null,null,null,null,null,null,null,null,null,null,null,null,null,null,null,null,null,null,null,null,null,null,null,null,null,null,null,null,null,null,null,null,null,null,null,3210,"White",12,"Gore silt loam, 1 to 3 percent slopes",1,2,3,15,60,100,0.49,5,"None","D",3272]
[null,null,null,null,null,null,null,null,null,null,null,null,null,null,null,null,null,null,null,null,null,null,null,null,null,null,null,null,null,null,null,null,null,null,null,null,null,null,null,null,null,null,null,3217,"White",19,"Linker fine sandy loam, 3 to 8 percent slopes",3,5,8,39,48,60,0.24,2,"None","C",3279]
[null,null,null,null,null,null,null,null,null,null,null,null,null,null,null,null,null,null,null,null,null,null,null,null,null,null,null,null,null,null,null,null,null,null,null,null,null,null,null,null,null,null,null,3221,"White",23,"Mountainburg stony fine sandy loam, 1 to 12 percent slopes, rocky",1,7,12,15,30,45,0.32,1,"None","D",3283]
[null,null,null,null,null,null,null,null,null,null,null,null,null,null,null,null,null,null,null,null,null,null,null,null,null,null,null,null,null,null,null,null,null,null,null,null,null,null,null,null,null,null,null,3228,"White",30,"Sidon loam, 3 to 8 percent slopes",3,5,8,15,45,75,0.32,3,"None","C",3290]
[null,null,null,null,null,null,null,null,null,null,null,null,null,null,null,null,null,null,null,null,null,null,null,null,null,null,null,null,null,null,null,null,null,null,null,null,null,null,null,null,null,null,null,3229,"White",31,"Spadra fine sandy loam, occasionally flooded",0,0.5,1,15,45,75,0.24,5,"Occasional","B",3291]
[null,null,null,null,null,null,null,null,null,null,null,null,null,null,null,null,null,null,null,null,null,null,null,null,null,null,null,null,null,null,null,null,null,null,null,null,null,null,null,null,null,null,null,3239,"Woodruff","BsC","Teksob loam, 3 to 8 percent slopes",3,5,8,15,45,75,0.32,5,"None","B",3301]
[null,null,null,null,null,null,null,null,null,null,null,null,null,null,null,null,null,null,null,null,null,null,null,null,null,null,null,null,null,null,null,null,null,null,null,null,null,null,null,null,null,null,null,3244,"Woodruff","DbA","Dubbs silt loam, 0 to 1 percent slopes",0,0.5,1,15,45,75,0.49,5,"None","B",3306]
[null,null,null,null,null,null,null,null,null,null,null,null,null,null,null,null,null,null,null,null,null,null,null,null,null,null,null,null,null,null,null,null,null,null,null,null,null,null,null,null,null,null,null,3247,"Woodruff","DuA","Dundee silt loam, 0 to 1 percent slopes",0,0.5,1,30,30,61,0.43,5,"None","C",3309]
[null,null,null,null,null,null,null,null,null,null,null,null,null,null,null,null,null,null,null,null,null,null,null,null,null,null,null,null,null,null,null,null,null,null,null,null,null,null,null,null,null,null,null,3252,"Woodruff","GuB","Grubbs silt loam, 1 to 3 percent slopes",1,2,3,15,60,100,0.49,3,"None","D",3314]
[null,null,null,null,null,null,null,null,null,null,null,null,null,null,null,null,null,null,null,null,null,null,null,null,null,null,null,null,null,null,null,null,null,null,null,null,null,null,null,null,null,null,null,3262,"Woodruff","McA","McCrory fine sandy loam, 0 to 1 percent slopes",0,0.5,1,30,75,150,0.24,3,"None","D",3324]
[null,null,null,null,null,null,null,null,null,null,null,null,null,null,null,null,null,null,null,null,null,null,null,null,null,null,null,null,null,null,null,null,null,null,null,null,null,null,null,null,null,null,null,3265,"Woodruff","PaB","Patterson fine sandy loam, 0 to 2 percent slopes",0,0.5,2,15,45,75,0.24,5,"None","D",3327]
[null,null,null,null,null,null,null,null,null,null,null,null,null,null,null,null,null,null,null,null,null,null,null,null,null,null,null,null,null,null,null,null,null,null,null,null,null,null,null,null,null,null,null,3269,"Woodruff","TiB","Tipp silty clay loam, 0 to 3 percent slopes, rarely flooded",0,1,3,15,45,75,0.37,5,"Rare","D",3331]
[null,null,null,null,null,null,null,null,null,null,null,null,null,null,null,null,null,null,null,null,null,null,null,null,null,null,null,null,null,null,null,null,null,null,null,null,null,null,null,null,null,null,null,3270,"Woodruff","TpB","Tipp silty clay loam, 0 to 3 percent slopes, frequently flooded",0,1,3,15,45,75,0.37,5,"Frequent","D",3332]
[null,null,null,null,null,null,null,null,null,null,null,null,null,null,null,null,null,null,null,null,null,null,null,null,null,null,null,null,null,null,null,null,null,null,null,null,null,null,null,null,null,null,null,3271,"Woodruff","TrA","Tuckerman loam, 0 to 1 percent slopes, frequently flooded",0,0.5,1,30,75,150,0.37,4,"Frequent","D",3333]
[null,null,null,null,null,null,null,null,null,null,null,null,null,null,null,null,null,null,null,null,null,null,null,null,null,null,null,null,null,null,null,null,null,null,null,null,null,null,null,null,null,null,null,3272,"Woodruff","TuA","Tuckerman silty clay loam, 0 to 1 percent slopes, frequently flooded",0,0.5,1,30,75,150,0.32,4,"Frequent","D",3334]
[null,null,null,null,null,null,null,null,null,null,null,null,null,null,null,null,null,null,null,null,null,null,null,null,null,null,null,null,null,null,null,null,null,null,null,null,null,null,null,null,null,null,null,3273,"Woodruff","WvA","Wiville fine sandy loam, 0 to 1 percent slopes",0,0.5,1,30,75,150,0.32,5,"None","B",3335]
[null,null,null,null,null,null,null,null,null,null,null,null,null,null,null,null,null,null,null,null,null,null,null,null,null,null,null,null,null,null,null,null,null,null,null,null,null,null,null,null,null,null,null,3274,"Woodruff","WvB","Wiville fine sandy loam, 1 to 3 percent slopes",1,2,3,15,60,100,0.32,5,"None","B",3336]
[null,null,null,null,null,null,null,null,null,null,null,null,null,null,null,null,null,null,null,null,null,null,null,null,null,null,null,null,null,null,null,null,null,null,null,null,null,null,null,null,null,null,null,3275,"Woodruff","WvC","Wiville fine sandy loam, 3 to 8 percent slopes",3,5,8,15,45,75,0.32,5,"None","B",3337]
[null,null,null,null,null,null,null,null,null,null,null,null,null,null,null,null,null,null,null,null,null,null,null,null,null,null,null,null,null,null,null,null,null,null,null,null,null,null,null,null,null,null,null,3276,"Woodruff","YaB","Yancopin silty clay loam, 0 to 3 percent slopes, rarely flooded",0,1,3,15,45,75,0.37,5,"Rare","D",3338]
[null,null,null,null,null,null,null,null,null,null,null,null,null,null,null,null,null,null,null,null,null,null,null,null,null,null,null,null,null,null,null,null,null,null,null,null,null,null,null,null,null,null,null,3277,"Woodruff","YpB","Yancopin silty clay loam, 0 to 3 percent slopes, frequently flooded",0,1,3,15,45,75,0.37,5,"Frequent","D",3339]
[null,null,null,null,null,null,null,null,null,null,null,null,null,null,null,null,null,null,null,null,null,null,null,null,null,null,null,null,null,null,null,null,null,null,null,null,null,null,null,null,null,null,null,3278,"Yell",1,"Avilla silt loam, 1 to 3 percent slopes",1,2,3,15,45,75,0.37,5,"None","B",3340]
[null,null,null,null,null,null,null,null,null,null,null,null,null,null,null,null,null,null,null,null,null,null,null,null,null,null,null,null,null,null,null,null,null,null,null,null,null,null,null,null,null,null,null,3279,"Yell",2,"Avilla silt loam, 3 to 8 percent slopes",3,5,8,15,45,75,0.37,5,"None","B",3341]
[null,null,null,null,null,null,null,null,null,null,null,null,null,null,null,null,null,null,null,null,null,null,null,null,null,null,null,null,null,null,null,null,null,null,null,null,null,null,null,null,null,null,null,3280,"Yell",3,"Barling silt loam, 0 to 2 percent slopes, occasionally flooded",0,1,2,15,45,75,0.43,5,"Occasional","C",3342]
[null,null,null,null,null,null,null,null,null,null,null,null,null,null,null,null,null,null,null,null,null,null,null,null,null,null,null,null,null,null,null,null,null,null,null,null,null,null,null,null,null,null,null,3281,"Yell",4,"Bismarck channery silt loam, 3 to 8 percent slopes",3,5,8,15,45,75,0.49,2,"None","D",3343]
[null,null,null,null,null,null,null,null,null,null,null,null,null,null,null,null,null,null,null,null,null,null,null,null,null,null,null,null,null,null,null,null,null,null,null,null,null,null,null,null,null,null,null,3282,"Yell",5,"Bruno loamy fine sand, 0 to 3 percent slopes",0,2,3,15,45,75,0.17,5,"Rare","A",3344]
[null,null,null,null,null,null,null,null,null,null,null,null,null,null,null,null,null,null,null,null,null,null,null,null,null,null,null,null,null,null,null,null,null,null,null,null,null,null,null,null,null,null,null,3283,"Yell",6,"Bruno loamy fine sand, 0 to 3 percent slopes, occasionally flooded",0,2,3,15,45,75,0.17,5,"Occasional","A",3345]
[null,null,null,null,null,null,null,null,null,null,null,null,null,null,null,null,null,null,null,null,null,null,null,null,null,null,null,null,null,null,null,null,null,null,null,null,null,null,null,null,null,null,null,3284,"Yell",7,"Cane loam, 1 to 3 percent slopes",1,2,3,15,60,100,0.37,4,"None","C",3346]
[null,null,null,null,null,null,null,null,null,null,null,null,null,null,null,null,null,null,null,null,null,null,null,null,null,null,null,null,null,null,null,null,null,null,null,null,null,null,null,null,null,null,null,3285,"Yell",8,"Cane loam, 3 to 8 percent slopes",3,5,8,15,45,75,0.37,4,"None","C",3347]
[null,null,null,null,null,null,null,null,null,null,null,null,null,null,null,null,null,null,null,null,null,null,null,null,null,null,null,null,null,null,null,null,null,null,null,null,null,null,null,null,null,null,null,3286,"Yell",9,"Carnasaw gravelly silt loam, 3 to 8 percent slopes",3,5,8,15,45,75,0.43,4,"None","C",3348]
[null,null,null,null,null,null,null,null,null,null,null,null,null,null,null,null,null,null,null,null,null,null,null,null,null,null,null,null,null,null,null,null,null,null,null,null,null,null,null,null,null,null,null,3287,"Yell",10,"Carnasaw gravelly silt loam, 8 to 12 percent slopes",8,10,12,15,30,45,0.43,4,"None","C",3349]
[null,null,null,null,null,null,null,null,null,null,null,null,null,null,null,null,null,null,null,null,null,null,null,null,null,null,null,null,null,null,null,null,null,null,null,null,null,null,null,null,null,null,null,3288,"Yell",12,"Carnasaw-Sherless-Clebit complex, 8 to 20 percent slopes",8,14,20,15,20,30,0.43,4,"None","C",3350]
[null,null,null,null,null,null,null,null,null,null,null,null,null,null,null,null,null,null,null,null,null,null,null,null,null,null,null,null,null,null,null,null,null,null,null,null,null,null,null,null,null,null,null,3289,"Yell",13,"Carnasaw-Sherless-Clebit complex, 20 to 40 percent slopes",20,30,40,5,15,30,0.43,4,"None","C",3351]
[null,null,null,null,null,null,null,null,null,null,null,null,null,null,null,null,null,null,null,null,null,null,null,null,null,null,null,null,null,null,null,null,null,null,null,null,null,null,null,null,null,null,null,3290,"Yell",16,"Dardanelle silt loam, 0 to 1 percent slopes",0,0.5,1,15,75,150,0.37,5,"None","B",3352]
[null,null,null,null,null,null,null,null,null,null,null,null,null,null,null,null,null,null,null,null,null,null,null,null,null,null,null,null,null,null,null,null,null,null,null,null,null,null,null,null,null,null,null,3291,"Yell",17,"Dardanelle silt loam, 1 to 3 percent slopes",1,2,3,15,45,75,0.37,5,"None","B",3353]
[null,null,null,null,null,null,null,null,null,null,null,null,null,null,null,null,null,null,null,null,null,null,null,null,null,null,null,null,null,null,null,null,null,null,null,null,null,null,null,null,null,null,null,3292,"Yell",18,"Enders gravelly fine sandy loam, 3 to 8 percent slopes",3,5,8,15,45,75,0.24,4,"None","D",3354]
[null,null,null,null,null,null,null,null,null,null,null,null,null,null,null,null,null,null,null,null,null,null,null,null,null,null,null,null,null,null,null,null,null,null,null,null,null,null,null,null,null,null,null,3293,"Yell",19,"Enders gravelly fine sandy loam, 8 to 12 percent slopes",8,10,12,15,30,45,0.24,4,"None","D",3355]
[null,null,null,null,null,null,null,null,null,null,null,null,null,null,null,null,null,null,null,null,null,null,null,null,null,null,null,null,null,null,null,null,null,null,null,null,null,null,null,null,null,null,null,3294,"Yell",20,"Enders stony fine sandy loam, 12 to 20 percent slopes",12,16,20,15,20,30,0.24,4,"None","D",3356]
[null,null,null,null,null,null,null,null,null,null,null,null,null,null,null,null,null,null,null,null,null,null,null,null,null,null,null,null,null,null,null,null,null,null,null,null,null,null,null,null,null,null,null,3295,"Yell",21,"Enders-Mountainburg complex, 8 to 20 percent slopes",8,14,20,15,20,30,0.24,4,"None","D",3357]
[null,null,null,null,null,null,null,null,null,null,null,null,null,null,null,null,null,null,null,null,null,null,null,null,null,null,null,null,null,null,null,null,null,null,null,null,null,null,null,null,null,null,null,3296,"Yell",22,"Enders-Mountainburg complex, 20 to 40 percent slopes",20,30,40,5,15,30,0.24,4,"None","D",3358]
[null,null,null,null,null,null,null,null,null,null,null,null,null,null,null,null,null,null,null,null,null,null,null,null,null,null,null,null,null,null,null,null,null,null,null,null,null,null,null,null,null,null,null,3297,"Yell",23,"Guthrie silt loam, 0 to 1 percent slopes, rarely flooded",0,0.5,1,15,45,75,0.43,4,"Rare","D",3359]
[null,null,null,null,null,null,null,null,null,null,null,null,null,null,null,null,null,null,null,null,null,null,null,null,null,null,null,null,null,null,null,null,null,null,null,null,null,null,null,null,null,null,null,3298,"Yell",24,"Guthrie silt loam, 0 to 1 percent slopes, occasionally flooded",0,0.5,1,15,45,75,0.43,4,"Occasional","D",3360]
[null,null,null,null,null,null,null,null,null,null,null,null,null,null,null,null,null,null,null,null,null,null,null,null,null,null,null,null,null,null,null,null,null,null,null,null,null,null,null,null,null,null,null,3299,"Yell",25,"Kenn-Ceda complex, 0 to 3 percent slopes, occasionally flooded",0,2,3,15,45,75,0.2,4,"Occasional","B",3361]
[null,null,null,null,null,null,null,null,null,null,null,null,null,null,null,null,null,null,null,null,null,null,null,null,null,null,null,null,null,null,null,null,null,null,null,null,null,null,null,null,null,null,null,3300,"Yell",26,"Leadvale silt loam, 1 to 3 percent slopes",1,2,3,15,60,100,0.55000000000000004,4,"None","D",3362]
[null,null,null,null,null,null,null,null,null,null,null,null,null,null,null,null,null,null,null,null,null,null,null,null,null,null,null,null,null,null,null,null,null,null,null,null,null,null,null,null,null,null,null,3301,"Yell",27,"Leadvale silt loam, 3 to 8 percent slopes",3,5,8,15,60,100,0.55000000000000004,4,"None","D",3363]
[null,null,null,null,null,null,null,null,null,null,null,null,null,null,null,null,null,null,null,null,null,null,null,null,null,null,null,null,null,null,null,null,null,null,null,null,null,null,null,null,null,null,null,3302,"Yell",28,"Linker fine sandy loam, 3 to 8 percent slopes",3,5,8,39,48,60,0.24,2,"None","C",3364]
[null,null,null,null,null,null,null,null,null,null,null,null,null,null,null,null,null,null,null,null,null,null,null,null,null,null,null,null,null,null,null,null,null,null,null,null,null,null,null,null,null,null,null,3303,"Yell",29,"Linker-Mountainburg complex, 1 to 8 percent slopes",1,5,8,15,45,75,0.24,2,"None","C",3365]
[null,null,null,null,null,null,null,null,null,null,null,null,null,null,null,null,null,null,null,null,null,null,null,null,null,null,null,null,null,null,null,null,null,null,null,null,null,null,null,null,null,null,null,3304,"Yell",30,"McKamie silt loam, 3 to 8 percent slopes, eroded",3,5,8,15,45,75,0.49,5,"None","D",3366]
[null,null,null,null,null,null,null,null,null,null,null,null,null,null,null,null,null,null,null,null,null,null,null,null,null,null,null,null,null,null,null,null,null,null,null,null,null,null,null,null,null,null,null,3305,"Yell",31,"Moreland silty clay, 0 to 1 percent slopes",0,0.5,1,15,75,150,0.32,5,"None","D",3367]
[null,null,null,null,null,null,null,null,null,null,null,null,null,null,null,null,null,null,null,null,null,null,null,null,null,null,null,null,null,null,null,null,null,null,null,null,null,null,null,null,null,null,null,3306,"Yell",32,"Mountainburg gravelly fine sandy loam, 3 to 8 percent slopes",3,5,8,15,45,75,0.32,1,"None","D",3368]
[null,null,null,null,null,null,null,null,null,null,null,null,null,null,null,null,null,null,null,null,null,null,null,null,null,null,null,null,null,null,null,null,null,null,null,null,null,null,null,null,null,null,null,3307,"Yell",33,"Mountainburg gravelly fine sandy loam, 8 to 12 percent slopes",8,10,12,15,30,45,0.32,1,"None","D",3369]
[null,null,null,null,null,null,null,null,null,null,null,null,null,null,null,null,null,null,null,null,null,null,null,null,null,null,null,null,null,null,null,null,null,null,null,null,null,null,null,null,null,null,null,3308,"Yell",34,"Mountainburg stony fine sandy loam, 1 to 12 percent slopes, rocky",1,7,12,15,30,45,0.32,1,"None","D",3370]
[null,null,null,null,null,null,null,null,null,null,null,null,null,null,null,null,null,null,null,null,null,null,null,null,null,null,null,null,null,null,null,null,null,null,null,null,null,null,null,null,null,null,null,3309,"Yell",35,"Mountainburg stony fine sandy loam, 12 to 40 percent slopes, rocky",12,26,40,5,15,30,0.32,1,"None","D",3371]
[null,null,null,null,null,null,null,null,null,null,null,null,null,null,null,null,null,null,null,null,null,null,null,null,null,null,null,null,null,null,null,null,null,null,null,null,null,null,null,null,null,null,null,3310,"Yell",36,"Muskogee silt loam, 1 to 3 percent slopes",1,2,3,15,60,100,0.49,5,"None","D",3372]
[null,null,null,null,null,null,null,null,null,null,null,null,null,null,null,null,null,null,null,null,null,null,null,null,null,null,null,null,null,null,null,null,null,null,null,null,null,null,null,null,null,null,null,3311,"Yell",38,"Nella gravelly fine sandy loam, 8 to 12 percent slopes",8,10,12,39,48,60,0.37,5,"None","B",3373]
[null,null,null,null,null,null,null,null,null,null,null,null,null,null,null,null,null,null,null,null,null,null,null,null,null,null,null,null,null,null,null,null,null,null,null,null,null,null,null,null,null,null,null,3312,"Yell",39,"Nella-Enders complex, 8 to 20 percent slopes",8,14,20,15,20,30,0.37,5,"None","B",3374]
[null,null,null,null,null,null,null,null,null,null,null,null,null,null,null,null,null,null,null,null,null,null,null,null,null,null,null,null,null,null,null,null,null,null,null,null,null,null,null,null,null,null,null,3313,"Yell",40,"Nella-Enders complex, 20 to 40 percent slopes",20,30,40,15,20,30,0.37,5,"None","B",3375]
[null,null,null,null,null,null,null,null,null,null,null,null,null,null,null,null,null,null,null,null,null,null,null,null,null,null,null,null,null,null,null,null,null,null,null,null,null,null,null,null,null,null,null,3314,"Yell",41,"Nella-Enders-Mountainburg stony fine sandy loams, 40 to 65 percent slopes",40,50,60,5,15,30,0.2,5,"None","D",3376]
[null,null,null,null,null,null,null,null,null,null,null,null,null,null,null,null,null,null,null,null,null,null,null,null,null,null,null,null,null,null,null,null,null,null,null,null,null,null,null,null,null,null,null,3315,"Yell",42,"Pickwick silt loam, 1 to 3 percent slopes",1,2,3,15,60,100,0.43,5,"None","B",3377]
[null,null,null,null,null,null,null,null,null,null,null,null,null,null,null,null,null,null,null,null,null,null,null,null,null,null,null,null,null,null,null,null,null,null,null,null,null,null,null,null,null,null,null,3316,"Yell",43,"Pickwick silt loam, 3 to 8 percent slopes",3,5,8,15,45,75,0.43,5,"None","B",3378]
[null,null,null,null,null,null,null,null,null,null,null,null,null,null,null,null,null,null,null,null,null,null,null,null,null,null,null,null,null,null,null,null,null,null,null,null,null,null,null,null,null,null,null,3317,"Yell",44,"Roellen silty clay, 0 to 1 percent slopes",0,0.5,1,15,75,150,0.28000000000000003,5,"None","D",3379]
[null,null,null,null,null,null,null,null,null,null,null,null,null,null,null,null,null,null,null,null,null,null,null,null,null,null,null,null,null,null,null,null,null,null,null,null,null,null,null,null,null,null,null,3318,"Yell",45,"Roellen silty clay, 0 to 1 percent slopes, occasionally flooded",0,0.5,1,15,75,150,0.28000000000000003,5,"Occasional","D",3380]
[null,null,null,null,null,null,null,null,null,null,null,null,null,null,null,null,null,null,null,null,null,null,null,null,null,null,null,null,null,null,null,null,null,null,null,null,null,null,null,null,null,null,null,3319,"Yell",46,"Roxana silt loam, 0 to 3 percent slopes",0,2,3,15,45,75,0.43,5,"None","B",3381]
[null,null,null,null,null,null,null,null,null,null,null,null,null,null,null,null,null,null,null,null,null,null,null,null,null,null,null,null,null,null,null,null,null,null,null,null,null,null,null,null,null,null,null,3320,"Yell",47,"Roxana silt loam, 0 to 3 percent slopes, occasionally flooded",0,2,3,15,45,75,0.43,5,"Occasional","B",3382]
[null,null,null,null,null,null,null,null,null,null,null,null,null,null,null,null,null,null,null,null,null,null,null,null,null,null,null,null,null,null,null,null,null,null,null,null,null,null,null,null,null,null,null,3321,"Yell",48,"Sherless fine sandy loam, 3 to 8 percent slopes",3,5,8,15,45,75,0.28000000000000003,3,"None","C",3383]
[null,null,null,null,null,null,null,null,null,null,null,null,null,null,null,null,null,null,null,null,null,null,null,null,null,null,null,null,null,null,null,null,null,null,null,null,null,null,null,null,null,null,null,3322,"Yell",50,"Spadra fine sandy loam, 0 to 3 percent slopes, occasionally flooded",0,2,3,15,45,75,0.24,5,"Occasional","B",3384]
[null,null,null,null,null,null,null,null,null,null,null,null,null,null,null,null,null,null,null,null,null,null,null,null,null,null,null,null,null,null,null,null,null,null,null,null,null,null,null,null,null,null,null,3323,"Yell",51,"Taft silt loam, 0 to 2 percent slopes",0,1,2,15,45,75,0.49,4,"None","D",3385]
[null,null,null,null,null,null,null,null,null,null,null,null,null,null,null,null,null,null,null,null,null,null,null,null,null,null,null,null,null,null,null,null,null,null,null,null,null,null,null,null,null,null,null,3324,"Yell",53,"Wrightsville silt loam, 0 to 1 percent slopes",0,0.5,1,15,75,150,0.43,3,"None","D",3386]
[null,null,null,null,null,null,null,null,null,null,null,null,null,null,null,null,null,null,null,null,null,null,null,null,null,null,null,null,null,null,null,null,null,null,null,null,null,null,null,null,null,null,null,3325,"Yell","ND367","Nella gravelly fine sandy loam, 3 to 8 percent slopes",3,5,8,39,48,60,0.37,5,"None","B",3387]
[null,null,null,null,null,null,null,null,null,null,null,null,null,null,null,null,null,null,null,null,null,null,null,null,null,null,null,null,null,null,null,null,null,null,null,null,null,null,null,null,null,null,null,3326,"Yell","ND380","Nella-Enders complex 8 to 15 percent slopes",8,12,15,15,20,30,0.2,5,"None","B",3388]
[null,null,null,null,null,null,null,null,null,null,null,null,null,null,null,null,null,null,null,null,null,null,null,null,null,null,null,null,null,null,null,null,null,null,null,null,null,null,null,null,null,null,null,3327,"Yell","NE102","Cupco silt loam, 0 to 2 percent slopes, occasionally flooded",0,1,2,15,99,182,0.43,5,"Occasional","D",3389]
[null,null,null,null,null,null,null,null,null,null,null,null,null,null,null,null,null,null,null,null,null,null,null,null,null,null,null,null,null,null,null,null,null,null,null,null,null,null,null,null,null,null,null,3328,"Yell","NE103","Cupco silt loam, 0 to 2 percent slopes, rarely flooded",0,1,2,15,99,182,0.43,5,"Rare","D",3390]
[null,null,null,null,null,null,null,null,null,null,null,null,null,null,null,null,null,null,null,null,null,null,null,null,null,null,null,null,null,null,null,null,null,null,null,null,null,null,null,null,null,null,null,3329,"Yell","NE111","Neff loam, 0 to 2 percent slopes, rarely flooded",0,1,2,15,45,75,0.43,5,"Rare","D",3391]
[null,null,null,null,null,null,null,null,null,null,null,null,null,null,null,null,null,null,null,null,null,null,null,null,null,null,null,null,null,null,null,null,null,null,null,null,null,null,null,null,null,null,null,3330,"Yell","NE127","Neff silt loam, 0 to 2 percent slopes, occasionally flooded",0,1,2,15,45,75,0.43,5,"Occasional","D",3392]
[null,null,null,null,null,null,null,null,null,null,null,null,null,null,null,null,null,null,null,null,null,null,null,null,null,null,null,null,null,null,null,null,null,null,null,null,null,null,null,null,null,null,null,3331,"Yell","NE220","Leadvale silt loam, 1 to 8 percent slopes",1,4,8,15,45,75,0.43,4,"None","C",3393]
[null,null,null,null,null,null,null,null,null,null,null,null,null,null,null,null,null,null,null,null,null,null,null,null,null,null,null,null,null,null,null,null,null,null,null,null,null,null,null,null,null,null,null,3332,"Yell","NG101","Avilla fine sandy loam, 1 to 6 percent slopes",1,4,6,15,45,75,0.2,5,"None","B",3394]
[null,null,null,null,null,null,null,null,null,null,null,null,null,null,null,null,null,null,null,null,null,null,null,null,null,null,null,null,null,null,null,null,null,null,null,null,null,null,null,null,null,null,null,3333,"Yell","NG104","Avilla gravelly fine sandy loam, 6 to 12 percent slopes",6,9,12,15,45,75,0.2,5,"None","B",3395]
[null,null,null,null,null,null,null,null,null,null,null,null,null,null,null,null,null,null,null,null,null,null,null,null,null,null,null,null,null,null,null,null,null,null,null,null,null,null,null,null,null,null,null,3334,"Yell","NG109","Ceda very gravelly loam, 0 to 3 percent slopes, frequently flooded",0,2,3,15,45,75,0.28000000000000003,5,"Frequent","A",3396]
[null,null,null,null,null,null,null,null,null,null,null,null,null,null,null,null,null,null,null,null,null,null,null,null,null,null,null,null,null,null,null,null,null,null,null,null,null,null,null,null,null,null,null,3335,"Yell","NG123","Dela fine sandy loam, 0 to 2 percent slopes, occasionally flooded",0,1,2,15,45,75,0.24,5,"Occasional","A",3397]
[null,null,null,null,null,null,null,null,null,null,null,null,null,null,null,null,null,null,null,null,null,null,null,null,null,null,null,null,null,null,null,null,null,null,null,null,null,null,null,null,null,null,null,3336,"Yell","NG128","Kenn gravelly fine sandy loam, 0 to 3 percent slopes, occasionally flooded",0,2,3,15,45,75,0.2,4,"Occasional","B",3398]
[null,null,null,null,null,null,null,null,null,null,null,null,null,null,null,null,null,null,null,null,null,null,null,null,null,null,null,null,null,null,null,null,null,null,null,null,null,null,null,null,null,null,null,3337,"Yell","NG130","Kenn fine sandy loam, 0 to 3 percent slopes, rarely flooded",0,2,3,15,45,75,0.24,4,"Rare","B",3399]
[null,null,null,null,null,null,null,null,null,null,null,null,null,null,null,null,null,null,null,null,null,null,null,null,null,null,null,null,null,null,null,null,null,null,null,null,null,null,null,null,null,null,null,3338,"Yell","NG132","Kenn-Ceda complex, 0 to 2 percent slopes, ocasionally flooded",1,2,3,15,45,75,0.2,4,"Frequent","B",3400]
[null,null,null,null,null,null,null,null,null,null,null,null,null,null,null,null,null,null,null,null,null,null,null,null,null,null,null,null,null,null,null,null,null,null,null,null,null,null,null,null,null,null,null,3339,"Yell","NG134","Mazarn silt loam, 0 to 3 percent slopes, occasionally flooded",1,2,3,15,45,75,0.37,3,"Occasional","D",3401]
[null,null,null,null,null,null,null,null,null,null,null,null,null,null,null,null,null,null,null,null,null,null,null,null,null,null,null,null,null,null,null,null,null,null,null,null,null,null,null,null,null,null,null,3340,"Yell","NG135","Mazarn silt loam, 0 to 3 percent slopes",0,2,3,15,45,75,0.37,3,"None","D",3402]
[null,null,null,null,null,null,null,null,null,null,null,null,null,null,null,null,null,null,null,null,null,null,null,null,null,null,null,null,null,null,null,null,null,null,null,null,null,null,null,null,null,null,null,3341,"Yell","NG139","Mena gravelly silt loam, 1 to 6 percent slopes",1,4,6,15,45,75,0.43,4,"None","C",3403]
[null,null,null,null,null,null,null,null,null,null,null,null,null,null,null,null,null,null,null,null,null,null,null,null,null,null,null,null,null,null,null,null,null,null,null,null,null,null,null,null,null,null,null,3342,"Yell","NG157","Speer fine sandy loam, 0 to 2 percent slopes, occasionally flooded",0,1,2,15,45,75,0.2,5,"Occasional","B",3404]
[null,null,null,null,null,null,null,null,null,null,null,null,null,null,null,null,null,null,null,null,null,null,null,null,null,null,null,null,null,null,null,null,null,null,null,null,null,null,null,null,null,null,null,3343,"Yell","NG162","Wetsaw loam, 1 to 6 percent slopes",1,4,6,15,45,75,0.32,5,"None","C",3405]
[null,null,null,null,null,null,null,null,null,null,null,null,null,null,null,null,null,null,null,null,null,null,null,null,null,null,null,null,null,null,null,null,null,null,null,null,null,null,null,null,null,null,null,3344,"Yell","NG165","Ceda-Rubble land complex, 1 to 3 percent slopes, frequently flooded, rubbly",1,2,3,15,45,75,0.15,5,"Frequent","A",3406]
[null,null,null,null,null,null,null,null,null,null,null,null,null,null,null,null,null,null,null,null,null,null,null,null,null,null,null,null,null,null,null,null,null,null,null,null,null,null,null,null,null,null,null,3345,"Yell","NG166","Kenn-Ceda complex, 0 to 3 percent slopes, fequently flooded, extremely stony",1,2,3,15,45,75,0.2,4,"Frequent","B",3407]
[null,null,null,null,null,null,null,null,null,null,null,null,null,null,null,null,null,null,null,null,null,null,null,null,null,null,null,null,null,null,null,null,null,null,null,null,null,null,null,null,null,null,null,3346,"Yell","NG201","Bengal-Carnasaw-Clebit complex, 35 to 60 percent slopes, rubbly",35,47,60,5,15,30,0.49,3,"None","D",3408]
[null,null,null,null,null,null,null,null,null,null,null,null,null,null,null,null,null,null,null,null,null,null,null,null,null,null,null,null,null,null,null,null,null,null,null,null,null,null,null,null,null,null,null,3347,"Yell","NG225","Bismarck-Littlefir complex, 3 to 8 percent slopes",3,5,8,15,45,75,0.43,2,"None","D",3409]
[null,null,null,null,null,null,null,null,null,null,null,null,null,null,null,null,null,null,null,null,null,null,null,null,null,null,null,null,null,null,null,null,null,null,null,null,null,null,null,null,null,null,null,3348,"Yell","NG226","Bismarck-Littlefir complex, 8 to 15 percent slopes",8,12,15,15,30,45,0.43,2,"None","D",3410]
[null,null,null,null,null,null,null,null,null,null,null,null,null,null,null,null,null,null,null,null,null,null,null,null,null,null,null,null,null,null,null,null,null,null,null,null,null,null,null,null,null,null,null,3349,"Yell","NG237","Carnasaw stony loam, 3 to 15 percent slopes, extremely stony",3,10,15,7,33,61,0.49,4,"None","C",3411]
[null,null,null,null,null,null,null,null,null,null,null,null,null,null,null,null,null,null,null,null,null,null,null,null,null,null,null,null,null,null,null,null,null,null,null,null,null,null,null,null,null,null,null,3350,"Yell","NG252","Carnasaw-Pirum complex, 3 to 15 percent slopes, rubbly",3,9,15,15,30,45,0.49,4,"None","C",3412]
[null,null,null,null,null,null,null,null,null,null,null,null,null,null,null,null,null,null,null,null,null,null,null,null,null,null,null,null,null,null,null,null,null,null,null,null,null,null,null,null,null,null,null,3351,"Yell","NG260","Carnasaw-Sherless complex, 15 to 35 percent slopes, extremely stony",15,25,35,5,15,30,0.49,4,"None","C",3413]
[null,null,null,null,null,null,null,null,null,null,null,null,null,null,null,null,null,null,null,null,null,null,null,null,null,null,null,null,null,null,null,null,null,null,null,null,null,null,null,null,null,null,null,3352,"Yell","NG263","Carnasaw-Sherless complex 3 to 8 percent slopes",3,5,8,15,30,45,0.49,4,"None","C",3414]
[null,null,null,null,null,null,null,null,null,null,null,null,null,null,null,null,null,null,null,null,null,null,null,null,null,null,null,null,null,null,null,null,null,null,null,null,null,null,null,null,null,null,null,3353,"Yell","NG265","Carnasaw-Sherless complex, 8 to 15 percent slopes, very stony",8,12,15,15,30,45,0.49,4,"None","C",3415]
[null,null,null,null,null,null,null,null,null,null,null,null,null,null,null,null,null,null,null,null,null,null,null,null,null,null,null,null,null,null,null,null,null,null,null,null,null,null,null,null,null,null,null,3354,"Yell","NG278","Carnasaw-Zafra-Clebit complex, 15 to 35 percent slopes, rubbly",15,25,35,5,15,30,0.24,4,"None","C",3416]
[null,null,null,null,null,null,null,null,null,null,null,null,null,null,null,null,null,null,null,null,null,null,null,null,null,null,null,null,null,null,null,null,null,null,null,null,null,null,null,null,null,null,null,3355,"Yell","NG287","Clebit-Caston-Pirum complex, 35 to 60 percent slopes, very rubbly",35,48,60,5,15,30,0.28000000000000003,1,"None","B",3417]
[null,null,null,null,null,null,null,null,null,null,null,null,null,null,null,null,null,null,null,null,null,null,null,null,null,null,null,null,null,null,null,null,null,null,null,null,null,null,null,null,null,null,null,3356,"Yell","NG293","Littlefir-Bismarck complex, 8 to 15 percent slopes",8,12,15,15,30,45,0.43,3,"None","C",3418]
[null,null,null,null,null,null,null,null,null,null,null,null,null,null,null,null,null,null,null,null,null,null,null,null,null,null,null,null,null,null,null,null,null,null,null,null,null,null,null,null,null,null,null,3357,"Yell","NG298","Littlefir-Carnasaw-Clebit complex, 3 to 15 percent slopes, extremely stony",3,9,15,5,15,30,0.43,3,"None","C",3419]
[null,null,null,null,null,null,null,null,null,null,null,null,null,null,null,null,null,null,null,null,null,null,null,null,null,null,null,null,null,null,null,null,null,null,null,null,null,null,null,null,null,null,null,3358,"Yell","NG308","Nashoba-Bismarck-Clebit complex, 35 to 70 percent slopes, rubbly",35,52,70,5,15,30,0.17,2,"None","D",3420]
[null,null,null,null,null,null,null,null,null,null,null,null,null,null,null,null,null,null,null,null,null,null,null,null,null,null,null,null,null,null,null,null,null,null,null,null,null,null,null,null,null,null,null,3359,"Yell","NG311","Nashoba-Bismarck-Sherless complex, 15 to 35 percent slopes, rubbly",15,25,35,5,15,30,0.17,2,"None","B",3421]
[null,null,null,null,null,null,null,null,null,null,null,null,null,null,null,null,null,null,null,null,null,null,null,null,null,null,null,null,null,null,null,null,null,null,null,null,null,null,null,null,null,null,null,3360,"Yell","NG314","Octavia-Carnasaw complex 15 to 35 percent slopes, rubbly",15,25,35,5,15,30,0.32,5,"None","B",3422]
[null,null,null,null,null,null,null,null,null,null,null,null,null,null,null,null,null,null,null,null,null,null,null,null,null,null,null,null,null,null,null,null,null,null,null,null,null,null,null,null,null,null,null,3361,"Yell","NG316","Octavia-Carnasaw-Caston complex, 35 to 60 percent slopes, rubbly",35,48,60,5,15,30,0.32,5,"None","B",3423]
[null,null,null,null,null,null,null,null,null,null,null,null,null,null,null,null,null,null,null,null,null,null,null,null,null,null,null,null,null,null,null,null,null,null,null,null,null,null,null,null,null,null,null,3362,"Yell","NG327","Pirum-Octavia-Panama complex, 35 to 60 percent slopes, rubbly",35,48,60,7,33,61,0.28000000000000003,3,"None","B",3424]
[null,null,null,null,null,null,null,null,null,null,null,null,null,null,null,null,null,null,null,null,null,null,null,null,null,null,null,null,null,null,null,null,null,null,null,null,null,null,null,null,null,null,null,3363,"Yell","NG341","Sherless gravelly fine sandy loam, 1 to 8 percent slopes",1,4,8,15,45,75,0.28000000000000003,3,"None","C",3425]
[null,null,null,null,null,null,null,null,null,null,null,null,null,null,null,null,null,null,null,null,null,null,null,null,null,null,null,null,null,null,null,null,null,null,null,null,null,null,null,null,null,null,null,3364,"Yell","NG350","Sherless-Littlefir complex, 3 to 8 percent slopes",3,5,8,15,45,75,0.28000000000000003,3,"None","C",3426]
[null,null,null,null,null,null,null,null,null,null,null,null,null,null,null,null,null,null,null,null,null,null,null,null,null,null,null,null,null,null,null,null,null,null,null,null,null,null,null,null,null,null,null,3365,"Yell","NG354","Sherless-Littlefir-Nashoba complex, 8 to 15 percent slopes, very stony",8,12,15,5,15,30,0.28000000000000003,3,"None","C",3427]
[null,null,null,null,null,null,null,null,null,null,null,null,null,null,null,null,null,null,null,null,null,null,null,null,null,null,null,null,null,null,null,null,null,null,null,null,null,null,null,null,null,null,null,3366,"Yell","NG355","Sherless-Littlefir-Nashoba complex, 15 to 35 percent slopes, extremely stony",15,25,35,5,15,30,0.24,3,"None","C",3428]
[null,null,null,null,null,null,null,null,null,null,null,null,null,null,null,null,null,null,null,null,null,null,null,null,null,null,null,null,null,null,null,null,null,null,null,null,null,null,null,null,null,null,null,3367,"Yell","NG394","Zafra-Carnasaw-Clebit complex, 35 to 60 percent slopes, rubbly",35,48,60,5,15,30,0.2,3,"None","C",3429]
[null,null,null,null,null,null,null,null,null,null,null,null,null,null,null,null,null,null,null,null,null,null,null,null,null,null,null,null,null,null,null,null,null,null,null,null,null,null,null,null,null,null,null,3368,"Yell","NG397","Littlefir-Sherless-Nashoba complex, 1 to 8 percent slopes, very stony",1,5,8,15,45,75,0.32,3,"None","C",3430]
[null,null,null,null,null,null,null,null,null,null,null,null,null,null,null,null,null,null,null,null,null,null,null,null,null,null,null,null,null,null,null,null,null,null,null,null,null,null,null,null,null,null,null,3369,"Yell","NG398","Clebit-Carnasaw-Rock outcrop complex, 3 to 15 percent slopes, very rubbly (158)",3,9,15,15,30,45,0.28000000000000003,1,"None","D",3431]
[null,null,null,null,null,null,null,null,null,null,null,null,null,null,null,null,null,null,null,null,null,null,null,null,null,null,null,null,null,null,null,null,null,null,null,null,null,null,null,null,null,null,null,3370,"Yell","NG399","Shermore fine sandy loam, 1 to 5 percent slopes",1,3,5,15,68,122,0.24,4,"None","C",3432]
[null,null,null,null,null,null,null,null,null,null,null,null,null,null,null,null,null,null,null,null,null,null,null,null,null,null,null,null,null,null,null,null,null,null,null,null,null,null,null,null,null,null,null,3371,"Yell","NG402","Bengal-Carnasaw-Clebit complex, 15 to 35 percent slopes, extremely stony",15,25,35,5,15,30,0.43,3,"None","D",3433]
[null,null,null,null,null,null,null,null,null,null,null,null,null,null,null,null,null,null,null,null,null,null,null,null,null,null,null,null,null,null,null,null,null,null,null,null,null,null,null,null,null,null,null,3372,"End",null,null,null,null,null,null,null,null,null,null,null,null,3434]
[]
[]
[]
[]
[]
[]
[]
[]
[]
[]
[]
[]
[]
[]
[]
[]
[]
[]
[]
[]
[null,null,null,null,null,null,null,null,null,null,null,null,null,null,null,null,null,null,null,null,null,null,null,null,null,null,null,null,null,null,null,null,null,null,null,null,null,null,null,null,null,null,null,null,null,null,null,null,null,null,null,null,null,null,null,null,null,3455]

{"sheet":"Calcs","index":7,"n_rows":133,"n_cols":64,"rows_kept":133,"cut":false,"hidden":true,"merged":[]}
[]
[]
[]
[null,"Reset Soil Map Unit Codes if County Changes"]
[null,"VB code in Private Sub Worksheet_SelectionChange subroutine resets uses cells below"]
[null,"CurrentCounty",{"$f":"Planning!C14","v":"Washington"}]
[null,"OldCounty","Washington",null,null,"Cell Color Flag To indicate use of Color in Printing (1= Color, Not 1 = B&W)"]
[null,null,null,null,null,"Cond Color On",null,1]
[null,"if Soild Name can't Located"]
[null,"Soil Name Can't be located"]
[]
[]
[null,"Error Trapping Block"]
[]
[null,"Error Value","Message"]
[null,{"$f":"IF(SUM(COUNTIF(Planning!$A$22:$A$25,Planning!$A$21),COUNTIF(Planning!$A$23:$A$25,Planning!$A$22),COUNTIF(Planning!$A$24:$A$25,Planning!$A$23),COUNTIF(Planning!$A$25:$A$25,Planning!$A$24))>0,1,0)","v":0},"WARNING! A nutrient source is listed more than once in the Nutrient Source and Description Information Section. Please correct this problem to ensure the program functions correctly.  "]
[null,{"$f":"IF(SUM(COUNTIF(Planning!$A$76:$A$102,Planning!$A$53),COUNTIF(Planning!$A$77:$A$102,Planning!$A$76),COUNTIF(Planning!$A$78:$A$102,Planning!$A$77),COUNTIF(Planning!$A$79:$A$102,Planning!$A$78),COUNTIF(Planning!$A$80:$A$102,Planning!$A$79),COUNTIF(Planning!$A$93:$A$102,Planning!$A$80),COUNTIF(Planning!$A$94:$A$102,Planning!$A$93),COUNTIF(Planning!$A$101:$A$102,Planning!$A$94),COUNTIF(Planning!$A$102:$A$102,Planning!$A$101))>0,1,0)","v":0},"WARNING! A field is listed more than once in the section above. Please correct this problem to ensure the program functions correctly.  "]
[null,{"$f":"IF(COUNTIF(Planning!L267:L316,\">0\"),1,0)","v":0},"WARNING! An application rate is planned that exceeds crop N needs. The application rate should be reduced.  "]
[null,{"$f":"IF(SUM(IF(Planning!A21=\"\",0,IF(OR(CODE(UPPER(Planning!A21))<65,CODE(UPPER(Planning!A21))>95),1,0))+IF(Planning!A22=\"\",0,IF(OR(CODE(UPPER(Planning!A22))<65,CODE(UPPER(Planning!A22))>95),1,0))+IF(Planning!A23=\"\",0,IF(OR(CODE(UPPER(Planning!A23))<65,CODE(UPPER(Planning!A23))>95),1,0))+IF(Planning!A24=\"\",0,IF(OR(CODE(UPPER(Planning!A24))<65,CODE(UPPER(Planning!A24))>95),1,0))+IF(Planning!A25=\"\",0,IF(OR(CODE(UPPER(Planning!A25))<65,CODE(UPPER(Planning!A25))>95),1,0)))>0,1,0)","v":0},"WARNING! A litter source name does not begin with a letter from a to z! Names should begin with a letter. Capitalization does not matter.  "]
[null,{"$f":"IF(SUM(IF(Planning!A53=\"\",0,IF(OR(CODE(UPPER(Planning!A53))<65,CODE(UPPER(Planning!A53))>95),1,0))+IF(Planning!A76=\"\",0,IF(OR(CODE(UPPER(Planning!A76))<65,CODE(UPPER(Planning!A76))>95),1,0))+IF(Planning!A77=\"\",0,IF(OR(CODE(UPPER(Planning!A77))<65,CODE(UPPER(Planning!A77))>95),1,0))+IF(Planning!A78=\"\",0,IF(OR(CODE(UPPER(Planning!A78))<65,CODE(UPPER(Planning!A78))>95),1,0))+IF(Planning!A79=\"\",0,IF(OR(CODE(UPPER(Planning!A79))<65,CODE(UPPER(Planning!A79))>95),1,0))+IF(Planning!A80=\"\",0,IF(OR(CODE(UPPER(Planning!A80))<65,CODE(UPPER(Planning!A80))>95),1,0))+IF(Planning!A93=\"\",0,IF(OR(CODE(UPPER(Planning!A93))<65,CODE(UPPER(Planning!A93))>95),1,0))+IF(Planning!A94=\"\",0,IF(OR(CODE(UPPER(Planning!A94))<65,CODE(UPPER(Planning!A94))>95),1,0))+IF(Planning!A101=\"\",0,IF(OR(CODE(UPPER(Planning!A101))<65,CODE(UPPER(Planning!A101))>95),1,0))+IF(Planning!A102=\"\",0,IF(OR(CODE(UPPER(Planning!A102))<65,CODE(UPPER(Planning!A102))>95),1,0)))>0,1,0)","v":0},"WARNING! A field name does not begin with a letter from a to z! Names should begin with a letter. Capitalization does not matter.  "]
[null,{"$f":"IF(D133>0,1,0)","v":0},"WARNING! An application is planned that exceeds the target PI rate. Either the rate should be reduced or the PI value reevaluated.  "]
[]
[]
[null,1,"     "]
[null,"Complete"," "]
[]
[null,"Supplemental Documentation of Inputs and Results for P Index and RUSLE Calculations"]
[null,"Field","Soil Map Unit","Soil Name","Primary Litter Source","Source Type","WEP (lb/ton)","TP Used (lb/ton)","Litter   Appl. Rate (tons/acre)","WEP rate (lb/ac)","TP rate (lb/ac)","Alum Used","Mineralization Coef","WEP coef","WEP Source Value","4 in Soil Test P lb/ac","Soil coef","Soil P Source Value","Total P Source Value","R factor","Kf","Adj Kf For Freezing?","Kf Used","Slope Gradient (%)","Slope Length (ft)","Rusle LS","Vegetal Canopy: Type","Percent of Ground Coverd","C Factor","Cons. Support Practices (P)","Calc. P Factor?","Soil Hydrologic Group","EI","P Factor","RUSLE 1 (ton/ac)","RUSLE 2 (ton/ac)","RUSLE ? Used (ton/ac)","Soil Erosion LRV","Pasture Use","Runoff Curve Numbers","Soil Runoff Class","Soil Runoff Class LRV","Flooding Frequency","Flooding Frequency LRV","Application Method","Application Method LRV","Application Timing","Application Timing LRV","Total P Transport Value","Calc PI","Pre BMP PI Value","PI Range","Diversion %","Terrace %","Pond %","Filter Strip %","Grassed WaterWay %","Fencing %","Riparioan Forst Buffer %","Riparian Herbaceous Buffer %","Field Borderrs %","Total SMV","Post BMP PI Value","PI Range"]
[null,{"$f":"IF(ISBLANK(Planning!A159),\"\",Planning!A159)","v":"Rotation"},{"$f":"IF(ISBLANK(Planning!D53),\"\",Planning!D53)","v":"NaC"},{"$f":"IF(LEN(C29)=0,\"\",IF(ISNA(VLOOKUP(C29,INDIRECT(ADDRESS(Data!$AG$67,Data!$AG$65,1,1,\"Data\")):INDIRECT(ADDRESS(Data!$AG$68,Data!$AG$66,1,1,\"Data\")),Data!$AG$74,0)),$B$10,VLOOKUP(Planning!D53,INDIRECT(ADDRESS(Data!$AG$67,Data!$AG$65,1,1,\"Data\")):INDIRECT(ADDRESS(Data!$AG$68,Data!$AG$66,1,1,\"Data\")),Data!$AG$74,0)))","v":"Nixa very gravelly silt loam, 3 to 8 percent slopes"},{"$f":"IF(ISBLANK(Planning!I159),\"\",Planning!I159)","v":"Cake"},{"$f":"IF(ISBLANK(Planning!I159),\"\",INDEX(Planning!$A$21:$C$25,MATCH(E29,Planning!$A$21:$A$25,0),2))","v":"Dry Litter"},{"$f":"IF(ISNA(INDEX(Planning!$A$21:$N$25,MATCH(E29,Planning!$A$21:$A$25,0),12)),\"\",INDEX(Planning!$A$21:$N$25,MATCH(E29,Planning!$A$21:$A$25,0),12))","v":4.9000000000000004},{"$f":"IF(ISNA(INDEX(Planning!$A$21:$N$25,MATCH(E29,Planning!$A$21:$A$25,0),8)/2.29),\"\",INDEX(Planning!$A$21:$N$25,MATCH(E29,Planning!$A$21:$A$25,0),8)/2.29)","v":26.899563318777293},{"$f":"IF(ISBLANK(Planning!J159),\"\",Planning!J159)","v":1.6199999999999992},{"$f":"IF(ISERROR(I29*G29),\"\",I29*G29)","v":7.9379999999999971},{"$f":"IF(ISERROR(I29*H29),\"\",I29*H29)","v":43.577292576419197},{"$f":"IF(ISNA(INDEX(Planning!$A$21:$N$25,MATCH(E29,Planning!$A$21:$A$25,0),14)),\"\",INDEX(Planning!$A$21:$N$25,MATCH(E29,Planning!$A$21:$A$25,0),14))","v":"No"},{"$f":"IF(ISERROR(VLOOKUP(L29,Data!$Q$65:$R$66,2,1)),\"\",VLOOKUP(L29,Data!$Q$65:$R$66,2,1))","v":0.05},{"$f":"IF(ISNA(VLOOKUP(F29,Nutrient_Table,2,0)),\"\",VLOOKUP(F29,Nutrient_Table,2,0))","v":9.5000000000000001E-2},{"$f":"IF(ISERROR(N29*(J29+M29*(K29-J29))),\"\",N29*(J29+M29*(K29-J29)))","v":0.92339663973799091},{"$f":"IF(LEN(B29)=0,\"\",Planning!B53*(1.3333))","v":182.66209999999998},{"$f":"IF(ISNA(INDEX(Nutrient_Table,MATCH(F29,Manure_Type,0),3)),\"\",INDEX(Nutrient_Table,MATCH(F29,Manure_Type,0),3))","v":1.8E-3},{"$f":"IF(ISERROR(P29*Q29),\"\",P29*Q29)","v":0.32879177999999998},{"$f":"IF(ISERROR(O29+R29),\"\",O29+R29)","v":1.2521884197379909},{"$f":"IF(LEN(B29)=0,\"\",IF(ISBLANK(Data!$AG$69),\"\",Data!$AG$69))","v":311},{"$f":"IF(ISERROR(VLOOKUP(C29,INDIRECT(ADDRESS(Data!$AG$67,Data!$AG$65,1,1,\"Data\")):INDIRECT(ADDRESS(Data!$AG$68,Data!$AG$66,1,1,\"Data\")),Data!$AG$81,0)),\"\",VLOOKUP(C29,INDIRECT(ADDRESS(Data!$AG$67,Data!$AG$65,1,1,\"Data\")):INDIRECT(ADDRESS(Data!$AG$68,Data!$AG$66,1,1,\"Data\")),Data!$AG$81,0))","v":0.43},{"$f":"IF(LEN(B29)=0,\"\",IF(LEN(Data!$AG$71)=0,\"\",IF(Data!$AG$71=1,\"Yes\", \"No\")))","v":"Yes"},{"$f":"IF(ISERROR(IF(V29=\"NO\",U29,VLOOKUP(U29,Data!$AA$72:$AB$85,2,0))),\"\",IF(V29=\"NO\",U29,VLOOKUP(U29,Data!$AA$72:$AB$85,2,0)))","v":0.35},{"$f":"IF(ISBLANK(Planning!H53),\"\",Planning!H53)","v":5},{"$f":"IF(ISBLANK(Planning!L53),\"\",Planning!L53)","v":48},{"$f":"IF(ISERROR(INDEX(Data!$D$128:$T$146,MATCH(X29,Data!$C$128:$C$146,1),MATCH(Y29,Data!$D$127:$T$127,1))),\"\",INDEX(Data!$D$128:$T$146,MATCH(X29,Data!$C$128:$C$146,1),MATCH(Y29,Data!$D$127:$T$127,1)))","v":0.44},{"$f":"IF(ISBLANK(Planning!F105),\"\",Planning!F105)","v":"Grass"},{"$f":"IF(ISBLANK(Planning!H105),\"\",Planning!H105)","v":"95-100"},{"$f":"IF(ISERROR(INDEX(Data!$F$155:$K$156,VLOOKUP(AA29,Data!$C$79:$D$81,2),VLOOKUP(AB29,Data!$G$79:$H$85,2,0))),\"\",INDEX(Data!$F$155:$K$156,VLOOKUP(AA29,Data!$C$79:$D$81,2),VLOOKUP(AB29,Data!$G$79:$H$85,2,0)))","v":3.0000000000000001E-3},{"$f":"IF(ISBLANK(Planning!J105),\"\",Planning!J105)","v":"None in place"},{"$f":"IF(ISERROR(VLOOKUP(AD29,Data!$J$79:$K$81,2,0)),\"\",VLOOKUP(AD29,Data!$J$79:$K$81,2,0))","v":"No"},{"$f":"IF(ISERROR(VLOOKUP(C29,INDIRECT(ADDRESS(Data!$AG$67,Data!$AG$65,1,1,\"Data\")):INDIRECT(ADDRESS(Data!$AG$68,Data!$AG$66,1,1,\"Data\")),Data!$AG$84,0)),\"\",VLOOKUP(C29,INDIRECT(ADDRESS(Data!$AG$67,Data!$AG$65,1,1,\"Data\")):INDIRECT(ADDRESS(Data!$AG$68,Data!$AG$66,1,1,\"Data\")),Data!$AG$84,0))","v":"D"},{"$f":"IF(LEN(B29)=0,\"\",IF(LEN(Data!$AG$70)=0,\"\",Data!$AG$70))","v":120},{"$f":"IF(LEN(AE29)=0,\"\",IF(AE29=\"Yes\",INDIRECT(ADDRESS((ROW(Data!$M$153)+MATCH(AG29,Data!$M$154:$M$293,0)+MATCH(X29,Data!$P$154:$P$174,1)-1),(COLUMN(Data!$Q$153)+MATCH(AF29,Data!$R$153:$U$153,0)),1,1,\"Data\"),TRUE),1))","v":1},{"$f":"IF(ISERROR(T29*W29*Z29*AC29*AH29),\"\",T29*W29*Z29*AC29*AH29)","v":0.143682},{"$f":"IF(ISBLANK(Planning!M105),\"\",Planning!M105)","v":0.18883920000000001},{"$f":"AJ29","v":0.18883920000000001},{"$f":"IF(ISERROR(VLOOKUP(AK29,Data!$J$105:$K$109,2,1)),\"\",VLOOKUP(AK29,Data!$J$105:$K$109,2,1))","v":0},{"$f":"IF(ISBLANK(Planning!B159),\"\",Planning!B159)","v":"Rotational Grazing"},{"$f":"IF(ISERROR(INDEX(Data!$D$91:$G$94,MATCH(AM29,Data!$C$91:$C$94,1),MATCH(AF29,Data!$D$90:$G$90,1))),\"\",INDEX(Data!$D$91:$G$94,MATCH(AM29,Data!$C$91:$C$94,1),MATCH(AF29,Data!$D$90:$G$90,1)))","v":80},{"$f":"IF(ISERROR(VLOOKUP(X29,Data!$D$184:$K$200,HLOOKUP(AN29,Data!$E$182:$K$183,2))),\"\",VLOOKUP(X29,Data!$D$184:$K$200,HLOOKUP(AN29,Data!$E$182:$K$183,2)))","v":"M"},{"$f":"IF(ISERROR(VLOOKUP(AO29,Data!$C$105:$D$110,2)),\"\",VLOOKUP(AO29,Data!$C$105:$D$110,2))","v":0.5},{"$f":"IF(ISBLANK(Planning!M53),\"\",Planning!M53)","v":"None"},{"$f":"IF(ISERROR(VLOOKUP(AQ29,Data!$F$105:$G$108,2,1)),\"\",VLOOKUP(AQ29,Data!$F$105:$G$108,2,1))","v":0},{"$f":"IF(ISBLANK(Planning!F159),\"\",Planning!F159)","v":"Surface Applied"},{"$f":"IF(ISERROR(VLOOKUP(AS29,Data!$C$99:$D$101,2)),\"\",VLOOKUP(AS29,Data!$C$99:$D$101,2))","v":0.2},{"$f":"IF(ISBLANK(Planning!H159),\"\",Planning!H159)","v":"March-June"},{"$f":"IF(ISERROR(VLOOKUP(AU29,Data!$G$99:$H$101,2)),\"\",VLOOKUP(AU29,Data!$G$99:$H$101,2))","v":0.25},{"$f":"IF(ISERROR(AL29+AP29+AR29+AT29+AV29),\"\",AL29+AP29+AR29+AT29+AV29)","v":0.95},{"$f":"IF(LEN(B29)=0,\"\",COUNTIF(B29:AH29,\"\")+COUNTIF(AK29:AW29,\"\")+COUNTIF(B29:AW29,NA()))","v":0},{"$f":"IF(AX29=0,ROUND((S29*AW29)/1.8*100,0),\"\")","v":66},{"$f":"IF(AX29=0,VLOOKUP(AY29,Data!$C$116:$D$119,2),\"\")","v":"Medium"},{"$f":"IF(LEN(B29)=0,\"\",IF(ISBLANK(Planning!B212),0,Planning!B212))","v":0},{"$f":"IF(LEN(B29)=0,\"\",IF(ISBLANK(Planning!C212),0,Planning!C212))","v":0},{"$f":"IF(LEN(B29)=0,\"\",IF(ISBLANK(Planning!D212),0,Planning!D212))","v":0},{"$f":"IF(LEN(B29)=0,\"\",IF(ISBLANK(Planning!E212),0,Planning!E212))","v":0},{"$f":"IF(LEN(B29)=0,\"\",IF(ISBLANK(Planning!F212),0,Planning!F212))","v":0},{"$f":"IF(LEN(B29)=0,\"\",IF(ISBLANK(Planning!G212),0,Planning!G212))","v":0},{"$f":"IF(LEN(B29)=0,\"\",IF(ISBLANK(Planning!H212),0,Planning!H212))","v":0},{"$f":"IF(LEN(B29)=0,\"\",IF(ISBLANK(Planning!I212),0,Planning!I212))","v":0},{"$f":"IF(LEN(B29)=0,\"\",IF(ISBLANK(Planning!J212),0,Planning!J212))","v":0},{"$f":"IF(LEN(B29)=0,\"\",(1-BA29)*(1-BB29)*(1-BC29)*(1-BD29)*(1-BE29)*(1-BF29)*(1-BG29)*(1-BH29)*(1-BI29))","v":1},{"$f":"IF(AX29=0,ROUND((S29*AW29*BJ29)/1.8*100,0),\"\")","v":66},{"$f":"IF(AX29=0,VLOOKUP(BK29,Data!$C$116:$D$119,2),\"\")","v":"Medium"}]
[null,{"$f":"IF(ISBLANK(Planning!A160),\"\",Planning!A160)","v":"Continuous"},{"$f":"IF(ISBLANK(Planning!D54),\"\",Planning!D54)","v":"ClG"},{"$f":"IF(LEN(C30)=0,\"\",IF(ISNA(VLOOKUP(C30,INDIRECT(ADDRESS(Data!$AG$67,Data!$AG$65,1,1,\"Data\")):INDIRECT(ADDRESS(Data!$AG$68,Data!$AG$66,1,1,\"Data\")),Data!$AG$74,0)),$B$10,VLOOKUP(Planning!D54,INDIRECT(ADDRESS(Data!$AG$67,Data!$AG$65,1,1,\"Data\")):INDIRECT(ADDRESS(Data!$AG$68,Data!$AG$66,1,1,\"Data\")),Data!$AG$74,0)))","v":"Clarksville extremely gravelly silt loam, 12 to 60 percent slopes"},{"$f":"IF(ISBLANK(Planning!I160),\"\",Planning!I160)","v":"Cake"},{"$f":"IF(ISBLANK(Planning!I160),\"\",INDEX(Planning!$A$21:$C$25,MATCH(E30,Planning!$A$21:$A$25,0),2))","v":"Dry Litter"},{"$f":"IF(ISNA(INDEX(Planning!$A$21:$N$25,MATCH(E30,Planning!$A$21:$A$25,0),12)),\"\",INDEX(Planning!$A$21:$N$25,MATCH(E30,Planning!$A$21:$A$25,0),12))","v":4.9000000000000004},{"$f":"IF(ISNA(INDEX(Planning!$A$21:$N$25,MATCH(E30,Planning!$A$21:$A$25,0),8)/2.29),\"\",INDEX(Planning!$A$21:$N$25,MATCH(E30,Planning!$A$21:$A$25,0),8)/2.29)","v":26.899563318777293},{"$f":"IF(ISBLANK(Planning!J160),\"\",Planning!J160)","v":3.5881578947368422},{"$f":"IF(ISERROR(I30*G30),\"\",I30*G30)","v":17.581973684210528},{"$f":"IF(ISERROR(I30*H30),\"\",I30*H30)","v":96.519880487244322},{"$f":"IF(ISNA(INDEX(Planning!$A$21:$N$25,MATCH(E30,Planning!$A$21:$A$25,0),14)),\"\",INDEX(Planning!$A$21:$N$25,MATCH(E30,Planning!$A$21:$A$25,0),14))","v":"No"},{"$f":"IF(ISERROR(VLOOKUP(L30,Data!$Q$65:$R$66,2,1)),\"\",VLOOKUP(L30,Data!$Q$65:$R$66,2,1))","v":0.05},{"$f":"IF(ISNA(VLOOKUP(F30,Nutrient_Table,2,0)),\"\",VLOOKUP(F30,Nutrient_Table,2,0))","v":9.5000000000000001E-2},{"$f":"IF(ISERROR(N30*(J30+M30*(K30-J30))),\"\",N30*(J30+M30*(K30-J30)))","v":2.0452425573144106},{"$f":"IF(LEN(B30)=0,\"\",Planning!B54*(1.3333))","v":61.331799999999994},{"$f":"IF(ISNA(INDEX(Nutrient_Table,MATCH(F30,Manure_Type,0),3)),\"\",INDEX(Nutrient_Table,MATCH(F30,Manure_Type,0),3))","v":1.8E-3},{"$f":"IF(ISERROR(P30*Q30),\"\",P30*Q30)","v":0.11039723999999998},{"$f":"IF(ISERROR(O30+R30),\"\",O30+R30)","v":2.1556397973144108},{"$f":"IF(LEN(B30)=0,\"\",IF(ISBLANK(Data!$AG$69),\"\",Data!$AG$69))","v":311},{"$f":"IF(ISERROR(VLOOKUP(C30,INDIRECT(ADDRESS(Data!$AG$67,Data!$AG$65,1,1,\"Data\")):INDIRECT(ADDRESS(Data!$AG$68,Data!$AG$66,1,1,\"Data\")),Data!$AG$81,0)),\"\",VLOOKUP(C30,INDIRECT(ADDRESS(Data!$AG$67,Data!$AG$65,1,1,\"Data\")):INDIRECT(ADDRESS(Data!$AG$68,Data!$AG$66,1,1,\"Data\")),Data!$AG$81,0))","v":0.37},{"$f":"IF(LEN(B30)=0,\"\",IF(LEN(Data!$AG$71)=0,\"\",IF(Data!$AG$71=1,\"Yes\", \"No\")))","v":"Yes"},{"$f":"IF(ISERROR(IF(V30=\"NO\",U30,VLOOKUP(U30,Data!$AA$72:$AB$85,2,0))),\"\",IF(V30=\"NO\",U30,VLOOKUP(U30,Data!$AA$72:$AB$85,2,0)))","v":0.3},{"$f":"IF(ISBLANK(Planning!H54),\"\",Planning!H54)","v":14},{"$f":"IF(ISBLANK(Planning!L54),\"\",Planning!L54)","v":15},{"$f":"IF(ISERROR(INDEX(Data!$D$128:$T$146,MATCH(X30,Data!$C$128:$C$146,1),MATCH(Y30,Data!$D$127:$T$127,1))),\"\",INDEX(Data!$D$128:$T$146,MATCH(X30,Data!$C$128:$C$146,1),MATCH(Y30,Data!$D$127:$T$127,1)))","v":0.98},{"$f":"IF(ISBLANK(Planning!F106),\"\",Planning!F106)","v":"Grass"},{"$f":"IF(ISBLANK(Planning!H106),\"\",Planning!H106)","v":"95-100"},{"$f":"IF(ISERROR(INDEX(Data!$F$155:$K$156,VLOOKUP(AA30,Data!$C$79:$D$81,2),VLOOKUP(AB30,Data!$G$79:$H$85,2,0))),\"\",INDEX(Data!$F$155:$K$156,VLOOKUP(AA30,Data!$C$79:$D$81,2),VLOOKUP(AB30,Data!$G$79:$H$85,2,0)))","v":3.0000000000000001E-3},{"$f":"IF(ISBLANK(Planning!J106),\"\",Planning!J106)","v":"None in place"},{"$f":"IF(ISERROR(VLOOKUP(AD30,Data!$J$79:$K$81,2,0)),\"\",VLOOKUP(AD30,Data!$J$79:$K$81,2,0))","v":"No"},{"$f":"IF(ISERROR(VLOOKUP(C30,INDIRECT(ADDRESS(Data!$AG$67,Data!$AG$65,1,1,\"Data\")):INDIRECT(ADDRESS(Data!$AG$68,Data!$AG$66,1,1,\"Data\")),Data!$AG$84,0)),\"\",VLOOKUP(C30,INDIRECT(ADDRESS(Data!$AG$67,Data!$AG$65,1,1,\"Data\")):INDIRECT(ADDRESS(Data!$AG$68,Data!$AG$66,1,1,\"Data\")),Data!$AG$84,0))","v":"A"},{"$f":"IF(LEN(B30)=0,\"\",IF(LEN(Data!$AG$70)=0,\"\",Data!$AG$70))","v":120},{"$f":"IF(LEN(AE30)=0,\"\",IF(AE30=\"Yes\",INDIRECT(ADDRESS((ROW(Data!$M$153)+MATCH(AG30,Data!$M$154:$M$293,0)+MATCH(X30,Data!$P$154:$P$174,1)-1),(COLUMN(Data!$Q$153)+MATCH(AF30,Data!$R$153:$U$153,0)),1,1,\"Data\"),TRUE),1))","v":1},{"$f":"IF(ISERROR(T30*W30*Z30*AC30*AH30),\"\",T30*W30*Z30*AC30*AH30)","v":0.27430199999999999},{"$f":"IF(ISBLANK(Planning!M106),\"\",Planning!M106)","v":0.27430199999999999},{"$f":"AJ30","v":0.27430199999999999},{"$f":"IF(ISERROR(VLOOKUP(AK30,Data!$J$105:$K$109,2,1)),\"\",VLOOKUP(AK30,Data!$J$105:$K$109,2,1))","v":0},{"$f":"IF(ISBLANK(Planning!B160),\"\",Planning!B160)","v":"Continuously Grazed <0.75 An.Units"},{"$f":"IF(ISERROR(INDEX(Data!$D$91:$G$94,MATCH(AM30,Data!$C$91:$C$94,1),MATCH(AF30,Data!$D$90:$G$90,1))),\"\",INDEX(Data!$D$91:$G$94,MATCH(AM30,Data!$C$91:$C$94,1),MATCH(AF30,Data!$D$90:$G$90,1)))","v":49},{"$f":"IF(ISERROR(VLOOKUP(X30,Data!$D$184:$K$200,HLOOKUP(AN30,Data!$E$182:$K$183,2))),\"\",VLOOKUP(X30,Data!$D$184:$K$200,HLOOKUP(AN30,Data!$E$182:$K$183,2)))","v":"N"},{"$f":"IF(ISERROR(VLOOKUP(AO30,Data!$C$105:$D$110,2)),\"\",VLOOKUP(AO30,Data!$C$105:$D$110,2))","v":0.1},{"$f":"IF(ISBLANK(Planning!M54),\"\",Planning!M54)","v":"None"},{"$f":"IF(ISERROR(VLOOKUP(AQ30,Data!$F$105:$G$108,2,1)),\"\",VLOOKUP(AQ30,Data!$F$105:$G$108,2,1))","v":0},{"$f":"IF(ISBLANK(Planning!F160),\"\",Planning!F160)","v":"Surface Applied"},{"$f":"IF(ISERROR(VLOOKUP(AS30,Data!$C$99:$D$101,2)),\"\",VLOOKUP(AS30,Data!$C$99:$D$101,2))","v":0.2},{"$f":"IF(ISBLANK(Planning!H160),\"\",Planning!H160)","v":"March-June"},{"$f":"IF(ISERROR(VLOOKUP(AU30,Data!$G$99:$H$101,2)),\"\",VLOOKUP(AU30,Data!$G$99:$H$101,2))","v":0.25},{"$f":"IF(ISERROR(AL30+AP30+AR30+AT30+AV30),\"\",AL30+AP30+AR30+AT30+AV30)","v":0.55000000000000004},{"$f":"IF(LEN(B30)=0,\"\",COUNTIF(B30:AH30,\"\")+COUNTIF(AK30:AW30,\"\")+COUNTIF(B30:AW30,NA()))","v":0},{"$f":"IF(AX30=0,ROUND((S30*AW30)/1.8*100,0),\"\")","v":66},{"$f":"IF(AX30=0,VLOOKUP(AY30,Data!$C$116:$D$119,2),\"\")","v":"Medium"},{"$f":"IF(LEN(B30)=0,\"\",IF(ISBLANK(Planning!B213),0,Planning!B213))","v":0},{"$f":"IF(LEN(B30)=0,\"\",IF(ISBLANK(Planning!C213),0,Planning!C213))","v":0},{"$f":"IF(LEN(B30)=0,\"\",IF(ISBLANK(Planning!D213),0,Planning!D213))","v":0},{"$f":"IF(LEN(B30)=0,\"\",IF(ISBLANK(Planning!E213),0,Planning!E213))","v":0},{"$f":"IF(LEN(B30)=0,\"\",IF(ISBLANK(Planning!F213),0,Planning!F213))","v":0},{"$f":"IF(LEN(B30)=0,\"\",IF(ISBLANK(Planning!G213),0,Planning!G213))","v":0},{"$f":"IF(LEN(B30)=0,\"\",IF(ISBLANK(Planning!H213),0,Planning!H213))","v":0},{"$f":"IF(LEN(B30)=0,\"\",IF(ISBLANK(Planning!I213),0,Planning!I213))","v":0},{"$f":"IF(LEN(B30)=0,\"\",IF(ISBLANK(Planning!J213),0,Planning!J213))","v":0},{"$f":"IF(LEN(B30)=0,\"\",(1-BA30)*(1-BB30)*(1-BC30)*(1-BD30)*(1-BE30)*(1-BF30)*(1-BG30)*(1-BH30)*(1-BI30))","v":1},{"$f":"IF(AX30=0,ROUND((S30*AW30*BJ30)/1.8*100,0),\"\")","v":66},{"$f":"IF(AX30=0,VLOOKUP(BK30,Data!$C$116:$D$119,2),\"\")","v":"Medium"}]
[null,{"$f":"IF(ISBLANK(Planning!A161),\"\",Planning!A161)","v":""},{"$f":"IF(ISBLANK(Planning!D55),\"\",Planning!D55)","v":""},{"$f":"IF(LEN(C31)=0,\"\",IF(ISNA(VLOOKUP(C31,INDIRECT(ADDRESS(Data!$AG$67,Data!$AG$65,1,1,\"Data\")):INDIRECT(ADDRESS(Data!$AG$68,Data!$AG$66,1,1,\"Data\")),Data!$AG$74,0)),$B$10,VLOOKUP(Planning!D55,INDIRECT(ADDRESS(Data!$AG$67,Data!$AG$65,1,1,\"Data\")):INDIRECT(ADDRESS(Data!$AG$68,Data!$AG$66,1,1,\"Data\")),Data!$AG$74,0)))","v":""},{"$f":"IF(ISBLANK(Planning!I161),\"\",Planning!I161)","v":""},{"$f":"IF(ISBLANK(Planning!I161),\"\",INDEX(Planning!$A$21:$C$25,MATCH(E31,Planning!$A$21:$A$25,0),2))","v":""},{"$f":"IF(ISNA(INDEX(Planning!$A$21:$N$25,MATCH(E31,Planning!$A$21:$A$25,0),12)),\"\",INDEX(Planning!$A$21:$N$25,MATCH(E31,Planning!$A$21:$A$25,0),12))","v":""},{"$f":"IF(ISNA(INDEX(Planning!$A$21:$N$25,MATCH(E31,Planning!$A$21:$A$25,0),8)/2.29),\"\",INDEX(Planning!$A$21:$N$25,MATCH(E31,Planning!$A$21:$A$25,0),8)/2.29)","v":""},{"$f":"IF(ISBLANK(Planning!J161),\"\",Planning!J161)","v":""},"","",{"$f":"IF(ISNA(INDEX(Planning!$A$21:$N$25,MATCH(E31,Planning!$A$21:$A$25,0),14)),\"\",INDEX(Planning!$A$21:$N$25,MATCH(E31,Planning!$A$21:$A$25,0),14))","v":""},{"$f":"IF(ISERROR(VLOOKUP(L31,Data!$Q$65:$R$66,2,1)),\"\",VLOOKUP(L31,Data!$Q$65:$R$66,2,1))","v":""},"","",{"$f":"IF(LEN(B31)=0,\"\",Planning!B55*(1.3333))","v":""},"","","",{"$f":"IF(LEN(B31)=0,\"\",IF(ISBLANK(Data!$AG$69),\"\",Data!$AG$69))","v":""},{"$f":"IF(ISERROR(VLOOKUP(C31,INDIRECT(ADDRESS(Data!$AG$67,Data!$AG$65,1,1,\"Data\")):INDIRECT(ADDRESS(Data!$AG$68,Data!$AG$66,1,1,\"Data\")),Data!$AG$81,0)),\"\",VLOOKUP(C31,INDIRECT(ADDRESS(Data!$AG$67,Data!$AG$65,1,1,\"Data\")):INDIRECT(ADDRESS(Data!$AG$68,Data!$AG$66,1,1,\"Data\")),Data!$AG$81,0))","v":""},{"$f":"IF(LEN(B31)=0,\"\",IF(LEN(Data!$AG$71)=0,\"\",IF(Data!$AG$71=1,\"Yes\", \"No\")))","v":""},{"$f":"IF(ISERROR(IF(V31=\"NO\",U31,VLOOKUP(U31,Data!$AA$72:$AB$85,2,0))),\"\",IF(V31=\"NO\",U31,VLOOKUP(U31,Data!$AA$72:$AB$85,2,0)))","v":""},{"$f":"IF(ISBLANK(Planning!H55),\"\",Planning!H55)","v":""},{"$f":"IF(ISBLANK(Planning!L55),\"\",Planning!L55)","v":""},{"$f":"IF(ISERROR(INDEX(Data!$D$128:$T$146,MATCH(X31,Data!$C$128:$C$146,1),MATCH(Y31,Data!$D$127:$T$127,1))),\"\",INDEX(Data!$D$128:$T$146,MATCH(X31,Data!$C$128:$C$146,1),MATCH(Y31,Data!$D$127:$T$127,1)))","v":""},{"$f":"IF(ISBLANK(Planning!F107),\"\",Planning!F107)","v":""},{"$f":"IF(ISBLANK(Planning!H107),\"\",Planning!H107)","v":""},{"$f":"IF(ISERROR(INDEX(Data!$F$155:$K$156,VLOOKUP(AA31,Data!$C$79:$D$81,2),VLOOKUP(AB31,Data!$G$79:$H$85,2,0))),\"\",INDEX(Data!$F$155:$K$156,VLOOKUP(AA31,Data!$C$79:$D$81,2),VLOOKUP(AB31,Data!$G$79:$H$85,2,0)))","v":""},{"$f":"IF(ISBLANK(Planning!J107),\"\",Planning!J107)","v":""},{"$f":"IF(ISERROR(VLOOKUP(AD31,Data!$J$79:$K$81,2,0)),\"\",VLOOKUP(AD31,Data!$J$79:$K$81,2,0))","v":""},{"$f":"IF(ISERROR(VLOOKUP(C31,INDIRECT(ADDRESS(Data!$AG$67,Data!$AG$65,1,1,\"Data\")):INDIRECT(ADDRESS(Data!$AG$68,Data!$AG$66,1,1,\"Data\")),Data!$AG$84,0)),\"\",VLOOKUP(C31,INDIRECT(ADDRESS(Data!$AG$67,Data!$AG$65,1,1,\"Data\")):INDIRECT(ADDRESS(Data!$AG$68,Data!$AG$66,1,1,\"Data\")),Data!$AG$84,0))","v":""},{"$f":"IF(LEN(B31)=0,\"\",IF(LEN(Data!$AG$70)=0,\"\",Data!$AG$70))","v":""},{"$f":"IF(LEN(AE31)=0,\"\",IF(AE31=\"Yes\",INDIRECT(ADDRESS((ROW(Data!$M$153)+MATCH(AG31,Data!$M$154:$M$293,0)+MATCH(X31,Data!$P$154:$P$174,1)-1),(COLUMN(Data!$Q$153)+MATCH(AF31,Data!$R$153:$U$153,0)),1,1,\"Data\"),TRUE),1))","v":""},"",{"$f":"IF(ISBLANK(Planning!M107),\"\",Planning!M107)","v":""},"",{"$f":"IF(ISERROR(VLOOKUP(AK31,Data!$J$105:$K$109,2,1)),\"\",VLOOKUP(AK31,Data!$J$105:$K$109,2,1))","v":""},{"$f":"IF(ISBLANK(Planning!B161),\"\",Planning!B161)","v":""},{"$f":"IF(ISERROR(INDEX(Data!$D$91:$G$94,MATCH(AM31,Data!$C$91:$C$94,1),MATCH(AF31,Data!$D$90:$G$90,1))),\"\",INDEX(Data!$D$91:$G$94,MATCH(AM31,Data!$C$91:$C$94,1),MATCH(AF31,Data!$D$90:$G$90,1)))","v":""},{"$f":"IF(ISERROR(VLOOKUP(X31,Data!$D$184:$K$200,HLOOKUP(AN31,Data!$E$182:$K$183,2))),\"\",VLOOKUP(X31,Data!$D$184:$K$200,HLOOKUP(AN31,Data!$E$182:$K$183,2)))","v":""},{"$f":"IF(ISERROR(VLOOKUP(AO31,Data!$C$105:$D$110,2)),\"\",VLOOKUP(AO31,Data!$C$105:$D$110,2))","v":""},{"$f":"IF(ISBLANK(Planning!M55),\"\",Planning!M55)","v":""},{"$f":"IF(ISERROR(VLOOKUP(AQ31,Data!$F$105:$G$108,2,1)),\"\",VLOOKUP(AQ31,Data!$F$105:$G$108,2,1))","v":""},{"$f":"IF(ISBLANK(Planning!F161),\"\",Planning!F161)","v":""},{"$f":"IF(ISERROR(VLOOKUP(AS31,Data!$C$99:$D$101,2)),\"\",VLOOKUP(AS31,Data!$C$99:$D$101,2))","v":""},{"$f":"IF(ISBLANK(Planning!H161),\"\",Planning!H161)","v":""},{"$f":"IF(ISERROR(VLOOKUP(AU31,Data!$G$99:$H$101,2)),\"\",VLOOKUP(AU31,Data!$G$99:$H$101,2))","v":""},"","","",{"$f":"IF(AX31=0,VLOOKUP(AY31,Data!$C$116:$D$119,2),\"\")","v":""},{"$f":"IF(LEN(B31)=0,\"\",IF(ISBLANK(Planning!B214),0,Planning!B214))","v":""},{"$f":"IF(LEN(B31)=0,\"\",IF(ISBLANK(Planning!C214),0,Planning!C214))","v":""},{"$f":"IF(LEN(B31)=0,\"\",IF(ISBLANK(Planning!D214),0,Planning!D214))","v":""},{"$f":"IF(LEN(B31)=0,\"\",IF(ISBLANK(Planning!E214),0,Planning!E214))","v":""},{"$f":"IF(LEN(B31)=0,\"\",IF(ISBLANK(Planning!F214),0,Planning!F214))","v":""},{"$f":"IF(LEN(B31)=0,\"\",IF(ISBLANK(Planning!G214),0,Planning!G214))","v":""},{"$f":"IF(LEN(B31)=0,\"\",IF(ISBLANK(Planning!H214),0,Planning!H214))","v":""},{"$f":"IF(LEN(B31)=0,\"\",IF(ISBLANK(Planning!I214),0,Planning!I214))","v":""},{"$f":"IF(LEN(B31)=0,\"\",IF(ISBLANK(Planning!J214),0,Planning!J214))","v":""},"","",{"$f":"IF(AX31=0,VLOOKUP(BK31,Data!$C$116:$D$119,2),\"\")","v":""}]
[null,{"$f":"IF(ISBLANK(Planning!A162),\"\",Planning!A162)","v":""},{"$f":"IF(ISBLANK(Planning!D56),\"\",Planning!D56)","v":""},{"$f":"IF(LEN(C32)=0,\"\",IF(ISNA(VLOOKUP(C32,INDIRECT(ADDRESS(Data!$AG$67,Data!$AG$65,1,1,\"Data\")):INDIRECT(ADDRESS(Data!$AG$68,Data!$AG$66,1,1,\"Data\")),Data!$AG$74,0)),$B$10,VLOOKUP(Planning!D56,INDIRECT(ADDRESS(Data!$AG$67,Data!$AG$65,1,1,\"Data\")):INDIRECT(ADDRESS(Data!$AG$68,Data!$AG$66,1,1,\"Data\")),Data!$AG$74,0)))","v":""},{"$f":"IF(ISBLANK(Planning!I162),\"\",Planning!I162)","v":""},{"$f":"IF(ISBLANK(Planning!I162),\"\",INDEX(Planning!$A$21:$C$25,MATCH(E32,Planning!$A$21:$A$25,0),2))","v":""},{"$f":"IF(ISNA(INDEX(Planning!$A$21:$N$25,MATCH(E32,Planning!$A$21:$A$25,0),12)),\"\",INDEX(Planning!$A$21:$N$25,MATCH(E32,Planning!$A$21:$A$25,0),12))","v":""},{"$f":"IF(ISNA(INDEX(Planning!$A$21:$N$25,MATCH(E32,Planning!$A$21:$A$25,0),8)/2.29),\"\",INDEX(Planning!$A$21:$N$25,MATCH(E32,Planning!$A$21:$A$25,0),8)/2.29)","v":""},{"$f":"IF(ISBLANK(Planning!J162),\"\",Planning!J162)","v":""},"","",{"$f":"IF(ISNA(INDEX(Planning!$A$21:$N$25,MATCH(E32,Planning!$A$21:$A$25,0),14)),\"\",INDEX(Planning!$A$21:$N$25,MATCH(E32,Planning!$A$21:$A$25,0),14))","v":""},{"$f":"IF(ISERROR(VLOOKUP(L32,Data!$Q$65:$R$66,2,1)),\"\",VLOOKUP(L32,Data!$Q$65:$R$66,2,1))","v":""},"","",{"$f":"IF(LEN(B32)=0,\"\",Planning!B56*(1.3333))","v":""},"","","",{"$f":"IF(LEN(B32)=0,\"\",IF(ISBLANK(Data!$AG$69),\"\",Data!$AG$69))","v":""},{"$f":"IF(ISERROR(VLOOKUP(C32,INDIRECT(ADDRESS(Data!$AG$67,Data!$AG$65,1,1,\"Data\")):INDIRECT(ADDRESS(Data!$AG$68,Data!$AG$66,1,1,\"Data\")),Data!$AG$81,0)),\"\",VLOOKUP(C32,INDIRECT(ADDRESS(Data!$AG$67,Data!$AG$65,1,1,\"Data\")):INDIRECT(ADDRESS(Data!$AG$68,Data!$AG$66,1,1,\"Data\")),Data!$AG$81,0))","v":""},{"$f":"IF(LEN(B32)=0,\"\",IF(LEN(Data!$AG$71)=0,\"\",IF(Data!$AG$71=1,\"Yes\", \"No\")))","v":""},{"$f":"IF(ISERROR(IF(V32=\"NO\",U32,VLOOKUP(U32,Data!$AA$72:$AB$85,2,0))),\"\",IF(V32=\"NO\",U32,VLOOKUP(U32,Data!$AA$72:$AB$85,2,0)))","v":""},{"$f":"IF(ISBLANK(Planning!H56),\"\",Planning!H56)","v":""},{"$f":"IF(ISBLANK(Planning!L56),\"\",Planning!L56)","v":""},{"$f":"IF(ISERROR(INDEX(Data!$D$128:$T$146,MATCH(X32,Data!$C$128:$C$146,1),MATCH(Y32,Data!$D$127:$T$127,1))),\"\",INDEX(Data!$D$128:$T$146,MATCH(X32,Data!$C$128:$C$146,1),MATCH(Y32,Data!$D$127:$T$127,1)))","v":""},{"$f":"IF(ISBLANK(Planning!F108),\"\",Planning!F108)","v":""},{"$f":"IF(ISBLANK(Planning!H108),\"\",Planning!H108)","v":""},{"$f":"IF(ISERROR(INDEX(Data!$F$155:$K$156,VLOOKUP(AA32,Data!$C$79:$D$81,2),VLOOKUP(AB32,Data!$G$79:$H$85,2,0))),\"\",INDEX(Data!$F$155:$K$156,VLOOKUP(AA32,Data!$C$79:$D$81,2),VLOOKUP(AB32,Data!$G$79:$H$85,2,0)))","v":""},{"$f":"IF(ISBLANK(Planning!J108),\"\",Planning!J108)","v":""},{"$f":"IF(ISERROR(VLOOKUP(AD32,Data!$J$79:$K$81,2,0)),\"\",VLOOKUP(AD32,Data!$J$79:$K$81,2,0))","v":""},{"$f":"IF(ISERROR(VLOOKUP(C32,INDIRECT(ADDRESS(Data!$AG$67,Data!$AG$65,1,1,\"Data\")):INDIRECT(ADDRESS(Data!$AG$68,Data!$AG$66,1,1,\"Data\")),Data!$AG$84,0)),\"\",VLOOKUP(C32,INDIRECT(ADDRESS(Data!$AG$67,Data!$AG$65,1,1,\"Data\")):INDIRECT(ADDRESS(Data!$AG$68,Data!$AG$66,1,1,\"Data\")),Data!$AG$84,0))","v":""},{"$f":"IF(LEN(B32)=0,\"\",IF(LEN(Data!$AG$70)=0,\"\",Data!$AG$70))","v":""},{"$f":"IF(LEN(AE32)=0,\"\",IF(AE32=\"Yes\",INDIRECT(ADDRESS((ROW(Data!$M$153)+MATCH(AG32,Data!$M$154:$M$293,0)+MATCH(X32,Data!$P$154:$P$174,1)-1),(COLUMN(Data!$Q$153)+MATCH(AF32,Data!$R$153:$U$153,0)),1,1,\"Data\"),TRUE),1))","v":""},"",{"$f":"IF(ISBLANK(Planning!M108),\"\",Planning!M108)","v":""},"",{"$f":"IF(ISERROR(VLOOKUP(AK32,Data!$J$105:$K$109,2,1)),\"\",VLOOKUP(AK32,Data!$J$105:$K$109,2,1))","v":""},{"$f":"IF(ISBLANK(Planning!B162),\"\",Planning!B162)","v":""},{"$f":"IF(ISERROR(INDEX(Data!$D$91:$G$94,MATCH(AM32,Data!$C$91:$C$94,1),MATCH(AF32,Data!$D$90:$G$90,1))),\"\",INDEX(Data!$D$91:$G$94,MATCH(AM32,Data!$C$91:$C$94,1),MATCH(AF32,Data!$D$90:$G$90,1)))","v":""},{"$f":"IF(ISERROR(VLOOKUP(X32,Data!$D$184:$K$200,HLOOKUP(AN32,Data!$E$182:$K$183,2))),\"\",VLOOKUP(X32,Data!$D$184:$K$200,HLOOKUP(AN32,Data!$E$182:$K$183,2)))","v":""},{"$f":"IF(ISERROR(VLOOKUP(AO32,Data!$C$105:$D$110,2)),\"\",VLOOKUP(AO32,Data!$C$105:$D$110,2))","v":""},{"$f":"IF(ISBLANK(Planning!M56),\"\",Planning!M56)","v":""},{"$f":"IF(ISERROR(VLOOKUP(AQ32,Data!$F$105:$G$108,2,1)),\"\",VLOOKUP(AQ32,Data!$F$105:$G$108,2,1))","v":""},{"$f":"IF(ISBLANK(Planning!F162),\"\",Planning!F162)","v":""},{"$f":"IF(ISERROR(VLOOKUP(AS32,Data!$C$99:$D$101,2)),\"\",VLOOKUP(AS32,Data!$C$99:$D$101,2))","v":""},{"$f":"IF(ISBLANK(Planning!H162),\"\",Planning!H162)","v":""},{"$f":"IF(ISERROR(VLOOKUP(AU32,Data!$G$99:$H$101,2)),\"\",VLOOKUP(AU32,Data!$G$99:$H$101,2))","v":""},"","","",{"$f":"IF(AX32=0,VLOOKUP(AY32,Data!$C$116:$D$119,2),\"\")","v":""},{"$f":"IF(LEN(B32)=0,\"\",IF(ISBLANK(Planning!B215),0,Planning!B215))","v":""},{"$f":"IF(LEN(B32)=0,\"\",IF(ISBLANK(Planning!C215),0,Planning!C215))","v":""},{"$f":"IF(LEN(B32)=0,\"\",IF(ISBLANK(Planning!D215),0,Planning!D215))","v":""},{"$f":"IF(LEN(B32)=0,\"\",IF(ISBLANK(Planning!E215),0,Planning!E215))","v":""},{"$f":"IF(LEN(B32)=0,\"\",IF(ISBLANK(Planning!F215),0,Planning!F215))","v":""},{"$f":"IF(LEN(B32)=0,\"\",IF(ISBLANK(Planning!G215),0,Planning!G215))","v":""},{"$f":"IF(LEN(B32)=0,\"\",IF(ISBLANK(Planning!H215),0,Planning!H215))","v":""},{"$f":"IF(LEN(B32)=0,\"\",IF(ISBLANK(Planning!I215),0,Planning!I215))","v":""},{"$f":"IF(LEN(B32)=0,\"\",IF(ISBLANK(Planning!J215),0,Planning!J215))","v":""},"","",{"$f":"IF(AX32=0,VLOOKUP(BK32,Data!$C$116:$D$119,2),\"\")","v":""}]
[null,{"$f":"IF(ISBLANK(Planning!A163),\"\",Planning!A163)","v":""},{"$f":"IF(ISBLANK(Planning!D57),\"\",Planning!D57)","v":""},{"$f":"IF(LEN(C33)=0,\"\",IF(ISNA(VLOOKUP(C33,INDIRECT(ADDRESS(Data!$AG$67,Data!$AG$65,1,1,\"Data\")):INDIRECT(ADDRESS(Data!$AG$68,Data!$AG$66,1,1,\"Data\")),Data!$AG$74,0)),$B$10,VLOOKUP(Planning!D57,INDIRECT(ADDRESS(Data!$AG$67,Data!$AG$65,1,1,\"Data\")):INDIRECT(ADDRESS(Data!$AG$68,Data!$AG$66,1,1,\"Data\")),Data!$AG$74,0)))","v":""},{"$f":"IF(ISBLANK(Planning!I163),\"\",Planning!I163)","v":""},{"$f":"IF(ISBLANK(Planning!I163),\"\",INDEX(Planning!$A$21:$C$25,MATCH(E33,Planning!$A$21:$A$25,0),2))","v":""},{"$f":"IF(ISNA(INDEX(Planning!$A$21:$N$25,MATCH(E33,Planning!$A$21:$A$25,0),12)),\"\",INDEX(Planning!$A$21:$N$25,MATCH(E33,Planning!$A$21:$A$25,0),12))","v":""},{"$f":"IF(ISNA(INDEX(Planning!$A$21:$N$25,MATCH(E33,Planning!$A$21:$A$25,0),8)/2.29),\"\",INDEX(Planning!$A$21:$N$25,MATCH(E33,Planning!$A$21:$A$25,0),8)/2.29)","v":""},{"$f":"IF(ISBLANK(Planning!J163),\"\",Planning!J163)","v":""},"","",{"$f":"IF(ISNA(INDEX(Planning!$A$21:$N$25,MATCH(E33,Planning!$A$21:$A$25,0),14)),\"\",INDEX(Planning!$A$21:$N$25,MATCH(E33,Planning!$A$21:$A$25,0),14))","v":""},{"$f":"IF(ISERROR(VLOOKUP(L33,Data!$Q$65:$R$66,2,1)),\"\",VLOOKUP(L33,Data!$Q$65:$R$66,2,1))","v":""},"","",{"$f":"IF(LEN(B33)=0,\"\",Planning!B57*(1.3333))","v":""},"","","",{"$f":"IF(LEN(B33)=0,\"\",IF(ISBLANK(Data!$AG$69),\"\",Data!$AG$69))","v":""},{"$f":"IF(ISERROR(VLOOKUP(C33,INDIRECT(ADDRESS(Data!$AG$67,Data!$AG$65,1,1,\"Data\")):INDIRECT(ADDRESS(Data!$AG$68,Data!$AG$66,1,1,\"Data\")),Data!$AG$81,0)),\"\",VLOOKUP(C33,INDIRECT(ADDRESS(Data!$AG$67,Data!$AG$65,1,1,\"Data\")):INDIRECT(ADDRESS(Data!$AG$68,Data!$AG$66,1,1,\"Data\")),Data!$AG$81,0))","v":""},{"$f":"IF(LEN(B33)=0,\"\",IF(LEN(Data!$AG$71)=0,\"\",IF(Data!$AG$71=1,\"Yes\", \"No\")))","v":""},{"$f":"IF(ISERROR(IF(V33=\"NO\",U33,VLOOKUP(U33,Data!$AA$72:$AB$85,2,0))),\"\",IF(V33=\"NO\",U33,VLOOKUP(U33,Data!$AA$72:$AB$85,2,0)))","v":""},{"$f":"IF(ISBLANK(Planning!H57),\"\",Planning!H57)","v":""},{"$f":"IF(ISBLANK(Planning!L57),\"\",Planning!L57)","v":""},{"$f":"IF(ISERROR(INDEX(Data!$D$128:$T$146,MATCH(X33,Data!$C$128:$C$146,1),MATCH(Y33,Data!$D$127:$T$127,1))),\"\",INDEX(Data!$D$128:$T$146,MATCH(X33,Data!$C$128:$C$146,1),MATCH(Y33,Data!$D$127:$T$127,1)))","v":""},{"$f":"IF(ISBLANK(Planning!F109),\"\",Planning!F109)","v":""},{"$f":"IF(ISBLANK(Planning!H109),\"\",Planning!H109)","v":""},{"$f":"IF(ISERROR(INDEX(Data!$F$155:$K$156,VLOOKUP(AA33,Data!$C$79:$D$81,2),VLOOKUP(AB33,Data!$G$79:$H$85,2,0))),\"\",INDEX(Data!$F$155:$K$156,VLOOKUP(AA33,Data!$C$79:$D$81,2),VLOOKUP(AB33,Data!$G$79:$H$85,2,0)))","v":""},{"$f":"IF(ISBLANK(Planning!J109),\"\",Planning!J109)","v":""},{"$f":"IF(ISERROR(VLOOKUP(AD33,Data!$J$79:$K$81,2,0)),\"\",VLOOKUP(AD33,Data!$J$79:$K$81,2,0))","v":""},{"$f":"IF(ISERROR(VLOOKUP(C33,INDIRECT(ADDRESS(Data!$AG$67,Data!$AG$65,1,1,\"Data\")):INDIRECT(ADDRESS(Data!$AG$68,Data!$AG$66,1,1,\"Data\")),Data!$AG$84,0)),\"\",VLOOKUP(C33,INDIRECT(ADDRESS(Data!$AG$67,Data!$AG$65,1,1,\"Data\")):INDIRECT(ADDRESS(Data!$AG$68,Data!$AG$66,1,1,\"Data\")),Data!$AG$84,0))","v":""},{"$f":"IF(LEN(B33)=0,\"\",IF(LEN(Data!$AG$70)=0,\"\",Data!$AG$70))","v":""},{"$f":"IF(LEN(AE33)=0,\"\",IF(AE33=\"Yes\",INDIRECT(ADDRESS((ROW(Data!$M$153)+MATCH(AG33,Data!$M$154:$M$293,0)+MATCH(X33,Data!$P$154:$P$174,1)-1),(COLUMN(Data!$Q$153)+MATCH(AF33,Data!$R$153:$U$153,0)),1,1,\"Data\"),TRUE),1))","v":""},"",{"$f":"IF(ISBLANK(Planning!M109),\"\",Planning!M109)","v":""},"",{"$f":"IF(ISERROR(VLOOKUP(AK33,Data!$J$105:$K$109,2,1)),\"\",VLOOKUP(AK33,Data!$J$105:$K$109,2,1))","v":""},{"$f":"IF(ISBLANK(Planning!B163),\"\",Planning!B163)","v":""},{"$f":"IF(ISERROR(INDEX(Data!$D$91:$G$94,MATCH(AM33,Data!$C$91:$C$94,1),MATCH(AF33,Data!$D$90:$G$90,1))),\"\",INDEX(Data!$D$91:$G$94,MATCH(AM33,Data!$C$91:$C$94,1),MATCH(AF33,Data!$D$90:$G$90,1)))","v":""},{"$f":"IF(ISERROR(VLOOKUP(X33,Data!$D$184:$K$200,HLOOKUP(AN33,Data!$E$182:$K$183,2))),\"\",VLOOKUP(X33,Data!$D$184:$K$200,HLOOKUP(AN33,Data!$E$182:$K$183,2)))","v":""},{"$f":"IF(ISERROR(VLOOKUP(AO33,Data!$C$105:$D$110,2)),\"\",VLOOKUP(AO33,Data!$C$105:$D$110,2))","v":""},{"$f":"IF(ISBLANK(Planning!M57),\"\",Planning!M57)","v":""},{"$f":"IF(ISERROR(VLOOKUP(AQ33,Data!$F$105:$G$108,2,1)),\"\",VLOOKUP(AQ33,Data!$F$105:$G$108,2,1))","v":""},{"$f":"IF(ISBLANK(Planning!F163),\"\",Planning!F163)","v":""},{"$f":"IF(ISERROR(VLOOKUP(AS33,Data!$C$99:$D$101,2)),\"\",VLOOKUP(AS33,Data!$C$99:$D$101,2))","v":""},{"$f":"IF(ISBLANK(Planning!H163),\"\",Planning!H163)","v":""},{"$f":"IF(ISERROR(VLOOKUP(AU33,Data!$G$99:$H$101,2)),\"\",VLOOKUP(AU33,Data!$G$99:$H$101,2))","v":""},"","","",{"$f":"IF(AX33=0,VLOOKUP(AY33,Data!$C$116:$D$119,2),\"\")","v":""},{"$f":"IF(LEN(B33)=0,\"\",IF(ISBLANK(Planning!B216),0,Planning!B216))","v":""},{"$f":"IF(LEN(B33)=0,\"\",IF(ISBLANK(Planning!C216),0,Planning!C216))","v":""},{"$f":"IF(LEN(B33)=0,\"\",IF(ISBLANK(Planning!D216),0,Planning!D216))","v":""},{"$f":"IF(LEN(B33)=0,\"\",IF(ISBLANK(Planning!E216),0,Planning!E216))","v":""},{"$f":"IF(LEN(B33)=0,\"\",IF(ISBLANK(Planning!F216),0,Planning!F216))","v":""},{"$f":"IF(LEN(B33)=0,\"\",IF(ISBLANK(Planning!G216),0,Planning!G216))","v":""},{"$f":"IF(LEN(B33)=0,\"\",IF(ISBLANK(Planning!H216),0,Planning!H216))","v":""},{"$f":"IF(LEN(B33)=0,\"\",IF(ISBLANK(Planning!I216),0,Planning!I216))","v":""},{"$f":"IF(LEN(B33)=0,\"\",IF(ISBLANK(Planning!J216),0,Planning!J216))","v":""},"","",{"$f":"IF(AX33=0,VLOOKUP(BK33,Data!$C$116:$D$119,2),\"\")","v":""}]
[null,{"$f":"IF(ISBLANK(Planning!A164),\"\",Planning!A164)","v":""},{"$f":"IF(ISBLANK(Planning!D58),\"\",Planning!D58)","v":""},{"$f":"IF(LEN(C34)=0,\"\",IF(ISNA(VLOOKUP(C34,INDIRECT(ADDRESS(Data!$AG$67,Data!$AG$65,1,1,\"Data\")):INDIRECT(ADDRESS(Data!$AG$68,Data!$AG$66,1,1,\"Data\")),Data!$AG$74,0)),$B$10,VLOOKUP(Planning!D58,INDIRECT(ADDRESS(Data!$AG$67,Data!$AG$65,1,1,\"Data\")):INDIRECT(ADDRESS(Data!$AG$68,Data!$AG$66,1,1,\"Data\")),Data!$AG$74,0)))","v":""},{"$f":"IF(ISBLANK(Planning!I164),\"\",Planning!I164)","v":""},{"$f":"IF(ISBLANK(Planning!I164),\"\",INDEX(Planning!$A$21:$C$25,MATCH(E34,Planning!$A$21:$A$25,0),2))","v":""},{"$f":"IF(ISNA(INDEX(Planning!$A$21:$N$25,MATCH(E34,Planning!$A$21:$A$25,0),12)),\"\",INDEX(Planning!$A$21:$N$25,MATCH(E34,Planning!$A$21:$A$25,0),12))","v":""},{"$f":"IF(ISNA(INDEX(Planning!$A$21:$N$25,MATCH(E34,Planning!$A$21:$A$25,0),8)/2.29),\"\",INDEX(Planning!$A$21:$N$25,MATCH(E34,Planning!$A$21:$A$25,0),8)/2.29)","v":""},{"$f":"IF(ISBLANK(Planning!J164),\"\",Planning!J164)","v":""},"","",{"$f":"IF(ISNA(INDEX(Planning!$A$21:$N$25,MATCH(E34,Planning!$A$21:$A$25,0),14)),\"\",INDEX(Planning!$A$21:$N$25,MATCH(E34,Planning!$A$21:$A$25,0),14))","v":""},{"$f":"IF(ISERROR(VLOOKUP(L34,Data!$Q$65:$R$66,2,1)),\"\",VLOOKUP(L34,Data!$Q$65:$R$66,2,1))","v":""},"","",{"$f":"IF(LEN(B34)=0,\"\",Planning!B58*(1.3333))","v":""},"","","",{"$f":"IF(LEN(B34)=0,\"\",IF(ISBLANK(Data!$AG$69),\"\",Data!$AG$69))","v":""},{"$f":"IF(ISERROR(VLOOKUP(C34,INDIRECT(ADDRESS(Data!$AG$67,Data!$AG$65,1,1,\"Data\")):INDIRECT(ADDRESS(Data!$AG$68,Data!$AG$66,1,1,\"Data\")),Data!$AG$81,0)),\"\",VLOOKUP(C34,INDIRECT(ADDRESS(Data!$AG$67,Data!$AG$65,1,1,\"Data\")):INDIRECT(ADDRESS(Data!$AG$68,Data!$AG$66,1,1,\"Data\")),Data!$AG$81,0))","v":""},{"$f":"IF(LEN(B34)=0,\"\",IF(LEN(Data!$AG$71)=0,\"\",IF(Data!$AG$71=1,\"Yes\", \"No\")))","v":""},{"$f":"IF(ISERROR(IF(V34=\"NO\",U34,VLOOKUP(U34,Data!$AA$72:$AB$85,2,0))),\"\",IF(V34=\"NO\",U34,VLOOKUP(U34,Data!$AA$72:$AB$85,2,0)))","v":""},{"$f":"IF(ISBLANK(Planning!H58),\"\",Planning!H58)","v":""},{"$f":"IF(ISBLANK(Planning!L58),\"\",Planning!L58)","v":""},{"$f":"IF(ISERROR(INDEX(Data!$D$128:$T$146,MATCH(X34,Data!$C$128:$C$146,1),MATCH(Y34,Data!$D$127:$T$127,1))),\"\",INDEX(Data!$D$128:$T$146,MATCH(X34,Data!$C$128:$C$146,1),MATCH(Y34,Data!$D$127:$T$127,1)))","v":""},{"$f":"IF(ISBLANK(Planning!F110),\"\",Planning!F110)","v":""},{"$f":"IF(ISBLANK(Planning!H110),\"\",Planning!H110)","v":""},{"$f":"IF(ISERROR(INDEX(Data!$F$155:$K$156,VLOOKUP(AA34,Data!$C$79:$D$81,2),VLOOKUP(AB34,Data!$G$79:$H$85,2,0))),\"\",INDEX(Data!$F$155:$K$156,VLOOKUP(AA34,Data!$C$79:$D$81,2),VLOOKUP(AB34,Data!$G$79:$H$85,2,0)))","v":""},{"$f":"IF(ISBLANK(Planning!J110),\"\",Planning!J110)","v":""},{"$f":"IF(ISERROR(VLOOKUP(AD34,Data!$J$79:$K$81,2,0)),\"\",VLOOKUP(AD34,Data!$J$79:$K$81,2,0))","v":""},{"$f":"IF(ISERROR(VLOOKUP(C34,INDIRECT(ADDRESS(Data!$AG$67,Data!$AG$65,1,1,\"Data\")):INDIRECT(ADDRESS(Data!$AG$68,Data!$AG$66,1,1,\"Data\")),Data!$AG$84,0)),\"\",VLOOKUP(C34,INDIRECT(ADDRESS(Data!$AG$67,Data!$AG$65,1,1,\"Data\")):INDIRECT(ADDRESS(Data!$AG$68,Data!$AG$66,1,1,\"Data\")),Data!$AG$84,0))","v":""},{"$f":"IF(LEN(B34)=0,\"\",IF(LEN(Data!$AG$70)=0,\"\",Data!$AG$70))","v":""},{"$f":"IF(LEN(AE34)=0,\"\",IF(AE34=\"Yes\",INDIRECT(ADDRESS((ROW(Data!$M$153)+MATCH(AG34,Data!$M$154:$M$293,0)+MATCH(X34,Data!$P$154:$P$174,1)-1),(COLUMN(Data!$Q$153)+MATCH(AF34,Data!$R$153:$U$153,0)),1,1,\"Data\"),TRUE),1))","v":""},"",{"$f":"IF(ISBLANK(Planning!M110),\"\",Planning!M110)","v":""},"",{"$f":"IF(ISERROR(VLOOKUP(AK34,Data!$J$105:$K$109,2,1)),\"\",VLOOKUP(AK34,Data!$J$105:$K$109,2,1))","v":""},{"$f":"IF(ISBLANK(Planning!B164),\"\",Planning!B164)","v":""},{"$f":"IF(ISERROR(INDEX(Data!$D$91:$G$94,MATCH(AM34,Data!$C$91:$C$94,1),MATCH(AF34,Data!$D$90:$G$90,1))),\"\",INDEX(Data!$D$91:$G$94,MATCH(AM34,Data!$C$91:$C$94,1),MATCH(AF34,Data!$D$90:$G$90,1)))","v":""},{"$f":"IF(ISERROR(VLOOKUP(X34,Data!$D$184:$K$200,HLOOKUP(AN34,Data!$E$182:$K$183,2))),\"\",VLOOKUP(X34,Data!$D$184:$K$200,HLOOKUP(AN34,Data!$E$182:$K$183,2)))","v":""},{"$f":"IF(ISERROR(VLOOKUP(AO34,Data!$C$105:$D$110,2)),\"\",VLOOKUP(AO34,Data!$C$105:$D$110,2))","v":""},{"$f":"IF(ISBLANK(Planning!M58),\"\",Planning!M58)","v":""},{"$f":"IF(ISERROR(VLOOKUP(AQ34,Data!$F$105:$G$108,2,1)),\"\",VLOOKUP(AQ34,Data!$F$105:$G$108,2,1))","v":""},{"$f":"IF(ISBLANK(Planning!F164),\"\",Planning!F164)","v":""},{"$f":"IF(ISERROR(VLOOKUP(AS34,Data!$C$99:$D$101,2)),\"\",VLOOKUP(AS34,Data!$C$99:$D$101,2))","v":""},{"$f":"IF(ISBLANK(Planning!H164),\"\",Planning!H164)","v":""},{"$f":"IF(ISERROR(VLOOKUP(AU34,Data!$G$99:$H$101,2)),\"\",VLOOKUP(AU34,Data!$G$99:$H$101,2))","v":""},"","","",{"$f":"IF(AX34=0,VLOOKUP(AY34,Data!$C$116:$D$119,2),\"\")","v":""},{"$f":"IF(LEN(B34)=0,\"\",IF(ISBLANK(Planning!B217),0,Planning!B217))","v":""},{"$f":"IF(LEN(B34)=0,\"\",IF(ISBLANK(Planning!C217),0,Planning!C217))","v":""},{"$f":"IF(LEN(B34)=0,\"\",IF(ISBLANK(Planning!D217),0,Planning!D217))","v":""},{"$f":"IF(LEN(B34)=0,\"\",IF(ISBLANK(Planning!E217),0,Planning!E217))","v":""},{"$f":"IF(LEN(B34)=0,\"\",IF(ISBLANK(Planning!F217),0,Planning!F217))","v":""},{"$f":"IF(LEN(B34)=0,\"\",IF(ISBLANK(Planning!G217),0,Planning!G217))","v":""},{"$f":"IF(LEN(B34)=0,\"\",IF(ISBLANK(Planning!H217),0,Planning!H217))","v":""},{"$f":"IF(LEN(B34)=0,\"\",IF(ISBLANK(Planning!I217),0,Planning!I217))","v":""},{"$f":"IF(LEN(B34)=0,\"\",IF(ISBLANK(Planning!J217),0,Planning!J217))","v":""},"","",{"$f":"IF(AX34=0,VLOOKUP(BK34,Data!$C$116:$D$119,2),\"\")","v":""}]
[null,{"$f":"IF(ISBLANK(Planning!A165),\"\",Planning!A165)","v":""},{"$f":"IF(ISBLANK(Planning!D59),\"\",Planning!D59)","v":""},{"$f":"IF(LEN(C35)=0,\"\",IF(ISNA(VLOOKUP(C35,INDIRECT(ADDRESS(Data!$AG$67,Data!$AG$65,1,1,\"Data\")):INDIRECT(ADDRESS(Data!$AG$68,Data!$AG$66,1,1,\"Data\")),Data!$AG$74,0)),$B$10,VLOOKUP(Planning!D59,INDIRECT(ADDRESS(Data!$AG$67,Data!$AG$65,1,1,\"Data\")):INDIRECT(ADDRESS(Data!$AG$68,Data!$AG$66,1,1,\"Data\")),Data!$AG$74,0)))","v":""},{"$f":"IF(ISBLANK(Planning!I165),\"\",Planning!I165)","v":""},{"$f":"IF(ISBLANK(Planning!I165),\"\",INDEX(Planning!$A$21:$C$25,MATCH(E35,Planning!$A$21:$A$25,0),2))","v":""},{"$f":"IF(ISNA(INDEX(Planning!$A$21:$N$25,MATCH(E35,Planning!$A$21:$A$25,0),12)),\"\",INDEX(Planning!$A$21:$N$25,MATCH(E35,Planning!$A$21:$A$25,0),12))","v":""},{"$f":"IF(ISNA(INDEX(Planning!$A$21:$N$25,MATCH(E35,Planning!$A$21:$A$25,0),8)/2.29),\"\",INDEX(Planning!$A$21:$N$25,MATCH(E35,Planning!$A$21:$A$25,0),8)/2.29)","v":""},{"$f":"IF(ISBLANK(Planning!J165),\"\",Planning!J165)","v":""},"","",{"$f":"IF(ISNA(INDEX(Planning!$A$21:$N$25,MATCH(E35,Planning!$A$21:$A$25,0),14)),\"\",INDEX(Planning!$A$21:$N$25,MATCH(E35,Planning!$A$21:$A$25,0),14))","v":""},{"$f":"IF(ISERROR(VLOOKUP(L35,Data!$Q$65:$R$66,2,1)),\"\",VLOOKUP(L35,Data!$Q$65:$R$66,2,1))","v":""},"","",{"$f":"IF(LEN(B35)=0,\"\",Planning!B59*(1.3333))","v":""},"","","",{"$f":"IF(LEN(B35)=0,\"\",IF(ISBLANK(Data!$AG$69),\"\",Data!$AG$69))","v":""},{"$f":"IF(ISERROR(VLOOKUP(C35,INDIRECT(ADDRESS(Data!$AG$67,Data!$AG$65,1,1,\"Data\")):INDIRECT(ADDRESS(Data!$AG$68,Data!$AG$66,1,1,\"Data\")),Data!$AG$81,0)),\"\",VLOOKUP(C35,INDIRECT(ADDRESS(Data!$AG$67,Data!$AG$65,1,1,\"Data\")):INDIRECT(ADDRESS(Data!$AG$68,Data!$AG$66,1,1,\"Data\")),Data!$AG$81,0))","v":""},{"$f":"IF(LEN(B35)=0,\"\",IF(LEN(Data!$AG$71)=0,\"\",IF(Data!$AG$71=1,\"Yes\", \"No\")))","v":""},{"$f":"IF(ISERROR(IF(V35=\"NO\",U35,VLOOKUP(U35,Data!$AA$72:$AB$85,2,0))),\"\",IF(V35=\"NO\",U35,VLOOKUP(U35,Data!$AA$72:$AB$85,2,0)))","v":""},{"$f":"IF(ISBLANK(Planning!H59),\"\",Planning!H59)","v":""},{"$f":"IF(ISBLANK(Planning!L59),\"\",Planning!L59)","v":""},{"$f":"IF(ISERROR(INDEX(Data!$D$128:$T$146,MATCH(X35,Data!$C$128:$C$146,1),MATCH(Y35,Data!$D$127:$T$127,1))),\"\",INDEX(Data!$D$128:$T$146,MATCH(X35,Data!$C$128:$C$146,1),MATCH(Y35,Data!$D$127:$T$127,1)))","v":""},{"$f":"IF(ISBLANK(Planning!F111),\"\",Planning!F111)","v":""},{"$f":"IF(ISBLANK(Planning!H111),\"\",Planning!H111)","v":""},{"$f":"IF(ISERROR(INDEX(Data!$F$155:$K$156,VLOOKUP(AA35,Data!$C$79:$D$81,2),VLOOKUP(AB35,Data!$G$79:$H$85,2,0))),\"\",INDEX(Data!$F$155:$K$156,VLOOKUP(AA35,Data!$C$79:$D$81,2),VLOOKUP(AB35,Data!$G$79:$H$85,2,0)))","v":""},{"$f":"IF(ISBLANK(Planning!J111),\"\",Planning!J111)","v":""},{"$f":"IF(ISERROR(VLOOKUP(AD35,Data!$J$79:$K$81,2,0)),\"\",VLOOKUP(AD35,Data!$J$79:$K$81,2,0))","v":""},{"$f":"IF(ISERROR(VLOOKUP(C35,INDIRECT(ADDRESS(Data!$AG$67,Data!$AG$65,1,1,\"Data\")):INDIRECT(ADDRESS(Data!$AG$68,Data!$AG$66,1,1,\"Data\")),Data!$AG$84,0)),\"\",VLOOKUP(C35,INDIRECT(ADDRESS(Data!$AG$67,Data!$AG$65,1,1,\"Data\")):INDIRECT(ADDRESS(Data!$AG$68,Data!$AG$66,1,1,\"Data\")),Data!$AG$84,0))","v":""},{"$f":"IF(LEN(B35)=0,\"\",IF(LEN(Data!$AG$70)=0,\"\",Data!$AG$70))","v":""},{"$f":"IF(LEN(AE35)=0,\"\",IF(AE35=\"Yes\",INDIRECT(ADDRESS((ROW(Data!$M$153)+MATCH(AG35,Data!$M$154:$M$293,0)+MATCH(X35,Data!$P$154:$P$174,1)-1),(COLUMN(Data!$Q$153)+MATCH(AF35,Data!$R$153:$U$153,0)),1,1,\"Data\"),TRUE),1))","v":""},"",{"$f":"IF(ISBLANK(Planning!M111),\"\",Planning!M111)","v":""},"",{"$f":"IF(ISERROR(VLOOKUP(AK35,Data!$J$105:$K$109,2,1)),\"\",VLOOKUP(AK35,Data!$J$105:$K$109,2,1))","v":""},{"$f":"IF(ISBLANK(Planning!B165),\"\",Planning!B165)","v":""},{"$f":"IF(ISERROR(INDEX(Data!$D$91:$G$94,MATCH(AM35,Data!$C$91:$C$94,1),MATCH(AF35,Data!$D$90:$G$90,1))),\"\",INDEX(Data!$D$91:$G$94,MATCH(AM35,Data!$C$91:$C$94,1),MATCH(AF35,Data!$D$90:$G$90,1)))","v":""},{"$f":"IF(ISERROR(VLOOKUP(X35,Data!$D$184:$K$200,HLOOKUP(AN35,Data!$E$182:$K$183,2))),\"\",VLOOKUP(X35,Data!$D$184:$K$200,HLOOKUP(AN35,Data!$E$182:$K$183,2)))","v":""},{"$f":"IF(ISERROR(VLOOKUP(AO35,Data!$C$105:$D$110,2)),\"\",VLOOKUP(AO35,Data!$C$105:$D$110,2))","v":""},{"$f":"IF(ISBLANK(Planning!M59),\"\",Planning!M59)","v":""},{"$f":"IF(ISERROR(VLOOKUP(AQ35,Data!$F$105:$G$108,2,1)),\"\",VLOOKUP(AQ35,Data!$F$105:$G$108,2,1))","v":""},{"$f":"IF(ISBLANK(Planning!F165),\"\",Planning!F165)","v":""},{"$f":"IF(ISERROR(VLOOKUP(AS35,Data!$C$99:$D$101,2)),\"\",VLOOKUP(AS35,Data!$C$99:$D$101,2))","v":""},{"$f":"IF(ISBLANK(Planning!H165),\"\",Planning!H165)","v":""},{"$f":"IF(ISERROR(VLOOKUP(AU35,Data!$G$99:$H$101,2)),\"\",VLOOKUP(AU35,Data!$G$99:$H$101,2))","v":""},"","","",{"$f":"IF(AX35=0,VLOOKUP(AY35,Data!$C$116:$D$119,2),\"\")","v":""},{"$f":"IF(LEN(B35)=0,\"\",IF(ISBLANK(Planning!B218),0,Planning!B218))","v":""},{"$f":"IF(LEN(B35)=0,\"\",IF(ISBLANK(Planning!C218),0,Planning!C218))","v":""},{"$f":"IF(LEN(B35)=0,\"\",IF(ISBLANK(Planning!D218),0,Planning!D218))","v":""},{"$f":"IF(LEN(B35)=0,\"\",IF(ISBLANK(Planning!E218),0,Planning!E218))","v":""},{"$f":"IF(LEN(B35)=0,\"\",IF(ISBLANK(Planning!F218),0,Planning!F218))","v":""},{"$f":"IF(LEN(B35)=0,\"\",IF(ISBLANK(Planning!G218),0,Planning!G218))","v":""},{"$f":"IF(LEN(B35)=0,\"\",IF(ISBLANK(Planning!H218),0,Planning!H218))","v":""},{"$f":"IF(LEN(B35)=0,\"\",IF(ISBLANK(Planning!I218),0,Planning!I218))","v":""},{"$f":"IF(LEN(B35)=0,\"\",IF(ISBLANK(Planning!J218),0,Planning!J218))","v":""},"","",{"$f":"IF(AX35=0,VLOOKUP(BK35,Data!$C$116:$D$119,2),\"\")","v":""}]
[null,{"$f":"IF(ISBLANK(Planning!A166),\"\",Planning!A166)","v":""},{"$f":"IF(ISBLANK(Planning!D60),\"\",Planning!D60)","v":""},{"$f":"IF(LEN(C36)=0,\"\",IF(ISNA(VLOOKUP(C36,INDIRECT(ADDRESS(Data!$AG$67,Data!$AG$65,1,1,\"Data\")):INDIRECT(ADDRESS(Data!$AG$68,Data!$AG$66,1,1,\"Data\")),Data!$AG$74,0)),$B$10,VLOOKUP(Planning!D60,INDIRECT(ADDRESS(Data!$AG$67,Data!$AG$65,1,1,\"Data\")):INDIRECT(ADDRESS(Data!$AG$68,Data!$AG$66,1,1,\"Data\")),Data!$AG$74,0)))","v":""},{"$f":"IF(ISBLANK(Planning!I166),\"\",Planning!I166)","v":""},{"$f":"IF(ISBLANK(Planning!I166),\"\",INDEX(Planning!$A$21:$C$25,MATCH(E36,Planning!$A$21:$A$25,0),2))","v":""},{"$f":"IF(ISNA(INDEX(Planning!$A$21:$N$25,MATCH(E36,Planning!$A$21:$A$25,0),12)),\"\",INDEX(Planning!$A$21:$N$25,MATCH(E36,Planning!$A$21:$A$25,0),12))","v":""},{"$f":"IF(ISNA(INDEX(Planning!$A$21:$N$25,MATCH(E36,Planning!$A$21:$A$25,0),8)/2.29),\"\",INDEX(Planning!$A$21:$N$25,MATCH(E36,Planning!$A$21:$A$25,0),8)/2.29)","v":""},{"$f":"IF(ISBLANK(Planning!J166),\"\",Planning!J166)","v":""},"","",{"$f":"IF(ISNA(INDEX(Planning!$A$21:$N$25,MATCH(E36,Planning!$A$21:$A$25,0),14)),\"\",INDEX(Planning!$A$21:$N$25,MATCH(E36,Planning!$A$21:$A$25,0),14))","v":""},{"$f":"IF(ISERROR(VLOOKUP(L36,Data!$Q$65:$R$66,2,1)),\"\",VLOOKUP(L36,Data!$Q$65:$R$66,2,1))","v":""},"","",{"$f":"IF(LEN(B36)=0,\"\",Planning!B60*(1.3333))","v":""},"","","",{"$f":"IF(LEN(B36)=0,\"\",IF(ISBLANK(Data!$AG$69),\"\",Data!$AG$69))","v":""},{"$f":"IF(ISERROR(VLOOKUP(C36,INDIRECT(ADDRESS(Data!$AG$67,Data!$AG$65,1,1,\"Data\")):INDIRECT(ADDRESS(Data!$AG$68,Data!$AG$66,1,1,\"Data\")),Data!$AG$81,0)),\"\",VLOOKUP(C36,INDIRECT(ADDRESS(Data!$AG$67,Data!$AG$65,1,1,\"Data\")):INDIRECT(ADDRESS(Data!$AG$68,Data!$AG$66,1,1,\"Data\")),Data!$AG$81,0))","v":""},{"$f":"IF(LEN(B36)=0,\"\",IF(LEN(Data!$AG$71)=0,\"\",IF(Data!$AG$71=1,\"Yes\", \"No\")))","v":""},{"$f":"IF(ISERROR(IF(V36=\"NO\",U36,VLOOKUP(U36,Data!$AA$72:$AB$85,2,0))),\"\",IF(V36=\"NO\",U36,VLOOKUP(U36,Data!$AA$72:$AB$85,2,0)))","v":""},{"$f":"IF(ISBLANK(Planning!H60),\"\",Planning!H60)","v":""},{"$f":"IF(ISBLANK(Planning!L60),\"\",Planning!L60)","v":""},{"$f":"IF(ISERROR(INDEX(Data!$D$128:$T$146,MATCH(X36,Data!$C$128:$C$146,1),MATCH(Y36,Data!$D$127:$T$127,1))),\"\",INDEX(Data!$D$128:$T$146,MATCH(X36,Data!$C$128:$C$146,1),MATCH(Y36,Data!$D$127:$T$127,1)))","v":""},{"$f":"IF(ISBLANK(Planning!F112),\"\",Planning!F112)","v":""},{"$f":"IF(ISBLANK(Planning!H112),\"\",Planning!H112)","v":""},{"$f":"IF(ISERROR(INDEX(Data!$F$155:$K$156,VLOOKUP(AA36,Data!$C$79:$D$81,2),VLOOKUP(AB36,Data!$G$79:$H$85,2,0))),\"\",INDEX(Data!$F$155:$K$156,VLOOKUP(AA36,Data!$C$79:$D$81,2),VLOOKUP(AB36,Data!$G$79:$H$85,2,0)))","v":""},{"$f":"IF(ISBLANK(Planning!J112),\"\",Planning!J112)","v":""},{"$f":"IF(ISERROR(VLOOKUP(AD36,Data!$J$79:$K$81,2,0)),\"\",VLOOKUP(AD36,Data!$J$79:$K$81,2,0))","v":""},{"$f":"IF(ISERROR(VLOOKUP(C36,INDIRECT(ADDRESS(Data!$AG$67,Data!$AG$65,1,1,\"Data\")):INDIRECT(ADDRESS(Data!$AG$68,Data!$AG$66,1,1,\"Data\")),Data!$AG$84,0)),\"\",VLOOKUP(C36,INDIRECT(ADDRESS(Data!$AG$67,Data!$AG$65,1,1,\"Data\")):INDIRECT(ADDRESS(Data!$AG$68,Data!$AG$66,1,1,\"Data\")),Data!$AG$84,0))","v":""},{"$f":"IF(LEN(B36)=0,\"\",IF(LEN(Data!$AG$70)=0,\"\",Data!$AG$70))","v":""},{"$f":"IF(LEN(AE36)=0,\"\",IF(AE36=\"Yes\",INDIRECT(ADDRESS((ROW(Data!$M$153)+MATCH(AG36,Data!$M$154:$M$293,0)+MATCH(X36,Data!$P$154:$P$174,1)-1),(COLUMN(Data!$Q$153)+MATCH(AF36,Data!$R$153:$U$153,0)),1,1,\"Data\"),TRUE),1))","v":""},"",{"$f":"IF(ISBLANK(Planning!M112),\"\",Planning!M112)","v":""},"",{"$f":"IF(ISERROR(VLOOKUP(AK36,Data!$J$105:$K$109,2,1)),\"\",VLOOKUP(AK36,Data!$J$105:$K$109,2,1))","v":""},{"$f":"IF(ISBLANK(Planning!B166),\"\",Planning!B166)","v":""},{"$f":"IF(ISERROR(INDEX(Data!$D$91:$G$94,MATCH(AM36,Data!$C$91:$C$94,1),MATCH(AF36,Data!$D$90:$G$90,1))),\"\",INDEX(Data!$D$91:$G$94,MATCH(AM36,Data!$C$91:$C$94,1),MATCH(AF36,Data!$D$90:$G$90,1)))","v":""},{"$f":"IF(ISERROR(VLOOKUP(X36,Data!$D$184:$K$200,HLOOKUP(AN36,Data!$E$182:$K$183,2))),\"\",VLOOKUP(X36,Data!$D$184:$K$200,HLOOKUP(AN36,Data!$E$182:$K$183,2)))","v":""},{"$f":"IF(ISERROR(VLOOKUP(AO36,Data!$C$105:$D$110,2)),\"\",VLOOKUP(AO36,Data!$C$105:$D$110,2))","v":""},{"$f":"IF(ISBLANK(Planning!M60),\"\",Planning!M60)","v":""},{"$f":"IF(ISERROR(VLOOKUP(AQ36,Data!$F$105:$G$108,2,1)),\"\",VLOOKUP(AQ36,Data!$F$105:$G$108,2,1))","v":""},{"$f":"IF(ISBLANK(Planning!F166),\"\",Planning!F166)","v":""},{"$f":"IF(ISERROR(VLOOKUP(AS36,Data!$C$99:$D$101,2)),\"\",VLOOKUP(AS36,Data!$C$99:$D$101,2))","v":""},{"$f":"IF(ISBLANK(Planning!H166),\"\",Planning!H166)","v":""},{"$f":"IF(ISERROR(VLOOKUP(AU36,Data!$G$99:$H$101,2)),\"\",VLOOKUP(AU36,Data!$G$99:$H$101,2))","v":""},"","","",{"$f":"IF(AX36=0,VLOOKUP(AY36,Data!$C$116:$D$119,2),\"\")","v":""},{"$f":"IF(LEN(B36)=0,\"\",IF(ISBLANK(Planning!B219),0,Planning!B219))","v":""},{"$f":"IF(LEN(B36)=0,\"\",IF(ISBLANK(Planning!C219),0,Planning!C219))","v":""},{"$f":"IF(LEN(B36)=0,\"\",IF(ISBLANK(Planning!D219),0,Planning!D219))","v":""},{"$f":"IF(LEN(B36)=0,\"\",IF(ISBLANK(Planning!E219),0,Planning!E219))","v":""},{"$f":"IF(LEN(B36)=0,\"\",IF(ISBLANK(Planning!F219),0,Planning!F219))","v":""},{"$f":"IF(LEN(B36)=0,\"\",IF(ISBLANK(Planning!G219),0,Planning!G219))","v":""},{"$f":"IF(LEN(B36)=0,\"\",IF(ISBLANK(Planning!H219),0,Planning!H219))","v":""},{"$f":"IF(LEN(B36)=0,\"\",IF(ISBLANK(Planning!I219),0,Planning!I219))","v":""},{"$f":"IF(LEN(B36)=0,\"\",IF(ISBLANK(Planning!J219),0,Planning!J219))","v":""},"","",{"$f":"IF(AX36=0,VLOOKUP(BK36,Data!$C$116:$D$119,2),\"\")","v":""}]
[null,{"$f":"IF(ISBLANK(Planning!A167),\"\",Planning!A167)","v":""},{"$f":"IF(ISBLANK(Planning!D61),\"\",Planning!D61)","v":""},{"$f":"IF(LEN(C37)=0,\"\",IF(ISNA(VLOOKUP(C37,INDIRECT(ADDRESS(Data!$AG$67,Data!$AG$65,1,1,\"Data\")):INDIRECT(ADDRESS(Data!$AG$68,Data!$AG$66,1,1,\"Data\")),Data!$AG$74,0)),$B$10,VLOOKUP(Planning!D61,INDIRECT(ADDRESS(Data!$AG$67,Data!$AG$65,1,1,\"Data\")):INDIRECT(ADDRESS(Data!$AG$68,Data!$AG$66,1,1,\"Data\")),Data!$AG$74,0)))","v":""},{"$f":"IF(ISBLANK(Planning!I167),\"\",Planning!I167)","v":""},{"$f":"IF(ISBLANK(Planning!I167),\"\",INDEX(Planning!$A$21:$C$25,MATCH(E37,Planning!$A$21:$A$25,0),2))","v":""},{"$f":"IF(ISNA(INDEX(Planning!$A$21:$N$25,MATCH(E37,Planning!$A$21:$A$25,0),12)),\"\",INDEX(Planning!$A$21:$N$25,MATCH(E37,Planning!$A$21:$A$25,0),12))","v":""},{"$f":"IF(ISNA(INDEX(Planning!$A$21:$N$25,MATCH(E37,Planning!$A$21:$A$25,0),8)/2.29),\"\",INDEX(Planning!$A$21:$N$25,MATCH(E37,Planning!$A$21:$A$25,0),8)/2.29)","v":""},{"$f":"IF(ISBLANK(Planning!J167),\"\",Planning!J167)","v":""},"","",{"$f":"IF(ISNA(INDEX(Planning!$A$21:$N$25,MATCH(E37,Planning!$A$21:$A$25,0),14)),\"\",INDEX(Planning!$A$21:$N$25,MATCH(E37,Planning!$A$21:$A$25,0),14))","v":""},{"$f":"IF(ISERROR(VLOOKUP(L37,Data!$Q$65:$R$66,2,1)),\"\",VLOOKUP(L37,Data!$Q$65:$R$66,2,1))","v":""},"","",{"$f":"IF(LEN(B37)=0,\"\",Planning!B61*(1.3333))","v":""},"","","",{"$f":"IF(LEN(B37)=0,\"\",IF(ISBLANK(Data!$AG$69),\"\",Data!$AG$69))","v":""},{"$f":"IF(ISERROR(VLOOKUP(C37,INDIRECT(ADDRESS(Data!$AG$67,Data!$AG$65,1,1,\"Data\")):INDIRECT(ADDRESS(Data!$AG$68,Data!$AG$66,1,1,\"Data\")),Data!$AG$81,0)),\"\",VLOOKUP(C37,INDIRECT(ADDRESS(Data!$AG$67,Data!$AG$65,1,1,\"Data\")):INDIRECT(ADDRESS(Data!$AG$68,Data!$AG$66,1,1,\"Data\")),Data!$AG$81,0))","v":""},{"$f":"IF(LEN(B37)=0,\"\",IF(LEN(Data!$AG$71)=0,\"\",IF(Data!$AG$71=1,\"Yes\", \"No\")))","v":""},{"$f":"IF(ISERROR(IF(V37=\"NO\",U37,VLOOKUP(U37,Data!$AA$72:$AB$85,2,0))),\"\",IF(V37=\"NO\",U37,VLOOKUP(U37,Data!$AA$72:$AB$85,2,0)))","v":""},{"$f":"IF(ISBLANK(Planning!H61),\"\",Planning!H61)","v":""},{"$f":"IF(ISBLANK(Planning!L61),\"\",Planning!L61)","v":""},{"$f":"IF(ISERROR(INDEX(Data!$D$128:$T$146,MATCH(X37,Data!$C$128:$C$146,1),MATCH(Y37,Data!$D$127:$T$127,1))),\"\",INDEX(Data!$D$128:$T$146,MATCH(X37,Data!$C$128:$C$146,1),MATCH(Y37,Data!$D$127:$T$127,1)))","v":""},{"$f":"IF(ISBLANK(Planning!F113),\"\",Planning!F113)","v":""},{"$f":"IF(ISBLANK(Planning!H113),\"\",Planning!H113)","v":""},{"$f":"IF(ISERROR(INDEX(Data!$F$155:$K$156,VLOOKUP(AA37,Data!$C$79:$D$81,2),VLOOKUP(AB37,Data!$G$79:$H$85,2,0))),\"\",INDEX(Data!$F$155:$K$156,VLOOKUP(AA37,Data!$C$79:$D$81,2),VLOOKUP(AB37,Data!$G$79:$H$85,2,0)))","v":""},{"$f":"IF(ISBLANK(Planning!J113),\"\",Planning!J113)","v":""},{"$f":"IF(ISERROR(VLOOKUP(AD37,Data!$J$79:$K$81,2,0)),\"\",VLOOKUP(AD37,Data!$J$79:$K$81,2,0))","v":""},{"$f":"IF(ISERROR(VLOOKUP(C37,INDIRECT(ADDRESS(Data!$AG$67,Data!$AG$65,1,1,\"Data\")):INDIRECT(ADDRESS(Data!$AG$68,Data!$AG$66,1,1,\"Data\")),Data!$AG$84,0)),\"\",VLOOKUP(C37,INDIRECT(ADDRESS(Data!$AG$67,Data!$AG$65,1,1,\"Data\")):INDIRECT(ADDRESS(Data!$AG$68,Data!$AG$66,1,1,\"Data\")),Data!$AG$84,0))","v":""},{"$f":"IF(LEN(B37)=0,\"\",IF(LEN(Data!$AG$70)=0,\"\",Data!$AG$70))","v":""},{"$f":"IF(LEN(AE37)=0,\"\",IF(AE37=\"Yes\",INDIRECT(ADDRESS((ROW(Data!$M$153)+MATCH(AG37,Data!$M$154:$M$293,0)+MATCH(X37,Data!$P$154:$P$174,1)-1),(COLUMN(Data!$Q$153)+MATCH(AF37,Data!$R$153:$U$153,0)),1,1,\"Data\"),TRUE),1))","v":""},"",{"$f":"IF(ISBLANK(Planning!M113),\"\",Planning!M113)","v":""},"",{"$f":"IF(ISERROR(VLOOKUP(AK37,Data!$J$105:$K$109,2,1)),\"\",VLOOKUP(AK37,Data!$J$105:$K$109,2,1))","v":""},{"$f":"IF(ISBLANK(Planning!B167),\"\",Planning!B167)","v":""},{"$f":"IF(ISERROR(INDEX(Data!$D$91:$G$94,MATCH(AM37,Data!$C$91:$C$94,1),MATCH(AF37,Data!$D$90:$G$90,1))),\"\",INDEX(Data!$D$91:$G$94,MATCH(AM37,Data!$C$91:$C$94,1),MATCH(AF37,Data!$D$90:$G$90,1)))","v":""},{"$f":"IF(ISERROR(VLOOKUP(X37,Data!$D$184:$K$200,HLOOKUP(AN37,Data!$E$182:$K$183,2))),\"\",VLOOKUP(X37,Data!$D$184:$K$200,HLOOKUP(AN37,Data!$E$182:$K$183,2)))","v":""},{"$f":"IF(ISERROR(VLOOKUP(AO37,Data!$C$105:$D$110,2)),\"\",VLOOKUP(AO37,Data!$C$105:$D$110,2))","v":""},{"$f":"IF(ISBLANK(Planning!M61),\"\",Planning!M61)","v":""},{"$f":"IF(ISERROR(VLOOKUP(AQ37,Data!$F$105:$G$108,2,1)),\"\",VLOOKUP(AQ37,Data!$F$105:$G$108,2,1))","v":""},{"$f":"IF(ISBLANK(Planning!F167),\"\",Planning!F167)","v":""},{"$f":"IF(ISERROR(VLOOKUP(AS37,Data!$C$99:$D$101,2)),\"\",VLOOKUP(AS37,Data!$C$99:$D$101,2))","v":""},{"$f":"IF(ISBLANK(Planning!H167),\"\",Planning!H167)","v":""},{"$f":"IF(ISERROR(VLOOKUP(AU37,Data!$G$99:$H$101,2)),\"\",VLOOKUP(AU37,Data!$G$99:$H$101,2))","v":""},"","","",{"$f":"IF(AX37=0,VLOOKUP(AY37,Data!$C$116:$D$119,2),\"\")","v":""},{"$f":"IF(LEN(B37)=0,\"\",IF(ISBLANK(Planning!B220),0,Planning!B220))","v":""},{"$f":"IF(LEN(B37)=0,\"\",IF(ISBLANK(Planning!C220),0,Planning!C220))","v":""},{"$f":"IF(LEN(B37)=0,\"\",IF(ISBLANK(Planning!D220),0,Planning!D220))","v":""},{"$f":"IF(LEN(B37)=0,\"\",IF(ISBLANK(Planning!E220),0,Planning!E220))","v":""},{"$f":"IF(LEN(B37)=0,\"\",IF(ISBLANK(Planning!F220),0,Planning!F220))","v":""},{"$f":"IF(LEN(B37)=0,\"\",IF(ISBLANK(Planning!G220),0,Planning!G220))","v":""},{"$f":"IF(LEN(B37)=0,\"\",IF(ISBLANK(Planning!H220),0,Planning!H220))","v":""},{"$f":"IF(LEN(B37)=0,\"\",IF(ISBLANK(Planning!I220),0,Planning!I220))","v":""},{"$f":"IF(LEN(B37)=0,\"\",IF(ISBLANK(Planning!J220),0,Planning!J220))","v":""},"","",{"$f":"IF(AX37=0,VLOOKUP(BK37,Data!$C$116:$D$119,2),\"\")","v":""}]
[null,{"$f":"IF(ISBLANK(Planning!A168),\"\",Planning!A168)","v":""},{"$f":"IF(ISBLANK(Planning!D62),\"\",Planning!D62)","v":""},{"$f":"IF(LEN(C38)=0,\"\",IF(ISNA(VLOOKUP(C38,INDIRECT(ADDRESS(Data!$AG$67,Data!$AG$65,1,1,\"Data\")):INDIRECT(ADDRESS(Data!$AG$68,Data!$AG$66,1,1,\"Data\")),Data!$AG$74,0)),$B$10,VLOOKUP(Planning!D62,INDIRECT(ADDRESS(Data!$AG$67,Data!$AG$65,1,1,\"Data\")):INDIRECT(ADDRESS(Data!$AG$68,Data!$AG$66,1,1,\"Data\")),Data!$AG$74,0)))","v":""},{"$f":"IF(ISBLANK(Planning!I168),\"\",Planning!I168)","v":""},{"$f":"IF(ISBLANK(Planning!I168),\"\",INDEX(Planning!$A$21:$C$25,MATCH(E38,Planning!$A$21:$A$25,0),2))","v":""},{"$f":"IF(ISNA(INDEX(Planning!$A$21:$N$25,MATCH(E38,Planning!$A$21:$A$25,0),12)),\"\",INDEX(Planning!$A$21:$N$25,MATCH(E38,Planning!$A$21:$A$25,0),12))","v":""},{"$f":"IF(ISNA(INDEX(Planning!$A$21:$N$25,MATCH(E38,Planning!$A$21:$A$25,0),8)/2.29),\"\",INDEX(Planning!$A$21:$N$25,MATCH(E38,Planning!$A$21:$A$25,0),8)/2.29)","v":""},{"$f":"IF(ISBLANK(Planning!J168),\"\",Planning!J168)","v":""},"","",{"$f":"IF(ISNA(INDEX(Planning!$A$21:$N$25,MATCH(E38,Planning!$A$21:$A$25,0),14)),\"\",INDEX(Planning!$A$21:$N$25,MATCH(E38,Planning!$A$21:$A$25,0),14))","v":""},{"$f":"IF(ISERROR(VLOOKUP(L38,Data!$Q$65:$R$66,2,1)),\"\",VLOOKUP(L38,Data!$Q$65:$R$66,2,1))","v":""},"","",{"$f":"IF(LEN(B38)=0,\"\",Planning!B62*(1.3333))","v":""},"","","",{"$f":"IF(LEN(B38)=0,\"\",IF(ISBLANK(Data!$AG$69),\"\",Data!$AG$69))","v":""},{"$f":"IF(ISERROR(VLOOKUP(C38,INDIRECT(ADDRESS(Data!$AG$67,Data!$AG$65,1,1,\"Data\")):INDIRECT(ADDRESS(Data!$AG$68,Data!$AG$66,1,1,\"Data\")),Data!$AG$81,0)),\"\",VLOOKUP(C38,INDIRECT(ADDRESS(Data!$AG$67,Data!$AG$65,1,1,\"Data\")):INDIRECT(ADDRESS(Data!$AG$68,Data!$AG$66,1,1,\"Data\")),Data!$AG$81,0))","v":""},{"$f":"IF(LEN(B38)=0,\"\",IF(LEN(Data!$AG$71)=0,\"\",IF(Data!$AG$71=1,\"Yes\", \"No\")))","v":""},{"$f":"IF(ISERROR(IF(V38=\"NO\",U38,VLOOKUP(U38,Data!$AA$72:$AB$85,2,0))),\"\",IF(V38=\"NO\",U38,VLOOKUP(U38,Data!$AA$72:$AB$85,2,0)))","v":""},{"$f":"IF(ISBLANK(Planning!H62),\"\",Planning!H62)","v":""},{"$f":"IF(ISBLANK(Planning!L62),\"\",Planning!L62)","v":""},{"$f":"IF(ISERROR(INDEX(Data!$D$128:$T$146,MATCH(X38,Data!$C$128:$C$146,1),MATCH(Y38,Data!$D$127:$T$127,1))),\"\",INDEX(Data!$D$128:$T$146,MATCH(X38,Data!$C$128:$C$146,1),MATCH(Y38,Data!$D$127:$T$127,1)))","v":""},{"$f":"IF(ISBLANK(Planning!F114),\"\",Planning!F114)","v":""},{"$f":"IF(ISBLANK(Planning!H114),\"\",Planning!H114)","v":""},{"$f":"IF(ISERROR(INDEX(Data!$F$155:$K$156,VLOOKUP(AA38,Data!$C$79:$D$81,2),VLOOKUP(AB38,Data!$G$79:$H$85,2,0))),\"\",INDEX(Data!$F$155:$K$156,VLOOKUP(AA38,Data!$C$79:$D$81,2),VLOOKUP(AB38,Data!$G$79:$H$85,2,0)))","v":""},{"$f":"IF(ISBLANK(Planning!J114),\"\",Planning!J114)","v":""},{"$f":"IF(ISERROR(VLOOKUP(AD38,Data!$J$79:$K$81,2,0)),\"\",VLOOKUP(AD38,Data!$J$79:$K$81,2,0))","v":""},{"$f":"IF(ISERROR(VLOOKUP(C38,INDIRECT(ADDRESS(Data!$AG$67,Data!$AG$65,1,1,\"Data\")):INDIRECT(ADDRESS(Data!$AG$68,Data!$AG$66,1,1,\"Data\")),Data!$AG$84,0)),\"\",VLOOKUP(C38,INDIRECT(ADDRESS(Data!$AG$67,Data!$AG$65,1,1,\"Data\")):INDIRECT(ADDRESS(Data!$AG$68,Data!$AG$66,1,1,\"Data\")),Data!$AG$84,0))","v":""},{"$f":"IF(LEN(B38)=0,\"\",IF(LEN(Data!$AG$70)=0,\"\",Data!$AG$70))","v":""},{"$f":"IF(LEN(AE38)=0,\"\",IF(AE38=\"Yes\",INDIRECT(ADDRESS((ROW(Data!$M$153)+MATCH(AG38,Data!$M$154:$M$293,0)+MATCH(X38,Data!$P$154:$P$174,1)-1),(COLUMN(Data!$Q$153)+MATCH(AF38,Data!$R$153:$U$153,0)),1,1,\"Data\"),TRUE),1))","v":""},"",{"$f":"IF(ISBLANK(Planning!M114),\"\",Planning!M114)","v":""},"",{"$f":"IF(ISERROR(VLOOKUP(AK38,Data!$J$105:$K$109,2,1)),\"\",VLOOKUP(AK38,Data!$J$105:$K$109,2,1))","v":""},{"$f":"IF(ISBLANK(Planning!B168),\"\",Planning!B168)","v":""},{"$f":"IF(ISERROR(INDEX(Data!$D$91:$G$94,MATCH(AM38,Data!$C$91:$C$94,1),MATCH(AF38,Data!$D$90:$G$90,1))),\"\",INDEX(Data!$D$91:$G$94,MATCH(AM38,Data!$C$91:$C$94,1),MATCH(AF38,Data!$D$90:$G$90,1)))","v":""},{"$f":"IF(ISERROR(VLOOKUP(X38,Data!$D$184:$K$200,HLOOKUP(AN38,Data!$E$182:$K$183,2))),\"\",VLOOKUP(X38,Data!$D$184:$K$200,HLOOKUP(AN38,Data!$E$182:$K$183,2)))","v":""},{"$f":"IF(ISERROR(VLOOKUP(AO38,Data!$C$105:$D$110,2)),\"\",VLOOKUP(AO38,Data!$C$105:$D$110,2))","v":""},{"$f":"IF(ISBLANK(Planning!M62),\"\",Planning!M62)","v":""},{"$f":"IF(ISERROR(VLOOKUP(AQ38,Data!$F$105:$G$108,2,1)),\"\",VLOOKUP(AQ38,Data!$F$105:$G$108,2,1))","v":""},{"$f":"IF(ISBLANK(Planning!F168),\"\",Planning!F168)","v":""},{"$f":"IF(ISERROR(VLOOKUP(AS38,Data!$C$99:$D$101,2)),\"\",VLOOKUP(AS38,Data!$C$99:$D$101,2))","v":""},{"$f":"IF(ISBLANK(Planning!H168),\"\",Planning!H168)","v":""},{"$f":"IF(ISERROR(VLOOKUP(AU38,Data!$G$99:$H$101,2)),\"\",VLOOKUP(AU38,Data!$G$99:$H$101,2))","v":""},"","","",{"$f":"IF(AX38=0,VLOOKUP(AY38,Data!$C$116:$D$119,2),\"\")","v":""},{"$f":"IF(LEN(B38)=0,\"\",IF(ISBLANK(Planning!B221),0,Planning!B221))","v":""},{"$f":"IF(LEN(B38)=0,\"\",IF(ISBLANK(Planning!C221),0,Planning!C221))","v":""},{"$f":"IF(LEN(B38)=0,\"\",IF(ISBLANK(Planning!D221),0,Planning!D221))","v":""},{"$f":"IF(LEN(B38)=0,\"\",IF(ISBLANK(Planning!E221),0,Planning!E221))","v":""},{"$f":"IF(LEN(B38)=0,\"\",IF(ISBLANK(Planning!F221),0,Planning!F221))","v":""},{"$f":"IF(LEN(B38)=0,\"\",IF(ISBLANK(Planning!G221),0,Planning!G221))","v":""},{"$f":"IF(LEN(B38)=0,\"\",IF(ISBLANK(Planning!H221),0,Planning!H221))","v":""},{"$f":"IF(LEN(B38)=0,\"\",IF(ISBLANK(Planning!I221),0,Planning!I221))","v":""},{"$f":"IF(LEN(B38)=0,\"\",IF(ISBLANK(Planning!J221),0,Planning!J221))","v":""},"","",{"$f":"IF(AX38=0,VLOOKUP(BK38,Data!$C$116:$D$119,2),\"\")","v":""}]
[null,{"$f":"IF(ISBLANK(Planning!A169),\"\",Planning!A169)","v":""},{"$f":"IF(ISBLANK(Planning!D63),\"\",Planning!D63)","v":""},{"$f":"IF(LEN(C39)=0,\"\",IF(ISNA(VLOOKUP(C39,INDIRECT(ADDRESS(Data!$AG$67,Data!$AG$65,1,1,\"Data\")):INDIRECT(ADDRESS(Data!$AG$68,Data!$AG$66,1,1,\"Data\")),Data!$AG$74,0)),$B$10,VLOOKUP(Planning!D63,INDIRECT(ADDRESS(Data!$AG$67,Data!$AG$65,1,1,\"Data\")):INDIRECT(ADDRESS(Data!$AG$68,Data!$AG$66,1,1,\"Data\")),Data!$AG$74,0)))","v":""},{"$f":"IF(ISBLANK(Planning!I169),\"\",Planning!I169)","v":""},{"$f":"IF(ISBLANK(Planning!I169),\"\",INDEX(Planning!$A$21:$C$25,MATCH(E39,Planning!$A$21:$A$25,0),2))","v":""},{"$f":"IF(ISNA(INDEX(Planning!$A$21:$N$25,MATCH(E39,Planning!$A$21:$A$25,0),12)),\"\",INDEX(Planning!$A$21:$N$25,MATCH(E39,Planning!$A$21:$A$25,0),12))","v":""},{"$f":"IF(ISNA(INDEX(Planning!$A$21:$N$25,MATCH(E39,Planning!$A$21:$A$25,0),8)/2.29),\"\",INDEX(Planning!$A$21:$N$25,MATCH(E39,Planning!$A$21:$A$25,0),8)/2.29)","v":""},{"$f":"IF(ISBLANK(Planning!J169),\"\",Planning!J169)","v":""},"","",{"$f":"IF(ISNA(INDEX(Planning!$A$21:$N$25,MATCH(E39,Planning!$A$21:$A$25,0),14)),\"\",INDEX(Planning!$A$21:$N$25,MATCH(E39,Planning!$A$21:$A$25,0),14))","v":""},{"$f":"IF(ISERROR(VLOOKUP(L39,Data!$Q$65:$R$66,2,1)),\"\",VLOOKUP(L39,Data!$Q$65:$R$66,2,1))","v":""},"","",{"$f":"IF(LEN(B39)=0,\"\",Planning!B63*(1.3333))","v":""},"","","",{"$f":"IF(LEN(B39)=0,\"\",IF(ISBLANK(Data!$AG$69),\"\",Data!$AG$69))","v":""},{"$f":"IF(ISERROR(VLOOKUP(C39,INDIRECT(ADDRESS(Data!$AG$67,Data!$AG$65,1,1,\"Data\")):INDIRECT(ADDRESS(Data!$AG$68,Data!$AG$66,1,1,\"Data\")),Data!$AG$81,0)),\"\",VLOOKUP(C39,INDIRECT(ADDRESS(Data!$AG$67,Data!$AG$65,1,1,\"Data\")):INDIRECT(ADDRESS(Data!$AG$68,Data!$AG$66,1,1,\"Data\")),Data!$AG$81,0))","v":""},{"$f":"IF(LEN(B39)=0,\"\",IF(LEN(Data!$AG$71)=0,\"\",IF(Data!$AG$71=1,\"Yes\", \"No\")))","v":""},{"$f":"IF(ISERROR(IF(V39=\"NO\",U39,VLOOKUP(U39,Data!$AA$72:$AB$85,2,0))),\"\",IF(V39=\"NO\",U39,VLOOKUP(U39,Data!$AA$72:$AB$85,2,0)))","v":""},{"$f":"IF(ISBLANK(Planning!H63),\"\",Planning!H63)","v":""},{"$f":"IF(ISBLANK(Planning!L63),\"\",Planning!L63)","v":""},{"$f":"IF(ISERROR(INDEX(Data!$D$128:$T$146,MATCH(X39,Data!$C$128:$C$146,1),MATCH(Y39,Data!$D$127:$T$127,1))),\"\",INDEX(Data!$D$128:$T$146,MATCH(X39,Data!$C$128:$C$146,1),MATCH(Y39,Data!$D$127:$T$127,1)))","v":""},{"$f":"IF(ISBLANK(Planning!F115),\"\",Planning!F115)","v":""},{"$f":"IF(ISBLANK(Planning!H115),\"\",Planning!H115)","v":""},{"$f":"IF(ISERROR(INDEX(Data!$F$155:$K$156,VLOOKUP(AA39,Data!$C$79:$D$81,2),VLOOKUP(AB39,Data!$G$79:$H$85,2,0))),\"\",INDEX(Data!$F$155:$K$156,VLOOKUP(AA39,Data!$C$79:$D$81,2),VLOOKUP(AB39,Data!$G$79:$H$85,2,0)))","v":""},{"$f":"IF(ISBLANK(Planning!J115),\"\",Planning!J115)","v":""},{"$f":"IF(ISERROR(VLOOKUP(AD39,Data!$J$79:$K$81,2,0)),\"\",VLOOKUP(AD39,Data!$J$79:$K$81,2,0))","v":""},{"$f":"IF(ISERROR(VLOOKUP(C39,INDIRECT(ADDRESS(Data!$AG$67,Data!$AG$65,1,1,\"Data\")):INDIRECT(ADDRESS(Data!$AG$68,Data!$AG$66,1,1,\"Data\")),Data!$AG$84,0)),\"\",VLOOKUP(C39,INDIRECT(ADDRESS(Data!$AG$67,Data!$AG$65,1,1,\"Data\")):INDIRECT(ADDRESS(Data!$AG$68,Data!$AG$66,1,1,\"Data\")),Data!$AG$84,0))","v":""},{"$f":"IF(LEN(B39)=0,\"\",IF(LEN(Data!$AG$70)=0,\"\",Data!$AG$70))","v":""},{"$f":"IF(LEN(AE39)=0,\"\",IF(AE39=\"Yes\",INDIRECT(ADDRESS((ROW(Data!$M$153)+MATCH(AG39,Data!$M$154:$M$293,0)+MATCH(X39,Data!$P$154:$P$174,1)-1),(COLUMN(Data!$Q$153)+MATCH(AF39,Data!$R$153:$U$153,0)),1,1,\"Data\"),TRUE),1))","v":""},"",{"$f":"IF(ISBLANK(Planning!M115),\"\",Planning!M115)","v":""},"",{"$f":"IF(ISERROR(VLOOKUP(AK39,Data!$J$105:$K$109,2,1)),\"\",VLOOKUP(AK39,Data!$J$105:$K$109,2,1))","v":""},{"$f":"IF(ISBLANK(Planning!B169),\"\",Planning!B169)","v":""},{"$f":"IF(ISERROR(INDEX(Data!$D$91:$G$94,MATCH(AM39,Data!$C$91:$C$94,1),MATCH(AF39,Data!$D$90:$G$90,1))),\"\",INDEX(Data!$D$91:$G$94,MATCH(AM39,Data!$C$91:$C$94,1),MATCH(AF39,Data!$D$90:$G$90,1)))","v":""},{"$f":"IF(ISERROR(VLOOKUP(X39,Data!$D$184:$K$200,HLOOKUP(AN39,Data!$E$182:$K$183,2))),\"\",VLOOKUP(X39,Data!$D$184:$K$200,HLOOKUP(AN39,Data!$E$182:$K$183,2)))","v":""},{"$f":"IF(ISERROR(VLOOKUP(AO39,Data!$C$105:$D$110,2)),\"\",VLOOKUP(AO39,Data!$C$105:$D$110,2))","v":""},{"$f":"IF(ISBLANK(Planning!M63),\"\",Planning!M63)","v":""},{"$f":"IF(ISERROR(VLOOKUP(AQ39,Data!$F$105:$G$108,2,1)),\"\",VLOOKUP(AQ39,Data!$F$105:$G$108,2,1))","v":""},{"$f":"IF(ISBLANK(Planning!F169),\"\",Planning!F169)","v":""},{"$f":"IF(ISERROR(VLOOKUP(AS39,Data!$C$99:$D$101,2)),\"\",VLOOKUP(AS39,Data!$C$99:$D$101,2))","v":""},{"$f":"IF(ISBLANK(Planning!H169),\"\",Planning!H169)","v":""},{"$f":"IF(ISERROR(VLOOKUP(AU39,Data!$G$99:$H$101,2)),\"\",VLOOKUP(AU39,Data!$G$99:$H$101,2))","v":""},"","","",{"$f":"IF(AX39=0,VLOOKUP(AY39,Data!$C$116:$D$119,2),\"\")","v":""},{"$f":"IF(LEN(B39)=0,\"\",IF(ISBLANK(Planning!B222),0,Planning!B222))","v":""},{"$f":"IF(LEN(B39)=0,\"\",IF(ISBLANK(Planning!C222),0,Planning!C222))","v":""},{"$f":"IF(LEN(B39)=0,\"\",IF(ISBLANK(Planning!D222),0,Planning!D222))","v":""},{"$f":"IF(LEN(B39)=0,\"\",IF(ISBLANK(Planning!E222),0,Planning!E222))","v":""},{"$f":"IF(LEN(B39)=0,\"\",IF(ISBLANK(Planning!F222),0,Planning!F222))","v":""},{"$f":"IF(LEN(B39)=0,\"\",IF(ISBLANK(Planning!G222),0,Planning!G222))","v":""},{"$f":"IF(LEN(B39)=0,\"\",IF(ISBLANK(Planning!H222),0,Planning!H222))","v":""},{"$f":"IF(LEN(B39)=0,\"\",IF(ISBLANK(Planning!I222),0,Planning!I222))","v":""},{"$f":"IF(LEN(B39)=0,\"\",IF(ISBLANK(Planning!J222),0,Planning!J222))","v":""},"","",{"$f":"IF(AX39=0,VLOOKUP(BK39,Data!$C$116:$D$119,2),\"\")","v":""}]
[null,{"$f":"IF(ISBLANK(Planning!A170),\"\",Planning!A170)","v":""},{"$f":"IF(ISBLANK(Planning!D64),\"\",Planning!D64)","v":""},{"$f":"IF(LEN(C40)=0,\"\",IF(ISNA(VLOOKUP(C40,INDIRECT(ADDRESS(Data!$AG$67,Data!$AG$65,1,1,\"Data\")):INDIRECT(ADDRESS(Data!$AG$68,Data!$AG$66,1,1,\"Data\")),Data!$AG$74,0)),$B$10,VLOOKUP(Planning!D64,INDIRECT(ADDRESS(Data!$AG$67,Data!$AG$65,1,1,\"Data\")):INDIRECT(ADDRESS(Data!$AG$68,Data!$AG$66,1,1,\"Data\")),Data!$AG$74,0)))","v":""},{"$f":"IF(ISBLANK(Planning!I170),\"\",Planning!I170)","v":""},{"$f":"IF(ISBLANK(Planning!I170),\"\",INDEX(Planning!$A$21:$C$25,MATCH(E40,Planning!$A$21:$A$25,0),2))","v":""},{"$f":"IF(ISNA(INDEX(Planning!$A$21:$N$25,MATCH(E40,Planning!$A$21:$A$25,0),12)),\"\",INDEX(Planning!$A$21:$N$25,MATCH(E40,Planning!$A$21:$A$25,0),12))","v":""},{"$f":"IF(ISNA(INDEX(Planning!$A$21:$N$25,MATCH(E40,Planning!$A$21:$A$25,0),8)/2.29),\"\",INDEX(Planning!$A$21:$N$25,MATCH(E40,Planning!$A$21:$A$25,0),8)/2.29)","v":""},{"$f":"IF(ISBLANK(Planning!J170),\"\",Planning!J170)","v":""},"","",{"$f":"IF(ISNA(INDEX(Planning!$A$21:$N$25,MATCH(E40,Planning!$A$21:$A$25,0),14)),\"\",INDEX(Planning!$A$21:$N$25,MATCH(E40,Planning!$A$21:$A$25,0),14))","v":""},{"$f":"IF(ISERROR(VLOOKUP(L40,Data!$Q$65:$R$66,2,1)),\"\",VLOOKUP(L40,Data!$Q$65:$R$66,2,1))","v":""},"","",{"$f":"IF(LEN(B40)=0,\"\",Planning!B64*(1.3333))","v":""},"","","",{"$f":"IF(LEN(B40)=0,\"\",IF(ISBLANK(Data!$AG$69),\"\",Data!$AG$69))","v":""},{"$f":"IF(ISERROR(VLOOKUP(C40,INDIRECT(ADDRESS(Data!$AG$67,Data!$AG$65,1,1,\"Data\")):INDIRECT(ADDRESS(Data!$AG$68,Data!$AG$66,1,1,\"Data\")),Data!$AG$81,0)),\"\",VLOOKUP(C40,INDIRECT(ADDRESS(Data!$AG$67,Data!$AG$65,1,1,\"Data\")):INDIRECT(ADDRESS(Data!$AG$68,Data!$AG$66,1,1,\"Data\")),Data!$AG$81,0))","v":""},{"$f":"IF(LEN(B40)=0,\"\",IF(LEN(Data!$AG$71)=0,\"\",IF(Data!$AG$71=1,\"Yes\", \"No\")))","v":""},{"$f":"IF(ISERROR(IF(V40=\"NO\",U40,VLOOKUP(U40,Data!$AA$72:$AB$85,2,0))),\"\",IF(V40=\"NO\",U40,VLOOKUP(U40,Data!$AA$72:$AB$85,2,0)))","v":""},{"$f":"IF(ISBLANK(Planning!H64),\"\",Planning!H64)","v":""},{"$f":"IF(ISBLANK(Planning!L64),\"\",Planning!L64)","v":""},{"$f":"IF(ISERROR(INDEX(Data!$D$128:$T$146,MATCH(X40,Data!$C$128:$C$146,1),MATCH(Y40,Data!$D$127:$T$127,1))),\"\",INDEX(Data!$D$128:$T$146,MATCH(X40,Data!$C$128:$C$146,1),MATCH(Y40,Data!$D$127:$T$127,1)))","v":""},{"$f":"IF(ISBLANK(Planning!F116),\"\",Planning!F116)","v":""},{"$f":"IF(ISBLANK(Planning!H116),\"\",Planning!H116)","v":""},{"$f":"IF(ISERROR(INDEX(Data!$F$155:$K$156,VLOOKUP(AA40,Data!$C$79:$D$81,2),VLOOKUP(AB40,Data!$G$79:$H$85,2,0))),\"\",INDEX(Data!$F$155:$K$156,VLOOKUP(AA40,Data!$C$79:$D$81,2),VLOOKUP(AB40,Data!$G$79:$H$85,2,0)))","v":""},{"$f":"IF(ISBLANK(Planning!J116),\"\",Planning!J116)","v":""},{"$f":"IF(ISERROR(VLOOKUP(AD40,Data!$J$79:$K$81,2,0)),\"\",VLOOKUP(AD40,Data!$J$79:$K$81,2,0))","v":""},{"$f":"IF(ISERROR(VLOOKUP(C40,INDIRECT(ADDRESS(Data!$AG$67,Data!$AG$65,1,1,\"Data\")):INDIRECT(ADDRESS(Data!$AG$68,Data!$AG$66,1,1,\"Data\")),Data!$AG$84,0)),\"\",VLOOKUP(C40,INDIRECT(ADDRESS(Data!$AG$67,Data!$AG$65,1,1,\"Data\")):INDIRECT(ADDRESS(Data!$AG$68,Data!$AG$66,1,1,\"Data\")),Data!$AG$84,0))","v":""},{"$f":"IF(LEN(B40)=0,\"\",IF(LEN(Data!$AG$70)=0,\"\",Data!$AG$70))","v":""},{"$f":"IF(LEN(AE40)=0,\"\",IF(AE40=\"Yes\",INDIRECT(ADDRESS((ROW(Data!$M$153)+MATCH(AG40,Data!$M$154:$M$293,0)+MATCH(X40,Data!$P$154:$P$174,1)-1),(COLUMN(Data!$Q$153)+MATCH(AF40,Data!$R$153:$U$153,0)),1,1,\"Data\"),TRUE),1))","v":""},"",{"$f":"IF(ISBLANK(Planning!M116),\"\",Planning!M116)","v":""},"",{"$f":"IF(ISERROR(VLOOKUP(AK40,Data!$J$105:$K$109,2,1)),\"\",VLOOKUP(AK40,Data!$J$105:$K$109,2,1))","v":""},{"$f":"IF(ISBLANK(Planning!B170),\"\",Planning!B170)","v":""},{"$f":"IF(ISERROR(INDEX(Data!$D$91:$G$94,MATCH(AM40,Data!$C$91:$C$94,1),MATCH(AF40,Data!$D$90:$G$90,1))),\"\",INDEX(Data!$D$91:$G$94,MATCH(AM40,Data!$C$91:$C$94,1),MATCH(AF40,Data!$D$90:$G$90,1)))","v":""},{"$f":"IF(ISERROR(VLOOKUP(X40,Data!$D$184:$K$200,HLOOKUP(AN40,Data!$E$182:$K$183,2))),\"\",VLOOKUP(X40,Data!$D$184:$K$200,HLOOKUP(AN40,Data!$E$182:$K$183,2)))","v":""},{"$f":"IF(ISERROR(VLOOKUP(AO40,Data!$C$105:$D$110,2)),\"\",VLOOKUP(AO40,Data!$C$105:$D$110,2))","v":""},{"$f":"IF(ISBLANK(Planning!M64),\"\",Planning!M64)","v":""},{"$f":"IF(ISERROR(VLOOKUP(AQ40,Data!$F$105:$G$108,2,1)),\"\",VLOOKUP(AQ40,Data!$F$105:$G$108,2,1))","v":""},{"$f":"IF(ISBLANK(Planning!F170),\"\",Planning!F170)","v":""},{"$f":"IF(ISERROR(VLOOKUP(AS40,Data!$C$99:$D$101,2)),\"\",VLOOKUP(AS40,Data!$C$99:$D$101,2))","v":""},{"$f":"IF(ISBLANK(Planning!H170),\"\",Planning!H170)","v":""},{"$f":"IF(ISERROR(VLOOKUP(AU40,Data!$G$99:$H$101,2)),\"\",VLOOKUP(AU40,Data!$G$99:$H$101,2))","v":""},"","","",{"$f":"IF(AX40=0,VLOOKUP(AY40,Data!$C$116:$D$119,2),\"\")","v":""},{"$f":"IF(LEN(B40)=0,\"\",IF(ISBLANK(Planning!B223),0,Planning!B223))","v":""},{"$f":"IF(LEN(B40)=0,\"\",IF(ISBLANK(Planning!C223),0,Planning!C223))","v":""},{"$f":"IF(LEN(B40)=0,\"\",IF(ISBLANK(Planning!D223),0,Planning!D223))","v":""},{"$f":"IF(LEN(B40)=0,\"\",IF(ISBLANK(Planning!E223),0,Planning!E223))","v":""},{"$f":"IF(LEN(B40)=0,\"\",IF(ISBLANK(Planning!F223),0,Planning!F223))","v":""},{"$f":"IF(LEN(B40)=0,\"\",IF(ISBLANK(Planning!G223),0,Planning!G223))","v":""},{"$f":"IF(LEN(B40)=0,\"\",IF(ISBLANK(Planning!H223),0,Planning!H223))","v":""},{"$f":"IF(LEN(B40)=0,\"\",IF(ISBLANK(Planning!I223),0,Planning!I223))","v":""},{"$f":"IF(LEN(B40)=0,\"\",IF(ISBLANK(Planning!J223),0,Planning!J223))","v":""},"","",{"$f":"IF(AX40=0,VLOOKUP(BK40,Data!$C$116:$D$119,2),\"\")","v":""}]
[null,{"$f":"IF(ISBLANK(Planning!A171),\"\",Planning!A171)","v":""},{"$f":"IF(ISBLANK(Planning!D65),\"\",Planning!D65)","v":""},{"$f":"IF(LEN(C41)=0,\"\",IF(ISNA(VLOOKUP(C41,INDIRECT(ADDRESS(Data!$AG$67,Data!$AG$65,1,1,\"Data\")):INDIRECT(ADDRESS(Data!$AG$68,Data!$AG$66,1,1,\"Data\")),Data!$AG$74,0)),$B$10,VLOOKUP(Planning!D65,INDIRECT(ADDRESS(Data!$AG$67,Data!$AG$65,1,1,\"Data\")):INDIRECT(ADDRESS(Data!$AG$68,Data!$AG$66,1,1,\"Data\")),Data!$AG$74,0)))","v":""},{"$f":"IF(ISBLANK(Planning!I171),\"\",Planning!I171)","v":""},{"$f":"IF(ISBLANK(Planning!I171),\"\",INDEX(Planning!$A$21:$C$25,MATCH(E41,Planning!$A$21:$A$25,0),2))","v":""},{"$f":"IF(ISNA(INDEX(Planning!$A$21:$N$25,MATCH(E41,Planning!$A$21:$A$25,0),12)),\"\",INDEX(Planning!$A$21:$N$25,MATCH(E41,Planning!$A$21:$A$25,0),12))","v":""},{"$f":"IF(ISNA(INDEX(Planning!$A$21:$N$25,MATCH(E41,Planning!$A$21:$A$25,0),8)/2.29),\"\",INDEX(Planning!$A$21:$N$25,MATCH(E41,Planning!$A$21:$A$25,0),8)/2.29)","v":""},{"$f":"IF(ISBLANK(Planning!J171),\"\",Planning!J171)","v":""},"","",{"$f":"IF(ISNA(INDEX(Planning!$A$21:$N$25,MATCH(E41,Planning!$A$21:$A$25,0),14)),\"\",INDEX(Planning!$A$21:$N$25,MATCH(E41,Planning!$A$21:$A$25,0),14))","v":""},{"$f":"IF(ISERROR(VLOOKUP(L41,Data!$Q$65:$R$66,2,1)),\"\",VLOOKUP(L41,Data!$Q$65:$R$66,2,1))","v":""},"","",{"$f":"IF(LEN(B41)=0,\"\",Planning!B65*(1.3333))","v":""},"","","",{"$f":"IF(LEN(B41)=0,\"\",IF(ISBLANK(Data!$AG$69),\"\",Data!$AG$69))","v":""},{"$f":"IF(ISERROR(VLOOKUP(C41,INDIRECT(ADDRESS(Data!$AG$67,Data!$AG$65,1,1,\"Data\")):INDIRECT(ADDRESS(Data!$AG$68,Data!$AG$66,1,1,\"Data\")),Data!$AG$81,0)),\"\",VLOOKUP(C41,INDIRECT(ADDRESS(Data!$AG$67,Data!$AG$65,1,1,\"Data\")):INDIRECT(ADDRESS(Data!$AG$68,Data!$AG$66,1,1,\"Data\")),Data!$AG$81,0))","v":""},{"$f":"IF(LEN(B41)=0,\"\",IF(LEN(Data!$AG$71)=0,\"\",IF(Data!$AG$71=1,\"Yes\", \"No\")))","v":""},{"$f":"IF(ISERROR(IF(V41=\"NO\",U41,VLOOKUP(U41,Data!$AA$72:$AB$85,2,0))),\"\",IF(V41=\"NO\",U41,VLOOKUP(U41,Data!$AA$72:$AB$85,2,0)))","v":""},{"$f":"IF(ISBLANK(Planning!H65),\"\",Planning!H65)","v":""},{"$f":"IF(ISBLANK(Planning!L65),\"\",Planning!L65)","v":""},{"$f":"IF(ISERROR(INDEX(Data!$D$128:$T$146,MATCH(X41,Data!$C$128:$C$146,1),MATCH(Y41,Data!$D$127:$T$127,1))),\"\",INDEX(Data!$D$128:$T$146,MATCH(X41,Data!$C$128:$C$146,1),MATCH(Y41,Data!$D$127:$T$127,1)))","v":""},{"$f":"IF(ISBLANK(Planning!F117),\"\",Planning!F117)","v":""},{"$f":"IF(ISBLANK(Planning!H117),\"\",Planning!H117)","v":""},{"$f":"IF(ISERROR(INDEX(Data!$F$155:$K$156,VLOOKUP(AA41,Data!$C$79:$D$81,2),VLOOKUP(AB41,Data!$G$79:$H$85,2,0))),\"\",INDEX(Data!$F$155:$K$156,VLOOKUP(AA41,Data!$C$79:$D$81,2),VLOOKUP(AB41,Data!$G$79:$H$85,2,0)))","v":""},{"$f":"IF(ISBLANK(Planning!J117),\"\",Planning!J117)","v":""},{"$f":"IF(ISERROR(VLOOKUP(AD41,Data!$J$79:$K$81,2,0)),\"\",VLOOKUP(AD41,Data!$J$79:$K$81,2,0))","v":""},{"$f":"IF(ISERROR(VLOOKUP(C41,INDIRECT(ADDRESS(Data!$AG$67,Data!$AG$65,1,1,\"Data\")):INDIRECT(ADDRESS(Data!$AG$68,Data!$AG$66,1,1,\"Data\")),Data!$AG$84,0)),\"\",VLOOKUP(C41,INDIRECT(ADDRESS(Data!$AG$67,Data!$AG$65,1,1,\"Data\")):INDIRECT(ADDRESS(Data!$AG$68,Data!$AG$66,1,1,\"Data\")),Data!$AG$84,0))","v":""},{"$f":"IF(LEN(B41)=0,\"\",IF(LEN(Data!$AG$70)=0,\"\",Data!$AG$70))","v":""},{"$f":"IF(LEN(AE41)=0,\"\",IF(AE41=\"Yes\",INDIRECT(ADDRESS((ROW(Data!$M$153)+MATCH(AG41,Data!$M$154:$M$293,0)+MATCH(X41,Data!$P$154:$P$174,1)-1),(COLUMN(Data!$Q$153)+MATCH(AF41,Data!$R$153:$U$153,0)),1,1,\"Data\"),TRUE),1))","v":""},"",{"$f":"IF(ISBLANK(Planning!M117),\"\",Planning!M117)","v":""},"",{"$f":"IF(ISERROR(VLOOKUP(AK41,Data!$J$105:$K$109,2,1)),\"\",VLOOKUP(AK41,Data!$J$105:$K$109,2,1))","v":""},{"$f":"IF(ISBLANK(Planning!B171),\"\",Planning!B171)","v":""},{"$f":"IF(ISERROR(INDEX(Data!$D$91:$G$94,MATCH(AM41,Data!$C$91:$C$94,1),MATCH(AF41,Data!$D$90:$G$90,1))),\"\",INDEX(Data!$D$91:$G$94,MATCH(AM41,Data!$C$91:$C$94,1),MATCH(AF41,Data!$D$90:$G$90,1)))","v":""},{"$f":"IF(ISERROR(VLOOKUP(X41,Data!$D$184:$K$200,HLOOKUP(AN41,Data!$E$182:$K$183,2))),\"\",VLOOKUP(X41,Data!$D$184:$K$200,HLOOKUP(AN41,Data!$E$182:$K$183,2)))","v":""},{"$f":"IF(ISERROR(VLOOKUP(AO41,Data!$C$105:$D$110,2)),\"\",VLOOKUP(AO41,Data!$C$105:$D$110,2))","v":""},{"$f":"IF(ISBLANK(Planning!M65),\"\",Planning!M65)","v":""},{"$f":"IF(ISERROR(VLOOKUP(AQ41,Data!$F$105:$G$108,2,1)),\"\",VLOOKUP(AQ41,Data!$F$105:$G$108,2,1))","v":""},{"$f":"IF(ISBLANK(Planning!F171),\"\",Planning!F171)","v":""},{"$f":"IF(ISERROR(VLOOKUP(AS41,Data!$C$99:$D$101,2)),\"\",VLOOKUP(AS41,Data!$C$99:$D$101,2))","v":""},{"$f":"IF(ISBLANK(Planning!H171),\"\",Planning!H171)","v":""},{"$f":"IF(ISERROR(VLOOKUP(AU41,Data!$G$99:$H$101,2)),\"\",VLOOKUP(AU41,Data!$G$99:$H$101,2))","v":""},"","","",{"$f":"IF(AX41=0,VLOOKUP(AY41,Data!$C$116:$D$119,2),\"\")","v":""},{"$f":"IF(LEN(B41)=0,\"\",IF(ISBLANK(Planning!B224),0,Planning!B224))","v":""},{"$f":"IF(LEN(B41)=0,\"\",IF(ISBLANK(Planning!C224),0,Planning!C224))","v":""},{"$f":"IF(LEN(B41)=0,\"\",IF(ISBLANK(Planning!D224),0,Planning!D224))","v":""},{"$f":"IF(LEN(B41)=0,\"\",IF(ISBLANK(Planning!E224),0,Planning!E224))","v":""},{"$f":"IF(LEN(B41)=0,\"\",IF(ISBLANK(Planning!F224),0,Planning!F224))","v":""},{"$f":"IF(LEN(B41)=0,\"\",IF(ISBLANK(Planning!G224),0,Planning!G224))","v":""},{"$f":"IF(LEN(B41)=0,\"\",IF(ISBLANK(Planning!H224),0,Planning!H224))","v":""},{"$f":"IF(LEN(B41)=0,\"\",IF(ISBLANK(Planning!I224),0,Planning!I224))","v":""},{"$f":"IF(LEN(B41)=0,\"\",IF(ISBLANK(Planning!J224),0,Planning!J224))","v":""},"","",{"$f":"IF(AX41=0,VLOOKUP(BK41,Data!$C$116:$D$119,2),\"\")","v":""}]
[null,{"$f":"IF(ISBLANK(Planning!A172),\"\",Planning!A172)","v":""},{"$f":"IF(ISBLANK(Planning!D66),\"\",Planning!D66)","v":""},{"$f":"IF(LEN(C42)=0,\"\",IF(ISNA(VLOOKUP(C42,INDIRECT(ADDRESS(Data!$AG$67,Data!$AG$65,1,1,\"Data\")):INDIRECT(ADDRESS(Data!$AG$68,Data!$AG$66,1,1,\"Data\")),Data!$AG$74,0)),$B$10,VLOOKUP(Planning!D66,INDIRECT(ADDRESS(Data!$AG$67,Data!$AG$65,1,1,\"Data\")):INDIRECT(ADDRESS(Data!$AG$68,Data!$AG$66,1,1,\"Data\")),Data!$AG$74,0)))","v":""},{"$f":"IF(ISBLANK(Planning!I172),\"\",Planning!I172)","v":""},{"$f":"IF(ISBLANK(Planning!I172),\"\",INDEX(Planning!$A$21:$C$25,MATCH(E42,Planning!$A$21:$A$25,0),2))","v":""},{"$f":"IF(ISNA(INDEX(Planning!$A$21:$N$25,MATCH(E42,Planning!$A$21:$A$25,0),12)),\"\",INDEX(Planning!$A$21:$N$25,MATCH(E42,Planning!$A$21:$A$25,0),12))","v":""},{"$f":"IF(ISNA(INDEX(Planning!$A$21:$N$25,MATCH(E42,Planning!$A$21:$A$25,0),8)/2.29),\"\",INDEX(Planning!$A$21:$N$25,MATCH(E42,Planning!$A$21:$A$25,0),8)/2.29)","v":""},{"$f":"IF(ISBLANK(Planning!J172),\"\",Planning!J172)","v":""},"","",{"$f":"IF(ISNA(INDEX(Planning!$A$21:$N$25,MATCH(E42,Planning!$A$21:$A$25,0),14)),\"\",INDEX(Planning!$A$21:$N$25,MATCH(E42,Planning!$A$21:$A$25,0),14))","v":""},{"$f":"IF(ISERROR(VLOOKUP(L42,Data!$Q$65:$R$66,2,1)),\"\",VLOOKUP(L42,Data!$Q$65:$R$66,2,1))","v":""},"","",{"$f":"IF(LEN(B42)=0,\"\",Planning!B66*(1.3333))","v":""},"","","",{"$f":"IF(LEN(B42)=0,\"\",IF(ISBLANK(Data!$AG$69),\"\",Data!$AG$69))","v":""},{"$f":"IF(ISERROR(VLOOKUP(C42,INDIRECT(ADDRESS(Data!$AG$67,Data!$AG$65,1,1,\"Data\")):INDIRECT(ADDRESS(Data!$AG$68,Data!$AG$66,1,1,\"Data\")),Data!$AG$81,0)),\"\",VLOOKUP(C42,INDIRECT(ADDRESS(Data!$AG$67,Data!$AG$65,1,1,\"Data\")):INDIRECT(ADDRESS(Data!$AG$68,Data!$AG$66,1,1,\"Data\")),Data!$AG$81,0))","v":""},{"$f":"IF(LEN(B42)=0,\"\",IF(LEN(Data!$AG$71)=0,\"\",IF(Data!$AG$71=1,\"Yes\", \"No\")))","v":""},{"$f":"IF(ISERROR(IF(V42=\"NO\",U42,VLOOKUP(U42,Data!$AA$72:$AB$85,2,0))),\"\",IF(V42=\"NO\",U42,VLOOKUP(U42,Data!$AA$72:$AB$85,2,0)))","v":""},{"$f":"IF(ISBLANK(Planning!H66),\"\",Planning!H66)","v":""},{"$f":"IF(ISBLANK(Planning!L66),\"\",Planning!L66)","v":""},{"$f":"IF(ISERROR(INDEX(Data!$D$128:$T$146,MATCH(X42,Data!$C$128:$C$146,1),MATCH(Y42,Data!$D$127:$T$127,1))),\"\",INDEX(Data!$D$128:$T$146,MATCH(X42,Data!$C$128:$C$146,1),MATCH(Y42,Data!$D$127:$T$127,1)))","v":""},{"$f":"IF(ISBLANK(Planning!F118),\"\",Planning!F118)","v":""},{"$f":"IF(ISBLANK(Planning!H118),\"\",Planning!H118)","v":""},{"$f":"IF(ISERROR(INDEX(Data!$F$155:$K$156,VLOOKUP(AA42,Data!$C$79:$D$81,2),VLOOKUP(AB42,Data!$G$79:$H$85,2,0))),\"\",INDEX(Data!$F$155:$K$156,VLOOKUP(AA42,Data!$C$79:$D$81,2),VLOOKUP(AB42,Data!$G$79:$H$85,2,0)))","v":""},{"$f":"IF(ISBLANK(Planning!J118),\"\",Planning!J118)","v":""},{"$f":"IF(ISERROR(VLOOKUP(AD42,Data!$J$79:$K$81,2,0)),\"\",VLOOKUP(AD42,Data!$J$79:$K$81,2,0))","v":""},{"$f":"IF(ISERROR(VLOOKUP(C42,INDIRECT(ADDRESS(Data!$AG$67,Data!$AG$65,1,1,\"Data\")):INDIRECT(ADDRESS(Data!$AG$68,Data!$AG$66,1,1,\"Data\")),Data!$AG$84,0)),\"\",VLOOKUP(C42,INDIRECT(ADDRESS(Data!$AG$67,Data!$AG$65,1,1,\"Data\")):INDIRECT(ADDRESS(Data!$AG$68,Data!$AG$66,1,1,\"Data\")),Data!$AG$84,0))","v":""},{"$f":"IF(LEN(B42)=0,\"\",IF(LEN(Data!$AG$70)=0,\"\",Data!$AG$70))","v":""},{"$f":"IF(LEN(AE42)=0,\"\",IF(AE42=\"Yes\",INDIRECT(ADDRESS((ROW(Data!$M$153)+MATCH(AG42,Data!$M$154:$M$293,0)+MATCH(X42,Data!$P$154:$P$174,1)-1),(COLUMN(Data!$Q$153)+MATCH(AF42,Data!$R$153:$U$153,0)),1,1,\"Data\"),TRUE),1))","v":""},"",{"$f":"IF(ISBLANK(Planning!M118),\"\",Planning!M118)","v":""},"",{"$f":"IF(ISERROR(VLOOKUP(AK42,Data!$J$105:$K$109,2,1)),\"\",VLOOKUP(AK42,Data!$J$105:$K$109,2,1))","v":""},{"$f":"IF(ISBLANK(Planning!B172),\"\",Planning!B172)","v":""},{"$f":"IF(ISERROR(INDEX(Data!$D$91:$G$94,MATCH(AM42,Data!$C$91:$C$94,1),MATCH(AF42,Data!$D$90:$G$90,1))),\"\",INDEX(Data!$D$91:$G$94,MATCH(AM42,Data!$C$91:$C$94,1),MATCH(AF42,Data!$D$90:$G$90,1)))","v":""},{"$f":"IF(ISERROR(VLOOKUP(X42,Data!$D$184:$K$200,HLOOKUP(AN42,Data!$E$182:$K$183,2))),\"\",VLOOKUP(X42,Data!$D$184:$K$200,HLOOKUP(AN42,Data!$E$182:$K$183,2)))","v":""},{"$f":"IF(ISERROR(VLOOKUP(AO42,Data!$C$105:$D$110,2)),\"\",VLOOKUP(AO42,Data!$C$105:$D$110,2))","v":""},{"$f":"IF(ISBLANK(Planning!M66),\"\",Planning!M66)","v":""},{"$f":"IF(ISERROR(VLOOKUP(AQ42,Data!$F$105:$G$108,2,1)),\"\",VLOOKUP(AQ42,Data!$F$105:$G$108,2,1))","v":""},{"$f":"IF(ISBLANK(Planning!F172),\"\",Planning!F172)","v":""},{"$f":"IF(ISERROR(VLOOKUP(AS42,Data!$C$99:$D$101,2)),\"\",VLOOKUP(AS42,Data!$C$99:$D$101,2))","v":""},{"$f":"IF(ISBLANK(Planning!H172),\"\",Planning!H172)","v":""},{"$f":"IF(ISERROR(VLOOKUP(AU42,Data!$G$99:$H$101,2)),\"\",VLOOKUP(AU42,Data!$G$99:$H$101,2))","v":""},"","","",{"$f":"IF(AX42=0,VLOOKUP(AY42,Data!$C$116:$D$119,2),\"\")","v":""},{"$f":"IF(LEN(B42)=0,\"\",IF(ISBLANK(Planning!B225),0,Planning!B225))","v":""},{"$f":"IF(LEN(B42)=0,\"\",IF(ISBLANK(Planning!C225),0,Planning!C225))","v":""},{"$f":"IF(LEN(B42)=0,\"\",IF(ISBLANK(Planning!D225),0,Planning!D225))","v":""},{"$f":"IF(LEN(B42)=0,\"\",IF(ISBLANK(Planning!E225),0,Planning!E225))","v":""},{"$f":"IF(LEN(B42)=0,\"\",IF(ISBLANK(Planning!F225),0,Planning!F225))","v":""},{"$f":"IF(LEN(B42)=0,\"\",IF(ISBLANK(Planning!G225),0,Planning!G225))","v":""},{"$f":"IF(LEN(B42)=0,\"\",IF(ISBLANK(Planning!H225),0,Planning!H225))","v":""},{"$f":"IF(LEN(B42)=0,\"\",IF(ISBLANK(Planning!I225),0,Planning!I225))","v":""},{"$f":"IF(LEN(B42)=0,\"\",IF(ISBLANK(Planning!J225),0,Planning!J225))","v":""},"","",{"$f":"IF(AX42=0,VLOOKUP(BK42,Data!$C$116:$D$119,2),\"\")","v":""}]
[null,{"$f":"IF(ISBLANK(Planning!A173),\"\",Planning!A173)","v":""},{"$f":"IF(ISBLANK(Planning!D67),\"\",Planning!D67)","v":""},{"$f":"IF(LEN(C43)=0,\"\",IF(ISNA(VLOOKUP(C43,INDIRECT(ADDRESS(Data!$AG$67,Data!$AG$65,1,1,\"Data\")):INDIRECT(ADDRESS(Data!$AG$68,Data!$AG$66,1,1,\"Data\")),Data!$AG$74,0)),$B$10,VLOOKUP(Planning!D67,INDIRECT(ADDRESS(Data!$AG$67,Data!$AG$65,1,1,\"Data\")):INDIRECT(ADDRESS(Data!$AG$68,Data!$AG$66,1,1,\"Data\")),Data!$AG$74,0)))","v":""},{"$f":"IF(ISBLANK(Planning!I173),\"\",Planning!I173)","v":""},{"$f":"IF(ISBLANK(Planning!I173),\"\",INDEX(Planning!$A$21:$C$25,MATCH(E43,Planning!$A$21:$A$25,0),2))","v":""},{"$f":"IF(ISNA(INDEX(Planning!$A$21:$N$25,MATCH(E43,Planning!$A$21:$A$25,0),12)),\"\",INDEX(Planning!$A$21:$N$25,MATCH(E43,Planning!$A$21:$A$25,0),12))","v":""},{"$f":"IF(ISNA(INDEX(Planning!$A$21:$N$25,MATCH(E43,Planning!$A$21:$A$25,0),8)/2.29),\"\",INDEX(Planning!$A$21:$N$25,MATCH(E43,Planning!$A$21:$A$25,0),8)/2.29)","v":""},{"$f":"IF(ISBLANK(Planning!J173),\"\",Planning!J173)","v":""},"","",{"$f":"IF(ISNA(INDEX(Planning!$A$21:$N$25,MATCH(E43,Planning!$A$21:$A$25,0),14)),\"\",INDEX(Planning!$A$21:$N$25,MATCH(E43,Planning!$A$21:$A$25,0),14))","v":""},{"$f":"IF(ISERROR(VLOOKUP(L43,Data!$Q$65:$R$66,2,1)),\"\",VLOOKUP(L43,Data!$Q$65:$R$66,2,1))","v":""},"","",{"$f":"IF(LEN(B43)=0,\"\",Planning!B67*(1.3333))","v":""},"","","",{"$f":"IF(LEN(B43)=0,\"\",IF(ISBLANK(Data!$AG$69),\"\",Data!$AG$69))","v":""},{"$f":"IF(ISERROR(VLOOKUP(C43,INDIRECT(ADDRESS(Data!$AG$67,Data!$AG$65,1,1,\"Data\")):INDIRECT(ADDRESS(Data!$AG$68,Data!$AG$66,1,1,\"Data\")),Data!$AG$81,0)),\"\",VLOOKUP(C43,INDIRECT(ADDRESS(Data!$AG$67,Data!$AG$65,1,1,\"Data\")):INDIRECT(ADDRESS(Data!$AG$68,Data!$AG$66,1,1,\"Data\")),Data!$AG$81,0))","v":""},{"$f":"IF(LEN(B43)=0,\"\",IF(LEN(Data!$AG$71)=0,\"\",IF(Data!$AG$71=1,\"Yes\", \"No\")))","v":""},{"$f":"IF(ISERROR(IF(V43=\"NO\",U43,VLOOKUP(U43,Data!$AA$72:$AB$85,2,0))),\"\",IF(V43=\"NO\",U43,VLOOKUP(U43,Data!$AA$72:$AB$85,2,0)))","v":""},{"$f":"IF(ISBLANK(Planning!H67),\"\",Planning!H67)","v":""},{"$f":"IF(ISBLANK(Planning!L67),\"\",Planning!L67)","v":""},{"$f":"IF(ISERROR(INDEX(Data!$D$128:$T$146,MATCH(X43,Data!$C$128:$C$146,1),MATCH(Y43,Data!$D$127:$T$127,1))),\"\",INDEX(Data!$D$128:$T$146,MATCH(X43,Data!$C$128:$C$146,1),MATCH(Y43,Data!$D$127:$T$127,1)))","v":""},{"$f":"IF(ISBLANK(Planning!F119),\"\",Planning!F119)","v":""},{"$f":"IF(ISBLANK(Planning!H119),\"\",Planning!H119)","v":""},{"$f":"IF(ISERROR(INDEX(Data!$F$155:$K$156,VLOOKUP(AA43,Data!$C$79:$D$81,2),VLOOKUP(AB43,Data!$G$79:$H$85,2,0))),\"\",INDEX(Data!$F$155:$K$156,VLOOKUP(AA43,Data!$C$79:$D$81,2),VLOOKUP(AB43,Data!$G$79:$H$85,2,0)))","v":""},{"$f":"IF(ISBLANK(Planning!J119),\"\",Planning!J119)","v":""},{"$f":"IF(ISERROR(VLOOKUP(AD43,Data!$J$79:$K$81,2,0)),\"\",VLOOKUP(AD43,Data!$J$79:$K$81,2,0))","v":""},{"$f":"IF(ISERROR(VLOOKUP(C43,INDIRECT(ADDRESS(Data!$AG$67,Data!$AG$65,1,1,\"Data\")):INDIRECT(ADDRESS(Data!$AG$68,Data!$AG$66,1,1,\"Data\")),Data!$AG$84,0)),\"\",VLOOKUP(C43,INDIRECT(ADDRESS(Data!$AG$67,Data!$AG$65,1,1,\"Data\")):INDIRECT(ADDRESS(Data!$AG$68,Data!$AG$66,1,1,\"Data\")),Data!$AG$84,0))","v":""},{"$f":"IF(LEN(B43)=0,\"\",IF(LEN(Data!$AG$70)=0,\"\",Data!$AG$70))","v":""},{"$f":"IF(LEN(AE43)=0,\"\",IF(AE43=\"Yes\",INDIRECT(ADDRESS((ROW(Data!$M$153)+MATCH(AG43,Data!$M$154:$M$293,0)+MATCH(X43,Data!$P$154:$P$174,1)-1),(COLUMN(Data!$Q$153)+MATCH(AF43,Data!$R$153:$U$153,0)),1,1,\"Data\"),TRUE),1))","v":""},"",{"$f":"IF(ISBLANK(Planning!M119),\"\",Planning!M119)","v":""},"",{"$f":"IF(ISERROR(VLOOKUP(AK43,Data!$J$105:$K$109,2,1)),\"\",VLOOKUP(AK43,Data!$J$105:$K$109,2,1))","v":""},{"$f":"IF(ISBLANK(Planning!B173),\"\",Planning!B173)","v":""},{"$f":"IF(ISERROR(INDEX(Data!$D$91:$G$94,MATCH(AM43,Data!$C$91:$C$94,1),MATCH(AF43,Data!$D$90:$G$90,1))),\"\",INDEX(Data!$D$91:$G$94,MATCH(AM43,Data!$C$91:$C$94,1),MATCH(AF43,Data!$D$90:$G$90,1)))","v":""},{"$f":"IF(ISERROR(VLOOKUP(X43,Data!$D$184:$K$200,HLOOKUP(AN43,Data!$E$182:$K$183,2))),\"\",VLOOKUP(X43,Data!$D$184:$K$200,HLOOKUP(AN43,Data!$E$182:$K$183,2)))","v":""},{"$f":"IF(ISERROR(VLOOKUP(AO43,Data!$C$105:$D$110,2)),\"\",VLOOKUP(AO43,Data!$C$105:$D$110,2))","v":""},{"$f":"IF(ISBLANK(Planning!M67),\"\",Planning!M67)","v":""},{"$f":"IF(ISERROR(VLOOKUP(AQ43,Data!$F$105:$G$108,2,1)),\"\",VLOOKUP(AQ43,Data!$F$105:$G$108,2,1))","v":""},{"$f":"IF(ISBLANK(Planning!F173),\"\",Planning!F173)","v":""},{"$f":"IF(ISERROR(VLOOKUP(AS43,Data!$C$99:$D$101,2)),\"\",VLOOKUP(AS43,Data!$C$99:$D$101,2))","v":""},{"$f":"IF(ISBLANK(Planning!H173),\"\",Planning!H173)","v":""},{"$f":"IF(ISERROR(VLOOKUP(AU43,Data!$G$99:$H$101,2)),\"\",VLOOKUP(AU43,Data!$G$99:$H$101,2))","v":""},"","","",{"$f":"IF(AX43=0,VLOOKUP(AY43,Data!$C$116:$D$119,2),\"\")","v":""},{"$f":"IF(LEN(B43)=0,\"\",IF(ISBLANK(Planning!B226),0,Planning!B226))","v":""},{"$f":"IF(LEN(B43)=0,\"\",IF(ISBLANK(Planning!C226),0,Planning!C226))","v":""},{"$f":"IF(LEN(B43)=0,\"\",IF(ISBLANK(Planning!D226),0,Planning!D226))","v":""},{"$f":"IF(LEN(B43)=0,\"\",IF(ISBLANK(Planning!E226),0,Planning!E226))","v":""},{"$f":"IF(LEN(B43)=0,\"\",IF(ISBLANK(Planning!F226),0,Planning!F226))","v":""},{"$f":"IF(LEN(B43)=0,\"\",IF(ISBLANK(Planning!G226),0,Planning!G226))","v":""},{"$f":"IF(LEN(B43)=0,\"\",IF(ISBLANK(Planning!H226),0,Planning!H226))","v":""},{"$f":"IF(LEN(B43)=0,\"\",IF(ISBLANK(Planning!I226),0,Planning!I226))","v":""},{"$f":"IF(LEN(B43)=0,\"\",IF(ISBLANK(Planning!J226),0,Planning!J226))","v":""},"","",{"$f":"IF(AX43=0,VLOOKUP(BK43,Data!$C$116:$D$119,2),\"\")","v":""}]
[null,{"$f":"IF(ISBLANK(Planning!A174),\"\",Planning!A174)","v":""},{"$f":"IF(ISBLANK(Planning!D68),\"\",Planning!D68)","v":""},{"$f":"IF(LEN(C44)=0,\"\",IF(ISNA(VLOOKUP(C44,INDIRECT(ADDRESS(Data!$AG$67,Data!$AG$65,1,1,\"Data\")):INDIRECT(ADDRESS(Data!$AG$68,Data!$AG$66,1,1,\"Data\")),Data!$AG$74,0)),$B$10,VLOOKUP(Planning!D68,INDIRECT(ADDRESS(Data!$AG$67,Data!$AG$65,1,1,\"Data\")):INDIRECT(ADDRESS(Data!$AG$68,Data!$AG$66,1,1,\"Data\")),Data!$AG$74,0)))","v":""},{"$f":"IF(ISBLANK(Planning!I174),\"\",Planning!I174)","v":""},{"$f":"IF(ISBLANK(Planning!I174),\"\",INDEX(Planning!$A$21:$C$25,MATCH(E44,Planning!$A$21:$A$25,0),2))","v":""},{"$f":"IF(ISNA(INDEX(Planning!$A$21:$N$25,MATCH(E44,Planning!$A$21:$A$25,0),12)),\"\",INDEX(Planning!$A$21:$N$25,MATCH(E44,Planning!$A$21:$A$25,0),12))","v":""},{"$f":"IF(ISNA(INDEX(Planning!$A$21:$N$25,MATCH(E44,Planning!$A$21:$A$25,0),8)/2.29),\"\",INDEX(Planning!$A$21:$N$25,MATCH(E44,Planning!$A$21:$A$25,0),8)/2.29)","v":""},{"$f":"IF(ISBLANK(Planning!J174),\"\",Planning!J174)","v":""},"","",{"$f":"IF(ISNA(INDEX(Planning!$A$21:$N$25,MATCH(E44,Planning!$A$21:$A$25,0),14)),\"\",INDEX(Planning!$A$21:$N$25,MATCH(E44,Planning!$A$21:$A$25,0),14))","v":""},{"$f":"IF(ISERROR(VLOOKUP(L44,Data!$Q$65:$R$66,2,1)),\"\",VLOOKUP(L44,Data!$Q$65:$R$66,2,1))","v":""},"","",{"$f":"IF(LEN(B44)=0,\"\",Planning!B68*(1.3333))","v":""},"","","",{"$f":"IF(LEN(B44)=0,\"\",IF(ISBLANK(Data!$AG$69),\"\",Data!$AG$69))","v":""},{"$f":"IF(ISERROR(VLOOKUP(C44,INDIRECT(ADDRESS(Data!$AG$67,Data!$AG$65,1,1,\"Data\")):INDIRECT(ADDRESS(Data!$AG$68,Data!$AG$66,1,1,\"Data\")),Data!$AG$81,0)),\"\",VLOOKUP(C44,INDIRECT(ADDRESS(Data!$AG$67,Data!$AG$65,1,1,\"Data\")):INDIRECT(ADDRESS(Data!$AG$68,Data!$AG$66,1,1,\"Data\")),Data!$AG$81,0))","v":""},{"$f":"IF(LEN(B44)=0,\"\",IF(LEN(Data!$AG$71)=0,\"\",IF(Data!$AG$71=1,\"Yes\", \"No\")))","v":""},{"$f":"IF(ISERROR(IF(V44=\"NO\",U44,VLOOKUP(U44,Data!$AA$72:$AB$85,2,0))),\"\",IF(V44=\"NO\",U44,VLOOKUP(U44,Data!$AA$72:$AB$85,2,0)))","v":""},{"$f":"IF(ISBLANK(Planning!H68),\"\",Planning!H68)","v":""},{"$f":"IF(ISBLANK(Planning!L68),\"\",Planning!L68)","v":""},{"$f":"IF(ISERROR(INDEX(Data!$D$128:$T$146,MATCH(X44,Data!$C$128:$C$146,1),MATCH(Y44,Data!$D$127:$T$127,1))),\"\",INDEX(Data!$D$128:$T$146,MATCH(X44,Data!$C$128:$C$146,1),MATCH(Y44,Data!$D$127:$T$127,1)))","v":""},{"$f":"IF(ISBLANK(Planning!F120),\"\",Planning!F120)","v":""},{"$f":"IF(ISBLANK(Planning!H120),\"\",Planning!H120)","v":""},{"$f":"IF(ISERROR(INDEX(Data!$F$155:$K$156,VLOOKUP(AA44,Data!$C$79:$D$81,2),VLOOKUP(AB44,Data!$G$79:$H$85,2,0))),\"\",INDEX(Data!$F$155:$K$156,VLOOKUP(AA44,Data!$C$79:$D$81,2),VLOOKUP(AB44,Data!$G$79:$H$85,2,0)))","v":""},{"$f":"IF(ISBLANK(Planning!J120),\"\",Planning!J120)","v":""},{"$f":"IF(ISERROR(VLOOKUP(AD44,Data!$J$79:$K$81,2,0)),\"\",VLOOKUP(AD44,Data!$J$79:$K$81,2,0))","v":""},{"$f":"IF(ISERROR(VLOOKUP(C44,INDIRECT(ADDRESS(Data!$AG$67,Data!$AG$65,1,1,\"Data\")):INDIRECT(ADDRESS(Data!$AG$68,Data!$AG$66,1,1,\"Data\")),Data!$AG$84,0)),\"\",VLOOKUP(C44,INDIRECT(ADDRESS(Data!$AG$67,Data!$AG$65,1,1,\"Data\")):INDIRECT(ADDRESS(Data!$AG$68,Data!$AG$66,1,1,\"Data\")),Data!$AG$84,0))","v":""},{"$f":"IF(LEN(B44)=0,\"\",IF(LEN(Data!$AG$70)=0,\"\",Data!$AG$70))","v":""},{"$f":"IF(LEN(AE44)=0,\"\",IF(AE44=\"Yes\",INDIRECT(ADDRESS((ROW(Data!$M$153)+MATCH(AG44,Data!$M$154:$M$293,0)+MATCH(X44,Data!$P$154:$P$174,1)-1),(COLUMN(Data!$Q$153)+MATCH(AF44,Data!$R$153:$U$153,0)),1,1,\"Data\"),TRUE),1))","v":""},"",{"$f":"IF(ISBLANK(Planning!M120),\"\",Planning!M120)","v":""},"",{"$f":"IF(ISERROR(VLOOKUP(AK44,Data!$J$105:$K$109,2,1)),\"\",VLOOKUP(AK44,Data!$J$105:$K$109,2,1))","v":""},{"$f":"IF(ISBLANK(Planning!B174),\"\",Planning!B174)","v":""},{"$f":"IF(ISERROR(INDEX(Data!$D$91:$G$94,MATCH(AM44,Data!$C$91:$C$94,1),MATCH(AF44,Data!$D$90:$G$90,1))),\"\",INDEX(Data!$D$91:$G$94,MATCH(AM44,Data!$C$91:$C$94,1),MATCH(AF44,Data!$D$90:$G$90,1)))","v":""},{"$f":"IF(ISERROR(VLOOKUP(X44,Data!$D$184:$K$200,HLOOKUP(AN44,Data!$E$182:$K$183,2))),\"\",VLOOKUP(X44,Data!$D$184:$K$200,HLOOKUP(AN44,Data!$E$182:$K$183,2)))","v":""},{"$f":"IF(ISERROR(VLOOKUP(AO44,Data!$C$105:$D$110,2)),\"\",VLOOKUP(AO44,Data!$C$105:$D$110,2))","v":""},{"$f":"IF(ISBLANK(Planning!M68),\"\",Planning!M68)","v":""},{"$f":"IF(ISERROR(VLOOKUP(AQ44,Data!$F$105:$G$108,2,1)),\"\",VLOOKUP(AQ44,Data!$F$105:$G$108,2,1))","v":""},{"$f":"IF(ISBLANK(Planning!F174),\"\",Planning!F174)","v":""},{"$f":"IF(ISERROR(VLOOKUP(AS44,Data!$C$99:$D$101,2)),\"\",VLOOKUP(AS44,Data!$C$99:$D$101,2))","v":""},{"$f":"IF(ISBLANK(Planning!H174),\"\",Planning!H174)","v":""},{"$f":"IF(ISERROR(VLOOKUP(AU44,Data!$G$99:$H$101,2)),\"\",VLOOKUP(AU44,Data!$G$99:$H$101,2))","v":""},"","","",{"$f":"IF(AX44=0,VLOOKUP(AY44,Data!$C$116:$D$119,2),\"\")","v":""},{"$f":"IF(LEN(B44)=0,\"\",IF(ISBLANK(Planning!B227),0,Planning!B227))","v":""},{"$f":"IF(LEN(B44)=0,\"\",IF(ISBLANK(Planning!C227),0,Planning!C227))","v":""},{"$f":"IF(LEN(B44)=0,\"\",IF(ISBLANK(Planning!D227),0,Planning!D227))","v":""},{"$f":"IF(LEN(B44)=0,\"\",IF(ISBLANK(Planning!E227),0,Planning!E227))","v":""},{"$f":"IF(LEN(B44)=0,\"\",IF(ISBLANK(Planning!F227),0,Planning!F227))","v":""},{"$f":"IF(LEN(B44)=0,\"\",IF(ISBLANK(Planning!G227),0,Planning!G227))","v":""},{"$f":"IF(LEN(B44)=0,\"\",IF(ISBLANK(Planning!H227),0,Planning!H227))","v":""},{"$f":"IF(LEN(B44)=0,\"\",IF(ISBLANK(Planning!I227),0,Planning!I227))","v":""},{"$f":"IF(LEN(B44)=0,\"\",IF(ISBLANK(Planning!J227),0,Planning!J227))","v":""},"","",{"$f":"IF(AX44=0,VLOOKUP(BK44,Data!$C$116:$D$119,2),\"\")","v":""}]
[null,{"$f":"IF(ISBLANK(Planning!A175),\"\",Planning!A175)","v":""},{"$f":"IF(ISBLANK(Planning!D69),\"\",Planning!D69)","v":""},{"$f":"IF(LEN(C45)=0,\"\",IF(ISNA(VLOOKUP(C45,INDIRECT(ADDRESS(Data!$AG$67,Data!$AG$65,1,1,\"Data\")):INDIRECT(ADDRESS(Data!$AG$68,Data!$AG$66,1,1,\"Data\")),Data!$AG$74,0)),$B$10,VLOOKUP(Planning!D69,INDIRECT(ADDRESS(Data!$AG$67,Data!$AG$65,1,1,\"Data\")):INDIRECT(ADDRESS(Data!$AG$68,Data!$AG$66,1,1,\"Data\")),Data!$AG$74,0)))","v":""},{"$f":"IF(ISBLANK(Planning!I175),\"\",Planning!I175)","v":""},{"$f":"IF(ISBLANK(Planning!I175),\"\",INDEX(Planning!$A$21:$C$25,MATCH(E45,Planning!$A$21:$A$25,0),2))","v":""},{"$f":"IF(ISNA(INDEX(Planning!$A$21:$N$25,MATCH(E45,Planning!$A$21:$A$25,0),12)),\"\",INDEX(Planning!$A$21:$N$25,MATCH(E45,Planning!$A$21:$A$25,0),12))","v":""},{"$f":"IF(ISNA(INDEX(Planning!$A$21:$N$25,MATCH(E45,Planning!$A$21:$A$25,0),8)/2.29),\"\",INDEX(Planning!$A$21:$N$25,MATCH(E45,Planning!$A$21:$A$25,0),8)/2.29)","v":""},{"$f":"IF(ISBLANK(Planning!J175),\"\",Planning!J175)","v":""},"","",{"$f":"IF(ISNA(INDEX(Planning!$A$21:$N$25,MATCH(E45,Planning!$A$21:$A$25,0),14)),\"\",INDEX(Planning!$A$21:$N$25,MATCH(E45,Planning!$A$21:$A$25,0),14))","v":""},{"$f":"IF(ISERROR(VLOOKUP(L45,Data!$Q$65:$R$66,2,1)),\"\",VLOOKUP(L45,Data!$Q$65:$R$66,2,1))","v":""},"","",{"$f":"IF(LEN(B45)=0,\"\",Planning!B69*(1.3333))","v":""},"","","",{"$f":"IF(LEN(B45)=0,\"\",IF(ISBLANK(Data!$AG$69),\"\",Data!$AG$69))","v":""},{"$f":"IF(ISERROR(VLOOKUP(C45,INDIRECT(ADDRESS(Data!$AG$67,Data!$AG$65,1,1,\"Data\")):INDIRECT(ADDRESS(Data!$AG$68,Data!$AG$66,1,1,\"Data\")),Data!$AG$81,0)),\"\",VLOOKUP(C45,INDIRECT(ADDRESS(Data!$AG$67,Data!$AG$65,1,1,\"Data\")):INDIRECT(ADDRESS(Data!$AG$68,Data!$AG$66,1,1,\"Data\")),Data!$AG$81,0))","v":""},{"$f":"IF(LEN(B45)=0,\"\",IF(LEN(Data!$AG$71)=0,\"\",IF(Data!$AG$71=1,\"Yes\", \"No\")))","v":""},{"$f":"IF(ISERROR(IF(V45=\"NO\",U45,VLOOKUP(U45,Data!$AA$72:$AB$85,2,0))),\"\",IF(V45=\"NO\",U45,VLOOKUP(U45,Data!$AA$72:$AB$85,2,0)))","v":""},{"$f":"IF(ISBLANK(Planning!H69),\"\",Planning!H69)","v":""},{"$f":"IF(ISBLANK(Planning!L69),\"\",Planning!L69)","v":""},{"$f":"IF(ISERROR(INDEX(Data!$D$128:$T$146,MATCH(X45,Data!$C$128:$C$146,1),MATCH(Y45,Data!$D$127:$T$127,1))),\"\",INDEX(Data!$D$128:$T$146,MATCH(X45,Data!$C$128:$C$146,1),MATCH(Y45,Data!$D$127:$T$127,1)))","v":""},{"$f":"IF(ISBLANK(Planning!F121),\"\",Planning!F121)","v":""},{"$f":"IF(ISBLANK(Planning!H121),\"\",Planning!H121)","v":""},{"$f":"IF(ISERROR(INDEX(Data!$F$155:$K$156,VLOOKUP(AA45,Data!$C$79:$D$81,2),VLOOKUP(AB45,Data!$G$79:$H$85,2,0))),\"\",INDEX(Data!$F$155:$K$156,VLOOKUP(AA45,Data!$C$79:$D$81,2),VLOOKUP(AB45,Data!$G$79:$H$85,2,0)))","v":""},{"$f":"IF(ISBLANK(Planning!J121),\"\",Planning!J121)","v":""},{"$f":"IF(ISERROR(VLOOKUP(AD45,Data!$J$79:$K$81,2,0)),\"\",VLOOKUP(AD45,Data!$J$79:$K$81,2,0))","v":""},{"$f":"IF(ISERROR(VLOOKUP(C45,INDIRECT(ADDRESS(Data!$AG$67,Data!$AG$65,1,1,\"Data\")):INDIRECT(ADDRESS(Data!$AG$68,Data!$AG$66,1,1,\"Data\")),Data!$AG$84,0)),\"\",VLOOKUP(C45,INDIRECT(ADDRESS(Data!$AG$67,Data!$AG$65,1,1,\"Data\")):INDIRECT(ADDRESS(Data!$AG$68,Data!$AG$66,1,1,\"Data\")),Data!$AG$84,0))","v":""},{"$f":"IF(LEN(B45)=0,\"\",IF(LEN(Data!$AG$70)=0,\"\",Data!$AG$70))","v":""},{"$f":"IF(LEN(AE45)=0,\"\",IF(AE45=\"Yes\",INDIRECT(ADDRESS((ROW(Data!$M$153)+MATCH(AG45,Data!$M$154:$M$293,0)+MATCH(X45,Data!$P$154:$P$174,1)-1),(COLUMN(Data!$Q$153)+MATCH(AF45,Data!$R$153:$U$153,0)),1,1,\"Data\"),TRUE),1))","v":""},"",{"$f":"IF(ISBLANK(Planning!M121),\"\",Planning!M121)","v":""},"",{"$f":"IF(ISERROR(VLOOKUP(AK45,Data!$J$105:$K$109,2,1)),\"\",VLOOKUP(AK45,Data!$J$105:$K$109,2,1))","v":""},{"$f":"IF(ISBLANK(Planning!B175),\"\",Planning!B175)","v":""},{"$f":"IF(ISERROR(INDEX(Data!$D$91:$G$94,MATCH(AM45,Data!$C$91:$C$94,1),MATCH(AF45,Data!$D$90:$G$90,1))),\"\",INDEX(Data!$D$91:$G$94,MATCH(AM45,Data!$C$91:$C$94,1),MATCH(AF45,Data!$D$90:$G$90,1)))","v":""},{"$f":"IF(ISERROR(VLOOKUP(X45,Data!$D$184:$K$200,HLOOKUP(AN45,Data!$E$182:$K$183,2))),\"\",VLOOKUP(X45,Data!$D$184:$K$200,HLOOKUP(AN45,Data!$E$182:$K$183,2)))","v":""},{"$f":"IF(ISERROR(VLOOKUP(AO45,Data!$C$105:$D$110,2)),\"\",VLOOKUP(AO45,Data!$C$105:$D$110,2))","v":""},{"$f":"IF(ISBLANK(Planning!M69),\"\",Planning!M69)","v":""},{"$f":"IF(ISERROR(VLOOKUP(AQ45,Data!$F$105:$G$108,2,1)),\"\",VLOOKUP(AQ45,Data!$F$105:$G$108,2,1))","v":""},{"$f":"IF(ISBLANK(Planning!F175),\"\",Planning!F175)","v":""},{"$f":"IF(ISERROR(VLOOKUP(AS45,Data!$C$99:$D$101,2)),\"\",VLOOKUP(AS45,Data!$C$99:$D$101,2))","v":""},{"$f":"IF(ISBLANK(Planning!H175),\"\",Planning!H175)","v":""},{"$f":"IF(ISERROR(VLOOKUP(AU45,Data!$G$99:$H$101,2)),\"\",VLOOKUP(AU45,Data!$G$99:$H$101,2))","v":""},"","","",{"$f":"IF(AX45=0,VLOOKUP(AY45,Data!$C$116:$D$119,2),\"\")","v":""},{"$f":"IF(LEN(B45)=0,\"\",IF(ISBLANK(Planning!B228),0,Planning!B228))","v":""},{"$f":"IF(LEN(B45)=0,\"\",IF(ISBLANK(Planning!C228),0,Planning!C228))","v":""},{"$f":"IF(LEN(B45)=0,\"\",IF(ISBLANK(Planning!D228),0,Planning!D228))","v":""},{"$f":"IF(LEN(B45)=0,\"\",IF(ISBLANK(Planning!E228),0,Planning!E228))","v":""},{"$f":"IF(LEN(B45)=0,\"\",IF(ISBLANK(Planning!F228),0,Planning!F228))","v":""},{"$f":"IF(LEN(B45)=0,\"\",IF(ISBLANK(Planning!G228),0,Planning!G228))","v":""},{"$f":"IF(LEN(B45)=0,\"\",IF(ISBLANK(Planning!H228),0,Planning!H228))","v":""},{"$f":"IF(LEN(B45)=0,\"\",IF(ISBLANK(Planning!I228),0,Planning!I228))","v":""},{"$f":"IF(LEN(B45)=0,\"\",IF(ISBLANK(Planning!J228),0,Planning!J228))","v":""},"","",{"$f":"IF(AX45=0,VLOOKUP(BK45,Data!$C$116:$D$119,2),\"\")","v":""}]
[null,{"$f":"IF(ISBLANK(Planning!A176),\"\",Planning!A176)","v":""},{"$f":"IF(ISBLANK(Planning!D70),\"\",Planning!D70)","v":""},{"$f":"IF(LEN(C46)=0,\"\",IF(ISNA(VLOOKUP(C46,INDIRECT(ADDRESS(Data!$AG$67,Data!$AG$65,1,1,\"Data\")):INDIRECT(ADDRESS(Data!$AG$68,Data!$AG$66,1,1,\"Data\")),Data!$AG$74,0)),$B$10,VLOOKUP(Planning!D70,INDIRECT(ADDRESS(Data!$AG$67,Data!$AG$65,1,1,\"Data\")):INDIRECT(ADDRESS(Data!$AG$68,Data!$AG$66,1,1,\"Data\")),Data!$AG$74,0)))","v":""},{"$f":"IF(ISBLANK(Planning!I176),\"\",Planning!I176)","v":""},{"$f":"IF(ISBLANK(Planning!I176),\"\",INDEX(Planning!$A$21:$C$25,MATCH(E46,Planning!$A$21:$A$25,0),2))","v":""},{"$f":"IF(ISNA(INDEX(Planning!$A$21:$N$25,MATCH(E46,Planning!$A$21:$A$25,0),12)),\"\",INDEX(Planning!$A$21:$N$25,MATCH(E46,Planning!$A$21:$A$25,0),12))","v":""},{"$f":"IF(ISNA(INDEX(Planning!$A$21:$N$25,MATCH(E46,Planning!$A$21:$A$25,0),8)/2.29),\"\",INDEX(Planning!$A$21:$N$25,MATCH(E46,Planning!$A$21:$A$25,0),8)/2.29)","v":""},{"$f":"IF(ISBLANK(Planning!J176),\"\",Planning!J176)","v":""},"","",{"$f":"IF(ISNA(INDEX(Planning!$A$21:$N$25,MATCH(E46,Planning!$A$21:$A$25,0),14)),\"\",INDEX(Planning!$A$21:$N$25,MATCH(E46,Planning!$A$21:$A$25,0),14))","v":""},{"$f":"IF(ISERROR(VLOOKUP(L46,Data!$Q$65:$R$66,2,1)),\"\",VLOOKUP(L46,Data!$Q$65:$R$66,2,1))","v":""},"","",{"$f":"IF(LEN(B46)=0,\"\",Planning!B70*(1.3333))","v":""},"","","",{"$f":"IF(LEN(B46)=0,\"\",IF(ISBLANK(Data!$AG$69),\"\",Data!$AG$69))","v":""},{"$f":"IF(ISERROR(VLOOKUP(C46,INDIRECT(ADDRESS(Data!$AG$67,Data!$AG$65,1,1,\"Data\")):INDIRECT(ADDRESS(Data!$AG$68,Data!$AG$66,1,1,\"Data\")),Data!$AG$81,0)),\"\",VLOOKUP(C46,INDIRECT(ADDRESS(Data!$AG$67,Data!$AG$65,1,1,\"Data\")):INDIRECT(ADDRESS(Data!$AG$68,Data!$AG$66,1,1,\"Data\")),Data!$AG$81,0))","v":""},{"$f":"IF(LEN(B46)=0,\"\",IF(LEN(Data!$AG$71)=0,\"\",IF(Data!$AG$71=1,\"Yes\", \"No\")))","v":""},{"$f":"IF(ISERROR(IF(V46=\"NO\",U46,VLOOKUP(U46,Data!$AA$72:$AB$85,2,0))),\"\",IF(V46=\"NO\",U46,VLOOKUP(U46,Data!$AA$72:$AB$85,2,0)))","v":""},{"$f":"IF(ISBLANK(Planning!H70),\"\",Planning!H70)","v":""},{"$f":"IF(ISBLANK(Planning!L70),\"\",Planning!L70)","v":""},{"$f":"IF(ISERROR(INDEX(Data!$D$128:$T$146,MATCH(X46,Data!$C$128:$C$146,1),MATCH(Y46,Data!$D$127:$T$127,1))),\"\",INDEX(Data!$D$128:$T$146,MATCH(X46,Data!$C$128:$C$146,1),MATCH(Y46,Data!$D$127:$T$127,1)))","v":""},{"$f":"IF(ISBLANK(Planning!F122),\"\",Planning!F122)","v":""},{"$f":"IF(ISBLANK(Planning!H122),\"\",Planning!H122)","v":""},{"$f":"IF(ISERROR(INDEX(Data!$F$155:$K$156,VLOOKUP(AA46,Data!$C$79:$D$81,2),VLOOKUP(AB46,Data!$G$79:$H$85,2,0))),\"\",INDEX(Data!$F$155:$K$156,VLOOKUP(AA46,Data!$C$79:$D$81,2),VLOOKUP(AB46,Data!$G$79:$H$85,2,0)))","v":""},{"$f":"IF(ISBLANK(Planning!J122),\"\",Planning!J122)","v":""},{"$f":"IF(ISERROR(VLOOKUP(AD46,Data!$J$79:$K$81,2,0)),\"\",VLOOKUP(AD46,Data!$J$79:$K$81,2,0))","v":""},{"$f":"IF(ISERROR(VLOOKUP(C46,INDIRECT(ADDRESS(Data!$AG$67,Data!$AG$65,1,1,\"Data\")):INDIRECT(ADDRESS(Data!$AG$68,Data!$AG$66,1,1,\"Data\")),Data!$AG$84,0)),\"\",VLOOKUP(C46,INDIRECT(ADDRESS(Data!$AG$67,Data!$AG$65,1,1,\"Data\")):INDIRECT(ADDRESS(Data!$AG$68,Data!$AG$66,1,1,\"Data\")),Data!$AG$84,0))","v":""},{"$f":"IF(LEN(B46)=0,\"\",IF(LEN(Data!$AG$70)=0,\"\",Data!$AG$70))","v":""},{"$f":"IF(LEN(AE46)=0,\"\",IF(AE46=\"Yes\",INDIRECT(ADDRESS((ROW(Data!$M$153)+MATCH(AG46,Data!$M$154:$M$293,0)+MATCH(X46,Data!$P$154:$P$174,1)-1),(COLUMN(Data!$Q$153)+MATCH(AF46,Data!$R$153:$U$153,0)),1,1,\"Data\"),TRUE),1))","v":""},"",{"$f":"IF(ISBLANK(Planning!M122),\"\",Planning!M122)","v":""},"",{"$f":"IF(ISERROR(VLOOKUP(AK46,Data!$J$105:$K$109,2,1)),\"\",VLOOKUP(AK46,Data!$J$105:$K$109,2,1))","v":""},{"$f":"IF(ISBLANK(Planning!B176),\"\",Planning!B176)","v":""},{"$f":"IF(ISERROR(INDEX(Data!$D$91:$G$94,MATCH(AM46,Data!$C$91:$C$94,1),MATCH(AF46,Data!$D$90:$G$90,1))),\"\",INDEX(Data!$D$91:$G$94,MATCH(AM46,Data!$C$91:$C$94,1),MATCH(AF46,Data!$D$90:$G$90,1)))","v":""},{"$f":"IF(ISERROR(VLOOKUP(X46,Data!$D$184:$K$200,HLOOKUP(AN46,Data!$E$182:$K$183,2))),\"\",VLOOKUP(X46,Data!$D$184:$K$200,HLOOKUP(AN46,Data!$E$182:$K$183,2)))","v":""},{"$f":"IF(ISERROR(VLOOKUP(AO46,Data!$C$105:$D$110,2)),\"\",VLOOKUP(AO46,Data!$C$105:$D$110,2))","v":""},{"$f":"IF(ISBLANK(Planning!M70),\"\",Planning!M70)","v":""},{"$f":"IF(ISERROR(VLOOKUP(AQ46,Data!$F$105:$G$108,2,1)),\"\",VLOOKUP(AQ46,Data!$F$105:$G$108,2,1))","v":""},{"$f":"IF(ISBLANK(Planning!F176),\"\",Planning!F176)","v":""},{"$f":"IF(ISERROR(VLOOKUP(AS46,Data!$C$99:$D$101,2)),\"\",VLOOKUP(AS46,Data!$C$99:$D$101,2))","v":""},{"$f":"IF(ISBLANK(Planning!H176),\"\",Planning!H176)","v":""},{"$f":"IF(ISERROR(VLOOKUP(AU46,Data!$G$99:$H$101,2)),\"\",VLOOKUP(AU46,Data!$G$99:$H$101,2))","v":""},"","","",{"$f":"IF(AX46=0,VLOOKUP(AY46,Data!$C$116:$D$119,2),\"\")","v":""},{"$f":"IF(LEN(B46)=0,\"\",IF(ISBLANK(Planning!B229),0,Planning!B229))","v":""},{"$f":"IF(LEN(B46)=0,\"\",IF(ISBLANK(Planning!C229),0,Planning!C229))","v":""},{"$f":"IF(LEN(B46)=0,\"\",IF(ISBLANK(Planning!D229),0,Planning!D229))","v":""},{"$f":"IF(LEN(B46)=0,\"\",IF(ISBLANK(Planning!E229),0,Planning!E229))","v":""},{"$f":"IF(LEN(B46)=0,\"\",IF(ISBLANK(Planning!F229),0,Planning!F229))","v":""},{"$f":"IF(LEN(B46)=0,\"\",IF(ISBLANK(Planning!G229),0,Planning!G229))","v":""},{"$f":"IF(LEN(B46)=0,\"\",IF(ISBLANK(Planning!H229),0,Planning!H229))","v":""},{"$f":"IF(LEN(B46)=0,\"\",IF(ISBLANK(Planning!I229),0,Planning!I229))","v":""},{"$f":"IF(LEN(B46)=0,\"\",IF(ISBLANK(Planning!J229),0,Planning!J229))","v":""},"","",{"$f":"IF(AX46=0,VLOOKUP(BK46,Data!$C$116:$D$119,2),\"\")","v":""}]
[null,{"$f":"IF(ISBLANK(Planning!A177),\"\",Planning!A177)","v":""},{"$f":"IF(ISBLANK(Planning!D71),\"\",Planning!D71)","v":""},{"$f":"IF(LEN(C47)=0,\"\",IF(ISNA(VLOOKUP(C47,INDIRECT(ADDRESS(Data!$AG$67,Data!$AG$65,1,1,\"Data\")):INDIRECT(ADDRESS(Data!$AG$68,Data!$AG$66,1,1,\"Data\")),Data!$AG$74,0)),$B$10,VLOOKUP(Planning!D71,INDIRECT(ADDRESS(Data!$AG$67,Data!$AG$65,1,1,\"Data\")):INDIRECT(ADDRESS(Data!$AG$68,Data!$AG$66,1,1,\"Data\")),Data!$AG$74,0)))","v":""},{"$f":"IF(ISBLANK(Planning!I177),\"\",Planning!I177)","v":""},{"$f":"IF(ISBLANK(Planning!I177),\"\",INDEX(Planning!$A$21:$C$25,MATCH(E47,Planning!$A$21:$A$25,0),2))","v":""},{"$f":"IF(ISNA(INDEX(Planning!$A$21:$N$25,MATCH(E47,Planning!$A$21:$A$25,0),12)),\"\",INDEX(Planning!$A$21:$N$25,MATCH(E47,Planning!$A$21:$A$25,0),12))","v":""},{"$f":"IF(ISNA(INDEX(Planning!$A$21:$N$25,MATCH(E47,Planning!$A$21:$A$25,0),8)/2.29),\"\",INDEX(Planning!$A$21:$N$25,MATCH(E47,Planning!$A$21:$A$25,0),8)/2.29)","v":""},{"$f":"IF(ISBLANK(Planning!J177),\"\",Planning!J177)","v":""},"","",{"$f":"IF(ISNA(INDEX(Planning!$A$21:$N$25,MATCH(E47,Planning!$A$21:$A$25,0),14)),\"\",INDEX(Planning!$A$21:$N$25,MATCH(E47,Planning!$A$21:$A$25,0),14))","v":""},{"$f":"IF(ISERROR(VLOOKUP(L47,Data!$Q$65:$R$66,2,1)),\"\",VLOOKUP(L47,Data!$Q$65:$R$66,2,1))","v":""},"","",{"$f":"IF(LEN(B47)=0,\"\",Planning!B71*(1.3333))","v":""},"","","",{"$f":"IF(LEN(B47)=0,\"\",IF(ISBLANK(Data!$AG$69),\"\",Data!$AG$69))","v":""},{"$f":"IF(ISERROR(VLOOKUP(C47,INDIRECT(ADDRESS(Data!$AG$67,Data!$AG$65,1,1,\"Data\")):INDIRECT(ADDRESS(Data!$AG$68,Data!$AG$66,1,1,\"Data\")),Data!$AG$81,0)),\"\",VLOOKUP(C47,INDIRECT(ADDRESS(Data!$AG$67,Data!$AG$65,1,1,\"Data\")):INDIRECT(ADDRESS(Data!$AG$68,Data!$AG$66,1,1,\"Data\")),Data!$AG$81,0))","v":""},{"$f":"IF(LEN(B47)=0,\"\",IF(LEN(Data!$AG$71)=0,\"\",IF(Data!$AG$71=1,\"Yes\", \"No\")))","v":""},{"$f":"IF(ISERROR(IF(V47=\"NO\",U47,VLOOKUP(U47,Data!$AA$72:$AB$85,2,0))),\"\",IF(V47=\"NO\",U47,VLOOKUP(U47,Data!$AA$72:$AB$85,2,0)))","v":""},{"$f":"IF(ISBLANK(Planning!H71),\"\",Planning!H71)","v":""},{"$f":"IF(ISBLANK(Planning!L71),\"\",Planning!L71)","v":""},{"$f":"IF(ISERROR(INDEX(Data!$D$128:$T$146,MATCH(X47,Data!$C$128:$C$146,1),MATCH(Y47,Data!$D$127:$T$127,1))),\"\",INDEX(Data!$D$128:$T$146,MATCH(X47,Data!$C$128:$C$146,1),MATCH(Y47,Data!$D$127:$T$127,1)))","v":""},{"$f":"IF(ISBLANK(Planning!F123),\"\",Planning!F123)","v":""},{"$f":"IF(ISBLANK(Planning!H123),\"\",Planning!H123)","v":""},{"$f":"IF(ISERROR(INDEX(Data!$F$155:$K$156,VLOOKUP(AA47,Data!$C$79:$D$81,2),VLOOKUP(AB47,Data!$G$79:$H$85,2,0))),\"\",INDEX(Data!$F$155:$K$156,VLOOKUP(AA47,Data!$C$79:$D$81,2),VLOOKUP(AB47,Data!$G$79:$H$85,2,0)))","v":""},{"$f":"IF(ISBLANK(Planning!J123),\"\",Planning!J123)","v":""},{"$f":"IF(ISERROR(VLOOKUP(AD47,Data!$J$79:$K$81,2,0)),\"\",VLOOKUP(AD47,Data!$J$79:$K$81,2,0))","v":""},{"$f":"IF(ISERROR(VLOOKUP(C47,INDIRECT(ADDRESS(Data!$AG$67,Data!$AG$65,1,1,\"Data\")):INDIRECT(ADDRESS(Data!$AG$68,Data!$AG$66,1,1,\"Data\")),Data!$AG$84,0)),\"\",VLOOKUP(C47,INDIRECT(ADDRESS(Data!$AG$67,Data!$AG$65,1,1,\"Data\")):INDIRECT(ADDRESS(Data!$AG$68,Data!$AG$66,1,1,\"Data\")),Data!$AG$84,0))","v":""},{"$f":"IF(LEN(B47)=0,\"\",IF(LEN(Data!$AG$70)=0,\"\",Data!$AG$70))","v":""},{"$f":"IF(LEN(AE47)=0,\"\",IF(AE47=\"Yes\",INDIRECT(ADDRESS((ROW(Data!$M$153)+MATCH(AG47,Data!$M$154:$M$293,0)+MATCH(X47,Data!$P$154:$P$174,1)-1),(COLUMN(Data!$Q$153)+MATCH(AF47,Data!$R$153:$U$153,0)),1,1,\"Data\"),TRUE),1))","v":""},"",{"$f":"IF(ISBLANK(Planning!M123),\"\",Planning!M123)","v":""},"",{"$f":"IF(ISERROR(VLOOKUP(AK47,Data!$J$105:$K$109,2,1)),\"\",VLOOKUP(AK47,Data!$J$105:$K$109,2,1))","v":""},{"$f":"IF(ISBLANK(Planning!B177),\"\",Planning!B177)","v":""},{"$f":"IF(ISERROR(INDEX(Data!$D$91:$G$94,MATCH(AM47,Data!$C$91:$C$94,1),MATCH(AF47,Data!$D$90:$G$90,1))),\"\",INDEX(Data!$D$91:$G$94,MATCH(AM47,Data!$C$91:$C$94,1),MATCH(AF47,Data!$D$90:$G$90,1)))","v":""},{"$f":"IF(ISERROR(VLOOKUP(X47,Data!$D$184:$K$200,HLOOKUP(AN47,Data!$E$182:$K$183,2))),\"\",VLOOKUP(X47,Data!$D$184:$K$200,HLOOKUP(AN47,Data!$E$182:$K$183,2)))","v":""},{"$f":"IF(ISERROR(VLOOKUP(AO47,Data!$C$105:$D$110,2)),\"\",VLOOKUP(AO47,Data!$C$105:$D$110,2))","v":""},{"$f":"IF(ISBLANK(Planning!M71),\"\",Planning!M71)","v":""},{"$f":"IF(ISERROR(VLOOKUP(AQ47,Data!$F$105:$G$108,2,1)),\"\",VLOOKUP(AQ47,Data!$F$105:$G$108,2,1))","v":""},{"$f":"IF(ISBLANK(Planning!F177),\"\",Planning!F177)","v":""},{"$f":"IF(ISERROR(VLOOKUP(AS47,Data!$C$99:$D$101,2)),\"\",VLOOKUP(AS47,Data!$C$99:$D$101,2))","v":""},{"$f":"IF(ISBLANK(Planning!H177),\"\",Planning!H177)","v":""},{"$f":"IF(ISERROR(VLOOKUP(AU47,Data!$G$99:$H$101,2)),\"\",VLOOKUP(AU47,Data!$G$99:$H$101,2))","v":""},"","","",{"$f":"IF(AX47=0,VLOOKUP(AY47,Data!$C$116:$D$119,2),\"\")","v":""},{"$f":"IF(LEN(B47)=0,\"\",IF(ISBLANK(Planning!B230),0,Planning!B230))","v":""},{"$f":"IF(LEN(B47)=0,\"\",IF(ISBLANK(Planning!C230),0,Planning!C230))","v":""},{"$f":"IF(LEN(B47)=0,\"\",IF(ISBLANK(Planning!D230),0,Planning!D230))","v":""},{"$f":"IF(LEN(B47)=0,\"\",IF(ISBLANK(Planning!E230),0,Planning!E230))","v":""},{"$f":"IF(LEN(B47)=0,\"\",IF(ISBLANK(Planning!F230),0,Planning!F230))","v":""},{"$f":"IF(LEN(B47)=0,\"\",IF(ISBLANK(Planning!G230),0,Planning!G230))","v":""},{"$f":"IF(LEN(B47)=0,\"\",IF(ISBLANK(Planning!H230),0,Planning!H230))","v":""},{"$f":"IF(LEN(B47)=0,\"\",IF(ISBLANK(Planning!I230),0,Planning!I230))","v":""},{"$f":"IF(LEN(B47)=0,\"\",IF(ISBLANK(Planning!J230),0,Planning!J230))","v":""},"","",{"$f":"IF(AX47=0,VLOOKUP(BK47,Data!$C$116:$D$119,2),\"\")","v":""}]
[null,{"$f":"IF(ISBLANK(Planning!A178),\"\",Planning!A178)","v":""},{"$f":"IF(ISBLANK(Planning!D72),\"\",Planning!D72)","v":""},{"$f":"IF(LEN(C48)=0,\"\",IF(ISNA(VLOOKUP(C48,INDIRECT(ADDRESS(Data!$AG$67,Data!$AG$65,1,1,\"Data\")):INDIRECT(ADDRESS(Data!$AG$68,Data!$AG$66,1,1,\"Data\")),Data!$AG$74,0)),$B$10,VLOOKUP(Planning!D72,INDIRECT(ADDRESS(Data!$AG$67,Data!$AG$65,1,1,\"Data\")):INDIRECT(ADDRESS(Data!$AG$68,Data!$AG$66,1,1,\"Data\")),Data!$AG$74,0)))","v":""},{"$f":"IF(ISBLANK(Planning!I178),\"\",Planning!I178)","v":""},{"$f":"IF(ISBLANK(Planning!I178),\"\",INDEX(Planning!$A$21:$C$25,MATCH(E48,Planning!$A$21:$A$25,0),2))","v":""},{"$f":"IF(ISNA(INDEX(Planning!$A$21:$N$25,MATCH(E48,Planning!$A$21:$A$25,0),12)),\"\",INDEX(Planning!$A$21:$N$25,MATCH(E48,Planning!$A$21:$A$25,0),12))","v":""},{"$f":"IF(ISNA(INDEX(Planning!$A$21:$N$25,MATCH(E48,Planning!$A$21:$A$25,0),8)/2.29),\"\",INDEX(Planning!$A$21:$N$25,MATCH(E48,Planning!$A$21:$A$25,0),8)/2.29)","v":""},{"$f":"IF(ISBLANK(Planning!J178),\"\",Planning!J178)","v":""},"","",{"$f":"IF(ISNA(INDEX(Planning!$A$21:$N$25,MATCH(E48,Planning!$A$21:$A$25,0),14)),\"\",INDEX(Planning!$A$21:$N$25,MATCH(E48,Planning!$A$21:$A$25,0),14))","v":""},{"$f":"IF(ISERROR(VLOOKUP(L48,Data!$Q$65:$R$66,2,1)),\"\",VLOOKUP(L48,Data!$Q$65:$R$66,2,1))","v":""},"","",{"$f":"IF(LEN(B48)=0,\"\",Planning!B72*(1.3333))","v":""},"","","",{"$f":"IF(LEN(B48)=0,\"\",IF(ISBLANK(Data!$AG$69),\"\",Data!$AG$69))","v":""},{"$f":"IF(ISERROR(VLOOKUP(C48,INDIRECT(ADDRESS(Data!$AG$67,Data!$AG$65,1,1,\"Data\")):INDIRECT(ADDRESS(Data!$AG$68,Data!$AG$66,1,1,\"Data\")),Data!$AG$81,0)),\"\",VLOOKUP(C48,INDIRECT(ADDRESS(Data!$AG$67,Data!$AG$65,1,1,\"Data\")):INDIRECT(ADDRESS(Data!$AG$68,Data!$AG$66,1,1,\"Data\")),Data!$AG$81,0))","v":""},{"$f":"IF(LEN(B48)=0,\"\",IF(LEN(Data!$AG$71)=0,\"\",IF(Data!$AG$71=1,\"Yes\", \"No\")))","v":""},{"$f":"IF(ISERROR(IF(V48=\"NO\",U48,VLOOKUP(U48,Data!$AA$72:$AB$85,2,0))),\"\",IF(V48=\"NO\",U48,VLOOKUP(U48,Data!$AA$72:$AB$85,2,0)))","v":""},{"$f":"IF(ISBLANK(Planning!H72),\"\",Planning!H72)","v":""},{"$f":"IF(ISBLANK(Planning!L72),\"\",Planning!L72)","v":""},{"$f":"IF(ISERROR(INDEX(Data!$D$128:$T$146,MATCH(X48,Data!$C$128:$C$146,1),MATCH(Y48,Data!$D$127:$T$127,1))),\"\",INDEX(Data!$D$128:$T$146,MATCH(X48,Data!$C$128:$C$146,1),MATCH(Y48,Data!$D$127:$T$127,1)))","v":""},{"$f":"IF(ISBLANK(Planning!F124),\"\",Planning!F124)","v":""},{"$f":"IF(ISBLANK(Planning!H124),\"\",Planning!H124)","v":""},{"$f":"IF(ISERROR(INDEX(Data!$F$155:$K$156,VLOOKUP(AA48,Data!$C$79:$D$81,2),VLOOKUP(AB48,Data!$G$79:$H$85,2,0))),\"\",INDEX(Data!$F$155:$K$156,VLOOKUP(AA48,Data!$C$79:$D$81,2),VLOOKUP(AB48,Data!$G$79:$H$85,2,0)))","v":""},{"$f":"IF(ISBLANK(Planning!J124),\"\",Planning!J124)","v":""},{"$f":"IF(ISERROR(VLOOKUP(AD48,Data!$J$79:$K$81,2,0)),\"\",VLOOKUP(AD48,Data!$J$79:$K$81,2,0))","v":""},{"$f":"IF(ISERROR(VLOOKUP(C48,INDIRECT(ADDRESS(Data!$AG$67,Data!$AG$65,1,1,\"Data\")):INDIRECT(ADDRESS(Data!$AG$68,Data!$AG$66,1,1,\"Data\")),Data!$AG$84,0)),\"\",VLOOKUP(C48,INDIRECT(ADDRESS(Data!$AG$67,Data!$AG$65,1,1,\"Data\")):INDIRECT(ADDRESS(Data!$AG$68,Data!$AG$66,1,1,\"Data\")),Data!$AG$84,0))","v":""},{"$f":"IF(LEN(B48)=0,\"\",IF(LEN(Data!$AG$70)=0,\"\",Data!$AG$70))","v":""},{"$f":"IF(LEN(AE48)=0,\"\",IF(AE48=\"Yes\",INDIRECT(ADDRESS((ROW(Data!$M$153)+MATCH(AG48,Data!$M$154:$M$293,0)+MATCH(X48,Data!$P$154:$P$174,1)-1),(COLUMN(Data!$Q$153)+MATCH(AF48,Data!$R$153:$U$153,0)),1,1,\"Data\"),TRUE),1))","v":""},"",{"$f":"IF(ISBLANK(Planning!M124),\"\",Planning!M124)","v":""},"",{"$f":"IF(ISERROR(VLOOKUP(AK48,Data!$J$105:$K$109,2,1)),\"\",VLOOKUP(AK48,Data!$J$105:$K$109,2,1))","v":""},{"$f":"IF(ISBLANK(Planning!B178),\"\",Planning!B178)","v":""},{"$f":"IF(ISERROR(INDEX(Data!$D$91:$G$94,MATCH(AM48,Data!$C$91:$C$94,1),MATCH(AF48,Data!$D$90:$G$90,1))),\"\",INDEX(Data!$D$91:$G$94,MATCH(AM48,Data!$C$91:$C$94,1),MATCH(AF48,Data!$D$90:$G$90,1)))","v":""},{"$f":"IF(ISERROR(VLOOKUP(X48,Data!$D$184:$K$200,HLOOKUP(AN48,Data!$E$182:$K$183,2))),\"\",VLOOKUP(X48,Data!$D$184:$K$200,HLOOKUP(AN48,Data!$E$182:$K$183,2)))","v":""},{"$f":"IF(ISERROR(VLOOKUP(AO48,Data!$C$105:$D$110,2)),\"\",VLOOKUP(AO48,Data!$C$105:$D$110,2))","v":""},{"$f":"IF(ISBLANK(Planning!M72),\"\",Planning!M72)","v":""},{"$f":"IF(ISERROR(VLOOKUP(AQ48,Data!$F$105:$G$108,2,1)),\"\",VLOOKUP(AQ48,Data!$F$105:$G$108,2,1))","v":""},{"$f":"IF(ISBLANK(Planning!F178),\"\",Planning!F178)","v":""},{"$f":"IF(ISERROR(VLOOKUP(AS48,Data!$C$99:$D$101,2)),\"\",VLOOKUP(AS48,Data!$C$99:$D$101,2))","v":""},{"$f":"IF(ISBLANK(Planning!H178),\"\",Planning!H178)","v":""},{"$f":"IF(ISERROR(VLOOKUP(AU48,Data!$G$99:$H$101,2)),\"\",VLOOKUP(AU48,Data!$G$99:$H$101,2))","v":""},"","","",{"$f":"IF(AX48=0,VLOOKUP(AY48,Data!$C$116:$D$119,2),\"\")","v":""},{"$f":"IF(LEN(B48)=0,\"\",IF(ISBLANK(Planning!B231),0,Planning!B231))","v":""},{"$f":"IF(LEN(B48)=0,\"\",IF(ISBLANK(Planning!C231),0,Planning!C231))","v":""},{"$f":"IF(LEN(B48)=0,\"\",IF(ISBLANK(Planning!D231),0,Planning!D231))","v":""},{"$f":"IF(LEN(B48)=0,\"\",IF(ISBLANK(Planning!E231),0,Planning!E231))","v":""},{"$f":"IF(LEN(B48)=0,\"\",IF(ISBLANK(Planning!F231),0,Planning!F231))","v":""},{"$f":"IF(LEN(B48)=0,\"\",IF(ISBLANK(Planning!G231),0,Planning!G231))","v":""},{"$f":"IF(LEN(B48)=0,\"\",IF(ISBLANK(Planning!H231),0,Planning!H231))","v":""},{"$f":"IF(LEN(B48)=0,\"\",IF(ISBLANK(Planning!I231),0,Planning!I231))","v":""},{"$f":"IF(LEN(B48)=0,\"\",IF(ISBLANK(Planning!J231),0,Planning!J231))","v":""},"","",{"$f":"IF(AX48=0,VLOOKUP(BK48,Data!$C$116:$D$119,2),\"\")","v":""}]
[null,{"$f":"IF(ISBLANK(Planning!A179),\"\",Planning!A179)","v":""},{"$f":"IF(ISBLANK(Planning!D73),\"\",Planning!D73)","v":""},{"$f":"IF(LEN(C49)=0,\"\",IF(ISNA(VLOOKUP(C49,INDIRECT(ADDRESS(Data!$AG$67,Data!$AG$65,1,1,\"Data\")):INDIRECT(ADDRESS(Data!$AG$68,Data!$AG$66,1,1,\"Data\")),Data!$AG$74,0)),$B$10,VLOOKUP(Planning!D73,INDIRECT(ADDRESS(Data!$AG$67,Data!$AG$65,1,1,\"Data\")):INDIRECT(ADDRESS(Data!$AG$68,Data!$AG$66,1,1,\"Data\")),Data!$AG$74,0)))","v":""},{"$f":"IF(ISBLANK(Planning!I179),\"\",Planning!I179)","v":""},{"$f":"IF(ISBLANK(Planning!I179),\"\",INDEX(Planning!$A$21:$C$25,MATCH(E49,Planning!$A$21:$A$25,0),2))","v":""},{"$f":"IF(ISNA(INDEX(Planning!$A$21:$N$25,MATCH(E49,Planning!$A$21:$A$25,0),12)),\"\",INDEX(Planning!$A$21:$N$25,MATCH(E49,Planning!$A$21:$A$25,0),12))","v":""},{"$f":"IF(ISNA(INDEX(Planning!$A$21:$N$25,MATCH(E49,Planning!$A$21:$A$25,0),8)/2.29),\"\",INDEX(Planning!$A$21:$N$25,MATCH(E49,Planning!$A$21:$A$25,0),8)/2.29)","v":""},{"$f":"IF(ISBLANK(Planning!J179),\"\",Planning!J179)","v":""},"","",{"$f":"IF(ISNA(INDEX(Planning!$A$21:$N$25,MATCH(E49,Planning!$A$21:$A$25,0),14)),\"\",INDEX(Planning!$A$21:$N$25,MATCH(E49,Planning!$A$21:$A$25,0),14))","v":""},{"$f":"IF(ISERROR(VLOOKUP(L49,Data!$Q$65:$R$66,2,1)),\"\",VLOOKUP(L49,Data!$Q$65:$R$66,2,1))","v":""},"","",{"$f":"IF(LEN(B49)=0,\"\",Planning!B73*(1.3333))","v":""},"","","",{"$f":"IF(LEN(B49)=0,\"\",IF(ISBLANK(Data!$AG$69),\"\",Data!$AG$69))","v":""},{"$f":"IF(ISERROR(VLOOKUP(C49,INDIRECT(ADDRESS(Data!$AG$67,Data!$AG$65,1,1,\"Data\")):INDIRECT(ADDRESS(Data!$AG$68,Data!$AG$66,1,1,\"Data\")),Data!$AG$81,0)),\"\",VLOOKUP(C49,INDIRECT(ADDRESS(Data!$AG$67,Data!$AG$65,1,1,\"Data\")):INDIRECT(ADDRESS(Data!$AG$68,Data!$AG$66,1,1,\"Data\")),Data!$AG$81,0))","v":""},{"$f":"IF(LEN(B49)=0,\"\",IF(LEN(Data!$AG$71)=0,\"\",IF(Data!$AG$71=1,\"Yes\", \"No\")))","v":""},{"$f":"IF(ISERROR(IF(V49=\"NO\",U49,VLOOKUP(U49,Data!$AA$72:$AB$85,2,0))),\"\",IF(V49=\"NO\",U49,VLOOKUP(U49,Data!$AA$72:$AB$85,2,0)))","v":""},{"$f":"IF(ISBLANK(Planning!H73),\"\",Planning!H73)","v":""},{"$f":"IF(ISBLANK(Planning!L73),\"\",Planning!L73)","v":""},{"$f":"IF(ISERROR(INDEX(Data!$D$128:$T$146,MATCH(X49,Data!$C$128:$C$146,1),MATCH(Y49,Data!$D$127:$T$127,1))),\"\",INDEX(Data!$D$128:$T$146,MATCH(X49,Data!$C$128:$C$146,1),MATCH(Y49,Data!$D$127:$T$127,1)))","v":""},{"$f":"IF(ISBLANK(Planning!F125),\"\",Planning!F125)","v":""},{"$f":"IF(ISBLANK(Planning!H125),\"\",Planning!H125)","v":""},{"$f":"IF(ISERROR(INDEX(Data!$F$155:$K$156,VLOOKUP(AA49,Data!$C$79:$D$81,2),VLOOKUP(AB49,Data!$G$79:$H$85,2,0))),\"\",INDEX(Data!$F$155:$K$156,VLOOKUP(AA49,Data!$C$79:$D$81,2),VLOOKUP(AB49,Data!$G$79:$H$85,2,0)))","v":""},{"$f":"IF(ISBLANK(Planning!J125),\"\",Planning!J125)","v":""},{"$f":"IF(ISERROR(VLOOKUP(AD49,Data!$J$79:$K$81,2,0)),\"\",VLOOKUP(AD49,Data!$J$79:$K$81,2,0))","v":""},{"$f":"IF(ISERROR(VLOOKUP(C49,INDIRECT(ADDRESS(Data!$AG$67,Data!$AG$65,1,1,\"Data\")):INDIRECT(ADDRESS(Data!$AG$68,Data!$AG$66,1,1,\"Data\")),Data!$AG$84,0)),\"\",VLOOKUP(C49,INDIRECT(ADDRESS(Data!$AG$67,Data!$AG$65,1,1,\"Data\")):INDIRECT(ADDRESS(Data!$AG$68,Data!$AG$66,1,1,\"Data\")),Data!$AG$84,0))","v":""},{"$f":"IF(LEN(B49)=0,\"\",IF(LEN(Data!$AG$70)=0,\"\",Data!$AG$70))","v":""},{"$f":"IF(LEN(AE49)=0,\"\",IF(AE49=\"Yes\",INDIRECT(ADDRESS((ROW(Data!$M$153)+MATCH(AG49,Data!$M$154:$M$293,0)+MATCH(X49,Data!$P$154:$P$174,1)-1),(COLUMN(Data!$Q$153)+MATCH(AF49,Data!$R$153:$U$153,0)),1,1,\"Data\"),TRUE),1))","v":""},"",{"$f":"IF(ISBLANK(Planning!M125),\"\",Planning!M125)","v":""},"",{"$f":"IF(ISERROR(VLOOKUP(AK49,Data!$J$105:$K$109,2,1)),\"\",VLOOKUP(AK49,Data!$J$105:$K$109,2,1))","v":""},{"$f":"IF(ISBLANK(Planning!B179),\"\",Planning!B179)","v":""},{"$f":"IF(ISERROR(INDEX(Data!$D$91:$G$94,MATCH(AM49,Data!$C$91:$C$94,1),MATCH(AF49,Data!$D$90:$G$90,1))),\"\",INDEX(Data!$D$91:$G$94,MATCH(AM49,Data!$C$91:$C$94,1),MATCH(AF49,Data!$D$90:$G$90,1)))","v":""},{"$f":"IF(ISERROR(VLOOKUP(X49,Data!$D$184:$K$200,HLOOKUP(AN49,Data!$E$182:$K$183,2))),\"\",VLOOKUP(X49,Data!$D$184:$K$200,HLOOKUP(AN49,Data!$E$182:$K$183,2)))","v":""},{"$f":"IF(ISERROR(VLOOKUP(AO49,Data!$C$105:$D$110,2)),\"\",VLOOKUP(AO49,Data!$C$105:$D$110,2))","v":""},{"$f":"IF(ISBLANK(Planning!M73),\"\",Planning!M73)","v":""},{"$f":"IF(ISERROR(VLOOKUP(AQ49,Data!$F$105:$G$108,2,1)),\"\",VLOOKUP(AQ49,Data!$F$105:$G$108,2,1))","v":""},{"$f":"IF(ISBLANK(Planning!F179),\"\",Planning!F179)","v":""},{"$f":"IF(ISERROR(VLOOKUP(AS49,Data!$C$99:$D$101,2)),\"\",VLOOKUP(AS49,Data!$C$99:$D$101,2))","v":""},{"$f":"IF(ISBLANK(Planning!H179),\"\",Planning!H179)","v":""},{"$f":"IF(ISERROR(VLOOKUP(AU49,Data!$G$99:$H$101,2)),\"\",VLOOKUP(AU49,Data!$G$99:$H$101,2))","v":""},"","","",{"$f":"IF(AX49=0,VLOOKUP(AY49,Data!$C$116:$D$119,2),\"\")","v":""},{"$f":"IF(LEN(B49)=0,\"\",IF(ISBLANK(Planning!B232),0,Planning!B232))","v":""},{"$f":"IF(LEN(B49)=0,\"\",IF(ISBLANK(Planning!C232),0,Planning!C232))","v":""},{"$f":"IF(LEN(B49)=0,\"\",IF(ISBLANK(Planning!D232),0,Planning!D232))","v":""},{"$f":"IF(LEN(B49)=0,\"\",IF(ISBLANK(Planning!E232),0,Planning!E232))","v":""},{"$f":"IF(LEN(B49)=0,\"\",IF(ISBLANK(Planning!F232),0,Planning!F232))","v":""},{"$f":"IF(LEN(B49)=0,\"\",IF(ISBLANK(Planning!G232),0,Planning!G232))","v":""},{"$f":"IF(LEN(B49)=0,\"\",IF(ISBLANK(Planning!H232),0,Planning!H232))","v":""},{"$f":"IF(LEN(B49)=0,\"\",IF(ISBLANK(Planning!I232),0,Planning!I232))","v":""},{"$f":"IF(LEN(B49)=0,\"\",IF(ISBLANK(Planning!J232),0,Planning!J232))","v":""},"","",{"$f":"IF(AX49=0,VLOOKUP(BK49,Data!$C$116:$D$119,2),\"\")","v":""}]
[null,{"$f":"IF(ISBLANK(Planning!A180),\"\",Planning!A180)","v":""},{"$f":"IF(ISBLANK(Planning!D74),\"\",Planning!D74)","v":""},{"$f":"IF(LEN(C50)=0,\"\",IF(ISNA(VLOOKUP(C50,INDIRECT(ADDRESS(Data!$AG$67,Data!$AG$65,1,1,\"Data\")):INDIRECT(ADDRESS(Data!$AG$68,Data!$AG$66,1,1,\"Data\")),Data!$AG$74,0)),$B$10,VLOOKUP(Planning!D74,INDIRECT(ADDRESS(Data!$AG$67,Data!$AG$65,1,1,\"Data\")):INDIRECT(ADDRESS(Data!$AG$68,Data!$AG$66,1,1,\"Data\")),Data!$AG$74,0)))","v":""},{"$f":"IF(ISBLANK(Planning!I180),\"\",Planning!I180)","v":""},{"$f":"IF(ISBLANK(Planning!I180),\"\",INDEX(Planning!$A$21:$C$25,MATCH(E50,Planning!$A$21:$A$25,0),2))","v":""},{"$f":"IF(ISNA(INDEX(Planning!$A$21:$N$25,MATCH(E50,Planning!$A$21:$A$25,0),12)),\"\",INDEX(Planning!$A$21:$N$25,MATCH(E50,Planning!$A$21:$A$25,0),12))","v":""},{"$f":"IF(ISNA(INDEX(Planning!$A$21:$N$25,MATCH(E50,Planning!$A$21:$A$25,0),8)/2.29),\"\",INDEX(Planning!$A$21:$N$25,MATCH(E50,Planning!$A$21:$A$25,0),8)/2.29)","v":""},{"$f":"IF(ISBLANK(Planning!J180),\"\",Planning!J180)","v":""},"","",{"$f":"IF(ISNA(INDEX(Planning!$A$21:$N$25,MATCH(E50,Planning!$A$21:$A$25,0),14)),\"\",INDEX(Planning!$A$21:$N$25,MATCH(E50,Planning!$A$21:$A$25,0),14))","v":""},{"$f":"IF(ISERROR(VLOOKUP(L50,Data!$Q$65:$R$66,2,1)),\"\",VLOOKUP(L50,Data!$Q$65:$R$66,2,1))","v":""},"","",{"$f":"IF(LEN(B50)=0,\"\",Planning!B74*(1.3333))","v":""},"","","",{"$f":"IF(LEN(B50)=0,\"\",IF(ISBLANK(Data!$AG$69),\"\",Data!$AG$69))","v":""},{"$f":"IF(ISERROR(VLOOKUP(C50,INDIRECT(ADDRESS(Data!$AG$67,Data!$AG$65,1,1,\"Data\")):INDIRECT(ADDRESS(Data!$AG$68,Data!$AG$66,1,1,\"Data\")),Data!$AG$81,0)),\"\",VLOOKUP(C50,INDIRECT(ADDRESS(Data!$AG$67,Data!$AG$65,1,1,\"Data\")):INDIRECT(ADDRESS(Data!$AG$68,Data!$AG$66,1,1,\"Data\")),Data!$AG$81,0))","v":""},{"$f":"IF(LEN(B50)=0,\"\",IF(LEN(Data!$AG$71)=0,\"\",IF(Data!$AG$71=1,\"Yes\", \"No\")))","v":""},{"$f":"IF(ISERROR(IF(V50=\"NO\",U50,VLOOKUP(U50,Data!$AA$72:$AB$85,2,0))),\"\",IF(V50=\"NO\",U50,VLOOKUP(U50,Data!$AA$72:$AB$85,2,0)))","v":""},{"$f":"IF(ISBLANK(Planning!H74),\"\",Planning!H74)","v":""},{"$f":"IF(ISBLANK(Planning!L74),\"\",Planning!L74)","v":""},{"$f":"IF(ISERROR(INDEX(Data!$D$128:$T$146,MATCH(X50,Data!$C$128:$C$146,1),MATCH(Y50,Data!$D$127:$T$127,1))),\"\",INDEX(Data!$D$128:$T$146,MATCH(X50,Data!$C$128:$C$146,1),MATCH(Y50,Data!$D$127:$T$127,1)))","v":""},{"$f":"IF(ISBLANK(Planning!F126),\"\",Planning!F126)","v":""},{"$f":"IF(ISBLANK(Planning!H126),\"\",Planning!H126)","v":""},{"$f":"IF(ISERROR(INDEX(Data!$F$155:$K$156,VLOOKUP(AA50,Data!$C$79:$D$81,2),VLOOKUP(AB50,Data!$G$79:$H$85,2,0))),\"\",INDEX(Data!$F$155:$K$156,VLOOKUP(AA50,Data!$C$79:$D$81,2),VLOOKUP(AB50,Data!$G$79:$H$85,2,0)))","v":""},{"$f":"IF(ISBLANK(Planning!J126),\"\",Planning!J126)","v":""},{"$f":"IF(ISERROR(VLOOKUP(AD50,Data!$J$79:$K$81,2,0)),\"\",VLOOKUP(AD50,Data!$J$79:$K$81,2,0))","v":""},{"$f":"IF(ISERROR(VLOOKUP(C50,INDIRECT(ADDRESS(Data!$AG$67,Data!$AG$65,1,1,\"Data\")):INDIRECT(ADDRESS(Data!$AG$68,Data!$AG$66,1,1,\"Data\")),Data!$AG$84,0)),\"\",VLOOKUP(C50,INDIRECT(ADDRESS(Data!$AG$67,Data!$AG$65,1,1,\"Data\")):INDIRECT(ADDRESS(Data!$AG$68,Data!$AG$66,1,1,\"Data\")),Data!$AG$84,0))","v":""},{"$f":"IF(LEN(B50)=0,\"\",IF(LEN(Data!$AG$70)=0,\"\",Data!$AG$70))","v":""},{"$f":"IF(LEN(AE50)=0,\"\",IF(AE50=\"Yes\",INDIRECT(ADDRESS((ROW(Data!$M$153)+MATCH(AG50,Data!$M$154:$M$293,0)+MATCH(X50,Data!$P$154:$P$174,1)-1),(COLUMN(Data!$Q$153)+MATCH(AF50,Data!$R$153:$U$153,0)),1,1,\"Data\"),TRUE),1))","v":""},"",{"$f":"IF(ISBLANK(Planning!M126),\"\",Planning!M126)","v":""},"",{"$f":"IF(ISERROR(VLOOKUP(AK50,Data!$J$105:$K$109,2,1)),\"\",VLOOKUP(AK50,Data!$J$105:$K$109,2,1))","v":""},{"$f":"IF(ISBLANK(Planning!B180),\"\",Planning!B180)","v":""},{"$f":"IF(ISERROR(INDEX(Data!$D$91:$G$94,MATCH(AM50,Data!$C$91:$C$94,1),MATCH(AF50,Data!$D$90:$G$90,1))),\"\",INDEX(Data!$D$91:$G$94,MATCH(AM50,Data!$C$91:$C$94,1),MATCH(AF50,Data!$D$90:$G$90,1)))","v":""},{"$f":"IF(ISERROR(VLOOKUP(X50,Data!$D$184:$K$200,HLOOKUP(AN50,Data!$E$182:$K$183,2))),\"\",VLOOKUP(X50,Data!$D$184:$K$200,HLOOKUP(AN50,Data!$E$182:$K$183,2)))","v":""},{"$f":"IF(ISERROR(VLOOKUP(AO50,Data!$C$105:$D$110,2)),\"\",VLOOKUP(AO50,Data!$C$105:$D$110,2))","v":""},{"$f":"IF(ISBLANK(Planning!M74),\"\",Planning!M74)","v":""},{"$f":"IF(ISERROR(VLOOKUP(AQ50,Data!$F$105:$G$108,2,1)),\"\",VLOOKUP(AQ50,Data!$F$105:$G$108,2,1))","v":""},{"$f":"IF(ISBLANK(Planning!F180),\"\",Planning!F180)","v":""},{"$f":"IF(ISERROR(VLOOKUP(AS50,Data!$C$99:$D$101,2)),\"\",VLOOKUP(AS50,Data!$C$99:$D$101,2))","v":""},{"$f":"IF(ISBLANK(Planning!H180),\"\",Planning!H180)","v":""},{"$f":"IF(ISERROR(VLOOKUP(AU50,Data!$G$99:$H$101,2)),\"\",VLOOKUP(AU50,Data!$G$99:$H$101,2))","v":""},"","","",{"$f":"IF(AX50=0,VLOOKUP(AY50,Data!$C$116:$D$119,2),\"\")","v":""},{"$f":"IF(LEN(B50)=0,\"\",IF(ISBLANK(Planning!B233),0,Planning!B233))","v":""},{"$f":"IF(LEN(B50)=0,\"\",IF(ISBLANK(Planning!C233),0,Planning!C233))","v":""},{"$f":"IF(LEN(B50)=0,\"\",IF(ISBLANK(Planning!D233),0,Planning!D233))","v":""},{"$f":"IF(LEN(B50)=0,\"\",IF(ISBLANK(Planning!E233),0,Planning!E233))","v":""},{"$f":"IF(LEN(B50)=0,\"\",IF(ISBLANK(Planning!F233),0,Planning!F233))","v":""},{"$f":"IF(LEN(B50)=0,\"\",IF(ISBLANK(Planning!G233),0,Planning!G233))","v":""},{"$f":"IF(LEN(B50)=0,\"\",IF(ISBLANK(Planning!H233),0,Planning!H233))","v":""},{"$f":"IF(LEN(B50)=0,\"\",IF(ISBLANK(Planning!I233),0,Planning!I233))","v":""},{"$f":"IF(LEN(B50)=0,\"\",IF(ISBLANK(Planning!J233),0,Planning!J233))","v":""},"","",{"$f":"IF(AX50=0,VLOOKUP(BK50,Data!$C$116:$D$119,2),\"\")","v":""}]
[null,{"$f":"IF(ISBLANK(Planning!A181),\"\",Planning!A181)","v":""},{"$f":"IF(ISBLANK(Planning!D75),\"\",Planning!D75)","v":""},{"$f":"IF(LEN(C51)=0,\"\",IF(ISNA(VLOOKUP(C51,INDIRECT(ADDRESS(Data!$AG$67,Data!$AG$65,1,1,\"Data\")):INDIRECT(ADDRESS(Data!$AG$68,Data!$AG$66,1,1,\"Data\")),Data!$AG$74,0)),$B$10,VLOOKUP(Planning!D75,INDIRECT(ADDRESS(Data!$AG$67,Data!$AG$65,1,1,\"Data\")):INDIRECT(ADDRESS(Data!$AG$68,Data!$AG$66,1,1,\"Data\")),Data!$AG$74,0)))","v":""},{"$f":"IF(ISBLANK(Planning!I181),\"\",Planning!I181)","v":""},{"$f":"IF(ISBLANK(Planning!I181),\"\",INDEX(Planning!$A$21:$C$25,MATCH(E51,Planning!$A$21:$A$25,0),2))","v":""},{"$f":"IF(ISNA(INDEX(Planning!$A$21:$N$25,MATCH(E51,Planning!$A$21:$A$25,0),12)),\"\",INDEX(Planning!$A$21:$N$25,MATCH(E51,Planning!$A$21:$A$25,0),12))","v":""},{"$f":"IF(ISNA(INDEX(Planning!$A$21:$N$25,MATCH(E51,Planning!$A$21:$A$25,0),8)/2.29),\"\",INDEX(Planning!$A$21:$N$25,MATCH(E51,Planning!$A$21:$A$25,0),8)/2.29)","v":""},{"$f":"IF(ISBLANK(Planning!J181),\"\",Planning!J181)","v":""},"","",{"$f":"IF(ISNA(INDEX(Planning!$A$21:$N$25,MATCH(E51,Planning!$A$21:$A$25,0),14)),\"\",INDEX(Planning!$A$21:$N$25,MATCH(E51,Planning!$A$21:$A$25,0),14))","v":""},{"$f":"IF(ISERROR(VLOOKUP(L51,Data!$Q$65:$R$66,2,1)),\"\",VLOOKUP(L51,Data!$Q$65:$R$66,2,1))","v":""},"","",{"$f":"IF(LEN(B51)=0,\"\",Planning!B75*(1.3333))","v":""},"","","",{"$f":"IF(LEN(B51)=0,\"\",IF(ISBLANK(Data!$AG$69),\"\",Data!$AG$69))","v":""},{"$f":"IF(ISERROR(VLOOKUP(C51,INDIRECT(ADDRESS(Data!$AG$67,Data!$AG$65,1,1,\"Data\")):INDIRECT(ADDRESS(Data!$AG$68,Data!$AG$66,1,1,\"Data\")),Data!$AG$81,0)),\"\",VLOOKUP(C51,INDIRECT(ADDRESS(Data!$AG$67,Data!$AG$65,1,1,\"Data\")):INDIRECT(ADDRESS(Data!$AG$68,Data!$AG$66,1,1,\"Data\")),Data!$AG$81,0))","v":""},{"$f":"IF(LEN(B51)=0,\"\",IF(LEN(Data!$AG$71)=0,\"\",IF(Data!$AG$71=1,\"Yes\", \"No\")))","v":""},{"$f":"IF(ISERROR(IF(V51=\"NO\",U51,VLOOKUP(U51,Data!$AA$72:$AB$85,2,0))),\"\",IF(V51=\"NO\",U51,VLOOKUP(U51,Data!$AA$72:$AB$85,2,0)))","v":""},{"$f":"IF(ISBLANK(Planning!H75),\"\",Planning!H75)","v":""},{"$f":"IF(ISBLANK(Planning!L75),\"\",Planning!L75)","v":""},{"$f":"IF(ISERROR(INDEX(Data!$D$128:$T$146,MATCH(X51,Data!$C$128:$C$146,1),MATCH(Y51,Data!$D$127:$T$127,1))),\"\",INDEX(Data!$D$128:$T$146,MATCH(X51,Data!$C$128:$C$146,1),MATCH(Y51,Data!$D$127:$T$127,1)))","v":""},{"$f":"IF(ISBLANK(Planning!F127),\"\",Planning!F127)","v":""},{"$f":"IF(ISBLANK(Planning!H127),\"\",Planning!H127)","v":""},{"$f":"IF(ISERROR(INDEX(Data!$F$155:$K$156,VLOOKUP(AA51,Data!$C$79:$D$81,2),VLOOKUP(AB51,Data!$G$79:$H$85,2,0))),\"\",INDEX(Data!$F$155:$K$156,VLOOKUP(AA51,Data!$C$79:$D$81,2),VLOOKUP(AB51,Data!$G$79:$H$85,2,0)))","v":""},{"$f":"IF(ISBLANK(Planning!J127),\"\",Planning!J127)","v":""},{"$f":"IF(ISERROR(VLOOKUP(AD51,Data!$J$79:$K$81,2,0)),\"\",VLOOKUP(AD51,Data!$J$79:$K$81,2,0))","v":""},{"$f":"IF(ISERROR(VLOOKUP(C51,INDIRECT(ADDRESS(Data!$AG$67,Data!$AG$65,1,1,\"Data\")):INDIRECT(ADDRESS(Data!$AG$68,Data!$AG$66,1,1,\"Data\")),Data!$AG$84,0)),\"\",VLOOKUP(C51,INDIRECT(ADDRESS(Data!$AG$67,Data!$AG$65,1,1,\"Data\")):INDIRECT(ADDRESS(Data!$AG$68,Data!$AG$66,1,1,\"Data\")),Data!$AG$84,0))","v":""},{"$f":"IF(LEN(B51)=0,\"\",IF(LEN(Data!$AG$70)=0,\"\",Data!$AG$70))","v":""},{"$f":"IF(LEN(AE51)=0,\"\",IF(AE51=\"Yes\",INDIRECT(ADDRESS((ROW(Data!$M$153)+MATCH(AG51,Data!$M$154:$M$293,0)+MATCH(X51,Data!$P$154:$P$174,1)-1),(COLUMN(Data!$Q$153)+MATCH(AF51,Data!$R$153:$U$153,0)),1,1,\"Data\"),TRUE),1))","v":""},"",{"$f":"IF(ISBLANK(Planning!M127),\"\",Planning!M127)","v":""},"",{"$f":"IF(ISERROR(VLOOKUP(AK51,Data!$J$105:$K$109,2,1)),\"\",VLOOKUP(AK51,Data!$J$105:$K$109,2,1))","v":""},{"$f":"IF(ISBLANK(Planning!B181),\"\",Planning!B181)","v":""},{"$f":"IF(ISERROR(INDEX(Data!$D$91:$G$94,MATCH(AM51,Data!$C$91:$C$94,1),MATCH(AF51,Data!$D$90:$G$90,1))),\"\",INDEX(Data!$D$91:$G$94,MATCH(AM51,Data!$C$91:$C$94,1),MATCH(AF51,Data!$D$90:$G$90,1)))","v":""},{"$f":"IF(ISERROR(VLOOKUP(X51,Data!$D$184:$K$200,HLOOKUP(AN51,Data!$E$182:$K$183,2))),\"\",VLOOKUP(X51,Data!$D$184:$K$200,HLOOKUP(AN51,Data!$E$182:$K$183,2)))","v":""},{"$f":"IF(ISERROR(VLOOKUP(AO51,Data!$C$105:$D$110,2)),\"\",VLOOKUP(AO51,Data!$C$105:$D$110,2))","v":""},{"$f":"IF(ISBLANK(Planning!M75),\"\",Planning!M75)","v":""},{"$f":"IF(ISERROR(VLOOKUP(AQ51,Data!$F$105:$G$108,2,1)),\"\",VLOOKUP(AQ51,Data!$F$105:$G$108,2,1))","v":""},{"$f":"IF(ISBLANK(Planning!F181),\"\",Planning!F181)","v":""},{"$f":"IF(ISERROR(VLOOKUP(AS51,Data!$C$99:$D$101,2)),\"\",VLOOKUP(AS51,Data!$C$99:$D$101,2))","v":""},{"$f":"IF(ISBLANK(Planning!H181),\"\",Planning!H181)","v":""},{"$f":"IF(ISERROR(VLOOKUP(AU51,Data!$G$99:$H$101,2)),\"\",VLOOKUP(AU51,Data!$G$99:$H$101,2))","v":""},"","","",{"$f":"IF(AX51=0,VLOOKUP(AY51,Data!$C$116:$D$119,2),\"\")","v":""},{"$f":"IF(LEN(B51)=0,\"\",IF(ISBLANK(Planning!B234),0,Planning!B234))","v":""},{"$f":"IF(LEN(B51)=0,\"\",IF(ISBLANK(Planning!C234),0,Planning!C234))","v":""},{"$f":"IF(LEN(B51)=0,\"\",IF(ISBLANK(Planning!D234),0,Planning!D234))","v":""},{"$f":"IF(LEN(B51)=0,\"\",IF(ISBLANK(Planning!E234),0,Planning!E234))","v":""},{"$f":"IF(LEN(B51)=0,\"\",IF(ISBLANK(Planning!F234),0,Planning!F234))","v":""},{"$f":"IF(LEN(B51)=0,\"\",IF(ISBLANK(Planning!G234),0,Planning!G234))","v":""},{"$f":"IF(LEN(B51)=0,\"\",IF(ISBLANK(Planning!H234),0,Planning!H234))","v":""},{"$f":"IF(LEN(B51)=0,\"\",IF(ISBLANK(Planning!I234),0,Planning!I234))","v":""},{"$f":"IF(LEN(B51)=0,\"\",IF(ISBLANK(Planning!J234),0,Planning!J234))","v":""},"","",{"$f":"IF(AX51=0,VLOOKUP(BK51,Data!$C$116:$D$119,2),\"\")","v":""}]
[null,{"$f":"IF(ISBLANK(Planning!A182),\"\",Planning!A182)","v":""},{"$f":"IF(ISBLANK(Planning!D76),\"\",Planning!D76)","v":""},{"$f":"IF(LEN(C52)=0,\"\",IF(ISNA(VLOOKUP(C52,INDIRECT(ADDRESS(Data!$AG$67,Data!$AG$65,1,1,\"Data\")):INDIRECT(ADDRESS(Data!$AG$68,Data!$AG$66,1,1,\"Data\")),Data!$AG$74,0)),$B$10,VLOOKUP(Planning!D76,INDIRECT(ADDRESS(Data!$AG$67,Data!$AG$65,1,1,\"Data\")):INDIRECT(ADDRESS(Data!$AG$68,Data!$AG$66,1,1,\"Data\")),Data!$AG$74,0)))","v":""},{"$f":"IF(ISBLANK(Planning!I182),\"\",Planning!I182)","v":""},{"$f":"IF(ISBLANK(Planning!I182),\"\",INDEX(Planning!$A$21:$C$25,MATCH(E52,Planning!$A$21:$A$25,0),2))","v":""},{"$f":"IF(ISNA(INDEX(Planning!$A$21:$N$25,MATCH(E52,Planning!$A$21:$A$25,0),12)),\"\",INDEX(Planning!$A$21:$N$25,MATCH(E52,Planning!$A$21:$A$25,0),12))","v":""},{"$f":"IF(ISNA(INDEX(Planning!$A$21:$N$25,MATCH(E52,Planning!$A$21:$A$25,0),8)/2.29),\"\",INDEX(Planning!$A$21:$N$25,MATCH(E52,Planning!$A$21:$A$25,0),8)/2.29)","v":""},{"$f":"IF(ISBLANK(Planning!J182),\"\",Planning!J182)","v":""},"","",{"$f":"IF(ISNA(INDEX(Planning!$A$21:$N$25,MATCH(E52,Planning!$A$21:$A$25,0),14)),\"\",INDEX(Planning!$A$21:$N$25,MATCH(E52,Planning!$A$21:$A$25,0),14))","v":""},{"$f":"IF(ISERROR(VLOOKUP(L52,Data!$Q$65:$R$66,2,1)),\"\",VLOOKUP(L52,Data!$Q$65:$R$66,2,1))","v":""},"","",{"$f":"IF(LEN(B52)=0,\"\",Planning!B76*(1.3333))","v":""},"","","",{"$f":"IF(LEN(B52)=0,\"\",IF(ISBLANK(Data!$AG$69),\"\",Data!$AG$69))","v":""},{"$f":"IF(ISERROR(VLOOKUP(C52,INDIRECT(ADDRESS(Data!$AG$67,Data!$AG$65,1,1,\"Data\")):INDIRECT(ADDRESS(Data!$AG$68,Data!$AG$66,1,1,\"Data\")),Data!$AG$81,0)),\"\",VLOOKUP(C52,INDIRECT(ADDRESS(Data!$AG$67,Data!$AG$65,1,1,\"Data\")):INDIRECT(ADDRESS(Data!$AG$68,Data!$AG$66,1,1,\"Data\")),Data!$AG$81,0))","v":""},{"$f":"IF(LEN(B52)=0,\"\",IF(LEN(Data!$AG$71)=0,\"\",IF(Data!$AG$71=1,\"Yes\", \"No\")))","v":""},{"$f":"IF(ISERROR(IF(V52=\"NO\",U52,VLOOKUP(U52,Data!$AA$72:$AB$85,2,0))),\"\",IF(V52=\"NO\",U52,VLOOKUP(U52,Data!$AA$72:$AB$85,2,0)))","v":""},{"$f":"IF(ISBLANK(Planning!H76),\"\",Planning!H76)","v":""},{"$f":"IF(ISBLANK(Planning!L76),\"\",Planning!L76)","v":""},{"$f":"IF(ISERROR(INDEX(Data!$D$128:$T$146,MATCH(X52,Data!$C$128:$C$146,1),MATCH(Y52,Data!$D$127:$T$127,1))),\"\",INDEX(Data!$D$128:$T$146,MATCH(X52,Data!$C$128:$C$146,1),MATCH(Y52,Data!$D$127:$T$127,1)))","v":""},{"$f":"IF(ISBLANK(Planning!F128),\"\",Planning!F128)","v":""},{"$f":"IF(ISBLANK(Planning!H128),\"\",Planning!H128)","v":""},{"$f":"IF(ISERROR(INDEX(Data!$F$155:$K$156,VLOOKUP(AA52,Data!$C$79:$D$81,2),VLOOKUP(AB52,Data!$G$79:$H$85,2,0))),\"\",INDEX(Data!$F$155:$K$156,VLOOKUP(AA52,Data!$C$79:$D$81,2),VLOOKUP(AB52,Data!$G$79:$H$85,2,0)))","v":""},{"$f":"IF(ISBLANK(Planning!J128),\"\",Planning!J128)","v":""},{"$f":"IF(ISERROR(VLOOKUP(AD52,Data!$J$79:$K$81,2,0)),\"\",VLOOKUP(AD52,Data!$J$79:$K$81,2,0))","v":""},{"$f":"IF(ISERROR(VLOOKUP(C52,INDIRECT(ADDRESS(Data!$AG$67,Data!$AG$65,1,1,\"Data\")):INDIRECT(ADDRESS(Data!$AG$68,Data!$AG$66,1,1,\"Data\")),Data!$AG$84,0)),\"\",VLOOKUP(C52,INDIRECT(ADDRESS(Data!$AG$67,Data!$AG$65,1,1,\"Data\")):INDIRECT(ADDRESS(Data!$AG$68,Data!$AG$66,1,1,\"Data\")),Data!$AG$84,0))","v":""},{"$f":"IF(LEN(B52)=0,\"\",IF(LEN(Data!$AG$70)=0,\"\",Data!$AG$70))","v":""},{"$f":"IF(LEN(AE52)=0,\"\",IF(AE52=\"Yes\",INDIRECT(ADDRESS((ROW(Data!$M$153)+MATCH(AG52,Data!$M$154:$M$293,0)+MATCH(X52,Data!$P$154:$P$174,1)-1),(COLUMN(Data!$Q$153)+MATCH(AF52,Data!$R$153:$U$153,0)),1,1,\"Data\"),TRUE),1))","v":""},"",{"$f":"IF(ISBLANK(Planning!M128),\"\",Planning!M128)","v":""},"",{"$f":"IF(ISERROR(VLOOKUP(AK52,Data!$J$105:$K$109,2,1)),\"\",VLOOKUP(AK52,Data!$J$105:$K$109,2,1))","v":""},{"$f":"IF(ISBLANK(Planning!B182),\"\",Planning!B182)","v":""},{"$f":"IF(ISERROR(INDEX(Data!$D$91:$G$94,MATCH(AM52,Data!$C$91:$C$94,1),MATCH(AF52,Data!$D$90:$G$90,1))),\"\",INDEX(Data!$D$91:$G$94,MATCH(AM52,Data!$C$91:$C$94,1),MATCH(AF52,Data!$D$90:$G$90,1)))","v":""},{"$f":"IF(ISERROR(VLOOKUP(X52,Data!$D$184:$K$200,HLOOKUP(AN52,Data!$E$182:$K$183,2))),\"\",VLOOKUP(X52,Data!$D$184:$K$200,HLOOKUP(AN52,Data!$E$182:$K$183,2)))","v":""},{"$f":"IF(ISERROR(VLOOKUP(AO52,Data!$C$105:$D$110,2)),\"\",VLOOKUP(AO52,Data!$C$105:$D$110,2))","v":""},{"$f":"IF(ISBLANK(Planning!M76),\"\",Planning!M76)","v":""},{"$f":"IF(ISERROR(VLOOKUP(AQ52,Data!$F$105:$G$108,2,1)),\"\",VLOOKUP(AQ52,Data!$F$105:$G$108,2,1))","v":""},{"$f":"IF(ISBLANK(Planning!F182),\"\",Planning!F182)","v":""},{"$f":"IF(ISERROR(VLOOKUP(AS52,Data!$C$99:$D$101,2)),\"\",VLOOKUP(AS52,Data!$C$99:$D$101,2))","v":""},{"$f":"IF(ISBLANK(Planning!H182),\"\",Planning!H182)","v":""},{"$f":"IF(ISERROR(VLOOKUP(AU52,Data!$G$99:$H$101,2)),\"\",VLOOKUP(AU52,Data!$G$99:$H$101,2))","v":""},"","","",{"$f":"IF(AX52=0,VLOOKUP(AY52,Data!$C$116:$D$119,2),\"\")","v":""},{"$f":"IF(LEN(B52)=0,\"\",IF(ISBLANK(Planning!B235),0,Planning!B235))","v":""},{"$f":"IF(LEN(B52)=0,\"\",IF(ISBLANK(Planning!C235),0,Planning!C235))","v":""},{"$f":"IF(LEN(B52)=0,\"\",IF(ISBLANK(Planning!D235),0,Planning!D235))","v":""},{"$f":"IF(LEN(B52)=0,\"\",IF(ISBLANK(Planning!E235),0,Planning!E235))","v":""},{"$f":"IF(LEN(B52)=0,\"\",IF(ISBLANK(Planning!F235),0,Planning!F235))","v":""},{"$f":"IF(LEN(B52)=0,\"\",IF(ISBLANK(Planning!G235),0,Planning!G235))","v":""},{"$f":"IF(LEN(B52)=0,\"\",IF(ISBLANK(Planning!H235),0,Planning!H235))","v":""},{"$f":"IF(LEN(B52)=0,\"\",IF(ISBLANK(Planning!I235),0,Planning!I235))","v":""},{"$f":"IF(LEN(B52)=0,\"\",IF(ISBLANK(Planning!J235),0,Planning!J235))","v":""},"","",{"$f":"IF(AX52=0,VLOOKUP(BK52,Data!$C$116:$D$119,2),\"\")","v":""}]
[null,{"$f":"IF(ISBLANK(Planning!A183),\"\",Planning!A183)","v":""},{"$f":"IF(ISBLANK(Planning!D77),\"\",Planning!D77)","v":""},{"$f":"IF(LEN(C53)=0,\"\",IF(ISNA(VLOOKUP(C53,INDIRECT(ADDRESS(Data!$AG$67,Data!$AG$65,1,1,\"Data\")):INDIRECT(ADDRESS(Data!$AG$68,Data!$AG$66,1,1,\"Data\")),Data!$AG$74,0)),$B$10,VLOOKUP(Planning!D77,INDIRECT(ADDRESS(Data!$AG$67,Data!$AG$65,1,1,\"Data\")):INDIRECT(ADDRESS(Data!$AG$68,Data!$AG$66,1,1,\"Data\")),Data!$AG$74,0)))","v":""},{"$f":"IF(ISBLANK(Planning!I183),\"\",Planning!I183)","v":""},{"$f":"IF(ISBLANK(Planning!I183),\"\",INDEX(Planning!$A$21:$C$25,MATCH(E53,Planning!$A$21:$A$25,0),2))","v":""},{"$f":"IF(ISNA(INDEX(Planning!$A$21:$N$25,MATCH(E53,Planning!$A$21:$A$25,0),12)),\"\",INDEX(Planning!$A$21:$N$25,MATCH(E53,Planning!$A$21:$A$25,0),12))","v":""},{"$f":"IF(ISNA(INDEX(Planning!$A$21:$N$25,MATCH(E53,Planning!$A$21:$A$25,0),8)/2.29),\"\",INDEX(Planning!$A$21:$N$25,MATCH(E53,Planning!$A$21:$A$25,0),8)/2.29)","v":""},{"$f":"IF(ISBLANK(Planning!J183),\"\",Planning!J183)","v":""},"","",{"$f":"IF(ISNA(INDEX(Planning!$A$21:$N$25,MATCH(E53,Planning!$A$21:$A$25,0),14)),\"\",INDEX(Planning!$A$21:$N$25,MATCH(E53,Planning!$A$21:$A$25,0),14))","v":""},{"$f":"IF(ISERROR(VLOOKUP(L53,Data!$Q$65:$R$66,2,1)),\"\",VLOOKUP(L53,Data!$Q$65:$R$66,2,1))","v":""},"","",{"$f":"IF(LEN(B53)=0,\"\",Planning!B77*(1.3333))","v":""},"","","",{"$f":"IF(LEN(B53)=0,\"\",IF(ISBLANK(Data!$AG$69),\"\",Data!$AG$69))","v":""},{"$f":"IF(ISERROR(VLOOKUP(C53,INDIRECT(ADDRESS(Data!$AG$67,Data!$AG$65,1,1,\"Data\")):INDIRECT(ADDRESS(Data!$AG$68,Data!$AG$66,1,1,\"Data\")),Data!$AG$81,0)),\"\",VLOOKUP(C53,INDIRECT(ADDRESS(Data!$AG$67,Data!$AG$65,1,1,\"Data\")):INDIRECT(ADDRESS(Data!$AG$68,Data!$AG$66,1,1,\"Data\")),Data!$AG$81,0))","v":""},{"$f":"IF(LEN(B53)=0,\"\",IF(LEN(Data!$AG$71)=0,\"\",IF(Data!$AG$71=1,\"Yes\", \"No\")))","v":""},{"$f":"IF(ISERROR(IF(V53=\"NO\",U53,VLOOKUP(U53,Data!$AA$72:$AB$85,2,0))),\"\",IF(V53=\"NO\",U53,VLOOKUP(U53,Data!$AA$72:$AB$85,2,0)))","v":""},{"$f":"IF(ISBLANK(Planning!H77),\"\",Planning!H77)","v":""},{"$f":"IF(ISBLANK(Planning!L77),\"\",Planning!L77)","v":""},{"$f":"IF(ISERROR(INDEX(Data!$D$128:$T$146,MATCH(X53,Data!$C$128:$C$146,1),MATCH(Y53,Data!$D$127:$T$127,1))),\"\",INDEX(Data!$D$128:$T$146,MATCH(X53,Data!$C$128:$C$146,1),MATCH(Y53,Data!$D$127:$T$127,1)))","v":""},{"$f":"IF(ISBLANK(Planning!F129),\"\",Planning!F129)","v":""},{"$f":"IF(ISBLANK(Planning!H129),\"\",Planning!H129)","v":""},{"$f":"IF(ISERROR(INDEX(Data!$F$155:$K$156,VLOOKUP(AA53,Data!$C$79:$D$81,2),VLOOKUP(AB53,Data!$G$79:$H$85,2,0))),\"\",INDEX(Data!$F$155:$K$156,VLOOKUP(AA53,Data!$C$79:$D$81,2),VLOOKUP(AB53,Data!$G$79:$H$85,2,0)))","v":""},{"$f":"IF(ISBLANK(Planning!J129),\"\",Planning!J129)","v":""},{"$f":"IF(ISERROR(VLOOKUP(AD53,Data!$J$79:$K$81,2,0)),\"\",VLOOKUP(AD53,Data!$J$79:$K$81,2,0))","v":""},{"$f":"IF(ISERROR(VLOOKUP(C53,INDIRECT(ADDRESS(Data!$AG$67,Data!$AG$65,1,1,\"Data\")):INDIRECT(ADDRESS(Data!$AG$68,Data!$AG$66,1,1,\"Data\")),Data!$AG$84,0)),\"\",VLOOKUP(C53,INDIRECT(ADDRESS(Data!$AG$67,Data!$AG$65,1,1,\"Data\")):INDIRECT(ADDRESS(Data!$AG$68,Data!$AG$66,1,1,\"Data\")),Data!$AG$84,0))","v":""},{"$f":"IF(LEN(B53)=0,\"\",IF(LEN(Data!$AG$70)=0,\"\",Data!$AG$70))","v":""},{"$f":"IF(LEN(AE53)=0,\"\",IF(AE53=\"Yes\",INDIRECT(ADDRESS((ROW(Data!$M$153)+MATCH(AG53,Data!$M$154:$M$293,0)+MATCH(X53,Data!$P$154:$P$174,1)-1),(COLUMN(Data!$Q$153)+MATCH(AF53,Data!$R$153:$U$153,0)),1,1,\"Data\"),TRUE),1))","v":""},"",{"$f":"IF(ISBLANK(Planning!M129),\"\",Planning!M129)","v":""},"",{"$f":"IF(ISERROR(VLOOKUP(AK53,Data!$J$105:$K$109,2,1)),\"\",VLOOKUP(AK53,Data!$J$105:$K$109,2,1))","v":""},{"$f":"IF(ISBLANK(Planning!B183),\"\",Planning!B183)","v":""},{"$f":"IF(ISERROR(INDEX(Data!$D$91:$G$94,MATCH(AM53,Data!$C$91:$C$94,1),MATCH(AF53,Data!$D$90:$G$90,1))),\"\",INDEX(Data!$D$91:$G$94,MATCH(AM53,Data!$C$91:$C$94,1),MATCH(AF53,Data!$D$90:$G$90,1)))","v":""},{"$f":"IF(ISERROR(VLOOKUP(X53,Data!$D$184:$K$200,HLOOKUP(AN53,Data!$E$182:$K$183,2))),\"\",VLOOKUP(X53,Data!$D$184:$K$200,HLOOKUP(AN53,Data!$E$182:$K$183,2)))","v":""},{"$f":"IF(ISERROR(VLOOKUP(AO53,Data!$C$105:$D$110,2)),\"\",VLOOKUP(AO53,Data!$C$105:$D$110,2))","v":""},{"$f":"IF(ISBLANK(Planning!M77),\"\",Planning!M77)","v":""},{"$f":"IF(ISERROR(VLOOKUP(AQ53,Data!$F$105:$G$108,2,1)),\"\",VLOOKUP(AQ53,Data!$F$105:$G$108,2,1))","v":""},{"$f":"IF(ISBLANK(Planning!F183),\"\",Planning!F183)","v":""},{"$f":"IF(ISERROR(VLOOKUP(AS53,Data!$C$99:$D$101,2)),\"\",VLOOKUP(AS53,Data!$C$99:$D$101,2))","v":""},{"$f":"IF(ISBLANK(Planning!H183),\"\",Planning!H183)","v":""},{"$f":"IF(ISERROR(VLOOKUP(AU53,Data!$G$99:$H$101,2)),\"\",VLOOKUP(AU53,Data!$G$99:$H$101,2))","v":""},"","","",{"$f":"IF(AX53=0,VLOOKUP(AY53,Data!$C$116:$D$119,2),\"\")","v":""},{"$f":"IF(LEN(B53)=0,\"\",IF(ISBLANK(Planning!B236),0,Planning!B236))","v":""},{"$f":"IF(LEN(B53)=0,\"\",IF(ISBLANK(Planning!C236),0,Planning!C236))","v":""},{"$f":"IF(LEN(B53)=0,\"\",IF(ISBLANK(Planning!D236),0,Planning!D236))","v":""},{"$f":"IF(LEN(B53)=0,\"\",IF(ISBLANK(Planning!E236),0,Planning!E236))","v":""},{"$f":"IF(LEN(B53)=0,\"\",IF(ISBLANK(Planning!F236),0,Planning!F236))","v":""},{"$f":"IF(LEN(B53)=0,\"\",IF(ISBLANK(Planning!G236),0,Planning!G236))","v":""},{"$f":"IF(LEN(B53)=0,\"\",IF(ISBLANK(Planning!H236),0,Planning!H236))","v":""},{"$f":"IF(LEN(B53)=0,\"\",IF(ISBLANK(Planning!I236),0,Planning!I236))","v":""},{"$f":"IF(LEN(B53)=0,\"\",IF(ISBLANK(Planning!J236),0,Planning!J236))","v":""},"","",{"$f":"IF(AX53=0,VLOOKUP(BK53,Data!$C$116:$D$119,2),\"\")","v":""}]
[null,{"$f":"IF(ISBLANK(Planning!A184),\"\",Planning!A184)","v":""},{"$f":"IF(ISBLANK(Planning!D78),\"\",Planning!D78)","v":""},{"$f":"IF(LEN(C54)=0,\"\",IF(ISNA(VLOOKUP(C54,INDIRECT(ADDRESS(Data!$AG$67,Data!$AG$65,1,1,\"Data\")):INDIRECT(ADDRESS(Data!$AG$68,Data!$AG$66,1,1,\"Data\")),Data!$AG$74,0)),$B$10,VLOOKUP(Planning!D78,INDIRECT(ADDRESS(Data!$AG$67,Data!$AG$65,1,1,\"Data\")):INDIRECT(ADDRESS(Data!$AG$68,Data!$AG$66,1,1,\"Data\")),Data!$AG$74,0)))","v":""},{"$f":"IF(ISBLANK(Planning!I184),\"\",Planning!I184)","v":""},{"$f":"IF(ISBLANK(Planning!I184),\"\",INDEX(Planning!$A$21:$C$25,MATCH(E54,Planning!$A$21:$A$25,0),2))","v":""},{"$f":"IF(ISNA(INDEX(Planning!$A$21:$N$25,MATCH(E54,Planning!$A$21:$A$25,0),12)),\"\",INDEX(Planning!$A$21:$N$25,MATCH(E54,Planning!$A$21:$A$25,0),12))","v":""},{"$f":"IF(ISNA(INDEX(Planning!$A$21:$N$25,MATCH(E54,Planning!$A$21:$A$25,0),8)/2.29),\"\",INDEX(Planning!$A$21:$N$25,MATCH(E54,Planning!$A$21:$A$25,0),8)/2.29)","v":""},{"$f":"IF(ISBLANK(Planning!J184),\"\",Planning!J184)","v":""},"","",{"$f":"IF(ISNA(INDEX(Planning!$A$21:$N$25,MATCH(E54,Planning!$A$21:$A$25,0),14)),\"\",INDEX(Planning!$A$21:$N$25,MATCH(E54,Planning!$A$21:$A$25,0),14))","v":""},{"$f":"IF(ISERROR(VLOOKUP(L54,Data!$Q$65:$R$66,2,1)),\"\",VLOOKUP(L54,Data!$Q$65:$R$66,2,1))","v":""},"","",{"$f":"IF(LEN(B54)=0,\"\",Planning!B78*(1.3333))","v":""},"","","",{"$f":"IF(LEN(B54)=0,\"\",IF(ISBLANK(Data!$AG$69),\"\",Data!$AG$69))","v":""},{"$f":"IF(ISERROR(VLOOKUP(C54,INDIRECT(ADDRESS(Data!$AG$67,Data!$AG$65,1,1,\"Data\")):INDIRECT(ADDRESS(Data!$AG$68,Data!$AG$66,1,1,\"Data\")),Data!$AG$81,0)),\"\",VLOOKUP(C54,INDIRECT(ADDRESS(Data!$AG$67,Data!$AG$65,1,1,\"Data\")):INDIRECT(ADDRESS(Data!$AG$68,Data!$AG$66,1,1,\"Data\")),Data!$AG$81,0))","v":""},{"$f":"IF(LEN(B54)=0,\"\",IF(LEN(Data!$AG$71)=0,\"\",IF(Data!$AG$71=1,\"Yes\", \"No\")))","v":""},{"$f":"IF(ISERROR(IF(V54=\"NO\",U54,VLOOKUP(U54,Data!$AA$72:$AB$85,2,0))),\"\",IF(V54=\"NO\",U54,VLOOKUP(U54,Data!$AA$72:$AB$85,2,0)))","v":""},{"$f":"IF(ISBLANK(Planning!H78),\"\",Planning!H78)","v":""},{"$f":"IF(ISBLANK(Planning!L78),\"\",Planning!L78)","v":""},{"$f":"IF(ISERROR(INDEX(Data!$D$128:$T$146,MATCH(X54,Data!$C$128:$C$146,1),MATCH(Y54,Data!$D$127:$T$127,1))),\"\",INDEX(Data!$D$128:$T$146,MATCH(X54,Data!$C$128:$C$146,1),MATCH(Y54,Data!$D$127:$T$127,1)))","v":""},{"$f":"IF(ISBLANK(Planning!F130),\"\",Planning!F130)","v":""},{"$f":"IF(ISBLANK(Planning!H130),\"\",Planning!H130)","v":""},{"$f":"IF(ISERROR(INDEX(Data!$F$155:$K$156,VLOOKUP(AA54,Data!$C$79:$D$81,2),VLOOKUP(AB54,Data!$G$79:$H$85,2,0))),\"\",INDEX(Data!$F$155:$K$156,VLOOKUP(AA54,Data!$C$79:$D$81,2),VLOOKUP(AB54,Data!$G$79:$H$85,2,0)))","v":""},{"$f":"IF(ISBLANK(Planning!J130),\"\",Planning!J130)","v":""},{"$f":"IF(ISERROR(VLOOKUP(AD54,Data!$J$79:$K$81,2,0)),\"\",VLOOKUP(AD54,Data!$J$79:$K$81,2,0))","v":""},{"$f":"IF(ISERROR(VLOOKUP(C54,INDIRECT(ADDRESS(Data!$AG$67,Data!$AG$65,1,1,\"Data\")):INDIRECT(ADDRESS(Data!$AG$68,Data!$AG$66,1,1,\"Data\")),Data!$AG$84,0)),\"\",VLOOKUP(C54,INDIRECT(ADDRESS(Data!$AG$67,Data!$AG$65,1,1,\"Data\")):INDIRECT(ADDRESS(Data!$AG$68,Data!$AG$66,1,1,\"Data\")),Data!$AG$84,0))","v":""},{"$f":"IF(LEN(B54)=0,\"\",IF(LEN(Data!$AG$70)=0,\"\",Data!$AG$70))","v":""},{"$f":"IF(LEN(AE54)=0,\"\",IF(AE54=\"Yes\",INDIRECT(ADDRESS((ROW(Data!$M$153)+MATCH(AG54,Data!$M$154:$M$293,0)+MATCH(X54,Data!$P$154:$P$174,1)-1),(COLUMN(Data!$Q$153)+MATCH(AF54,Data!$R$153:$U$153,0)),1,1,\"Data\"),TRUE),1))","v":""},"",{"$f":"IF(ISBLANK(Planning!M130),\"\",Planning!M130)","v":""},"",{"$f":"IF(ISERROR(VLOOKUP(AK54,Data!$J$105:$K$109,2,1)),\"\",VLOOKUP(AK54,Data!$J$105:$K$109,2,1))","v":""},{"$f":"IF(ISBLANK(Planning!B184),\"\",Planning!B184)","v":""},{"$f":"IF(ISERROR(INDEX(Data!$D$91:$G$94,MATCH(AM54,Data!$C$91:$C$94,1),MATCH(AF54,Data!$D$90:$G$90,1))),\"\",INDEX(Data!$D$91:$G$94,MATCH(AM54,Data!$C$91:$C$94,1),MATCH(AF54,Data!$D$90:$G$90,1)))","v":""},{"$f":"IF(ISERROR(VLOOKUP(X54,Data!$D$184:$K$200,HLOOKUP(AN54,Data!$E$182:$K$183,2))),\"\",VLOOKUP(X54,Data!$D$184:$K$200,HLOOKUP(AN54,Data!$E$182:$K$183,2)))","v":""},{"$f":"IF(ISERROR(VLOOKUP(AO54,Data!$C$105:$D$110,2)),\"\",VLOOKUP(AO54,Data!$C$105:$D$110,2))","v":""},{"$f":"IF(ISBLANK(Planning!M78),\"\",Planning!M78)","v":""},{"$f":"IF(ISERROR(VLOOKUP(AQ54,Data!$F$105:$G$108,2,1)),\"\",VLOOKUP(AQ54,Data!$F$105:$G$108,2,1))","v":""},{"$f":"IF(ISBLANK(Planning!F184),\"\",Planning!F184)","v":""},{"$f":"IF(ISERROR(VLOOKUP(AS54,Data!$C$99:$D$101,2)),\"\",VLOOKUP(AS54,Data!$C$99:$D$101,2))","v":""},{"$f":"IF(ISBLANK(Planning!H184),\"\",Planning!H184)","v":""},{"$f":"IF(ISERROR(VLOOKUP(AU54,Data!$G$99:$H$101,2)),\"\",VLOOKUP(AU54,Data!$G$99:$H$101,2))","v":""},"","","",{"$f":"IF(AX54=0,VLOOKUP(AY54,Data!$C$116:$D$119,2),\"\")","v":""},{"$f":"IF(LEN(B54)=0,\"\",IF(ISBLANK(Planning!B237),0,Planning!B237))","v":""},{"$f":"IF(LEN(B54)=0,\"\",IF(ISBLANK(Planning!C237),0,Planning!C237))","v":""},{"$f":"IF(LEN(B54)=0,\"\",IF(ISBLANK(Planning!D237),0,Planning!D237))","v":""},{"$f":"IF(LEN(B54)=0,\"\",IF(ISBLANK(Planning!E237),0,Planning!E237))","v":""},{"$f":"IF(LEN(B54)=0,\"\",IF(ISBLANK(Planning!F237),0,Planning!F237))","v":""},{"$f":"IF(LEN(B54)=0,\"\",IF(ISBLANK(Planning!G237),0,Planning!G237))","v":""},{"$f":"IF(LEN(B54)=0,\"\",IF(ISBLANK(Planning!H237),0,Planning!H237))","v":""},{"$f":"IF(LEN(B54)=0,\"\",IF(ISBLANK(Planning!I237),0,Planning!I237))","v":""},{"$f":"IF(LEN(B54)=0,\"\",IF(ISBLANK(Planning!J237),0,Planning!J237))","v":""},"","",{"$f":"IF(AX54=0,VLOOKUP(BK54,Data!$C$116:$D$119,2),\"\")","v":""}]
[null,{"$f":"IF(ISBLANK(Planning!A185),\"\",Planning!A185)","v":""},{"$f":"IF(ISBLANK(Planning!D79),\"\",Planning!D79)","v":""},{"$f":"IF(LEN(C55)=0,\"\",IF(ISNA(VLOOKUP(C55,INDIRECT(ADDRESS(Data!$AG$67,Data!$AG$65,1,1,\"Data\")):INDIRECT(ADDRESS(Data!$AG$68,Data!$AG$66,1,1,\"Data\")),Data!$AG$74,0)),$B$10,VLOOKUP(Planning!D79,INDIRECT(ADDRESS(Data!$AG$67,Data!$AG$65,1,1,\"Data\")):INDIRECT(ADDRESS(Data!$AG$68,Data!$AG$66,1,1,\"Data\")),Data!$AG$74,0)))","v":""},{"$f":"IF(ISBLANK(Planning!I185),\"\",Planning!I185)","v":""},{"$f":"IF(ISBLANK(Planning!I185),\"\",INDEX(Planning!$A$21:$C$25,MATCH(E55,Planning!$A$21:$A$25,0),2))","v":""},{"$f":"IF(ISNA(INDEX(Planning!$A$21:$N$25,MATCH(E55,Planning!$A$21:$A$25,0),12)),\"\",INDEX(Planning!$A$21:$N$25,MATCH(E55,Planning!$A$21:$A$25,0),12))","v":""},{"$f":"IF(ISNA(INDEX(Planning!$A$21:$N$25,MATCH(E55,Planning!$A$21:$A$25,0),8)/2.29),\"\",INDEX(Planning!$A$21:$N$25,MATCH(E55,Planning!$A$21:$A$25,0),8)/2.29)","v":""},{"$f":"IF(ISBLANK(Planning!J185),\"\",Planning!J185)","v":""},"","",{"$f":"IF(ISNA(INDEX(Planning!$A$21:$N$25,MATCH(E55,Planning!$A$21:$A$25,0),14)),\"\",INDEX(Planning!$A$21:$N$25,MATCH(E55,Planning!$A$21:$A$25,0),14))","v":""},{"$f":"IF(ISERROR(VLOOKUP(L55,Data!$Q$65:$R$66,2,1)),\"\",VLOOKUP(L55,Data!$Q$65:$R$66,2,1))","v":""},"","",{"$f":"IF(LEN(B55)=0,\"\",Planning!B79*(1.3333))","v":""},"","","",{"$f":"IF(LEN(B55)=0,\"\",IF(ISBLANK(Data!$AG$69),\"\",Data!$AG$69))","v":""},{"$f":"IF(ISERROR(VLOOKUP(C55,INDIRECT(ADDRESS(Data!$AG$67,Data!$AG$65,1,1,\"Data\")):INDIRECT(ADDRESS(Data!$AG$68,Data!$AG$66,1,1,\"Data\")),Data!$AG$81,0)),\"\",VLOOKUP(C55,INDIRECT(ADDRESS(Data!$AG$67,Data!$AG$65,1,1,\"Data\")):INDIRECT(ADDRESS(Data!$AG$68,Data!$AG$66,1,1,\"Data\")),Data!$AG$81,0))","v":""},{"$f":"IF(LEN(B55)=0,\"\",IF(LEN(Data!$AG$71)=0,\"\",IF(Data!$AG$71=1,\"Yes\", \"No\")))","v":""},{"$f":"IF(ISERROR(IF(V55=\"NO\",U55,VLOOKUP(U55,Data!$AA$72:$AB$85,2,0))),\"\",IF(V55=\"NO\",U55,VLOOKUP(U55,Data!$AA$72:$AB$85,2,0)))","v":""},{"$f":"IF(ISBLANK(Planning!H79),\"\",Planning!H79)","v":""},{"$f":"IF(ISBLANK(Planning!L79),\"\",Planning!L79)","v":""},{"$f":"IF(ISERROR(INDEX(Data!$D$128:$T$146,MATCH(X55,Data!$C$128:$C$146,1),MATCH(Y55,Data!$D$127:$T$127,1))),\"\",INDEX(Data!$D$128:$T$146,MATCH(X55,Data!$C$128:$C$146,1),MATCH(Y55,Data!$D$127:$T$127,1)))","v":""},{"$f":"IF(ISBLANK(Planning!F131),\"\",Planning!F131)","v":""},{"$f":"IF(ISBLANK(Planning!H131),\"\",Planning!H131)","v":""},{"$f":"IF(ISERROR(INDEX(Data!$F$155:$K$156,VLOOKUP(AA55,Data!$C$79:$D$81,2),VLOOKUP(AB55,Data!$G$79:$H$85,2,0))),\"\",INDEX(Data!$F$155:$K$156,VLOOKUP(AA55,Data!$C$79:$D$81,2),VLOOKUP(AB55,Data!$G$79:$H$85,2,0)))","v":""},{"$f":"IF(ISBLANK(Planning!J131),\"\",Planning!J131)","v":""},{"$f":"IF(ISERROR(VLOOKUP(AD55,Data!$J$79:$K$81,2,0)),\"\",VLOOKUP(AD55,Data!$J$79:$K$81,2,0))","v":""},{"$f":"IF(ISERROR(VLOOKUP(C55,INDIRECT(ADDRESS(Data!$AG$67,Data!$AG$65,1,1,\"Data\")):INDIRECT(ADDRESS(Data!$AG$68,Data!$AG$66,1,1,\"Data\")),Data!$AG$84,0)),\"\",VLOOKUP(C55,INDIRECT(ADDRESS(Data!$AG$67,Data!$AG$65,1,1,\"Data\")):INDIRECT(ADDRESS(Data!$AG$68,Data!$AG$66,1,1,\"Data\")),Data!$AG$84,0))","v":""},{"$f":"IF(LEN(B55)=0,\"\",IF(LEN(Data!$AG$70)=0,\"\",Data!$AG$70))","v":""},{"$f":"IF(LEN(AE55)=0,\"\",IF(AE55=\"Yes\",INDIRECT(ADDRESS((ROW(Data!$M$153)+MATCH(AG55,Data!$M$154:$M$293,0)+MATCH(X55,Data!$P$154:$P$174,1)-1),(COLUMN(Data!$Q$153)+MATCH(AF55,Data!$R$153:$U$153,0)),1,1,\"Data\"),TRUE),1))","v":""},"",{"$f":"IF(ISBLANK(Planning!M131),\"\",Planning!M131)","v":""},"",{"$f":"IF(ISERROR(VLOOKUP(AK55,Data!$J$105:$K$109,2,1)),\"\",VLOOKUP(AK55,Data!$J$105:$K$109,2,1))","v":""},{"$f":"IF(ISBLANK(Planning!B185),\"\",Planning!B185)","v":""},{"$f":"IF(ISERROR(INDEX(Data!$D$91:$G$94,MATCH(AM55,Data!$C$91:$C$94,1),MATCH(AF55,Data!$D$90:$G$90,1))),\"\",INDEX(Data!$D$91:$G$94,MATCH(AM55,Data!$C$91:$C$94,1),MATCH(AF55,Data!$D$90:$G$90,1)))","v":""},{"$f":"IF(ISERROR(VLOOKUP(X55,Data!$D$184:$K$200,HLOOKUP(AN55,Data!$E$182:$K$183,2))),\"\",VLOOKUP(X55,Data!$D$184:$K$200,HLOOKUP(AN55,Data!$E$182:$K$183,2)))","v":""},{"$f":"IF(ISERROR(VLOOKUP(AO55,Data!$C$105:$D$110,2)),\"\",VLOOKUP(AO55,Data!$C$105:$D$110,2))","v":""},{"$f":"IF(ISBLANK(Planning!M79),\"\",Planning!M79)","v":""},{"$f":"IF(ISERROR(VLOOKUP(AQ55,Data!$F$105:$G$108,2,1)),\"\",VLOOKUP(AQ55,Data!$F$105:$G$108,2,1))","v":""},{"$f":"IF(ISBLANK(Planning!F185),\"\",Planning!F185)","v":""},{"$f":"IF(ISERROR(VLOOKUP(AS55,Data!$C$99:$D$101,2)),\"\",VLOOKUP(AS55,Data!$C$99:$D$101,2))","v":""},{"$f":"IF(ISBLANK(Planning!H185),\"\",Planning!H185)","v":""},{"$f":"IF(ISERROR(VLOOKUP(AU55,Data!$G$99:$H$101,2)),\"\",VLOOKUP(AU55,Data!$G$99:$H$101,2))","v":""},"","","",{"$f":"IF(AX55=0,VLOOKUP(AY55,Data!$C$116:$D$119,2),\"\")","v":""},{"$f":"IF(LEN(B55)=0,\"\",IF(ISBLANK(Planning!B238),0,Planning!B238))","v":""},{"$f":"IF(LEN(B55)=0,\"\",IF(ISBLANK(Planning!C238),0,Planning!C238))","v":""},{"$f":"IF(LEN(B55)=0,\"\",IF(ISBLANK(Planning!D238),0,Planning!D238))","v":""},{"$f":"IF(LEN(B55)=0,\"\",IF(ISBLANK(Planning!E238),0,Planning!E238))","v":""},{"$f":"IF(LEN(B55)=0,\"\",IF(ISBLANK(Planning!F238),0,Planning!F238))","v":""},{"$f":"IF(LEN(B55)=0,\"\",IF(ISBLANK(Planning!G238),0,Planning!G238))","v":""},{"$f":"IF(LEN(B55)=0,\"\",IF(ISBLANK(Planning!H238),0,Planning!H238))","v":""},{"$f":"IF(LEN(B55)=0,\"\",IF(ISBLANK(Planning!I238),0,Planning!I238))","v":""},{"$f":"IF(LEN(B55)=0,\"\",IF(ISBLANK(Planning!J238),0,Planning!J238))","v":""},"","",{"$f":"IF(AX55=0,VLOOKUP(BK55,Data!$C$116:$D$119,2),\"\")","v":""}]
[null,{"$f":"IF(ISBLANK(Planning!A186),\"\",Planning!A186)","v":""},{"$f":"IF(ISBLANK(Planning!D80),\"\",Planning!D80)","v":""},{"$f":"IF(LEN(C56)=0,\"\",IF(ISNA(VLOOKUP(C56,INDIRECT(ADDRESS(Data!$AG$67,Data!$AG$65,1,1,\"Data\")):INDIRECT(ADDRESS(Data!$AG$68,Data!$AG$66,1,1,\"Data\")),Data!$AG$74,0)),$B$10,VLOOKUP(Planning!D80,INDIRECT(ADDRESS(Data!$AG$67,Data!$AG$65,1,1,\"Data\")):INDIRECT(ADDRESS(Data!$AG$68,Data!$AG$66,1,1,\"Data\")),Data!$AG$74,0)))","v":""},{"$f":"IF(ISBLANK(Planning!I186),\"\",Planning!I186)","v":""},{"$f":"IF(ISBLANK(Planning!I186),\"\",INDEX(Planning!$A$21:$C$25,MATCH(E56,Planning!$A$21:$A$25,0),2))","v":""},{"$f":"IF(ISNA(INDEX(Planning!$A$21:$N$25,MATCH(E56,Planning!$A$21:$A$25,0),12)),\"\",INDEX(Planning!$A$21:$N$25,MATCH(E56,Planning!$A$21:$A$25,0),12))","v":""},{"$f":"IF(ISNA(INDEX(Planning!$A$21:$N$25,MATCH(E56,Planning!$A$21:$A$25,0),8)/2.29),\"\",INDEX(Planning!$A$21:$N$25,MATCH(E56,Planning!$A$21:$A$25,0),8)/2.29)","v":""},{"$f":"IF(ISBLANK(Planning!J186),\"\",Planning!J186)","v":""},"","",{"$f":"IF(ISNA(INDEX(Planning!$A$21:$N$25,MATCH(E56,Planning!$A$21:$A$25,0),14)),\"\",INDEX(Planning!$A$21:$N$25,MATCH(E56,Planning!$A$21:$A$25,0),14))","v":""},{"$f":"IF(ISERROR(VLOOKUP(L56,Data!$Q$65:$R$66,2,1)),\"\",VLOOKUP(L56,Data!$Q$65:$R$66,2,1))","v":""},"","",{"$f":"IF(LEN(B56)=0,\"\",Planning!B80*(1.3333))","v":""},"","","",{"$f":"IF(LEN(B56)=0,\"\",IF(ISBLANK(Data!$AG$69),\"\",Data!$AG$69))","v":""},{"$f":"IF(ISERROR(VLOOKUP(C56,INDIRECT(ADDRESS(Data!$AG$67,Data!$AG$65,1,1,\"Data\")):INDIRECT(ADDRESS(Data!$AG$68,Data!$AG$66,1,1,\"Data\")),Data!$AG$81,0)),\"\",VLOOKUP(C56,INDIRECT(ADDRESS(Data!$AG$67,Data!$AG$65,1,1,\"Data\")):INDIRECT(ADDRESS(Data!$AG$68,Data!$AG$66,1,1,\"Data\")),Data!$AG$81,0))","v":""},{"$f":"IF(LEN(B56)=0,\"\",IF(LEN(Data!$AG$71)=0,\"\",IF(Data!$AG$71=1,\"Yes\", \"No\")))","v":""},{"$f":"IF(ISERROR(IF(V56=\"NO\",U56,VLOOKUP(U56,Data!$AA$72:$AB$85,2,0))),\"\",IF(V56=\"NO\",U56,VLOOKUP(U56,Data!$AA$72:$AB$85,2,0)))","v":""},{"$f":"IF(ISBLANK(Planning!H80),\"\",Planning!H80)","v":""},{"$f":"IF(ISBLANK(Planning!L80),\"\",Planning!L80)","v":""},{"$f":"IF(ISERROR(INDEX(Data!$D$128:$T$146,MATCH(X56,Data!$C$128:$C$146,1),MATCH(Y56,Data!$D$127:$T$127,1))),\"\",INDEX(Data!$D$128:$T$146,MATCH(X56,Data!$C$128:$C$146,1),MATCH(Y56,Data!$D$127:$T$127,1)))","v":""},{"$f":"IF(ISBLANK(Planning!F132),\"\",Planning!F132)","v":""},{"$f":"IF(ISBLANK(Planning!H132),\"\",Planning!H132)","v":""},{"$f":"IF(ISERROR(INDEX(Data!$F$155:$K$156,VLOOKUP(AA56,Data!$C$79:$D$81,2),VLOOKUP(AB56,Data!$G$79:$H$85,2,0))),\"\",INDEX(Data!$F$155:$K$156,VLOOKUP(AA56,Data!$C$79:$D$81,2),VLOOKUP(AB56,Data!$G$79:$H$85,2,0)))","v":""},{"$f":"IF(ISBLANK(Planning!J132),\"\",Planning!J132)","v":""},{"$f":"IF(ISERROR(VLOOKUP(AD56,Data!$J$79:$K$81,2,0)),\"\",VLOOKUP(AD56,Data!$J$79:$K$81,2,0))","v":""},{"$f":"IF(ISERROR(VLOOKUP(C56,INDIRECT(ADDRESS(Data!$AG$67,Data!$AG$65,1,1,\"Data\")):INDIRECT(ADDRESS(Data!$AG$68,Data!$AG$66,1,1,\"Data\")),Data!$AG$84,0)),\"\",VLOOKUP(C56,INDIRECT(ADDRESS(Data!$AG$67,Data!$AG$65,1,1,\"Data\")):INDIRECT(ADDRESS(Data!$AG$68,Data!$AG$66,1,1,\"Data\")),Data!$AG$84,0))","v":""},{"$f":"IF(LEN(B56)=0,\"\",IF(LEN(Data!$AG$70)=0,\"\",Data!$AG$70))","v":""},{"$f":"IF(LEN(AE56)=0,\"\",IF(AE56=\"Yes\",INDIRECT(ADDRESS((ROW(Data!$M$153)+MATCH(AG56,Data!$M$154:$M$293,0)+MATCH(X56,Data!$P$154:$P$174,1)-1),(COLUMN(Data!$Q$153)+MATCH(AF56,Data!$R$153:$U$153,0)),1,1,\"Data\"),TRUE),1))","v":""},"",{"$f":"IF(ISBLANK(Planning!M132),\"\",Planning!M132)","v":""},"",{"$f":"IF(ISERROR(VLOOKUP(AK56,Data!$J$105:$K$109,2,1)),\"\",VLOOKUP(AK56,Data!$J$105:$K$109,2,1))","v":""},{"$f":"IF(ISBLANK(Planning!B186),\"\",Planning!B186)","v":""},{"$f":"IF(ISERROR(INDEX(Data!$D$91:$G$94,MATCH(AM56,Data!$C$91:$C$94,1),MATCH(AF56,Data!$D$90:$G$90,1))),\"\",INDEX(Data!$D$91:$G$94,MATCH(AM56,Data!$C$91:$C$94,1),MATCH(AF56,Data!$D$90:$G$90,1)))","v":""},{"$f":"IF(ISERROR(VLOOKUP(X56,Data!$D$184:$K$200,HLOOKUP(AN56,Data!$E$182:$K$183,2))),\"\",VLOOKUP(X56,Data!$D$184:$K$200,HLOOKUP(AN56,Data!$E$182:$K$183,2)))","v":""},{"$f":"IF(ISERROR(VLOOKUP(AO56,Data!$C$105:$D$110,2)),\"\",VLOOKUP(AO56,Data!$C$105:$D$110,2))","v":""},{"$f":"IF(ISBLANK(Planning!M80),\"\",Planning!M80)","v":""},{"$f":"IF(ISERROR(VLOOKUP(AQ56,Data!$F$105:$G$108,2,1)),\"\",VLOOKUP(AQ56,Data!$F$105:$G$108,2,1))","v":""},{"$f":"IF(ISBLANK(Planning!F186),\"\",Planning!F186)","v":""},{"$f":"IF(ISERROR(VLOOKUP(AS56,Data!$C$99:$D$101,2)),\"\",VLOOKUP(AS56,Data!$C$99:$D$101,2))","v":""},{"$f":"IF(ISBLANK(Planning!H186),\"\",Planning!H186)","v":""},{"$f":"IF(ISERROR(VLOOKUP(AU56,Data!$G$99:$H$101,2)),\"\",VLOOKUP(AU56,Data!$G$99:$H$101,2))","v":""},"","","",{"$f":"IF(AX56=0,VLOOKUP(AY56,Data!$C$116:$D$119,2),\"\")","v":""},{"$f":"IF(LEN(B56)=0,\"\",IF(ISBLANK(Planning!B239),0,Planning!B239))","v":""},{"$f":"IF(LEN(B56)=0,\"\",IF(ISBLANK(Planning!C239),0,Planning!C239))","v":""},{"$f":"IF(LEN(B56)=0,\"\",IF(ISBLANK(Planning!D239),0,Planning!D239))","v":""},{"$f":"IF(LEN(B56)=0,\"\",IF(ISBLANK(Planning!E239),0,Planning!E239))","v":""},{"$f":"IF(LEN(B56)=0,\"\",IF(ISBLANK(Planning!F239),0,Planning!F239))","v":""},{"$f":"IF(LEN(B56)=0,\"\",IF(ISBLANK(Planning!G239),0,Planning!G239))","v":""},{"$f":"IF(LEN(B56)=0,\"\",IF(ISBLANK(Planning!H239),0,Planning!H239))","v":""},{"$f":"IF(LEN(B56)=0,\"\",IF(ISBLANK(Planning!I239),0,Planning!I239))","v":""},{"$f":"IF(LEN(B56)=0,\"\",IF(ISBLANK(Planning!J239),0,Planning!J239))","v":""},"","",{"$f":"IF(AX56=0,VLOOKUP(BK56,Data!$C$116:$D$119,2),\"\")","v":""}]
[null,{"$f":"IF(ISBLANK(Planning!A187),\"\",Planning!A187)","v":""},{"$f":"IF(ISBLANK(Planning!D81),\"\",Planning!D81)","v":""},{"$f":"IF(LEN(C57)=0,\"\",IF(ISNA(VLOOKUP(C57,INDIRECT(ADDRESS(Data!$AG$67,Data!$AG$65,1,1,\"Data\")):INDIRECT(ADDRESS(Data!$AG$68,Data!$AG$66,1,1,\"Data\")),Data!$AG$74,0)),$B$10,VLOOKUP(Planning!D81,INDIRECT(ADDRESS(Data!$AG$67,Data!$AG$65,1,1,\"Data\")):INDIRECT(ADDRESS(Data!$AG$68,Data!$AG$66,1,1,\"Data\")),Data!$AG$74,0)))","v":""},{"$f":"IF(ISBLANK(Planning!I187),\"\",Planning!I187)","v":""},{"$f":"IF(ISBLANK(Planning!I187),\"\",INDEX(Planning!$A$21:$C$25,MATCH(E57,Planning!$A$21:$A$25,0),2))","v":""},{"$f":"IF(ISNA(INDEX(Planning!$A$21:$N$25,MATCH(E57,Planning!$A$21:$A$25,0),12)),\"\",INDEX(Planning!$A$21:$N$25,MATCH(E57,Planning!$A$21:$A$25,0),12))","v":""},{"$f":"IF(ISNA(INDEX(Planning!$A$21:$N$25,MATCH(E57,Planning!$A$21:$A$25,0),8)/2.29),\"\",INDEX(Planning!$A$21:$N$25,MATCH(E57,Planning!$A$21:$A$25,0),8)/2.29)","v":""},{"$f":"IF(ISBLANK(Planning!J187),\"\",Planning!J187)","v":""},"","",{"$f":"IF(ISNA(INDEX(Planning!$A$21:$N$25,MATCH(E57,Planning!$A$21:$A$25,0),14)),\"\",INDEX(Planning!$A$21:$N$25,MATCH(E57,Planning!$A$21:$A$25,0),14))","v":""},{"$f":"IF(ISERROR(VLOOKUP(L57,Data!$Q$65:$R$66,2,1)),\"\",VLOOKUP(L57,Data!$Q$65:$R$66,2,1))","v":""},"","",{"$f":"IF(LEN(B57)=0,\"\",Planning!B81*(1.3333))","v":""},"","","",{"$f":"IF(LEN(B57)=0,\"\",IF(ISBLANK(Data!$AG$69),\"\",Data!$AG$69))","v":""},{"$f":"IF(ISERROR(VLOOKUP(C57,INDIRECT(ADDRESS(Data!$AG$67,Data!$AG$65,1,1,\"Data\")):INDIRECT(ADDRESS(Data!$AG$68,Data!$AG$66,1,1,\"Data\")),Data!$AG$81,0)),\"\",VLOOKUP(C57,INDIRECT(ADDRESS(Data!$AG$67,Data!$AG$65,1,1,\"Data\")):INDIRECT(ADDRESS(Data!$AG$68,Data!$AG$66,1,1,\"Data\")),Data!$AG$81,0))","v":""},{"$f":"IF(LEN(B57)=0,\"\",IF(LEN(Data!$AG$71)=0,\"\",IF(Data!$AG$71=1,\"Yes\", \"No\")))","v":""},{"$f":"IF(ISERROR(IF(V57=\"NO\",U57,VLOOKUP(U57,Data!$AA$72:$AB$85,2,0))),\"\",IF(V57=\"NO\",U57,VLOOKUP(U57,Data!$AA$72:$AB$85,2,0)))","v":""},{"$f":"IF(ISBLANK(Planning!H81),\"\",Planning!H81)","v":""},{"$f":"IF(ISBLANK(Planning!L81),\"\",Planning!L81)","v":""},{"$f":"IF(ISERROR(INDEX(Data!$D$128:$T$146,MATCH(X57,Data!$C$128:$C$146,1),MATCH(Y57,Data!$D$127:$T$127,1))),\"\",INDEX(Data!$D$128:$T$146,MATCH(X57,Data!$C$128:$C$146,1),MATCH(Y57,Data!$D$127:$T$127,1)))","v":""},{"$f":"IF(ISBLANK(Planning!F133),\"\",Planning!F133)","v":""},{"$f":"IF(ISBLANK(Planning!H133),\"\",Planning!H133)","v":""},{"$f":"IF(ISERROR(INDEX(Data!$F$155:$K$156,VLOOKUP(AA57,Data!$C$79:$D$81,2),VLOOKUP(AB57,Data!$G$79:$H$85,2,0))),\"\",INDEX(Data!$F$155:$K$156,VLOOKUP(AA57,Data!$C$79:$D$81,2),VLOOKUP(AB57,Data!$G$79:$H$85,2,0)))","v":""},{"$f":"IF(ISBLANK(Planning!J133),\"\",Planning!J133)","v":""},{"$f":"IF(ISERROR(VLOOKUP(AD57,Data!$J$79:$K$81,2,0)),\"\",VLOOKUP(AD57,Data!$J$79:$K$81,2,0))","v":""},{"$f":"IF(ISERROR(VLOOKUP(C57,INDIRECT(ADDRESS(Data!$AG$67,Data!$AG$65,1,1,\"Data\")):INDIRECT(ADDRESS(Data!$AG$68,Data!$AG$66,1,1,\"Data\")),Data!$AG$84,0)),\"\",VLOOKUP(C57,INDIRECT(ADDRESS(Data!$AG$67,Data!$AG$65,1,1,\"Data\")):INDIRECT(ADDRESS(Data!$AG$68,Data!$AG$66,1,1,\"Data\")),Data!$AG$84,0))","v":""},{"$f":"IF(LEN(B57)=0,\"\",IF(LEN(Data!$AG$70)=0,\"\",Data!$AG$70))","v":""},{"$f":"IF(LEN(AE57)=0,\"\",IF(AE57=\"Yes\",INDIRECT(ADDRESS((ROW(Data!$M$153)+MATCH(AG57,Data!$M$154:$M$293,0)+MATCH(X57,Data!$P$154:$P$174,1)-1),(COLUMN(Data!$Q$153)+MATCH(AF57,Data!$R$153:$U$153,0)),1,1,\"Data\"),TRUE),1))","v":""},"",{"$f":"IF(ISBLANK(Planning!M133),\"\",Planning!M133)","v":""},"",{"$f":"IF(ISERROR(VLOOKUP(AK57,Data!$J$105:$K$109,2,1)),\"\",VLOOKUP(AK57,Data!$J$105:$K$109,2,1))","v":""},{"$f":"IF(ISBLANK(Planning!B187),\"\",Planning!B187)","v":""},{"$f":"IF(ISERROR(INDEX(Data!$D$91:$G$94,MATCH(AM57,Data!$C$91:$C$94,1),MATCH(AF57,Data!$D$90:$G$90,1))),\"\",INDEX(Data!$D$91:$G$94,MATCH(AM57,Data!$C$91:$C$94,1),MATCH(AF57,Data!$D$90:$G$90,1)))","v":""},{"$f":"IF(ISERROR(VLOOKUP(X57,Data!$D$184:$K$200,HLOOKUP(AN57,Data!$E$182:$K$183,2))),\"\",VLOOKUP(X57,Data!$D$184:$K$200,HLOOKUP(AN57,Data!$E$182:$K$183,2)))","v":""},{"$f":"IF(ISERROR(VLOOKUP(AO57,Data!$C$105:$D$110,2)),\"\",VLOOKUP(AO57,Data!$C$105:$D$110,2))","v":""},{"$f":"IF(ISBLANK(Planning!M81),\"\",Planning!M81)","v":""},{"$f":"IF(ISERROR(VLOOKUP(AQ57,Data!$F$105:$G$108,2,1)),\"\",VLOOKUP(AQ57,Data!$F$105:$G$108,2,1))","v":""},{"$f":"IF(ISBLANK(Planning!F187),\"\",Planning!F187)","v":""},{"$f":"IF(ISERROR(VLOOKUP(AS57,Data!$C$99:$D$101,2)),\"\",VLOOKUP(AS57,Data!$C$99:$D$101,2))","v":""},{"$f":"IF(ISBLANK(Planning!H187),\"\",Planning!H187)","v":""},{"$f":"IF(ISERROR(VLOOKUP(AU57,Data!$G$99:$H$101,2)),\"\",VLOOKUP(AU57,Data!$G$99:$H$101,2))","v":""},"","","",{"$f":"IF(AX57=0,VLOOKUP(AY57,Data!$C$116:$D$119,2),\"\")","v":""},{"$f":"IF(LEN(B57)=0,\"\",IF(ISBLANK(Planning!B240),0,Planning!B240))","v":""},{"$f":"IF(LEN(B57)=0,\"\",IF(ISBLANK(Planning!C240),0,Planning!C240))","v":""},{"$f":"IF(LEN(B57)=0,\"\",IF(ISBLANK(Planning!D240),0,Planning!D240))","v":""},{"$f":"IF(LEN(B57)=0,\"\",IF(ISBLANK(Planning!E240),0,Planning!E240))","v":""},{"$f":"IF(LEN(B57)=0,\"\",IF(ISBLANK(Planning!F240),0,Planning!F240))","v":""},{"$f":"IF(LEN(B57)=0,\"\",IF(ISBLANK(Planning!G240),0,Planning!G240))","v":""},{"$f":"IF(LEN(B57)=0,\"\",IF(ISBLANK(Planning!H240),0,Planning!H240))","v":""},{"$f":"IF(LEN(B57)=0,\"\",IF(ISBLANK(Planning!I240),0,Planning!I240))","v":""},{"$f":"IF(LEN(B57)=0,\"\",IF(ISBLANK(Planning!J240),0,Planning!J240))","v":""},"","",{"$f":"IF(AX57=0,VLOOKUP(BK57,Data!$C$116:$D$119,2),\"\")","v":""}]
[null,{"$f":"IF(ISBLANK(Planning!A188),\"\",Planning!A188)","v":""},{"$f":"IF(ISBLANK(Planning!D82),\"\",Planning!D82)","v":""},{"$f":"IF(LEN(C58)=0,\"\",IF(ISNA(VLOOKUP(C58,INDIRECT(ADDRESS(Data!$AG$67,Data!$AG$65,1,1,\"Data\")):INDIRECT(ADDRESS(Data!$AG$68,Data!$AG$66,1,1,\"Data\")),Data!$AG$74,0)),$B$10,VLOOKUP(Planning!D82,INDIRECT(ADDRESS(Data!$AG$67,Data!$AG$65,1,1,\"Data\")):INDIRECT(ADDRESS(Data!$AG$68,Data!$AG$66,1,1,\"Data\")),Data!$AG$74,0)))","v":""},{"$f":"IF(ISBLANK(Planning!I188),\"\",Planning!I188)","v":""},{"$f":"IF(ISBLANK(Planning!I188),\"\",INDEX(Planning!$A$21:$C$25,MATCH(E58,Planning!$A$21:$A$25,0),2))","v":""},{"$f":"IF(ISNA(INDEX(Planning!$A$21:$N$25,MATCH(E58,Planning!$A$21:$A$25,0),12)),\"\",INDEX(Planning!$A$21:$N$25,MATCH(E58,Planning!$A$21:$A$25,0),12))","v":""},{"$f":"IF(ISNA(INDEX(Planning!$A$21:$N$25,MATCH(E58,Planning!$A$21:$A$25,0),8)/2.29),\"\",INDEX(Planning!$A$21:$N$25,MATCH(E58,Planning!$A$21:$A$25,0),8)/2.29)","v":""},{"$f":"IF(ISBLANK(Planning!J188),\"\",Planning!J188)","v":""},"","",{"$f":"IF(ISNA(INDEX(Planning!$A$21:$N$25,MATCH(E58,Planning!$A$21:$A$25,0),14)),\"\",INDEX(Planning!$A$21:$N$25,MATCH(E58,Planning!$A$21:$A$25,0),14))","v":""},{"$f":"IF(ISERROR(VLOOKUP(L58,Data!$Q$65:$R$66,2,1)),\"\",VLOOKUP(L58,Data!$Q$65:$R$66,2,1))","v":""},"","",{"$f":"IF(LEN(B58)=0,\"\",Planning!B82*(1.3333))","v":""},"","","",{"$f":"IF(LEN(B58)=0,\"\",IF(ISBLANK(Data!$AG$69),\"\",Data!$AG$69))","v":""},{"$f":"IF(ISERROR(VLOOKUP(C58,INDIRECT(ADDRESS(Data!$AG$67,Data!$AG$65,1,1,\"Data\")):INDIRECT(ADDRESS(Data!$AG$68,Data!$AG$66,1,1,\"Data\")),Data!$AG$81,0)),\"\",VLOOKUP(C58,INDIRECT(ADDRESS(Data!$AG$67,Data!$AG$65,1,1,\"Data\")):INDIRECT(ADDRESS(Data!$AG$68,Data!$AG$66,1,1,\"Data\")),Data!$AG$81,0))","v":""},{"$f":"IF(LEN(B58)=0,\"\",IF(LEN(Data!$AG$71)=0,\"\",IF(Data!$AG$71=1,\"Yes\", \"No\")))","v":""},{"$f":"IF(ISERROR(IF(V58=\"NO\",U58,VLOOKUP(U58,Data!$AA$72:$AB$85,2,0))),\"\",IF(V58=\"NO\",U58,VLOOKUP(U58,Data!$AA$72:$AB$85,2,0)))","v":""},{"$f":"IF(ISBLANK(Planning!H82),\"\",Planning!H82)","v":""},{"$f":"IF(ISBLANK(Planning!L82),\"\",Planning!L82)","v":""},{"$f":"IF(ISERROR(INDEX(Data!$D$128:$T$146,MATCH(X58,Data!$C$128:$C$146,1),MATCH(Y58,Data!$D$127:$T$127,1))),\"\",INDEX(Data!$D$128:$T$146,MATCH(X58,Data!$C$128:$C$146,1),MATCH(Y58,Data!$D$127:$T$127,1)))","v":""},{"$f":"IF(ISBLANK(Planning!F134),\"\",Planning!F134)","v":""},{"$f":"IF(ISBLANK(Planning!H134),\"\",Planning!H134)","v":""},{"$f":"IF(ISERROR(INDEX(Data!$F$155:$K$156,VLOOKUP(AA58,Data!$C$79:$D$81,2),VLOOKUP(AB58,Data!$G$79:$H$85,2,0))),\"\",INDEX(Data!$F$155:$K$156,VLOOKUP(AA58,Data!$C$79:$D$81,2),VLOOKUP(AB58,Data!$G$79:$H$85,2,0)))","v":""},{"$f":"IF(ISBLANK(Planning!J134),\"\",Planning!J134)","v":""},{"$f":"IF(ISERROR(VLOOKUP(AD58,Data!$J$79:$K$81,2,0)),\"\",VLOOKUP(AD58,Data!$J$79:$K$81,2,0))","v":""},{"$f":"IF(ISERROR(VLOOKUP(C58,INDIRECT(ADDRESS(Data!$AG$67,Data!$AG$65,1,1,\"Data\")):INDIRECT(ADDRESS(Data!$AG$68,Data!$AG$66,1,1,\"Data\")),Data!$AG$84,0)),\"\",VLOOKUP(C58,INDIRECT(ADDRESS(Data!$AG$67,Data!$AG$65,1,1,\"Data\")):INDIRECT(ADDRESS(Data!$AG$68,Data!$AG$66,1,1,\"Data\")),Data!$AG$84,0))","v":""},{"$f":"IF(LEN(B58)=0,\"\",IF(LEN(Data!$AG$70)=0,\"\",Data!$AG$70))","v":""},{"$f":"IF(LEN(AE58)=0,\"\",IF(AE58=\"Yes\",INDIRECT(ADDRESS((ROW(Data!$M$153)+MATCH(AG58,Data!$M$154:$M$293,0)+MATCH(X58,Data!$P$154:$P$174,1)-1),(COLUMN(Data!$Q$153)+MATCH(AF58,Data!$R$153:$U$153,0)),1,1,\"Data\"),TRUE),1))","v":""},"",{"$f":"IF(ISBLANK(Planning!M134),\"\",Planning!M134)","v":""},"",{"$f":"IF(ISERROR(VLOOKUP(AK58,Data!$J$105:$K$109,2,1)),\"\",VLOOKUP(AK58,Data!$J$105:$K$109,2,1))","v":""},{"$f":"IF(ISBLANK(Planning!B188),\"\",Planning!B188)","v":""},{"$f":"IF(ISERROR(INDEX(Data!$D$91:$G$94,MATCH(AM58,Data!$C$91:$C$94,1),MATCH(AF58,Data!$D$90:$G$90,1))),\"\",INDEX(Data!$D$91:$G$94,MATCH(AM58,Data!$C$91:$C$94,1),MATCH(AF58,Data!$D$90:$G$90,1)))","v":""},{"$f":"IF(ISERROR(VLOOKUP(X58,Data!$D$184:$K$200,HLOOKUP(AN58,Data!$E$182:$K$183,2))),\"\",VLOOKUP(X58,Data!$D$184:$K$200,HLOOKUP(AN58,Data!$E$182:$K$183,2)))","v":""},{"$f":"IF(ISERROR(VLOOKUP(AO58,Data!$C$105:$D$110,2)),\"\",VLOOKUP(AO58,Data!$C$105:$D$110,2))","v":""},{"$f":"IF(ISBLANK(Planning!M82),\"\",Planning!M82)","v":""},{"$f":"IF(ISERROR(VLOOKUP(AQ58,Data!$F$105:$G$108,2,1)),\"\",VLOOKUP(AQ58,Data!$F$105:$G$108,2,1))","v":""},{"$f":"IF(ISBLANK(Planning!F188),\"\",Planning!F188)","v":""},{"$f":"IF(ISERROR(VLOOKUP(AS58,Data!$C$99:$D$101,2)),\"\",VLOOKUP(AS58,Data!$C$99:$D$101,2))","v":""},{"$f":"IF(ISBLANK(Planning!H188),\"\",Planning!H188)","v":""},{"$f":"IF(ISERROR(VLOOKUP(AU58,Data!$G$99:$H$101,2)),\"\",VLOOKUP(AU58,Data!$G$99:$H$101,2))","v":""},"","","",{"$f":"IF(AX58=0,VLOOKUP(AY58,Data!$C$116:$D$119,2),\"\")","v":""},{"$f":"IF(LEN(B58)=0,\"\",IF(ISBLANK(Planning!B241),0,Planning!B241))","v":""},{"$f":"IF(LEN(B58)=0,\"\",IF(ISBLANK(Planning!C241),0,Planning!C241))","v":""},{"$f":"IF(LEN(B58)=0,\"\",IF(ISBLANK(Planning!D241),0,Planning!D241))","v":""},{"$f":"IF(LEN(B58)=0,\"\",IF(ISBLANK(Planning!E241),0,Planning!E241))","v":""},{"$f":"IF(LEN(B58)=0,\"\",IF(ISBLANK(Planning!F241),0,Planning!F241))","v":""},{"$f":"IF(LEN(B58)=0,\"\",IF(ISBLANK(Planning!G241),0,Planning!G241))","v":""},{"$f":"IF(LEN(B58)=0,\"\",IF(ISBLANK(Planning!H241),0,Planning!H241))","v":""},{"$f":"IF(LEN(B58)=0,\"\",IF(ISBLANK(Planning!I241),0,Planning!I241))","v":""},{"$f":"IF(LEN(B58)=0,\"\",IF(ISBLANK(Planning!J241),0,Planning!J241))","v":""},"","",{"$f":"IF(AX58=0,VLOOKUP(BK58,Data!$C$116:$D$119,2),\"\")","v":""}]
[null,{"$f":"IF(ISBLANK(Planning!A189),\"\",Planning!A189)","v":""},{"$f":"IF(ISBLANK(Planning!D83),\"\",Planning!D83)","v":""},{"$f":"IF(LEN(C59)=0,\"\",IF(ISNA(VLOOKUP(C59,INDIRECT(ADDRESS(Data!$AG$67,Data!$AG$65,1,1,\"Data\")):INDIRECT(ADDRESS(Data!$AG$68,Data!$AG$66,1,1,\"Data\")),Data!$AG$74,0)),$B$10,VLOOKUP(Planning!D83,INDIRECT(ADDRESS(Data!$AG$67,Data!$AG$65,1,1,\"Data\")):INDIRECT(ADDRESS(Data!$AG$68,Data!$AG$66,1,1,\"Data\")),Data!$AG$74,0)))","v":""},{"$f":"IF(ISBLANK(Planning!I189),\"\",Planning!I189)","v":""},{"$f":"IF(ISBLANK(Planning!I189),\"\",INDEX(Planning!$A$21:$C$25,MATCH(E59,Planning!$A$21:$A$25,0),2))","v":""},{"$f":"IF(ISNA(INDEX(Planning!$A$21:$N$25,MATCH(E59,Planning!$A$21:$A$25,0),12)),\"\",INDEX(Planning!$A$21:$N$25,MATCH(E59,Planning!$A$21:$A$25,0),12))","v":""},{"$f":"IF(ISNA(INDEX(Planning!$A$21:$N$25,MATCH(E59,Planning!$A$21:$A$25,0),8)/2.29),\"\",INDEX(Planning!$A$21:$N$25,MATCH(E59,Planning!$A$21:$A$25,0),8)/2.29)","v":""},{"$f":"IF(ISBLANK(Planning!J189),\"\",Planning!J189)","v":""},"","",{"$f":"IF(ISNA(INDEX(Planning!$A$21:$N$25,MATCH(E59,Planning!$A$21:$A$25,0),14)),\"\",INDEX(Planning!$A$21:$N$25,MATCH(E59,Planning!$A$21:$A$25,0),14))","v":""},{"$f":"IF(ISERROR(VLOOKUP(L59,Data!$Q$65:$R$66,2,1)),\"\",VLOOKUP(L59,Data!$Q$65:$R$66,2,1))","v":""},"","",{"$f":"IF(LEN(B59)=0,\"\",Planning!B83*(1.3333))","v":""},"","","",{"$f":"IF(LEN(B59)=0,\"\",IF(ISBLANK(Data!$AG$69),\"\",Data!$AG$69))","v":""},{"$f":"IF(ISERROR(VLOOKUP(C59,INDIRECT(ADDRESS(Data!$AG$67,Data!$AG$65,1,1,\"Data\")):INDIRECT(ADDRESS(Data!$AG$68,Data!$AG$66,1,1,\"Data\")),Data!$AG$81,0)),\"\",VLOOKUP(C59,INDIRECT(ADDRESS(Data!$AG$67,Data!$AG$65,1,1,\"Data\")):INDIRECT(ADDRESS(Data!$AG$68,Data!$AG$66,1,1,\"Data\")),Data!$AG$81,0))","v":""},{"$f":"IF(LEN(B59)=0,\"\",IF(LEN(Data!$AG$71)=0,\"\",IF(Data!$AG$71=1,\"Yes\", \"No\")))","v":""},{"$f":"IF(ISERROR(IF(V59=\"NO\",U59,VLOOKUP(U59,Data!$AA$72:$AB$85,2,0))),\"\",IF(V59=\"NO\",U59,VLOOKUP(U59,Data!$AA$72:$AB$85,2,0)))","v":""},{"$f":"IF(ISBLANK(Planning!H83),\"\",Planning!H83)","v":""},{"$f":"IF(ISBLANK(Planning!L83),\"\",Planning!L83)","v":""},{"$f":"IF(ISERROR(INDEX(Data!$D$128:$T$146,MATCH(X59,Data!$C$128:$C$146,1),MATCH(Y59,Data!$D$127:$T$127,1))),\"\",INDEX(Data!$D$128:$T$146,MATCH(X59,Data!$C$128:$C$146,1),MATCH(Y59,Data!$D$127:$T$127,1)))","v":""},{"$f":"IF(ISBLANK(Planning!F135),\"\",Planning!F135)","v":""},{"$f":"IF(ISBLANK(Planning!H135),\"\",Planning!H135)","v":""},{"$f":"IF(ISERROR(INDEX(Data!$F$155:$K$156,VLOOKUP(AA59,Data!$C$79:$D$81,2),VLOOKUP(AB59,Data!$G$79:$H$85,2,0))),\"\",INDEX(Data!$F$155:$K$156,VLOOKUP(AA59,Data!$C$79:$D$81,2),VLOOKUP(AB59,Data!$G$79:$H$85,2,0)))","v":""},{"$f":"IF(ISBLANK(Planning!J135),\"\",Planning!J135)","v":""},{"$f":"IF(ISERROR(VLOOKUP(AD59,Data!$J$79:$K$81,2,0)),\"\",VLOOKUP(AD59,Data!$J$79:$K$81,2,0))","v":""},{"$f":"IF(ISERROR(VLOOKUP(C59,INDIRECT(ADDRESS(Data!$AG$67,Data!$AG$65,1,1,\"Data\")):INDIRECT(ADDRESS(Data!$AG$68,Data!$AG$66,1,1,\"Data\")),Data!$AG$84,0)),\"\",VLOOKUP(C59,INDIRECT(ADDRESS(Data!$AG$67,Data!$AG$65,1,1,\"Data\")):INDIRECT(ADDRESS(Data!$AG$68,Data!$AG$66,1,1,\"Data\")),Data!$AG$84,0))","v":""},{"$f":"IF(LEN(B59)=0,\"\",IF(LEN(Data!$AG$70)=0,\"\",Data!$AG$70))","v":""},{"$f":"IF(LEN(AE59)=0,\"\",IF(AE59=\"Yes\",INDIRECT(ADDRESS((ROW(Data!$M$153)+MATCH(AG59,Data!$M$154:$M$293,0)+MATCH(X59,Data!$P$154:$P$174,1)-1),(COLUMN(Data!$Q$153)+MATCH(AF59,Data!$R$153:$U$153,0)),1,1,\"Data\"),TRUE),1))","v":""},"",{"$f":"IF(ISBLANK(Planning!M135),\"\",Planning!M135)","v":""},"",{"$f":"IF(ISERROR(VLOOKUP(AK59,Data!$J$105:$K$109,2,1)),\"\",VLOOKUP(AK59,Data!$J$105:$K$109,2,1))","v":""},{"$f":"IF(ISBLANK(Planning!B189),\"\",Planning!B189)","v":""},{"$f":"IF(ISERROR(INDEX(Data!$D$91:$G$94,MATCH(AM59,Data!$C$91:$C$94,1),MATCH(AF59,Data!$D$90:$G$90,1))),\"\",INDEX(Data!$D$91:$G$94,MATCH(AM59,Data!$C$91:$C$94,1),MATCH(AF59,Data!$D$90:$G$90,1)))","v":""},{"$f":"IF(ISERROR(VLOOKUP(X59,Data!$D$184:$K$200,HLOOKUP(AN59,Data!$E$182:$K$183,2))),\"\",VLOOKUP(X59,Data!$D$184:$K$200,HLOOKUP(AN59,Data!$E$182:$K$183,2)))","v":""},{"$f":"IF(ISERROR(VLOOKUP(AO59,Data!$C$105:$D$110,2)),\"\",VLOOKUP(AO59,Data!$C$105:$D$110,2))","v":""},{"$f":"IF(ISBLANK(Planning!M83),\"\",Planning!M83)","v":""},{"$f":"IF(ISERROR(VLOOKUP(AQ59,Data!$F$105:$G$108,2,1)),\"\",VLOOKUP(AQ59,Data!$F$105:$G$108,2,1))","v":""},{"$f":"IF(ISBLANK(Planning!F189),\"\",Planning!F189)","v":""},{"$f":"IF(ISERROR(VLOOKUP(AS59,Data!$C$99:$D$101,2)),\"\",VLOOKUP(AS59,Data!$C$99:$D$101,2))","v":""},{"$f":"IF(ISBLANK(Planning!H189),\"\",Planning!H189)","v":""},{"$f":"IF(ISERROR(VLOOKUP(AU59,Data!$G$99:$H$101,2)),\"\",VLOOKUP(AU59,Data!$G$99:$H$101,2))","v":""},"","","",{"$f":"IF(AX59=0,VLOOKUP(AY59,Data!$C$116:$D$119,2),\"\")","v":""},{"$f":"IF(LEN(B59)=0,\"\",IF(ISBLANK(Planning!B242),0,Planning!B242))","v":""},{"$f":"IF(LEN(B59)=0,\"\",IF(ISBLANK(Planning!C242),0,Planning!C242))","v":""},{"$f":"IF(LEN(B59)=0,\"\",IF(ISBLANK(Planning!D242),0,Planning!D242))","v":""},{"$f":"IF(LEN(B59)=0,\"\",IF(ISBLANK(Planning!E242),0,Planning!E242))","v":""},{"$f":"IF(LEN(B59)=0,\"\",IF(ISBLANK(Planning!F242),0,Planning!F242))","v":""},{"$f":"IF(LEN(B59)=0,\"\",IF(ISBLANK(Planning!G242),0,Planning!G242))","v":""},{"$f":"IF(LEN(B59)=0,\"\",IF(ISBLANK(Planning!H242),0,Planning!H242))","v":""},{"$f":"IF(LEN(B59)=0,\"\",IF(ISBLANK(Planning!I242),0,Planning!I242))","v":""},{"$f":"IF(LEN(B59)=0,\"\",IF(ISBLANK(Planning!J242),0,Planning!J242))","v":""},"","",{"$f":"IF(AX59=0,VLOOKUP(BK59,Data!$C$116:$D$119,2),\"\")","v":""}]
[null,{"$f":"IF(ISBLANK(Planning!A190),\"\",Planning!A190)","v":""},{"$f":"IF(ISBLANK(Planning!D84),\"\",Planning!D84)","v":""},{"$f":"IF(LEN(C60)=0,\"\",IF(ISNA(VLOOKUP(C60,INDIRECT(ADDRESS(Data!$AG$67,Data!$AG$65,1,1,\"Data\")):INDIRECT(ADDRESS(Data!$AG$68,Data!$AG$66,1,1,\"Data\")),Data!$AG$74,0)),$B$10,VLOOKUP(Planning!D84,INDIRECT(ADDRESS(Data!$AG$67,Data!$AG$65,1,1,\"Data\")):INDIRECT(ADDRESS(Data!$AG$68,Data!$AG$66,1,1,\"Data\")),Data!$AG$74,0)))","v":""},{"$f":"IF(ISBLANK(Planning!I190),\"\",Planning!I190)","v":""},{"$f":"IF(ISBLANK(Planning!I190),\"\",INDEX(Planning!$A$21:$C$25,MATCH(E60,Planning!$A$21:$A$25,0),2))","v":""},{"$f":"IF(ISNA(INDEX(Planning!$A$21:$N$25,MATCH(E60,Planning!$A$21:$A$25,0),12)),\"\",INDEX(Planning!$A$21:$N$25,MATCH(E60,Planning!$A$21:$A$25,0),12))","v":""},{"$f":"IF(ISNA(INDEX(Planning!$A$21:$N$25,MATCH(E60,Planning!$A$21:$A$25,0),8)/2.29),\"\",INDEX(Planning!$A$21:$N$25,MATCH(E60,Planning!$A$21:$A$25,0),8)/2.29)","v":""},{"$f":"IF(ISBLANK(Planning!J190),\"\",Planning!J190)","v":""},"","",{"$f":"IF(ISNA(INDEX(Planning!$A$21:$N$25,MATCH(E60,Planning!$A$21:$A$25,0),14)),\"\",INDEX(Planning!$A$21:$N$25,MATCH(E60,Planning!$A$21:$A$25,0),14))","v":""},{"$f":"IF(ISERROR(VLOOKUP(L60,Data!$Q$65:$R$66,2,1)),\"\",VLOOKUP(L60,Data!$Q$65:$R$66,2,1))","v":""},"","",{"$f":"IF(LEN(B60)=0,\"\",Planning!B84*(1.3333))","v":""},"","","",{"$f":"IF(LEN(B60)=0,\"\",IF(ISBLANK(Data!$AG$69),\"\",Data!$AG$69))","v":""},{"$f":"IF(ISERROR(VLOOKUP(C60,INDIRECT(ADDRESS(Data!$AG$67,Data!$AG$65,1,1,\"Data\")):INDIRECT(ADDRESS(Data!$AG$68,Data!$AG$66,1,1,\"Data\")),Data!$AG$81,0)),\"\",VLOOKUP(C60,INDIRECT(ADDRESS(Data!$AG$67,Data!$AG$65,1,1,\"Data\")):INDIRECT(ADDRESS(Data!$AG$68,Data!$AG$66,1,1,\"Data\")),Data!$AG$81,0))","v":""},{"$f":"IF(LEN(B60)=0,\"\",IF(LEN(Data!$AG$71)=0,\"\",IF(Data!$AG$71=1,\"Yes\", \"No\")))","v":""},{"$f":"IF(ISERROR(IF(V60=\"NO\",U60,VLOOKUP(U60,Data!$AA$72:$AB$85,2,0))),\"\",IF(V60=\"NO\",U60,VLOOKUP(U60,Data!$AA$72:$AB$85,2,0)))","v":""},{"$f":"IF(ISBLANK(Planning!H84),\"\",Planning!H84)","v":""},{"$f":"IF(ISBLANK(Planning!L84),\"\",Planning!L84)","v":""},{"$f":"IF(ISERROR(INDEX(Data!$D$128:$T$146,MATCH(X60,Data!$C$128:$C$146,1),MATCH(Y60,Data!$D$127:$T$127,1))),\"\",INDEX(Data!$D$128:$T$146,MATCH(X60,Data!$C$128:$C$146,1),MATCH(Y60,Data!$D$127:$T$127,1)))","v":""},{"$f":"IF(ISBLANK(Planning!F136),\"\",Planning!F136)","v":""},{"$f":"IF(ISBLANK(Planning!H136),\"\",Planning!H136)","v":""},{"$f":"IF(ISERROR(INDEX(Data!$F$155:$K$156,VLOOKUP(AA60,Data!$C$79:$D$81,2),VLOOKUP(AB60,Data!$G$79:$H$85,2,0))),\"\",INDEX(Data!$F$155:$K$156,VLOOKUP(AA60,Data!$C$79:$D$81,2),VLOOKUP(AB60,Data!$G$79:$H$85,2,0)))","v":""},{"$f":"IF(ISBLANK(Planning!J136),\"\",Planning!J136)","v":""},{"$f":"IF(ISERROR(VLOOKUP(AD60,Data!$J$79:$K$81,2,0)),\"\",VLOOKUP(AD60,Data!$J$79:$K$81,2,0))","v":""},{"$f":"IF(ISERROR(VLOOKUP(C60,INDIRECT(ADDRESS(Data!$AG$67,Data!$AG$65,1,1,\"Data\")):INDIRECT(ADDRESS(Data!$AG$68,Data!$AG$66,1,1,\"Data\")),Data!$AG$84,0)),\"\",VLOOKUP(C60,INDIRECT(ADDRESS(Data!$AG$67,Data!$AG$65,1,1,\"Data\")):INDIRECT(ADDRESS(Data!$AG$68,Data!$AG$66,1,1,\"Data\")),Data!$AG$84,0))","v":""},{"$f":"IF(LEN(B60)=0,\"\",IF(LEN(Data!$AG$70)=0,\"\",Data!$AG$70))","v":""},{"$f":"IF(LEN(AE60)=0,\"\",IF(AE60=\"Yes\",INDIRECT(ADDRESS((ROW(Data!$M$153)+MATCH(AG60,Data!$M$154:$M$293,0)+MATCH(X60,Data!$P$154:$P$174,1)-1),(COLUMN(Data!$Q$153)+MATCH(AF60,Data!$R$153:$U$153,0)),1,1,\"Data\"),TRUE),1))","v":""},"",{"$f":"IF(ISBLANK(Planning!M136),\"\",Planning!M136)","v":""},"",{"$f":"IF(ISERROR(VLOOKUP(AK60,Data!$J$105:$K$109,2,1)),\"\",VLOOKUP(AK60,Data!$J$105:$K$109,2,1))","v":""},{"$f":"IF(ISBLANK(Planning!B190),\"\",Planning!B190)","v":""},{"$f":"IF(ISERROR(INDEX(Data!$D$91:$G$94,MATCH(AM60,Data!$C$91:$C$94,1),MATCH(AF60,Data!$D$90:$G$90,1))),\"\",INDEX(Data!$D$91:$G$94,MATCH(AM60,Data!$C$91:$C$94,1),MATCH(AF60,Data!$D$90:$G$90,1)))","v":""},{"$f":"IF(ISERROR(VLOOKUP(X60,Data!$D$184:$K$200,HLOOKUP(AN60,Data!$E$182:$K$183,2))),\"\",VLOOKUP(X60,Data!$D$184:$K$200,HLOOKUP(AN60,Data!$E$182:$K$183,2)))","v":""},{"$f":"IF(ISERROR(VLOOKUP(AO60,Data!$C$105:$D$110,2)),\"\",VLOOKUP(AO60,Data!$C$105:$D$110,2))","v":""},{"$f":"IF(ISBLANK(Planning!M84),\"\",Planning!M84)","v":""},{"$f":"IF(ISERROR(VLOOKUP(AQ60,Data!$F$105:$G$108,2,1)),\"\",VLOOKUP(AQ60,Data!$F$105:$G$108,2,1))","v":""},{"$f":"IF(ISBLANK(Planning!F190),\"\",Planning!F190)","v":""},{"$f":"IF(ISERROR(VLOOKUP(AS60,Data!$C$99:$D$101,2)),\"\",VLOOKUP(AS60,Data!$C$99:$D$101,2))","v":""},{"$f":"IF(ISBLANK(Planning!H190),\"\",Planning!H190)","v":""},{"$f":"IF(ISERROR(VLOOKUP(AU60,Data!$G$99:$H$101,2)),\"\",VLOOKUP(AU60,Data!$G$99:$H$101,2))","v":""},"","","",{"$f":"IF(AX60=0,VLOOKUP(AY60,Data!$C$116:$D$119,2),\"\")","v":""},{"$f":"IF(LEN(B60)=0,\"\",IF(ISBLANK(Planning!B243),0,Planning!B243))","v":""},{"$f":"IF(LEN(B60)=0,\"\",IF(ISBLANK(Planning!C243),0,Planning!C243))","v":""},{"$f":"IF(LEN(B60)=0,\"\",IF(ISBLANK(Planning!D243),0,Planning!D243))","v":""},{"$f":"IF(LEN(B60)=0,\"\",IF(ISBLANK(Planning!E243),0,Planning!E243))","v":""},{"$f":"IF(LEN(B60)=0,\"\",IF(ISBLANK(Planning!F243),0,Planning!F243))","v":""},{"$f":"IF(LEN(B60)=0,\"\",IF(ISBLANK(Planning!G243),0,Planning!G243))","v":""},{"$f":"IF(LEN(B60)=0,\"\",IF(ISBLANK(Planning!H243),0,Planning!H243))","v":""},{"$f":"IF(LEN(B60)=0,\"\",IF(ISBLANK(Planning!I243),0,Planning!I243))","v":""},{"$f":"IF(LEN(B60)=0,\"\",IF(ISBLANK(Planning!J243),0,Planning!J243))","v":""},"","",{"$f":"IF(AX60=0,VLOOKUP(BK60,Data!$C$116:$D$119,2),\"\")","v":""}]
[null,{"$f":"IF(ISBLANK(Planning!A191),\"\",Planning!A191)","v":""},{"$f":"IF(ISBLANK(Planning!D85),\"\",Planning!D85)","v":""},{"$f":"IF(LEN(C61)=0,\"\",IF(ISNA(VLOOKUP(C61,INDIRECT(ADDRESS(Data!$AG$67,Data!$AG$65,1,1,\"Data\")):INDIRECT(ADDRESS(Data!$AG$68,Data!$AG$66,1,1,\"Data\")),Data!$AG$74,0)),$B$10,VLOOKUP(Planning!D85,INDIRECT(ADDRESS(Data!$AG$67,Data!$AG$65,1,1,\"Data\")):INDIRECT(ADDRESS(Data!$AG$68,Data!$AG$66,1,1,\"Data\")),Data!$AG$74,0)))","v":""},{"$f":"IF(ISBLANK(Planning!I191),\"\",Planning!I191)","v":""},{"$f":"IF(ISBLANK(Planning!I191),\"\",INDEX(Planning!$A$21:$C$25,MATCH(E61,Planning!$A$21:$A$25,0),2))","v":""},{"$f":"IF(ISNA(INDEX(Planning!$A$21:$N$25,MATCH(E61,Planning!$A$21:$A$25,0),12)),\"\",INDEX(Planning!$A$21:$N$25,MATCH(E61,Planning!$A$21:$A$25,0),12))","v":""},{"$f":"IF(ISNA(INDEX(Planning!$A$21:$N$25,MATCH(E61,Planning!$A$21:$A$25,0),8)/2.29),\"\",INDEX(Planning!$A$21:$N$25,MATCH(E61,Planning!$A$21:$A$25,0),8)/2.29)","v":""},{"$f":"IF(ISBLANK(Planning!J191),\"\",Planning!J191)","v":""},"","",{"$f":"IF(ISNA(INDEX(Planning!$A$21:$N$25,MATCH(E61,Planning!$A$21:$A$25,0),14)),\"\",INDEX(Planning!$A$21:$N$25,MATCH(E61,Planning!$A$21:$A$25,0),14))","v":""},{"$f":"IF(ISERROR(VLOOKUP(L61,Data!$Q$65:$R$66,2,1)),\"\",VLOOKUP(L61,Data!$Q$65:$R$66,2,1))","v":""},"","",{"$f":"IF(LEN(B61)=0,\"\",Planning!B85*(1.3333))","v":""},"","","",{"$f":"IF(LEN(B61)=0,\"\",IF(ISBLANK(Data!$AG$69),\"\",Data!$AG$69))","v":""},{"$f":"IF(ISERROR(VLOOKUP(C61,INDIRECT(ADDRESS(Data!$AG$67,Data!$AG$65,1,1,\"Data\")):INDIRECT(ADDRESS(Data!$AG$68,Data!$AG$66,1,1,\"Data\")),Data!$AG$81,0)),\"\",VLOOKUP(C61,INDIRECT(ADDRESS(Data!$AG$67,Data!$AG$65,1,1,\"Data\")):INDIRECT(ADDRESS(Data!$AG$68,Data!$AG$66,1,1,\"Data\")),Data!$AG$81,0))","v":""},{"$f":"IF(LEN(B61)=0,\"\",IF(LEN(Data!$AG$71)=0,\"\",IF(Data!$AG$71=1,\"Yes\", \"No\")))","v":""},{"$f":"IF(ISERROR(IF(V61=\"NO\",U61,VLOOKUP(U61,Data!$AA$72:$AB$85,2,0))),\"\",IF(V61=\"NO\",U61,VLOOKUP(U61,Data!$AA$72:$AB$85,2,0)))","v":""},{"$f":"IF(ISBLANK(Planning!H85),\"\",Planning!H85)","v":""},{"$f":"IF(ISBLANK(Planning!L85),\"\",Planning!L85)","v":""},{"$f":"IF(ISERROR(INDEX(Data!$D$128:$T$146,MATCH(X61,Data!$C$128:$C$146,1),MATCH(Y61,Data!$D$127:$T$127,1))),\"\",INDEX(Data!$D$128:$T$146,MATCH(X61,Data!$C$128:$C$146,1),MATCH(Y61,Data!$D$127:$T$127,1)))","v":""},{"$f":"IF(ISBLANK(Planning!F137),\"\",Planning!F137)","v":""},{"$f":"IF(ISBLANK(Planning!H137),\"\",Planning!H137)","v":""},{"$f":"IF(ISERROR(INDEX(Data!$F$155:$K$156,VLOOKUP(AA61,Data!$C$79:$D$81,2),VLOOKUP(AB61,Data!$G$79:$H$85,2,0))),\"\",INDEX(Data!$F$155:$K$156,VLOOKUP(AA61,Data!$C$79:$D$81,2),VLOOKUP(AB61,Data!$G$79:$H$85,2,0)))","v":""},{"$f":"IF(ISBLANK(Planning!J137),\"\",Planning!J137)","v":""},{"$f":"IF(ISERROR(VLOOKUP(AD61,Data!$J$79:$K$81,2,0)),\"\",VLOOKUP(AD61,Data!$J$79:$K$81,2,0))","v":""},{"$f":"IF(ISERROR(VLOOKUP(C61,INDIRECT(ADDRESS(Data!$AG$67,Data!$AG$65,1,1,\"Data\")):INDIRECT(ADDRESS(Data!$AG$68,Data!$AG$66,1,1,\"Data\")),Data!$AG$84,0)),\"\",VLOOKUP(C61,INDIRECT(ADDRESS(Data!$AG$67,Data!$AG$65,1,1,\"Data\")):INDIRECT(ADDRESS(Data!$AG$68,Data!$AG$66,1,1,\"Data\")),Data!$AG$84,0))","v":""},{"$f":"IF(LEN(B61)=0,\"\",IF(LEN(Data!$AG$70)=0,\"\",Data!$AG$70))","v":""},{"$f":"IF(LEN(AE61)=0,\"\",IF(AE61=\"Yes\",INDIRECT(ADDRESS((ROW(Data!$M$153)+MATCH(AG61,Data!$M$154:$M$293,0)+MATCH(X61,Data!$P$154:$P$174,1)-1),(COLUMN(Data!$Q$153)+MATCH(AF61,Data!$R$153:$U$153,0)),1,1,\"Data\"),TRUE),1))","v":""},"",{"$f":"IF(ISBLANK(Planning!M137),\"\",Planning!M137)","v":""},"",{"$f":"IF(ISERROR(VLOOKUP(AK61,Data!$J$105:$K$109,2,1)),\"\",VLOOKUP(AK61,Data!$J$105:$K$109,2,1))","v":""},{"$f":"IF(ISBLANK(Planning!B191),\"\",Planning!B191)","v":""},{"$f":"IF(ISERROR(INDEX(Data!$D$91:$G$94,MATCH(AM61,Data!$C$91:$C$94,1),MATCH(AF61,Data!$D$90:$G$90,1))),\"\",INDEX(Data!$D$91:$G$94,MATCH(AM61,Data!$C$91:$C$94,1),MATCH(AF61,Data!$D$90:$G$90,1)))","v":""},{"$f":"IF(ISERROR(VLOOKUP(X61,Data!$D$184:$K$200,HLOOKUP(AN61,Data!$E$182:$K$183,2))),\"\",VLOOKUP(X61,Data!$D$184:$K$200,HLOOKUP(AN61,Data!$E$182:$K$183,2)))","v":""},{"$f":"IF(ISERROR(VLOOKUP(AO61,Data!$C$105:$D$110,2)),\"\",VLOOKUP(AO61,Data!$C$105:$D$110,2))","v":""},{"$f":"IF(ISBLANK(Planning!M85),\"\",Planning!M85)","v":""},{"$f":"IF(ISERROR(VLOOKUP(AQ61,Data!$F$105:$G$108,2,1)),\"\",VLOOKUP(AQ61,Data!$F$105:$G$108,2,1))","v":""},{"$f":"IF(ISBLANK(Planning!F191),\"\",Planning!F191)","v":""},{"$f":"IF(ISERROR(VLOOKUP(AS61,Data!$C$99:$D$101,2)),\"\",VLOOKUP(AS61,Data!$C$99:$D$101,2))","v":""},{"$f":"IF(ISBLANK(Planning!H191),\"\",Planning!H191)","v":""},{"$f":"IF(ISERROR(VLOOKUP(AU61,Data!$G$99:$H$101,2)),\"\",VLOOKUP(AU61,Data!$G$99:$H$101,2))","v":""},"","","",{"$f":"IF(AX61=0,VLOOKUP(AY61,Data!$C$116:$D$119,2),\"\")","v":""},{"$f":"IF(LEN(B61)=0,\"\",IF(ISBLANK(Planning!B244),0,Planning!B244))","v":""},{"$f":"IF(LEN(B61)=0,\"\",IF(ISBLANK(Planning!C244),0,Planning!C244))","v":""},{"$f":"IF(LEN(B61)=0,\"\",IF(ISBLANK(Planning!D244),0,Planning!D244))","v":""},{"$f":"IF(LEN(B61)=0,\"\",IF(ISBLANK(Planning!E244),0,Planning!E244))","v":""},{"$f":"IF(LEN(B61)=0,\"\",IF(ISBLANK(Planning!F244),0,Planning!F244))","v":""},{"$f":"IF(LEN(B61)=0,\"\",IF(ISBLANK(Planning!G244),0,Planning!G244))","v":""},{"$f":"IF(LEN(B61)=0,\"\",IF(ISBLANK(Planning!H244),0,Planning!H244))","v":""},{"$f":"IF(LEN(B61)=0,\"\",IF(ISBLANK(Planning!I244),0,Planning!I244))","v":""},{"$f":"IF(LEN(B61)=0,\"\",IF(ISBLANK(Planning!J244),0,Planning!J244))","v":""},"","",{"$f":"IF(AX61=0,VLOOKUP(BK61,Data!$C$116:$D$119,2),\"\")","v":""}]
[null,{"$f":"IF(ISBLANK(Planning!A192),\"\",Planning!A192)","v":""},{"$f":"IF(ISBLANK(Planning!D86),\"\",Planning!D86)","v":""},{"$f":"IF(LEN(C62)=0,\"\",IF(ISNA(VLOOKUP(C62,INDIRECT(ADDRESS(Data!$AG$67,Data!$AG$65,1,1,\"Data\")):INDIRECT(ADDRESS(Data!$AG$68,Data!$AG$66,1,1,\"Data\")),Data!$AG$74,0)),$B$10,VLOOKUP(Planning!D86,INDIRECT(ADDRESS(Data!$AG$67,Data!$AG$65,1,1,\"Data\")):INDIRECT(ADDRESS(Data!$AG$68,Data!$AG$66,1,1,\"Data\")),Data!$AG$74,0)))","v":""},{"$f":"IF(ISBLANK(Planning!I192),\"\",Planning!I192)","v":""},{"$f":"IF(ISBLANK(Planning!I192),\"\",INDEX(Planning!$A$21:$C$25,MATCH(E62,Planning!$A$21:$A$25,0),2))","v":""},{"$f":"IF(ISNA(INDEX(Planning!$A$21:$N$25,MATCH(E62,Planning!$A$21:$A$25,0),12)),\"\",INDEX(Planning!$A$21:$N$25,MATCH(E62,Planning!$A$21:$A$25,0),12))","v":""},{"$f":"IF(ISNA(INDEX(Planning!$A$21:$N$25,MATCH(E62,Planning!$A$21:$A$25,0),8)/2.29),\"\",INDEX(Planning!$A$21:$N$25,MATCH(E62,Planning!$A$21:$A$25,0),8)/2.29)","v":""},{"$f":"IF(ISBLANK(Planning!J192),\"\",Planning!J192)","v":""},"","",{"$f":"IF(ISNA(INDEX(Planning!$A$21:$N$25,MATCH(E62,Planning!$A$21:$A$25,0),14)),\"\",INDEX(Planning!$A$21:$N$25,MATCH(E62,Planning!$A$21:$A$25,0),14))","v":""},{"$f":"IF(ISERROR(VLOOKUP(L62,Data!$Q$65:$R$66,2,1)),\"\",VLOOKUP(L62,Data!$Q$65:$R$66,2,1))","v":""},"","",{"$f":"IF(LEN(B62)=0,\"\",Planning!B86*(1.3333))","v":""},"","","",{"$f":"IF(LEN(B62)=0,\"\",IF(ISBLANK(Data!$AG$69),\"\",Data!$AG$69))","v":""},{"$f":"IF(ISERROR(VLOOKUP(C62,INDIRECT(ADDRESS(Data!$AG$67,Data!$AG$65,1,1,\"Data\")):INDIRECT(ADDRESS(Data!$AG$68,Data!$AG$66,1,1,\"Data\")),Data!$AG$81,0)),\"\",VLOOKUP(C62,INDIRECT(ADDRESS(Data!$AG$67,Data!$AG$65,1,1,\"Data\")):INDIRECT(ADDRESS(Data!$AG$68,Data!$AG$66,1,1,\"Data\")),Data!$AG$81,0))","v":""},{"$f":"IF(LEN(B62)=0,\"\",IF(LEN(Data!$AG$71)=0,\"\",IF(Data!$AG$71=1,\"Yes\", \"No\")))","v":""},{"$f":"IF(ISERROR(IF(V62=\"NO\",U62,VLOOKUP(U62,Data!$AA$72:$AB$85,2,0))),\"\",IF(V62=\"NO\",U62,VLOOKUP(U62,Data!$AA$72:$AB$85,2,0)))","v":""},{"$f":"IF(ISBLANK(Planning!H86),\"\",Planning!H86)","v":""},{"$f":"IF(ISBLANK(Planning!L86),\"\",Planning!L86)","v":""},{"$f":"IF(ISERROR(INDEX(Data!$D$128:$T$146,MATCH(X62,Data!$C$128:$C$146,1),MATCH(Y62,Data!$D$127:$T$127,1))),\"\",INDEX(Data!$D$128:$T$146,MATCH(X62,Data!$C$128:$C$146,1),MATCH(Y62,Data!$D$127:$T$127,1)))","v":""},{"$f":"IF(ISBLANK(Planning!F138),\"\",Planning!F138)","v":""},{"$f":"IF(ISBLANK(Planning!H138),\"\",Planning!H138)","v":""},{"$f":"IF(ISERROR(INDEX(Data!$F$155:$K$156,VLOOKUP(AA62,Data!$C$79:$D$81,2),VLOOKUP(AB62,Data!$G$79:$H$85,2,0))),\"\",INDEX(Data!$F$155:$K$156,VLOOKUP(AA62,Data!$C$79:$D$81,2),VLOOKUP(AB62,Data!$G$79:$H$85,2,0)))","v":""},{"$f":"IF(ISBLANK(Planning!J138),\"\",Planning!J138)","v":""},{"$f":"IF(ISERROR(VLOOKUP(AD62,Data!$J$79:$K$81,2,0)),\"\",VLOOKUP(AD62,Data!$J$79:$K$81,2,0))","v":""},{"$f":"IF(ISERROR(VLOOKUP(C62,INDIRECT(ADDRESS(Data!$AG$67,Data!$AG$65,1,1,\"Data\")):INDIRECT(ADDRESS(Data!$AG$68,Data!$AG$66,1,1,\"Data\")),Data!$AG$84,0)),\"\",VLOOKUP(C62,INDIRECT(ADDRESS(Data!$AG$67,Data!$AG$65,1,1,\"Data\")):INDIRECT(ADDRESS(Data!$AG$68,Data!$AG$66,1,1,\"Data\")),Data!$AG$84,0))","v":""},{"$f":"IF(LEN(B62)=0,\"\",IF(LEN(Data!$AG$70)=0,\"\",Data!$AG$70))","v":""},{"$f":"IF(LEN(AE62)=0,\"\",IF(AE62=\"Yes\",INDIRECT(ADDRESS((ROW(Data!$M$153)+MATCH(AG62,Data!$M$154:$M$293,0)+MATCH(X62,Data!$P$154:$P$174,1)-1),(COLUMN(Data!$Q$153)+MATCH(AF62,Data!$R$153:$U$153,0)),1,1,\"Data\"),TRUE),1))","v":""},"",{"$f":"IF(ISBLANK(Planning!M138),\"\",Planning!M138)","v":""},"",{"$f":"IF(ISERROR(VLOOKUP(AK62,Data!$J$105:$K$109,2,1)),\"\",VLOOKUP(AK62,Data!$J$105:$K$109,2,1))","v":""},{"$f":"IF(ISBLANK(Planning!B192),\"\",Planning!B192)","v":""},{"$f":"IF(ISERROR(INDEX(Data!$D$91:$G$94,MATCH(AM62,Data!$C$91:$C$94,1),MATCH(AF62,Data!$D$90:$G$90,1))),\"\",INDEX(Data!$D$91:$G$94,MATCH(AM62,Data!$C$91:$C$94,1),MATCH(AF62,Data!$D$90:$G$90,1)))","v":""},{"$f":"IF(ISERROR(VLOOKUP(X62,Data!$D$184:$K$200,HLOOKUP(AN62,Data!$E$182:$K$183,2))),\"\",VLOOKUP(X62,Data!$D$184:$K$200,HLOOKUP(AN62,Data!$E$182:$K$183,2)))","v":""},{"$f":"IF(ISERROR(VLOOKUP(AO62,Data!$C$105:$D$110,2)),\"\",VLOOKUP(AO62,Data!$C$105:$D$110,2))","v":""},{"$f":"IF(ISBLANK(Planning!M86),\"\",Planning!M86)","v":""},{"$f":"IF(ISERROR(VLOOKUP(AQ62,Data!$F$105:$G$108,2,1)),\"\",VLOOKUP(AQ62,Data!$F$105:$G$108,2,1))","v":""},{"$f":"IF(ISBLANK(Planning!F192),\"\",Planning!F192)","v":""},{"$f":"IF(ISERROR(VLOOKUP(AS62,Data!$C$99:$D$101,2)),\"\",VLOOKUP(AS62,Data!$C$99:$D$101,2))","v":""},{"$f":"IF(ISBLANK(Planning!H192),\"\",Planning!H192)","v":""},{"$f":"IF(ISERROR(VLOOKUP(AU62,Data!$G$99:$H$101,2)),\"\",VLOOKUP(AU62,Data!$G$99:$H$101,2))","v":""},"","","",{"$f":"IF(AX62=0,VLOOKUP(AY62,Data!$C$116:$D$119,2),\"\")","v":""},{"$f":"IF(LEN(B62)=0,\"\",IF(ISBLANK(Planning!B245),0,Planning!B245))","v":""},{"$f":"IF(LEN(B62)=0,\"\",IF(ISBLANK(Planning!C245),0,Planning!C245))","v":""},{"$f":"IF(LEN(B62)=0,\"\",IF(ISBLANK(Planning!D245),0,Planning!D245))","v":""},{"$f":"IF(LEN(B62)=0,\"\",IF(ISBLANK(Planning!E245),0,Planning!E245))","v":""},{"$f":"IF(LEN(B62)=0,\"\",IF(ISBLANK(Planning!F245),0,Planning!F245))","v":""},{"$f":"IF(LEN(B62)=0,\"\",IF(ISBLANK(Planning!G245),0,Planning!G245))","v":""},{"$f":"IF(LEN(B62)=0,\"\",IF(ISBLANK(Planning!H245),0,Planning!H245))","v":""},{"$f":"IF(LEN(B62)=0,\"\",IF(ISBLANK(Planning!I245),0,Planning!I245))","v":""},{"$f":"IF(LEN(B62)=0,\"\",IF(ISBLANK(Planning!J245),0,Planning!J245))","v":""},"","",{"$f":"IF(AX62=0,VLOOKUP(BK62,Data!$C$116:$D$119,2),\"\")","v":""}]
[null,{"$f":"IF(ISBLANK(Planning!A193),\"\",Planning!A193)","v":""},{"$f":"IF(ISBLANK(Planning!D87),\"\",Planning!D87)","v":""},{"$f":"IF(LEN(C63)=0,\"\",IF(ISNA(VLOOKUP(C63,INDIRECT(ADDRESS(Data!$AG$67,Data!$AG$65,1,1,\"Data\")):INDIRECT(ADDRESS(Data!$AG$68,Data!$AG$66,1,1,\"Data\")),Data!$AG$74,0)),$B$10,VLOOKUP(Planning!D87,INDIRECT(ADDRESS(Data!$AG$67,Data!$AG$65,1,1,\"Data\")):INDIRECT(ADDRESS(Data!$AG$68,Data!$AG$66,1,1,\"Data\")),Data!$AG$74,0)))","v":""},{"$f":"IF(ISBLANK(Planning!I193),\"\",Planning!I193)","v":""},{"$f":"IF(ISBLANK(Planning!I193),\"\",INDEX(Planning!$A$21:$C$25,MATCH(E63,Planning!$A$21:$A$25,0),2))","v":""},{"$f":"IF(ISNA(INDEX(Planning!$A$21:$N$25,MATCH(E63,Planning!$A$21:$A$25,0),12)),\"\",INDEX(Planning!$A$21:$N$25,MATCH(E63,Planning!$A$21:$A$25,0),12))","v":""},{"$f":"IF(ISNA(INDEX(Planning!$A$21:$N$25,MATCH(E63,Planning!$A$21:$A$25,0),8)/2.29),\"\",INDEX(Planning!$A$21:$N$25,MATCH(E63,Planning!$A$21:$A$25,0),8)/2.29)","v":""},{"$f":"IF(ISBLANK(Planning!J193),\"\",Planning!J193)","v":""},"","",{"$f":"IF(ISNA(INDEX(Planning!$A$21:$N$25,MATCH(E63,Planning!$A$21:$A$25,0),14)),\"\",INDEX(Planning!$A$21:$N$25,MATCH(E63,Planning!$A$21:$A$25,0),14))","v":""},{"$f":"IF(ISERROR(VLOOKUP(L63,Data!$Q$65:$R$66,2,1)),\"\",VLOOKUP(L63,Data!$Q$65:$R$66,2,1))","v":""},"","",{"$f":"IF(LEN(B63)=0,\"\",Planning!B87*(1.3333))","v":""},"","","",{"$f":"IF(LEN(B63)=0,\"\",IF(ISBLANK(Data!$AG$69),\"\",Data!$AG$69))","v":""},{"$f":"IF(ISERROR(VLOOKUP(C63,INDIRECT(ADDRESS(Data!$AG$67,Data!$AG$65,1,1,\"Data\")):INDIRECT(ADDRESS(Data!$AG$68,Data!$AG$66,1,1,\"Data\")),Data!$AG$81,0)),\"\",VLOOKUP(C63,INDIRECT(ADDRESS(Data!$AG$67,Data!$AG$65,1,1,\"Data\")):INDIRECT(ADDRESS(Data!$AG$68,Data!$AG$66,1,1,\"Data\")),Data!$AG$81,0))","v":""},{"$f":"IF(LEN(B63)=0,\"\",IF(LEN(Data!$AG$71)=0,\"\",IF(Data!$AG$71=1,\"Yes\", \"No\")))","v":""},{"$f":"IF(ISERROR(IF(V63=\"NO\",U63,VLOOKUP(U63,Data!$AA$72:$AB$85,2,0))),\"\",IF(V63=\"NO\",U63,VLOOKUP(U63,Data!$AA$72:$AB$85,2,0)))","v":""},{"$f":"IF(ISBLANK(Planning!H87),\"\",Planning!H87)","v":""},{"$f":"IF(ISBLANK(Planning!L87),\"\",Planning!L87)","v":""},{"$f":"IF(ISERROR(INDEX(Data!$D$128:$T$146,MATCH(X63,Data!$C$128:$C$146,1),MATCH(Y63,Data!$D$127:$T$127,1))),\"\",INDEX(Data!$D$128:$T$146,MATCH(X63,Data!$C$128:$C$146,1),MATCH(Y63,Data!$D$127:$T$127,1)))","v":""},{"$f":"IF(ISBLANK(Planning!F139),\"\",Planning!F139)","v":""},{"$f":"IF(ISBLANK(Planning!H139),\"\",Planning!H139)","v":""},{"$f":"IF(ISERROR(INDEX(Data!$F$155:$K$156,VLOOKUP(AA63,Data!$C$79:$D$81,2),VLOOKUP(AB63,Data!$G$79:$H$85,2,0))),\"\",INDEX(Data!$F$155:$K$156,VLOOKUP(AA63,Data!$C$79:$D$81,2),VLOOKUP(AB63,Data!$G$79:$H$85,2,0)))","v":""},{"$f":"IF(ISBLANK(Planning!J139),\"\",Planning!J139)","v":""},{"$f":"IF(ISERROR(VLOOKUP(AD63,Data!$J$79:$K$81,2,0)),\"\",VLOOKUP(AD63,Data!$J$79:$K$81,2,0))","v":""},{"$f":"IF(ISERROR(VLOOKUP(C63,INDIRECT(ADDRESS(Data!$AG$67,Data!$AG$65,1,1,\"Data\")):INDIRECT(ADDRESS(Data!$AG$68,Data!$AG$66,1,1,\"Data\")),Data!$AG$84,0)),\"\",VLOOKUP(C63,INDIRECT(ADDRESS(Data!$AG$67,Data!$AG$65,1,1,\"Data\")):INDIRECT(ADDRESS(Data!$AG$68,Data!$AG$66,1,1,\"Data\")),Data!$AG$84,0))","v":""},{"$f":"IF(LEN(B63)=0,\"\",IF(LEN(Data!$AG$70)=0,\"\",Data!$AG$70))","v":""},{"$f":"IF(LEN(AE63)=0,\"\",IF(AE63=\"Yes\",INDIRECT(ADDRESS((ROW(Data!$M$153)+MATCH(AG63,Data!$M$154:$M$293,0)+MATCH(X63,Data!$P$154:$P$174,1)-1),(COLUMN(Data!$Q$153)+MATCH(AF63,Data!$R$153:$U$153,0)),1,1,\"Data\"),TRUE),1))","v":""},"",{"$f":"IF(ISBLANK(Planning!M139),\"\",Planning!M139)","v":""},"",{"$f":"IF(ISERROR(VLOOKUP(AK63,Data!$J$105:$K$109,2,1)),\"\",VLOOKUP(AK63,Data!$J$105:$K$109,2,1))","v":""},{"$f":"IF(ISBLANK(Planning!B193),\"\",Planning!B193)","v":""},{"$f":"IF(ISERROR(INDEX(Data!$D$91:$G$94,MATCH(AM63,Data!$C$91:$C$94,1),MATCH(AF63,Data!$D$90:$G$90,1))),\"\",INDEX(Data!$D$91:$G$94,MATCH(AM63,Data!$C$91:$C$94,1),MATCH(AF63,Data!$D$90:$G$90,1)))","v":""},{"$f":"IF(ISERROR(VLOOKUP(X63,Data!$D$184:$K$200,HLOOKUP(AN63,Data!$E$182:$K$183,2))),\"\",VLOOKUP(X63,Data!$D$184:$K$200,HLOOKUP(AN63,Data!$E$182:$K$183,2)))","v":""},{"$f":"IF(ISERROR(VLOOKUP(AO63,Data!$C$105:$D$110,2)),\"\",VLOOKUP(AO63,Data!$C$105:$D$110,2))","v":""},{"$f":"IF(ISBLANK(Planning!M87),\"\",Planning!M87)","v":""},{"$f":"IF(ISERROR(VLOOKUP(AQ63,Data!$F$105:$G$108,2,1)),\"\",VLOOKUP(AQ63,Data!$F$105:$G$108,2,1))","v":""},{"$f":"IF(ISBLANK(Planning!F193),\"\",Planning!F193)","v":""},{"$f":"IF(ISERROR(VLOOKUP(AS63,Data!$C$99:$D$101,2)),\"\",VLOOKUP(AS63,Data!$C$99:$D$101,2))","v":""},{"$f":"IF(ISBLANK(Planning!H193),\"\",Planning!H193)","v":""},{"$f":"IF(ISERROR(VLOOKUP(AU63,Data!$G$99:$H$101,2)),\"\",VLOOKUP(AU63,Data!$G$99:$H$101,2))","v":""},"","","",{"$f":"IF(AX63=0,VLOOKUP(AY63,Data!$C$116:$D$119,2),\"\")","v":""},{"$f":"IF(LEN(B63)=0,\"\",IF(ISBLANK(Planning!B246),0,Planning!B246))","v":""},{"$f":"IF(LEN(B63)=0,\"\",IF(ISBLANK(Planning!C246),0,Planning!C246))","v":""},{"$f":"IF(LEN(B63)=0,\"\",IF(ISBLANK(Planning!D246),0,Planning!D246))","v":""},{"$f":"IF(LEN(B63)=0,\"\",IF(ISBLANK(Planning!E246),0,Planning!E246))","v":""},{"$f":"IF(LEN(B63)=0,\"\",IF(ISBLANK(Planning!F246),0,Planning!F246))","v":""},{"$f":"IF(LEN(B63)=0,\"\",IF(ISBLANK(Planning!G246),0,Planning!G246))","v":""},{"$f":"IF(LEN(B63)=0,\"\",IF(ISBLANK(Planning!H246),0,Planning!H246))","v":""},{"$f":"IF(LEN(B63)=0,\"\",IF(ISBLANK(Planning!I246),0,Planning!I246))","v":""},{"$f":"IF(LEN(B63)=0,\"\",IF(ISBLANK(Planning!J246),0,Planning!J246))","v":""},"","",{"$f":"IF(AX63=0,VLOOKUP(BK63,Data!$C$116:$D$119,2),\"\")","v":""}]
[null,{"$f":"IF(ISBLANK(Planning!A194),\"\",Planning!A194)","v":""},{"$f":"IF(ISBLANK(Planning!D88),\"\",Planning!D88)","v":""},{"$f":"IF(LEN(C64)=0,\"\",IF(ISNA(VLOOKUP(C64,INDIRECT(ADDRESS(Data!$AG$67,Data!$AG$65,1,1,\"Data\")):INDIRECT(ADDRESS(Data!$AG$68,Data!$AG$66,1,1,\"Data\")),Data!$AG$74,0)),$B$10,VLOOKUP(Planning!D88,INDIRECT(ADDRESS(Data!$AG$67,Data!$AG$65,1,1,\"Data\")):INDIRECT(ADDRESS(Data!$AG$68,Data!$AG$66,1,1,\"Data\")),Data!$AG$74,0)))","v":""},{"$f":"IF(ISBLANK(Planning!I194),\"\",Planning!I194)","v":""},{"$f":"IF(ISBLANK(Planning!I194),\"\",INDEX(Planning!$A$21:$C$25,MATCH(E64,Planning!$A$21:$A$25,0),2))","v":""},{"$f":"IF(ISNA(INDEX(Planning!$A$21:$N$25,MATCH(E64,Planning!$A$21:$A$25,0),12)),\"\",INDEX(Planning!$A$21:$N$25,MATCH(E64,Planning!$A$21:$A$25,0),12))","v":""},{"$f":"IF(ISNA(INDEX(Planning!$A$21:$N$25,MATCH(E64,Planning!$A$21:$A$25,0),8)/2.29),\"\",INDEX(Planning!$A$21:$N$25,MATCH(E64,Planning!$A$21:$A$25,0),8)/2.29)","v":""},{"$f":"IF(ISBLANK(Planning!J194),\"\",Planning!J194)","v":""},"","",{"$f":"IF(ISNA(INDEX(Planning!$A$21:$N$25,MATCH(E64,Planning!$A$21:$A$25,0),14)),\"\",INDEX(Planning!$A$21:$N$25,MATCH(E64,Planning!$A$21:$A$25,0),14))","v":""},{"$f":"IF(ISERROR(VLOOKUP(L64,Data!$Q$65:$R$66,2,1)),\"\",VLOOKUP(L64,Data!$Q$65:$R$66,2,1))","v":""},"","",{"$f":"IF(LEN(B64)=0,\"\",Planning!B88*(1.3333))","v":""},"","","",{"$f":"IF(LEN(B64)=0,\"\",IF(ISBLANK(Data!$AG$69),\"\",Data!$AG$69))","v":""},{"$f":"IF(ISERROR(VLOOKUP(C64,INDIRECT(ADDRESS(Data!$AG$67,Data!$AG$65,1,1,\"Data\")):INDIRECT(ADDRESS(Data!$AG$68,Data!$AG$66,1,1,\"Data\")),Data!$AG$81,0)),\"\",VLOOKUP(C64,INDIRECT(ADDRESS(Data!$AG$67,Data!$AG$65,1,1,\"Data\")):INDIRECT(ADDRESS(Data!$AG$68,Data!$AG$66,1,1,\"Data\")),Data!$AG$81,0))","v":""},{"$f":"IF(LEN(B64)=0,\"\",IF(LEN(Data!$AG$71)=0,\"\",IF(Data!$AG$71=1,\"Yes\", \"No\")))","v":""},{"$f":"IF(ISERROR(IF(V64=\"NO\",U64,VLOOKUP(U64,Data!$AA$72:$AB$85,2,0))),\"\",IF(V64=\"NO\",U64,VLOOKUP(U64,Data!$AA$72:$AB$85,2,0)))","v":""},{"$f":"IF(ISBLANK(Planning!H88),\"\",Planning!H88)","v":""},{"$f":"IF(ISBLANK(Planning!L88),\"\",Planning!L88)","v":""},{"$f":"IF(ISERROR(INDEX(Data!$D$128:$T$146,MATCH(X64,Data!$C$128:$C$146,1),MATCH(Y64,Data!$D$127:$T$127,1))),\"\",INDEX(Data!$D$128:$T$146,MATCH(X64,Data!$C$128:$C$146,1),MATCH(Y64,Data!$D$127:$T$127,1)))","v":""},{"$f":"IF(ISBLANK(Planning!F140),\"\",Planning!F140)","v":""},{"$f":"IF(ISBLANK(Planning!H140),\"\",Planning!H140)","v":""},{"$f":"IF(ISERROR(INDEX(Data!$F$155:$K$156,VLOOKUP(AA64,Data!$C$79:$D$81,2),VLOOKUP(AB64,Data!$G$79:$H$85,2,0))),\"\",INDEX(Data!$F$155:$K$156,VLOOKUP(AA64,Data!$C$79:$D$81,2),VLOOKUP(AB64,Data!$G$79:$H$85,2,0)))","v":""},{"$f":"IF(ISBLANK(Planning!J140),\"\",Planning!J140)","v":""},{"$f":"IF(ISERROR(VLOOKUP(AD64,Data!$J$79:$K$81,2,0)),\"\",VLOOKUP(AD64,Data!$J$79:$K$81,2,0))","v":""},{"$f":"IF(ISERROR(VLOOKUP(C64,INDIRECT(ADDRESS(Data!$AG$67,Data!$AG$65,1,1,\"Data\")):INDIRECT(ADDRESS(Data!$AG$68,Data!$AG$66,1,1,\"Data\")),Data!$AG$84,0)),\"\",VLOOKUP(C64,INDIRECT(ADDRESS(Data!$AG$67,Data!$AG$65,1,1,\"Data\")):INDIRECT(ADDRESS(Data!$AG$68,Data!$AG$66,1,1,\"Data\")),Data!$AG$84,0))","v":""},{"$f":"IF(LEN(B64)=0,\"\",IF(LEN(Data!$AG$70)=0,\"\",Data!$AG$70))","v":""},{"$f":"IF(LEN(AE64)=0,\"\",IF(AE64=\"Yes\",INDIRECT(ADDRESS((ROW(Data!$M$153)+MATCH(AG64,Data!$M$154:$M$293,0)+MATCH(X64,Data!$P$154:$P$174,1)-1),(COLUMN(Data!$Q$153)+MATCH(AF64,Data!$R$153:$U$153,0)),1,1,\"Data\"),TRUE),1))","v":""},"",{"$f":"IF(ISBLANK(Planning!M140),\"\",Planning!M140)","v":""},"",{"$f":"IF(ISERROR(VLOOKUP(AK64,Data!$J$105:$K$109,2,1)),\"\",VLOOKUP(AK64,Data!$J$105:$K$109,2,1))","v":""},{"$f":"IF(ISBLANK(Planning!B194),\"\",Planning!B194)","v":""},{"$f":"IF(ISERROR(INDEX(Data!$D$91:$G$94,MATCH(AM64,Data!$C$91:$C$94,1),MATCH(AF64,Data!$D$90:$G$90,1))),\"\",INDEX(Data!$D$91:$G$94,MATCH(AM64,Data!$C$91:$C$94,1),MATCH(AF64,Data!$D$90:$G$90,1)))","v":""},{"$f":"IF(ISERROR(VLOOKUP(X64,Data!$D$184:$K$200,HLOOKUP(AN64,Data!$E$182:$K$183,2))),\"\",VLOOKUP(X64,Data!$D$184:$K$200,HLOOKUP(AN64,Data!$E$182:$K$183,2)))","v":""},{"$f":"IF(ISERROR(VLOOKUP(AO64,Data!$C$105:$D$110,2)),\"\",VLOOKUP(AO64,Data!$C$105:$D$110,2))","v":""},{"$f":"IF(ISBLANK(Planning!M88),\"\",Planning!M88)","v":""},{"$f":"IF(ISERROR(VLOOKUP(AQ64,Data!$F$105:$G$108,2,1)),\"\",VLOOKUP(AQ64,Data!$F$105:$G$108,2,1))","v":""},{"$f":"IF(ISBLANK(Planning!F194),\"\",Planning!F194)","v":""},{"$f":"IF(ISERROR(VLOOKUP(AS64,Data!$C$99:$D$101,2)),\"\",VLOOKUP(AS64,Data!$C$99:$D$101,2))","v":""},{"$f":"IF(ISBLANK(Planning!H194),\"\",Planning!H194)","v":""},{"$f":"IF(ISERROR(VLOOKUP(AU64,Data!$G$99:$H$101,2)),\"\",VLOOKUP(AU64,Data!$G$99:$H$101,2))","v":""},"","","",{"$f":"IF(AX64=0,VLOOKUP(AY64,Data!$C$116:$D$119,2),\"\")","v":""},{"$f":"IF(LEN(B64)=0,\"\",IF(ISBLANK(Planning!B247),0,Planning!B247))","v":""},{"$f":"IF(LEN(B64)=0,\"\",IF(ISBLANK(Planning!C247),0,Planning!C247))","v":""},{"$f":"IF(LEN(B64)=0,\"\",IF(ISBLANK(Planning!D247),0,Planning!D247))","v":""},{"$f":"IF(LEN(B64)=0,\"\",IF(ISBLANK(Planning!E247),0,Planning!E247))","v":""},{"$f":"IF(LEN(B64)=0,\"\",IF(ISBLANK(Planning!F247),0,Planning!F247))","v":""},{"$f":"IF(LEN(B64)=0,\"\",IF(ISBLANK(Planning!G247),0,Planning!G247))","v":""},{"$f":"IF(LEN(B64)=0,\"\",IF(ISBLANK(Planning!H247),0,Planning!H247))","v":""},{"$f":"IF(LEN(B64)=0,\"\",IF(ISBLANK(Planning!I247),0,Planning!I247))","v":""},{"$f":"IF(LEN(B64)=0,\"\",IF(ISBLANK(Planning!J247),0,Planning!J247))","v":""},"","",{"$f":"IF(AX64=0,VLOOKUP(BK64,Data!$C$116:$D$119,2),\"\")","v":""}]
[null,{"$f":"IF(ISBLANK(Planning!A195),\"\",Planning!A195)","v":""},{"$f":"IF(ISBLANK(Planning!D89),\"\",Planning!D89)","v":""},{"$f":"IF(LEN(C65)=0,\"\",IF(ISNA(VLOOKUP(C65,INDIRECT(ADDRESS(Data!$AG$67,Data!$AG$65,1,1,\"Data\")):INDIRECT(ADDRESS(Data!$AG$68,Data!$AG$66,1,1,\"Data\")),Data!$AG$74,0)),$B$10,VLOOKUP(Planning!D89,INDIRECT(ADDRESS(Data!$AG$67,Data!$AG$65,1,1,\"Data\")):INDIRECT(ADDRESS(Data!$AG$68,Data!$AG$66,1,1,\"Data\")),Data!$AG$74,0)))","v":""},{"$f":"IF(ISBLANK(Planning!I195),\"\",Planning!I195)","v":""},{"$f":"IF(ISBLANK(Planning!I195),\"\",INDEX(Planning!$A$21:$C$25,MATCH(E65,Planning!$A$21:$A$25,0),2))","v":""},{"$f":"IF(ISNA(INDEX(Planning!$A$21:$N$25,MATCH(E65,Planning!$A$21:$A$25,0),12)),\"\",INDEX(Planning!$A$21:$N$25,MATCH(E65,Planning!$A$21:$A$25,0),12))","v":""},{"$f":"IF(ISNA(INDEX(Planning!$A$21:$N$25,MATCH(E65,Planning!$A$21:$A$25,0),8)/2.29),\"\",INDEX(Planning!$A$21:$N$25,MATCH(E65,Planning!$A$21:$A$25,0),8)/2.29)","v":""},{"$f":"IF(ISBLANK(Planning!J195),\"\",Planning!J195)","v":""},"","",{"$f":"IF(ISNA(INDEX(Planning!$A$21:$N$25,MATCH(E65,Planning!$A$21:$A$25,0),14)),\"\",INDEX(Planning!$A$21:$N$25,MATCH(E65,Planning!$A$21:$A$25,0),14))","v":""},{"$f":"IF(ISERROR(VLOOKUP(L65,Data!$Q$65:$R$66,2,1)),\"\",VLOOKUP(L65,Data!$Q$65:$R$66,2,1))","v":""},"","",{"$f":"IF(LEN(B65)=0,\"\",Planning!B89*(1.3333))","v":""},"","","",{"$f":"IF(LEN(B65)=0,\"\",IF(ISBLANK(Data!$AG$69),\"\",Data!$AG$69))","v":""},{"$f":"IF(ISERROR(VLOOKUP(C65,INDIRECT(ADDRESS(Data!$AG$67,Data!$AG$65,1,1,\"Data\")):INDIRECT(ADDRESS(Data!$AG$68,Data!$AG$66,1,1,\"Data\")),Data!$AG$81,0)),\"\",VLOOKUP(C65,INDIRECT(ADDRESS(Data!$AG$67,Data!$AG$65,1,1,\"Data\")):INDIRECT(ADDRESS(Data!$AG$68,Data!$AG$66,1,1,\"Data\")),Data!$AG$81,0))","v":""},{"$f":"IF(LEN(B65)=0,\"\",IF(LEN(Data!$AG$71)=0,\"\",IF(Data!$AG$71=1,\"Yes\", \"No\")))","v":""},{"$f":"IF(ISERROR(IF(V65=\"NO\",U65,VLOOKUP(U65,Data!$AA$72:$AB$85,2,0))),\"\",IF(V65=\"NO\",U65,VLOOKUP(U65,Data!$AA$72:$AB$85,2,0)))","v":""},{"$f":"IF(ISBLANK(Planning!H89),\"\",Planning!H89)","v":""},{"$f":"IF(ISBLANK(Planning!L89),\"\",Planning!L89)","v":""},{"$f":"IF(ISERROR(INDEX(Data!$D$128:$T$146,MATCH(X65,Data!$C$128:$C$146,1),MATCH(Y65,Data!$D$127:$T$127,1))),\"\",INDEX(Data!$D$128:$T$146,MATCH(X65,Data!$C$128:$C$146,1),MATCH(Y65,Data!$D$127:$T$127,1)))","v":""},{"$f":"IF(ISBLANK(Planning!F141),\"\",Planning!F141)","v":""},{"$f":"IF(ISBLANK(Planning!H141),\"\",Planning!H141)","v":""},{"$f":"IF(ISERROR(INDEX(Data!$F$155:$K$156,VLOOKUP(AA65,Data!$C$79:$D$81,2),VLOOKUP(AB65,Data!$G$79:$H$85,2,0))),\"\",INDEX(Data!$F$155:$K$156,VLOOKUP(AA65,Data!$C$79:$D$81,2),VLOOKUP(AB65,Data!$G$79:$H$85,2,0)))","v":""},{"$f":"IF(ISBLANK(Planning!J141),\"\",Planning!J141)","v":""},{"$f":"IF(ISERROR(VLOOKUP(AD65,Data!$J$79:$K$81,2,0)),\"\",VLOOKUP(AD65,Data!$J$79:$K$81,2,0))","v":""},{"$f":"IF(ISERROR(VLOOKUP(C65,INDIRECT(ADDRESS(Data!$AG$67,Data!$AG$65,1,1,\"Data\")):INDIRECT(ADDRESS(Data!$AG$68,Data!$AG$66,1,1,\"Data\")),Data!$AG$84,0)),\"\",VLOOKUP(C65,INDIRECT(ADDRESS(Data!$AG$67,Data!$AG$65,1,1,\"Data\")):INDIRECT(ADDRESS(Data!$AG$68,Data!$AG$66,1,1,\"Data\")),Data!$AG$84,0))","v":""},{"$f":"IF(LEN(B65)=0,\"\",IF(LEN(Data!$AG$70)=0,\"\",Data!$AG$70))","v":""},{"$f":"IF(LEN(AE65)=0,\"\",IF(AE65=\"Yes\",INDIRECT(ADDRESS((ROW(Data!$M$153)+MATCH(AG65,Data!$M$154:$M$293,0)+MATCH(X65,Data!$P$154:$P$174,1)-1),(COLUMN(Data!$Q$153)+MATCH(AF65,Data!$R$153:$U$153,0)),1,1,\"Data\"),TRUE),1))","v":""},"",{"$f":"IF(ISBLANK(Planning!M141),\"\",Planning!M141)","v":""},"",{"$f":"IF(ISERROR(VLOOKUP(AK65,Data!$J$105:$K$109,2,1)),\"\",VLOOKUP(AK65,Data!$J$105:$K$109,2,1))","v":""},{"$f":"IF(ISBLANK(Planning!B195),\"\",Planning!B195)","v":""},{"$f":"IF(ISERROR(INDEX(Data!$D$91:$G$94,MATCH(AM65,Data!$C$91:$C$94,1),MATCH(AF65,Data!$D$90:$G$90,1))),\"\",INDEX(Data!$D$91:$G$94,MATCH(AM65,Data!$C$91:$C$94,1),MATCH(AF65,Data!$D$90:$G$90,1)))","v":""},{"$f":"IF(ISERROR(VLOOKUP(X65,Data!$D$184:$K$200,HLOOKUP(AN65,Data!$E$182:$K$183,2))),\"\",VLOOKUP(X65,Data!$D$184:$K$200,HLOOKUP(AN65,Data!$E$182:$K$183,2)))","v":""},{"$f":"IF(ISERROR(VLOOKUP(AO65,Data!$C$105:$D$110,2)),\"\",VLOOKUP(AO65,Data!$C$105:$D$110,2))","v":""},{"$f":"IF(ISBLANK(Planning!M89),\"\",Planning!M89)","v":""},{"$f":"IF(ISERROR(VLOOKUP(AQ65,Data!$F$105:$G$108,2,1)),\"\",VLOOKUP(AQ65,Data!$F$105:$G$108,2,1))","v":""},{"$f":"IF(ISBLANK(Planning!F195),\"\",Planning!F195)","v":""},{"$f":"IF(ISERROR(VLOOKUP(AS65,Data!$C$99:$D$101,2)),\"\",VLOOKUP(AS65,Data!$C$99:$D$101,2))","v":""},{"$f":"IF(ISBLANK(Planning!H195),\"\",Planning!H195)","v":""},{"$f":"IF(ISERROR(VLOOKUP(AU65,Data!$G$99:$H$101,2)),\"\",VLOOKUP(AU65,Data!$G$99:$H$101,2))","v":""},"","","",{"$f":"IF(AX65=0,VLOOKUP(AY65,Data!$C$116:$D$119,2),\"\")","v":""},{"$f":"IF(LEN(B65)=0,\"\",IF(ISBLANK(Planning!B248),0,Planning!B248))","v":""},{"$f":"IF(LEN(B65)=0,\"\",IF(ISBLANK(Planning!C248),0,Planning!C248))","v":""},{"$f":"IF(LEN(B65)=0,\"\",IF(ISBLANK(Planning!D248),0,Planning!D248))","v":""},{"$f":"IF(LEN(B65)=0,\"\",IF(ISBLANK(Planning!E248),0,Planning!E248))","v":""},{"$f":"IF(LEN(B65)=0,\"\",IF(ISBLANK(Planning!F248),0,Planning!F248))","v":""},{"$f":"IF(LEN(B65)=0,\"\",IF(ISBLANK(Planning!G248),0,Planning!G248))","v":""},{"$f":"IF(LEN(B65)=0,\"\",IF(ISBLANK(Planning!H248),0,Planning!H248))","v":""},{"$f":"IF(LEN(B65)=0,\"\",IF(ISBLANK(Planning!I248),0,Planning!I248))","v":""},{"$f":"IF(LEN(B65)=0,\"\",IF(ISBLANK(Planning!J248),0,Planning!J248))","v":""},"","",{"$f":"IF(AX65=0,VLOOKUP(BK65,Data!$C$116:$D$119,2),\"\")","v":""}]
[null,{"$f":"IF(ISBLANK(Planning!A196),\"\",Planning!A196)","v":""},{"$f":"IF(ISBLANK(Planning!D90),\"\",Planning!D90)","v":""},{"$f":"IF(LEN(C66)=0,\"\",IF(ISNA(VLOOKUP(C66,INDIRECT(ADDRESS(Data!$AG$67,Data!$AG$65,1,1,\"Data\")):INDIRECT(ADDRESS(Data!$AG$68,Data!$AG$66,1,1,\"Data\")),Data!$AG$74,0)),$B$10,VLOOKUP(Planning!D90,INDIRECT(ADDRESS(Data!$AG$67,Data!$AG$65,1,1,\"Data\")):INDIRECT(ADDRESS(Data!$AG$68,Data!$AG$66,1,1,\"Data\")),Data!$AG$74,0)))","v":""},{"$f":"IF(ISBLANK(Planning!I196),\"\",Planning!I196)","v":""},{"$f":"IF(ISBLANK(Planning!I196),\"\",INDEX(Planning!$A$21:$C$25,MATCH(E66,Planning!$A$21:$A$25,0),2))","v":""},{"$f":"IF(ISNA(INDEX(Planning!$A$21:$N$25,MATCH(E66,Planning!$A$21:$A$25,0),12)),\"\",INDEX(Planning!$A$21:$N$25,MATCH(E66,Planning!$A$21:$A$25,0),12))","v":""},{"$f":"IF(ISNA(INDEX(Planning!$A$21:$N$25,MATCH(E66,Planning!$A$21:$A$25,0),8)/2.29),\"\",INDEX(Planning!$A$21:$N$25,MATCH(E66,Planning!$A$21:$A$25,0),8)/2.29)","v":""},{"$f":"IF(ISBLANK(Planning!J196),\"\",Planning!J196)","v":""},"","",{"$f":"IF(ISNA(INDEX(Planning!$A$21:$N$25,MATCH(E66,Planning!$A$21:$A$25,0),14)),\"\",INDEX(Planning!$A$21:$N$25,MATCH(E66,Planning!$A$21:$A$25,0),14))","v":""},{"$f":"IF(ISERROR(VLOOKUP(L66,Data!$Q$65:$R$66,2,1)),\"\",VLOOKUP(L66,Data!$Q$65:$R$66,2,1))","v":""},"","",{"$f":"IF(LEN(B66)=0,\"\",Planning!B90*(1.3333))","v":""},"","","",{"$f":"IF(LEN(B66)=0,\"\",IF(ISBLANK(Data!$AG$69),\"\",Data!$AG$69))","v":""},{"$f":"IF(ISERROR(VLOOKUP(C66,INDIRECT(ADDRESS(Data!$AG$67,Data!$AG$65,1,1,\"Data\")):INDIRECT(ADDRESS(Data!$AG$68,Data!$AG$66,1,1,\"Data\")),Data!$AG$81,0)),\"\",VLOOKUP(C66,INDIRECT(ADDRESS(Data!$AG$67,Data!$AG$65,1,1,\"Data\")):INDIRECT(ADDRESS(Data!$AG$68,Data!$AG$66,1,1,\"Data\")),Data!$AG$81,0))","v":""},{"$f":"IF(LEN(B66)=0,\"\",IF(LEN(Data!$AG$71)=0,\"\",IF(Data!$AG$71=1,\"Yes\", \"No\")))","v":""},{"$f":"IF(ISERROR(IF(V66=\"NO\",U66,VLOOKUP(U66,Data!$AA$72:$AB$85,2,0))),\"\",IF(V66=\"NO\",U66,VLOOKUP(U66,Data!$AA$72:$AB$85,2,0)))","v":""},{"$f":"IF(ISBLANK(Planning!H90),\"\",Planning!H90)","v":""},{"$f":"IF(ISBLANK(Planning!L90),\"\",Planning!L90)","v":""},{"$f":"IF(ISERROR(INDEX(Data!$D$128:$T$146,MATCH(X66,Data!$C$128:$C$146,1),MATCH(Y66,Data!$D$127:$T$127,1))),\"\",INDEX(Data!$D$128:$T$146,MATCH(X66,Data!$C$128:$C$146,1),MATCH(Y66,Data!$D$127:$T$127,1)))","v":""},{"$f":"IF(ISBLANK(Planning!F142),\"\",Planning!F142)","v":""},{"$f":"IF(ISBLANK(Planning!H142),\"\",Planning!H142)","v":""},{"$f":"IF(ISERROR(INDEX(Data!$F$155:$K$156,VLOOKUP(AA66,Data!$C$79:$D$81,2),VLOOKUP(AB66,Data!$G$79:$H$85,2,0))),\"\",INDEX(Data!$F$155:$K$156,VLOOKUP(AA66,Data!$C$79:$D$81,2),VLOOKUP(AB66,Data!$G$79:$H$85,2,0)))","v":""},{"$f":"IF(ISBLANK(Planning!J142),\"\",Planning!J142)","v":""},{"$f":"IF(ISERROR(VLOOKUP(AD66,Data!$J$79:$K$81,2,0)),\"\",VLOOKUP(AD66,Data!$J$79:$K$81,2,0))","v":""},{"$f":"IF(ISERROR(VLOOKUP(C66,INDIRECT(ADDRESS(Data!$AG$67,Data!$AG$65,1,1,\"Data\")):INDIRECT(ADDRESS(Data!$AG$68,Data!$AG$66,1,1,\"Data\")),Data!$AG$84,0)),\"\",VLOOKUP(C66,INDIRECT(ADDRESS(Data!$AG$67,Data!$AG$65,1,1,\"Data\")):INDIRECT(ADDRESS(Data!$AG$68,Data!$AG$66,1,1,\"Data\")),Data!$AG$84,0))","v":""},{"$f":"IF(LEN(B66)=0,\"\",IF(LEN(Data!$AG$70)=0,\"\",Data!$AG$70))","v":""},{"$f":"IF(LEN(AE66)=0,\"\",IF(AE66=\"Yes\",INDIRECT(ADDRESS((ROW(Data!$M$153)+MATCH(AG66,Data!$M$154:$M$293,0)+MATCH(X66,Data!$P$154:$P$174,1)-1),(COLUMN(Data!$Q$153)+MATCH(AF66,Data!$R$153:$U$153,0)),1,1,\"Data\"),TRUE),1))","v":""},"",{"$f":"IF(ISBLANK(Planning!M142),\"\",Planning!M142)","v":""},"",{"$f":"IF(ISERROR(VLOOKUP(AK66,Data!$J$105:$K$109,2,1)),\"\",VLOOKUP(AK66,Data!$J$105:$K$109,2,1))","v":""},{"$f":"IF(ISBLANK(Planning!B196),\"\",Planning!B196)","v":""},{"$f":"IF(ISERROR(INDEX(Data!$D$91:$G$94,MATCH(AM66,Data!$C$91:$C$94,1),MATCH(AF66,Data!$D$90:$G$90,1))),\"\",INDEX(Data!$D$91:$G$94,MATCH(AM66,Data!$C$91:$C$94,1),MATCH(AF66,Data!$D$90:$G$90,1)))","v":""},{"$f":"IF(ISERROR(VLOOKUP(X66,Data!$D$184:$K$200,HLOOKUP(AN66,Data!$E$182:$K$183,2))),\"\",VLOOKUP(X66,Data!$D$184:$K$200,HLOOKUP(AN66,Data!$E$182:$K$183,2)))","v":""},{"$f":"IF(ISERROR(VLOOKUP(AO66,Data!$C$105:$D$110,2)),\"\",VLOOKUP(AO66,Data!$C$105:$D$110,2))","v":""},{"$f":"IF(ISBLANK(Planning!M90),\"\",Planning!M90)","v":""},{"$f":"IF(ISERROR(VLOOKUP(AQ66,Data!$F$105:$G$108,2,1)),\"\",VLOOKUP(AQ66,Data!$F$105:$G$108,2,1))","v":""},{"$f":"IF(ISBLANK(Planning!F196),\"\",Planning!F196)","v":""},{"$f":"IF(ISERROR(VLOOKUP(AS66,Data!$C$99:$D$101,2)),\"\",VLOOKUP(AS66,Data!$C$99:$D$101,2))","v":""},{"$f":"IF(ISBLANK(Planning!H196),\"\",Planning!H196)","v":""},{"$f":"IF(ISERROR(VLOOKUP(AU66,Data!$G$99:$H$101,2)),\"\",VLOOKUP(AU66,Data!$G$99:$H$101,2))","v":""},"","","",{"$f":"IF(AX66=0,VLOOKUP(AY66,Data!$C$116:$D$119,2),\"\")","v":""},{"$f":"IF(LEN(B66)=0,\"\",IF(ISBLANK(Planning!B249),0,Planning!B249))","v":""},{"$f":"IF(LEN(B66)=0,\"\",IF(ISBLANK(Planning!C249),0,Planning!C249))","v":""},{"$f":"IF(LEN(B66)=0,\"\",IF(ISBLANK(Planning!D249),0,Planning!D249))","v":""},{"$f":"IF(LEN(B66)=0,\"\",IF(ISBLANK(Planning!E249),0,Planning!E249))","v":""},{"$f":"IF(LEN(B66)=0,\"\",IF(ISBLANK(Planning!F249),0,Planning!F249))","v":""},{"$f":"IF(LEN(B66)=0,\"\",IF(ISBLANK(Planning!G249),0,Planning!G249))","v":""},{"$f":"IF(LEN(B66)=0,\"\",IF(ISBLANK(Planning!H249),0,Planning!H249))","v":""},{"$f":"IF(LEN(B66)=0,\"\",IF(ISBLANK(Planning!I249),0,Planning!I249))","v":""},{"$f":"IF(LEN(B66)=0,\"\",IF(ISBLANK(Planning!J249),0,Planning!J249))","v":""},"","",{"$f":"IF(AX66=0,VLOOKUP(BK66,Data!$C$116:$D$119,2),\"\")","v":""}]
[null,{"$f":"IF(ISBLANK(Planning!A197),\"\",Planning!A197)","v":""},{"$f":"IF(ISBLANK(Planning!D91),\"\",Planning!D91)","v":""},{"$f":"IF(LEN(C67)=0,\"\",IF(ISNA(VLOOKUP(C67,INDIRECT(ADDRESS(Data!$AG$67,Data!$AG$65,1,1,\"Data\")):INDIRECT(ADDRESS(Data!$AG$68,Data!$AG$66,1,1,\"Data\")),Data!$AG$74,0)),$B$10,VLOOKUP(Planning!D91,INDIRECT(ADDRESS(Data!$AG$67,Data!$AG$65,1,1,\"Data\")):INDIRECT(ADDRESS(Data!$AG$68,Data!$AG$66,1,1,\"Data\")),Data!$AG$74,0)))","v":""},{"$f":"IF(ISBLANK(Planning!I197),\"\",Planning!I197)","v":""},{"$f":"IF(ISBLANK(Planning!I197),\"\",INDEX(Planning!$A$21:$C$25,MATCH(E67,Planning!$A$21:$A$25,0),2))","v":""},{"$f":"IF(ISNA(INDEX(Planning!$A$21:$N$25,MATCH(E67,Planning!$A$21:$A$25,0),12)),\"\",INDEX(Planning!$A$21:$N$25,MATCH(E67,Planning!$A$21:$A$25,0),12))","v":""},{"$f":"IF(ISNA(INDEX(Planning!$A$21:$N$25,MATCH(E67,Planning!$A$21:$A$25,0),8)/2.29),\"\",INDEX(Planning!$A$21:$N$25,MATCH(E67,Planning!$A$21:$A$25,0),8)/2.29)","v":""},{"$f":"IF(ISBLANK(Planning!J197),\"\",Planning!J197)","v":""},"","",{"$f":"IF(ISNA(INDEX(Planning!$A$21:$N$25,MATCH(E67,Planning!$A$21:$A$25,0),14)),\"\",INDEX(Planning!$A$21:$N$25,MATCH(E67,Planning!$A$21:$A$25,0),14))","v":""},{"$f":"IF(ISERROR(VLOOKUP(L67,Data!$Q$65:$R$66,2,1)),\"\",VLOOKUP(L67,Data!$Q$65:$R$66,2,1))","v":""},"","",{"$f":"IF(LEN(B67)=0,\"\",Planning!B91*(1.3333))","v":""},"","","",{"$f":"IF(LEN(B67)=0,\"\",IF(ISBLANK(Data!$AG$69),\"\",Data!$AG$69))","v":""},{"$f":"IF(ISERROR(VLOOKUP(C67,INDIRECT(ADDRESS(Data!$AG$67,Data!$AG$65,1,1,\"Data\")):INDIRECT(ADDRESS(Data!$AG$68,Data!$AG$66,1,1,\"Data\")),Data!$AG$81,0)),\"\",VLOOKUP(C67,INDIRECT(ADDRESS(Data!$AG$67,Data!$AG$65,1,1,\"Data\")):INDIRECT(ADDRESS(Data!$AG$68,Data!$AG$66,1,1,\"Data\")),Data!$AG$81,0))","v":""},{"$f":"IF(LEN(B67)=0,\"\",IF(LEN(Data!$AG$71)=0,\"\",IF(Data!$AG$71=1,\"Yes\", \"No\")))","v":""},{"$f":"IF(ISERROR(IF(V67=\"NO\",U67,VLOOKUP(U67,Data!$AA$72:$AB$85,2,0))),\"\",IF(V67=\"NO\",U67,VLOOKUP(U67,Data!$AA$72:$AB$85,2,0)))","v":""},{"$f":"IF(ISBLANK(Planning!H91),\"\",Planning!H91)","v":""},{"$f":"IF(ISBLANK(Planning!L91),\"\",Planning!L91)","v":""},{"$f":"IF(ISERROR(INDEX(Data!$D$128:$T$146,MATCH(X67,Data!$C$128:$C$146,1),MATCH(Y67,Data!$D$127:$T$127,1))),\"\",INDEX(Data!$D$128:$T$146,MATCH(X67,Data!$C$128:$C$146,1),MATCH(Y67,Data!$D$127:$T$127,1)))","v":""},{"$f":"IF(ISBLANK(Planning!F143),\"\",Planning!F143)","v":""},{"$f":"IF(ISBLANK(Planning!H143),\"\",Planning!H143)","v":""},{"$f":"IF(ISERROR(INDEX(Data!$F$155:$K$156,VLOOKUP(AA67,Data!$C$79:$D$81,2),VLOOKUP(AB67,Data!$G$79:$H$85,2,0))),\"\",INDEX(Data!$F$155:$K$156,VLOOKUP(AA67,Data!$C$79:$D$81,2),VLOOKUP(AB67,Data!$G$79:$H$85,2,0)))","v":""},{"$f":"IF(ISBLANK(Planning!J143),\"\",Planning!J143)","v":""},{"$f":"IF(ISERROR(VLOOKUP(AD67,Data!$J$79:$K$81,2,0)),\"\",VLOOKUP(AD67,Data!$J$79:$K$81,2,0))","v":""},{"$f":"IF(ISERROR(VLOOKUP(C67,INDIRECT(ADDRESS(Data!$AG$67,Data!$AG$65,1,1,\"Data\")):INDIRECT(ADDRESS(Data!$AG$68,Data!$AG$66,1,1,\"Data\")),Data!$AG$84,0)),\"\",VLOOKUP(C67,INDIRECT(ADDRESS(Data!$AG$67,Data!$AG$65,1,1,\"Data\")):INDIRECT(ADDRESS(Data!$AG$68,Data!$AG$66,1,1,\"Data\")),Data!$AG$84,0))","v":""},{"$f":"IF(LEN(B67)=0,\"\",IF(LEN(Data!$AG$70)=0,\"\",Data!$AG$70))","v":""},{"$f":"IF(LEN(AE67)=0,\"\",IF(AE67=\"Yes\",INDIRECT(ADDRESS((ROW(Data!$M$153)+MATCH(AG67,Data!$M$154:$M$293,0)+MATCH(X67,Data!$P$154:$P$174,1)-1),(COLUMN(Data!$Q$153)+MATCH(AF67,Data!$R$153:$U$153,0)),1,1,\"Data\"),TRUE),1))","v":""},"",{"$f":"IF(ISBLANK(Planning!M143),\"\",Planning!M143)","v":""},"",{"$f":"IF(ISERROR(VLOOKUP(AK67,Data!$J$105:$K$109,2,1)),\"\",VLOOKUP(AK67,Data!$J$105:$K$109,2,1))","v":""},{"$f":"IF(ISBLANK(Planning!B197),\"\",Planning!B197)","v":""},{"$f":"IF(ISERROR(INDEX(Data!$D$91:$G$94,MATCH(AM67,Data!$C$91:$C$94,1),MATCH(AF67,Data!$D$90:$G$90,1))),\"\",INDEX(Data!$D$91:$G$94,MATCH(AM67,Data!$C$91:$C$94,1),MATCH(AF67,Data!$D$90:$G$90,1)))","v":""},{"$f":"IF(ISERROR(VLOOKUP(X67,Data!$D$184:$K$200,HLOOKUP(AN67,Data!$E$182:$K$183,2))),\"\",VLOOKUP(X67,Data!$D$184:$K$200,HLOOKUP(AN67,Data!$E$182:$K$183,2)))","v":""},{"$f":"IF(ISERROR(VLOOKUP(AO67,Data!$C$105:$D$110,2)),\"\",VLOOKUP(AO67,Data!$C$105:$D$110,2))","v":""},{"$f":"IF(ISBLANK(Planning!M91),\"\",Planning!M91)","v":""},{"$f":"IF(ISERROR(VLOOKUP(AQ67,Data!$F$105:$G$108,2,1)),\"\",VLOOKUP(AQ67,Data!$F$105:$G$108,2,1))","v":""},{"$f":"IF(ISBLANK(Planning!F197),\"\",Planning!F197)","v":""},{"$f":"IF(ISERROR(VLOOKUP(AS67,Data!$C$99:$D$101,2)),\"\",VLOOKUP(AS67,Data!$C$99:$D$101,2))","v":""},{"$f":"IF(ISBLANK(Planning!H197),\"\",Planning!H197)","v":""},{"$f":"IF(ISERROR(VLOOKUP(AU67,Data!$G$99:$H$101,2)),\"\",VLOOKUP(AU67,Data!$G$99:$H$101,2))","v":""},"","","",{"$f":"IF(AX67=0,VLOOKUP(AY67,Data!$C$116:$D$119,2),\"\")","v":""},{"$f":"IF(LEN(B67)=0,\"\",IF(ISBLANK(Planning!B250),0,Planning!B250))","v":""},{"$f":"IF(LEN(B67)=0,\"\",IF(ISBLANK(Planning!C250),0,Planning!C250))","v":""},{"$f":"IF(LEN(B67)=0,\"\",IF(ISBLANK(Planning!D250),0,Planning!D250))","v":""},{"$f":"IF(LEN(B67)=0,\"\",IF(ISBLANK(Planning!E250),0,Planning!E250))","v":""},{"$f":"IF(LEN(B67)=0,\"\",IF(ISBLANK(Planning!F250),0,Planning!F250))","v":""},{"$f":"IF(LEN(B67)=0,\"\",IF(ISBLANK(Planning!G250),0,Planning!G250))","v":""},{"$f":"IF(LEN(B67)=0,\"\",IF(ISBLANK(Planning!H250),0,Planning!H250))","v":""},{"$f":"IF(LEN(B67)=0,\"\",IF(ISBLANK(Planning!I250),0,Planning!I250))","v":""},{"$f":"IF(LEN(B67)=0,\"\",IF(ISBLANK(Planning!J250),0,Planning!J250))","v":""},"","",{"$f":"IF(AX67=0,VLOOKUP(BK67,Data!$C$116:$D$119,2),\"\")","v":""}]
[null,{"$f":"IF(ISBLANK(Planning!A198),\"\",Planning!A198)","v":""},{"$f":"IF(ISBLANK(Planning!D92),\"\",Planning!D92)","v":""},{"$f":"IF(LEN(C68)=0,\"\",IF(ISNA(VLOOKUP(C68,INDIRECT(ADDRESS(Data!$AG$67,Data!$AG$65,1,1,\"Data\")):INDIRECT(ADDRESS(Data!$AG$68,Data!$AG$66,1,1,\"Data\")),Data!$AG$74,0)),$B$10,VLOOKUP(Planning!D92,INDIRECT(ADDRESS(Data!$AG$67,Data!$AG$65,1,1,\"Data\")):INDIRECT(ADDRESS(Data!$AG$68,Data!$AG$66,1,1,\"Data\")),Data!$AG$74,0)))","v":""},{"$f":"IF(ISBLANK(Planning!I198),\"\",Planning!I198)","v":""},{"$f":"IF(ISBLANK(Planning!I198),\"\",INDEX(Planning!$A$21:$C$25,MATCH(E68,Planning!$A$21:$A$25,0),2))","v":""},{"$f":"IF(ISNA(INDEX(Planning!$A$21:$N$25,MATCH(E68,Planning!$A$21:$A$25,0),12)),\"\",INDEX(Planning!$A$21:$N$25,MATCH(E68,Planning!$A$21:$A$25,0),12))","v":""},{"$f":"IF(ISNA(INDEX(Planning!$A$21:$N$25,MATCH(E68,Planning!$A$21:$A$25,0),8)/2.29),\"\",INDEX(Planning!$A$21:$N$25,MATCH(E68,Planning!$A$21:$A$25,0),8)/2.29)","v":""},{"$f":"IF(ISBLANK(Planning!J198),\"\",Planning!J198)","v":""},"","",{"$f":"IF(ISNA(INDEX(Planning!$A$21:$N$25,MATCH(E68,Planning!$A$21:$A$25,0),14)),\"\",INDEX(Planning!$A$21:$N$25,MATCH(E68,Planning!$A$21:$A$25,0),14))","v":""},{"$f":"IF(ISERROR(VLOOKUP(L68,Data!$Q$65:$R$66,2,1)),\"\",VLOOKUP(L68,Data!$Q$65:$R$66,2,1))","v":""},"","",{"$f":"IF(LEN(B68)=0,\"\",Planning!B92*(1.3333))","v":""},"","","",{"$f":"IF(LEN(B68)=0,\"\",IF(ISBLANK(Data!$AG$69),\"\",Data!$AG$69))","v":""},{"$f":"IF(ISERROR(VLOOKUP(C68,INDIRECT(ADDRESS(Data!$AG$67,Data!$AG$65,1,1,\"Data\")):INDIRECT(ADDRESS(Data!$AG$68,Data!$AG$66,1,1,\"Data\")),Data!$AG$81,0)),\"\",VLOOKUP(C68,INDIRECT(ADDRESS(Data!$AG$67,Data!$AG$65,1,1,\"Data\")):INDIRECT(ADDRESS(Data!$AG$68,Data!$AG$66,1,1,\"Data\")),Data!$AG$81,0))","v":""},{"$f":"IF(LEN(B68)=0,\"\",IF(LEN(Data!$AG$71)=0,\"\",IF(Data!$AG$71=1,\"Yes\", \"No\")))","v":""},{"$f":"IF(ISERROR(IF(V68=\"NO\",U68,VLOOKUP(U68,Data!$AA$72:$AB$85,2,0))),\"\",IF(V68=\"NO\",U68,VLOOKUP(U68,Data!$AA$72:$AB$85,2,0)))","v":""},{"$f":"IF(ISBLANK(Planning!H92),\"\",Planning!H92)","v":""},{"$f":"IF(ISBLANK(Planning!L92),\"\",Planning!L92)","v":""},{"$f":"IF(ISERROR(INDEX(Data!$D$128:$T$146,MATCH(X68,Data!$C$128:$C$146,1),MATCH(Y68,Data!$D$127:$T$127,1))),\"\",INDEX(Data!$D$128:$T$146,MATCH(X68,Data!$C$128:$C$146,1),MATCH(Y68,Data!$D$127:$T$127,1)))","v":""},{"$f":"IF(ISBLANK(Planning!F144),\"\",Planning!F144)","v":""},{"$f":"IF(ISBLANK(Planning!H144),\"\",Planning!H144)","v":""},{"$f":"IF(ISERROR(INDEX(Data!$F$155:$K$156,VLOOKUP(AA68,Data!$C$79:$D$81,2),VLOOKUP(AB68,Data!$G$79:$H$85,2,0))),\"\",INDEX(Data!$F$155:$K$156,VLOOKUP(AA68,Data!$C$79:$D$81,2),VLOOKUP(AB68,Data!$G$79:$H$85,2,0)))","v":""},{"$f":"IF(ISBLANK(Planning!J144),\"\",Planning!J144)","v":""},{"$f":"IF(ISERROR(VLOOKUP(AD68,Data!$J$79:$K$81,2,0)),\"\",VLOOKUP(AD68,Data!$J$79:$K$81,2,0))","v":""},{"$f":"IF(ISERROR(VLOOKUP(C68,INDIRECT(ADDRESS(Data!$AG$67,Data!$AG$65,1,1,\"Data\")):INDIRECT(ADDRESS(Data!$AG$68,Data!$AG$66,1,1,\"Data\")),Data!$AG$84,0)),\"\",VLOOKUP(C68,INDIRECT(ADDRESS(Data!$AG$67,Data!$AG$65,1,1,\"Data\")):INDIRECT(ADDRESS(Data!$AG$68,Data!$AG$66,1,1,\"Data\")),Data!$AG$84,0))","v":""},{"$f":"IF(LEN(B68)=0,\"\",IF(LEN(Data!$AG$70)=0,\"\",Data!$AG$70))","v":""},{"$f":"IF(LEN(AE68)=0,\"\",IF(AE68=\"Yes\",INDIRECT(ADDRESS((ROW(Data!$M$153)+MATCH(AG68,Data!$M$154:$M$293,0)+MATCH(X68,Data!$P$154:$P$174,1)-1),(COLUMN(Data!$Q$153)+MATCH(AF68,Data!$R$153:$U$153,0)),1,1,\"Data\"),TRUE),1))","v":""},"",{"$f":"IF(ISBLANK(Planning!M144),\"\",Planning!M144)","v":""},"",{"$f":"IF(ISERROR(VLOOKUP(AK68,Data!$J$105:$K$109,2,1)),\"\",VLOOKUP(AK68,Data!$J$105:$K$109,2,1))","v":""},{"$f":"IF(ISBLANK(Planning!B198),\"\",Planning!B198)","v":""},{"$f":"IF(ISERROR(INDEX(Data!$D$91:$G$94,MATCH(AM68,Data!$C$91:$C$94,1),MATCH(AF68,Data!$D$90:$G$90,1))),\"\",INDEX(Data!$D$91:$G$94,MATCH(AM68,Data!$C$91:$C$94,1),MATCH(AF68,Data!$D$90:$G$90,1)))","v":""},{"$f":"IF(ISERROR(VLOOKUP(X68,Data!$D$184:$K$200,HLOOKUP(AN68,Data!$E$182:$K$183,2))),\"\",VLOOKUP(X68,Data!$D$184:$K$200,HLOOKUP(AN68,Data!$E$182:$K$183,2)))","v":""},{"$f":"IF(ISERROR(VLOOKUP(AO68,Data!$C$105:$D$110,2)),\"\",VLOOKUP(AO68,Data!$C$105:$D$110,2))","v":""},{"$f":"IF(ISBLANK(Planning!M92),\"\",Planning!M92)","v":""},{"$f":"IF(ISERROR(VLOOKUP(AQ68,Data!$F$105:$G$108,2,1)),\"\",VLOOKUP(AQ68,Data!$F$105:$G$108,2,1))","v":""},{"$f":"IF(ISBLANK(Planning!F198),\"\",Planning!F198)","v":""},{"$f":"IF(ISERROR(VLOOKUP(AS68,Data!$C$99:$D$101,2)),\"\",VLOOKUP(AS68,Data!$C$99:$D$101,2))","v":""},{"$f":"IF(ISBLANK(Planning!H198),\"\",Planning!H198)","v":""},{"$f":"IF(ISERROR(VLOOKUP(AU68,Data!$G$99:$H$101,2)),\"\",VLOOKUP(AU68,Data!$G$99:$H$101,2))","v":""},"","","",{"$f":"IF(AX68=0,VLOOKUP(AY68,Data!$C$116:$D$119,2),\"\")","v":""},{"$f":"IF(LEN(B68)=0,\"\",IF(ISBLANK(Planning!B251),0,Planning!B251))","v":""},{"$f":"IF(LEN(B68)=0,\"\",IF(ISBLANK(Planning!C251),0,Planning!C251))","v":""},{"$f":"IF(LEN(B68)=0,\"\",IF(ISBLANK(Planning!D251),0,Planning!D251))","v":""},{"$f":"IF(LEN(B68)=0,\"\",IF(ISBLANK(Planning!E251),0,Planning!E251))","v":""},{"$f":"IF(LEN(B68)=0,\"\",IF(ISBLANK(Planning!F251),0,Planning!F251))","v":""},{"$f":"IF(LEN(B68)=0,\"\",IF(ISBLANK(Planning!G251),0,Planning!G251))","v":""},{"$f":"IF(LEN(B68)=0,\"\",IF(ISBLANK(Planning!H251),0,Planning!H251))","v":""},{"$f":"IF(LEN(B68)=0,\"\",IF(ISBLANK(Planning!I251),0,Planning!I251))","v":""},{"$f":"IF(LEN(B68)=0,\"\",IF(ISBLANK(Planning!J251),0,Planning!J251))","v":""},"","",{"$f":"IF(AX68=0,VLOOKUP(BK68,Data!$C$116:$D$119,2),\"\")","v":""}]
[null,{"$f":"IF(ISBLANK(Planning!A199),\"\",Planning!A199)","v":""},{"$f":"IF(ISBLANK(Planning!D93),\"\",Planning!D93)","v":""},{"$f":"IF(LEN(C69)=0,\"\",IF(ISNA(VLOOKUP(C69,INDIRECT(ADDRESS(Data!$AG$67,Data!$AG$65,1,1,\"Data\")):INDIRECT(ADDRESS(Data!$AG$68,Data!$AG$66,1,1,\"Data\")),Data!$AG$74,0)),$B$10,VLOOKUP(Planning!D93,INDIRECT(ADDRESS(Data!$AG$67,Data!$AG$65,1,1,\"Data\")):INDIRECT(ADDRESS(Data!$AG$68,Data!$AG$66,1,1,\"Data\")),Data!$AG$74,0)))","v":""},{"$f":"IF(ISBLANK(Planning!I199),\"\",Planning!I199)","v":""},{"$f":"IF(ISBLANK(Planning!I199),\"\",INDEX(Planning!$A$21:$C$25,MATCH(E69,Planning!$A$21:$A$25,0),2))","v":""},{"$f":"IF(ISNA(INDEX(Planning!$A$21:$N$25,MATCH(E69,Planning!$A$21:$A$25,0),12)),\"\",INDEX(Planning!$A$21:$N$25,MATCH(E69,Planning!$A$21:$A$25,0),12))","v":""},{"$f":"IF(ISNA(INDEX(Planning!$A$21:$N$25,MATCH(E69,Planning!$A$21:$A$25,0),8)/2.29),\"\",INDEX(Planning!$A$21:$N$25,MATCH(E69,Planning!$A$21:$A$25,0),8)/2.29)","v":""},{"$f":"IF(ISBLANK(Planning!J199),\"\",Planning!J199)","v":""},"","",{"$f":"IF(ISNA(INDEX(Planning!$A$21:$N$25,MATCH(E69,Planning!$A$21:$A$25,0),14)),\"\",INDEX(Planning!$A$21:$N$25,MATCH(E69,Planning!$A$21:$A$25,0),14))","v":""},{"$f":"IF(ISERROR(VLOOKUP(L69,Data!$Q$65:$R$66,2,1)),\"\",VLOOKUP(L69,Data!$Q$65:$R$66,2,1))","v":""},"","",{"$f":"IF(LEN(B69)=0,\"\",Planning!B93*(1.3333))","v":""},"","","",{"$f":"IF(LEN(B69)=0,\"\",IF(ISBLANK(Data!$AG$69),\"\",Data!$AG$69))","v":""},{"$f":"IF(ISERROR(VLOOKUP(C69,INDIRECT(ADDRESS(Data!$AG$67,Data!$AG$65,1,1,\"Data\")):INDIRECT(ADDRESS(Data!$AG$68,Data!$AG$66,1,1,\"Data\")),Data!$AG$81,0)),\"\",VLOOKUP(C69,INDIRECT(ADDRESS(Data!$AG$67,Data!$AG$65,1,1,\"Data\")):INDIRECT(ADDRESS(Data!$AG$68,Data!$AG$66,1,1,\"Data\")),Data!$AG$81,0))","v":""},{"$f":"IF(LEN(B69)=0,\"\",IF(LEN(Data!$AG$71)=0,\"\",IF(Data!$AG$71=1,\"Yes\", \"No\")))","v":""},{"$f":"IF(ISERROR(IF(V69=\"NO\",U69,VLOOKUP(U69,Data!$AA$72:$AB$85,2,0))),\"\",IF(V69=\"NO\",U69,VLOOKUP(U69,Data!$AA$72:$AB$85,2,0)))","v":""},{"$f":"IF(ISBLANK(Planning!H93),\"\",Planning!H93)","v":""},{"$f":"IF(ISBLANK(Planning!L93),\"\",Planning!L93)","v":""},{"$f":"IF(ISERROR(INDEX(Data!$D$128:$T$146,MATCH(X69,Data!$C$128:$C$146,1),MATCH(Y69,Data!$D$127:$T$127,1))),\"\",INDEX(Data!$D$128:$T$146,MATCH(X69,Data!$C$128:$C$146,1),MATCH(Y69,Data!$D$127:$T$127,1)))","v":""},{"$f":"IF(ISBLANK(Planning!F145),\"\",Planning!F145)","v":""},{"$f":"IF(ISBLANK(Planning!H145),\"\",Planning!H145)","v":""},{"$f":"IF(ISERROR(INDEX(Data!$F$155:$K$156,VLOOKUP(AA69,Data!$C$79:$D$81,2),VLOOKUP(AB69,Data!$G$79:$H$85,2,0))),\"\",INDEX(Data!$F$155:$K$156,VLOOKUP(AA69,Data!$C$79:$D$81,2),VLOOKUP(AB69,Data!$G$79:$H$85,2,0)))","v":""},{"$f":"IF(ISBLANK(Planning!J145),\"\",Planning!J145)","v":""},{"$f":"IF(ISERROR(VLOOKUP(AD69,Data!$J$79:$K$81,2,0)),\"\",VLOOKUP(AD69,Data!$J$79:$K$81,2,0))","v":""},{"$f":"IF(ISERROR(VLOOKUP(C69,INDIRECT(ADDRESS(Data!$AG$67,Data!$AG$65,1,1,\"Data\")):INDIRECT(ADDRESS(Data!$AG$68,Data!$AG$66,1,1,\"Data\")),Data!$AG$84,0)),\"\",VLOOKUP(C69,INDIRECT(ADDRESS(Data!$AG$67,Data!$AG$65,1,1,\"Data\")):INDIRECT(ADDRESS(Data!$AG$68,Data!$AG$66,1,1,\"Data\")),Data!$AG$84,0))","v":""},{"$f":"IF(LEN(B69)=0,\"\",IF(LEN(Data!$AG$70)=0,\"\",Data!$AG$70))","v":""},{"$f":"IF(LEN(AE69)=0,\"\",IF(AE69=\"Yes\",INDIRECT(ADDRESS((ROW(Data!$M$153)+MATCH(AG69,Data!$M$154:$M$293,0)+MATCH(X69,Data!$P$154:$P$174,1)-1),(COLUMN(Data!$Q$153)+MATCH(AF69,Data!$R$153:$U$153,0)),1,1,\"Data\"),TRUE),1))","v":""},"",{"$f":"IF(ISBLANK(Planning!M145),\"\",Planning!M145)","v":""},"",{"$f":"IF(ISERROR(VLOOKUP(AK69,Data!$J$105:$K$109,2,1)),\"\",VLOOKUP(AK69,Data!$J$105:$K$109,2,1))","v":""},{"$f":"IF(ISBLANK(Planning!B199),\"\",Planning!B199)","v":""},{"$f":"IF(ISERROR(INDEX(Data!$D$91:$G$94,MATCH(AM69,Data!$C$91:$C$94,1),MATCH(AF69,Data!$D$90:$G$90,1))),\"\",INDEX(Data!$D$91:$G$94,MATCH(AM69,Data!$C$91:$C$94,1),MATCH(AF69,Data!$D$90:$G$90,1)))","v":""},{"$f":"IF(ISERROR(VLOOKUP(X69,Data!$D$184:$K$200,HLOOKUP(AN69,Data!$E$182:$K$183,2))),\"\",VLOOKUP(X69,Data!$D$184:$K$200,HLOOKUP(AN69,Data!$E$182:$K$183,2)))","v":""},{"$f":"IF(ISERROR(VLOOKUP(AO69,Data!$C$105:$D$110,2)),\"\",VLOOKUP(AO69,Data!$C$105:$D$110,2))","v":""},{"$f":"IF(ISBLANK(Planning!M93),\"\",Planning!M93)","v":""},{"$f":"IF(ISERROR(VLOOKUP(AQ69,Data!$F$105:$G$108,2,1)),\"\",VLOOKUP(AQ69,Data!$F$105:$G$108,2,1))","v":""},{"$f":"IF(ISBLANK(Planning!F199),\"\",Planning!F199)","v":""},{"$f":"IF(ISERROR(VLOOKUP(AS69,Data!$C$99:$D$101,2)),\"\",VLOOKUP(AS69,Data!$C$99:$D$101,2))","v":""},{"$f":"IF(ISBLANK(Planning!H199),\"\",Planning!H199)","v":""},{"$f":"IF(ISERROR(VLOOKUP(AU69,Data!$G$99:$H$101,2)),\"\",VLOOKUP(AU69,Data!$G$99:$H$101,2))","v":""},"","","",{"$f":"IF(AX69=0,VLOOKUP(AY69,Data!$C$116:$D$119,2),\"\")","v":""},{"$f":"IF(LEN(B69)=0,\"\",IF(ISBLANK(Planning!B252),0,Planning!B252))","v":""},{"$f":"IF(LEN(B69)=0,\"\",IF(ISBLANK(Planning!C252),0,Planning!C252))","v":""},{"$f":"IF(LEN(B69)=0,\"\",IF(ISBLANK(Planning!D252),0,Planning!D252))","v":""},{"$f":"IF(LEN(B69)=0,\"\",IF(ISBLANK(Planning!E252),0,Planning!E252))","v":""},{"$f":"IF(LEN(B69)=0,\"\",IF(ISBLANK(Planning!F252),0,Planning!F252))","v":""},{"$f":"IF(LEN(B69)=0,\"\",IF(ISBLANK(Planning!G252),0,Planning!G252))","v":""},{"$f":"IF(LEN(B69)=0,\"\",IF(ISBLANK(Planning!H252),0,Planning!H252))","v":""},{"$f":"IF(LEN(B69)=0,\"\",IF(ISBLANK(Planning!I252),0,Planning!I252))","v":""},{"$f":"IF(LEN(B69)=0,\"\",IF(ISBLANK(Planning!J252),0,Planning!J252))","v":""},"","",{"$f":"IF(AX69=0,VLOOKUP(BK69,Data!$C$116:$D$119,2),\"\")","v":""}]
[null,{"$f":"IF(ISBLANK(Planning!A200),\"\",Planning!A200)","v":""},{"$f":"IF(ISBLANK(Planning!D94),\"\",Planning!D94)","v":""},{"$f":"IF(LEN(C70)=0,\"\",IF(ISNA(VLOOKUP(C70,INDIRECT(ADDRESS(Data!$AG$67,Data!$AG$65,1,1,\"Data\")):INDIRECT(ADDRESS(Data!$AG$68,Data!$AG$66,1,1,\"Data\")),Data!$AG$74,0)),$B$10,VLOOKUP(Planning!D94,INDIRECT(ADDRESS(Data!$AG$67,Data!$AG$65,1,1,\"Data\")):INDIRECT(ADDRESS(Data!$AG$68,Data!$AG$66,1,1,\"Data\")),Data!$AG$74,0)))","v":""},{"$f":"IF(ISBLANK(Planning!I200),\"\",Planning!I200)","v":""},{"$f":"IF(ISBLANK(Planning!I200),\"\",INDEX(Planning!$A$21:$C$25,MATCH(E70,Planning!$A$21:$A$25,0),2))","v":""},{"$f":"IF(ISNA(INDEX(Planning!$A$21:$N$25,MATCH(E70,Planning!$A$21:$A$25,0),12)),\"\",INDEX(Planning!$A$21:$N$25,MATCH(E70,Planning!$A$21:$A$25,0),12))","v":""},{"$f":"IF(ISNA(INDEX(Planning!$A$21:$N$25,MATCH(E70,Planning!$A$21:$A$25,0),8)/2.29),\"\",INDEX(Planning!$A$21:$N$25,MATCH(E70,Planning!$A$21:$A$25,0),8)/2.29)","v":""},{"$f":"IF(ISBLANK(Planning!J200),\"\",Planning!J200)","v":""},"","",{"$f":"IF(ISNA(INDEX(Planning!$A$21:$N$25,MATCH(E70,Planning!$A$21:$A$25,0),14)),\"\",INDEX(Planning!$A$21:$N$25,MATCH(E70,Planning!$A$21:$A$25,0),14))","v":""},{"$f":"IF(ISERROR(VLOOKUP(L70,Data!$Q$65:$R$66,2,1)),\"\",VLOOKUP(L70,Data!$Q$65:$R$66,2,1))","v":""},"","",{"$f":"IF(LEN(B70)=0,\"\",Planning!B94*(1.3333))","v":""},"","","",{"$f":"IF(LEN(B70)=0,\"\",IF(ISBLANK(Data!$AG$69),\"\",Data!$AG$69))","v":""},{"$f":"IF(ISERROR(VLOOKUP(C70,INDIRECT(ADDRESS(Data!$AG$67,Data!$AG$65,1,1,\"Data\")):INDIRECT(ADDRESS(Data!$AG$68,Data!$AG$66,1,1,\"Data\")),Data!$AG$81,0)),\"\",VLOOKUP(C70,INDIRECT(ADDRESS(Data!$AG$67,Data!$AG$65,1,1,\"Data\")):INDIRECT(ADDRESS(Data!$AG$68,Data!$AG$66,1,1,\"Data\")),Data!$AG$81,0))","v":""},{"$f":"IF(LEN(B70)=0,\"\",IF(LEN(Data!$AG$71)=0,\"\",IF(Data!$AG$71=1,\"Yes\", \"No\")))","v":""},{"$f":"IF(ISERROR(IF(V70=\"NO\",U70,VLOOKUP(U70,Data!$AA$72:$AB$85,2,0))),\"\",IF(V70=\"NO\",U70,VLOOKUP(U70,Data!$AA$72:$AB$85,2,0)))","v":""},{"$f":"IF(ISBLANK(Planning!H94),\"\",Planning!H94)","v":""},{"$f":"IF(ISBLANK(Planning!L94),\"\",Planning!L94)","v":""},{"$f":"IF(ISERROR(INDEX(Data!$D$128:$T$146,MATCH(X70,Data!$C$128:$C$146,1),MATCH(Y70,Data!$D$127:$T$127,1))),\"\",INDEX(Data!$D$128:$T$146,MATCH(X70,Data!$C$128:$C$146,1),MATCH(Y70,Data!$D$127:$T$127,1)))","v":""},{"$f":"IF(ISBLANK(Planning!F146),\"\",Planning!F146)","v":""},{"$f":"IF(ISBLANK(Planning!H146),\"\",Planning!H146)","v":""},{"$f":"IF(ISERROR(INDEX(Data!$F$155:$K$156,VLOOKUP(AA70,Data!$C$79:$D$81,2),VLOOKUP(AB70,Data!$G$79:$H$85,2,0))),\"\",INDEX(Data!$F$155:$K$156,VLOOKUP(AA70,Data!$C$79:$D$81,2),VLOOKUP(AB70,Data!$G$79:$H$85,2,0)))","v":""},{"$f":"IF(ISBLANK(Planning!J146),\"\",Planning!J146)","v":""},{"$f":"IF(ISERROR(VLOOKUP(AD70,Data!$J$79:$K$81,2,0)),\"\",VLOOKUP(AD70,Data!$J$79:$K$81,2,0))","v":""},{"$f":"IF(ISERROR(VLOOKUP(C70,INDIRECT(ADDRESS(Data!$AG$67,Data!$AG$65,1,1,\"Data\")):INDIRECT(ADDRESS(Data!$AG$68,Data!$AG$66,1,1,\"Data\")),Data!$AG$84,0)),\"\",VLOOKUP(C70,INDIRECT(ADDRESS(Data!$AG$67,Data!$AG$65,1,1,\"Data\")):INDIRECT(ADDRESS(Data!$AG$68,Data!$AG$66,1,1,\"Data\")),Data!$AG$84,0))","v":""},{"$f":"IF(LEN(B70)=0,\"\",IF(LEN(Data!$AG$70)=0,\"\",Data!$AG$70))","v":""},{"$f":"IF(LEN(AE70)=0,\"\",IF(AE70=\"Yes\",INDIRECT(ADDRESS((ROW(Data!$M$153)+MATCH(AG70,Data!$M$154:$M$293,0)+MATCH(X70,Data!$P$154:$P$174,1)-1),(COLUMN(Data!$Q$153)+MATCH(AF70,Data!$R$153:$U$153,0)),1,1,\"Data\"),TRUE),1))","v":""},"",{"$f":"IF(ISBLANK(Planning!M146),\"\",Planning!M146)","v":""},"",{"$f":"IF(ISERROR(VLOOKUP(AK70,Data!$J$105:$K$109,2,1)),\"\",VLOOKUP(AK70,Data!$J$105:$K$109,2,1))","v":""},{"$f":"IF(ISBLANK(Planning!B200),\"\",Planning!B200)","v":""},{"$f":"IF(ISERROR(INDEX(Data!$D$91:$G$94,MATCH(AM70,Data!$C$91:$C$94,1),MATCH(AF70,Data!$D$90:$G$90,1))),\"\",INDEX(Data!$D$91:$G$94,MATCH(AM70,Data!$C$91:$C$94,1),MATCH(AF70,Data!$D$90:$G$90,1)))","v":""},{"$f":"IF(ISERROR(VLOOKUP(X70,Data!$D$184:$K$200,HLOOKUP(AN70,Data!$E$182:$K$183,2))),\"\",VLOOKUP(X70,Data!$D$184:$K$200,HLOOKUP(AN70,Data!$E$182:$K$183,2)))","v":""},{"$f":"IF(ISERROR(VLOOKUP(AO70,Data!$C$105:$D$110,2)),\"\",VLOOKUP(AO70,Data!$C$105:$D$110,2))","v":""},{"$f":"IF(ISBLANK(Planning!M94),\"\",Planning!M94)","v":""},{"$f":"IF(ISERROR(VLOOKUP(AQ70,Data!$F$105:$G$108,2,1)),\"\",VLOOKUP(AQ70,Data!$F$105:$G$108,2,1))","v":""},{"$f":"IF(ISBLANK(Planning!F200),\"\",Planning!F200)","v":""},{"$f":"IF(ISERROR(VLOOKUP(AS70,Data!$C$99:$D$101,2)),\"\",VLOOKUP(AS70,Data!$C$99:$D$101,2))","v":""},{"$f":"IF(ISBLANK(Planning!H200),\"\",Planning!H200)","v":""},{"$f":"IF(ISERROR(VLOOKUP(AU70,Data!$G$99:$H$101,2)),\"\",VLOOKUP(AU70,Data!$G$99:$H$101,2))","v":""},"","","",{"$f":"IF(AX70=0,VLOOKUP(AY70,Data!$C$116:$D$119,2),\"\")","v":""},{"$f":"IF(LEN(B70)=0,\"\",IF(ISBLANK(Planning!B253),0,Planning!B253))","v":""},{"$f":"IF(LEN(B70)=0,\"\",IF(ISBLANK(Planning!C253),0,Planning!C253))","v":""},{"$f":"IF(LEN(B70)=0,\"\",IF(ISBLANK(Planning!D253),0,Planning!D253))","v":""},{"$f":"IF(LEN(B70)=0,\"\",IF(ISBLANK(Planning!E253),0,Planning!E253))","v":""},{"$f":"IF(LEN(B70)=0,\"\",IF(ISBLANK(Planning!F253),0,Planning!F253))","v":""},{"$f":"IF(LEN(B70)=0,\"\",IF(ISBLANK(Planning!G253),0,Planning!G253))","v":""},{"$f":"IF(LEN(B70)=0,\"\",IF(ISBLANK(Planning!H253),0,Planning!H253))","v":""},{"$f":"IF(LEN(B70)=0,\"\",IF(ISBLANK(Planning!I253),0,Planning!I253))","v":""},{"$f":"IF(LEN(B70)=0,\"\",IF(ISBLANK(Planning!J253),0,Planning!J253))","v":""},"","",{"$f":"IF(AX70=0,VLOOKUP(BK70,Data!$C$116:$D$119,2),\"\")","v":""}]
[null,{"$f":"IF(ISBLANK(Planning!A201),\"\",Planning!A201)","v":""},{"$f":"IF(ISBLANK(Planning!D95),\"\",Planning!D95)","v":""},{"$f":"IF(LEN(C71)=0,\"\",IF(ISNA(VLOOKUP(C71,INDIRECT(ADDRESS(Data!$AG$67,Data!$AG$65,1,1,\"Data\")):INDIRECT(ADDRESS(Data!$AG$68,Data!$AG$66,1,1,\"Data\")),Data!$AG$74,0)),$B$10,VLOOKUP(Planning!D95,INDIRECT(ADDRESS(Data!$AG$67,Data!$AG$65,1,1,\"Data\")):INDIRECT(ADDRESS(Data!$AG$68,Data!$AG$66,1,1,\"Data\")),Data!$AG$74,0)))","v":""},{"$f":"IF(ISBLANK(Planning!I201),\"\",Planning!I201)","v":""},{"$f":"IF(ISBLANK(Planning!I201),\"\",INDEX(Planning!$A$21:$C$25,MATCH(E71,Planning!$A$21:$A$25,0),2))","v":""},{"$f":"IF(ISNA(INDEX(Planning!$A$21:$N$25,MATCH(E71,Planning!$A$21:$A$25,0),12)),\"\",INDEX(Planning!$A$21:$N$25,MATCH(E71,Planning!$A$21:$A$25,0),12))","v":""},{"$f":"IF(ISNA(INDEX(Planning!$A$21:$N$25,MATCH(E71,Planning!$A$21:$A$25,0),8)/2.29),\"\",INDEX(Planning!$A$21:$N$25,MATCH(E71,Planning!$A$21:$A$25,0),8)/2.29)","v":""},{"$f":"IF(ISBLANK(Planning!J201),\"\",Planning!J201)","v":""},"","",{"$f":"IF(ISNA(INDEX(Planning!$A$21:$N$25,MATCH(E71,Planning!$A$21:$A$25,0),14)),\"\",INDEX(Planning!$A$21:$N$25,MATCH(E71,Planning!$A$21:$A$25,0),14))","v":""},{"$f":"IF(ISERROR(VLOOKUP(L71,Data!$Q$65:$R$66,2,1)),\"\",VLOOKUP(L71,Data!$Q$65:$R$66,2,1))","v":""},"","",{"$f":"IF(LEN(B71)=0,\"\",Planning!B95*(1.3333))","v":""},"","","",{"$f":"IF(LEN(B71)=0,\"\",IF(ISBLANK(Data!$AG$69),\"\",Data!$AG$69))","v":""},{"$f":"IF(ISERROR(VLOOKUP(C71,INDIRECT(ADDRESS(Data!$AG$67,Data!$AG$65,1,1,\"Data\")):INDIRECT(ADDRESS(Data!$AG$68,Data!$AG$66,1,1,\"Data\")),Data!$AG$81,0)),\"\",VLOOKUP(C71,INDIRECT(ADDRESS(Data!$AG$67,Data!$AG$65,1,1,\"Data\")):INDIRECT(ADDRESS(Data!$AG$68,Data!$AG$66,1,1,\"Data\")),Data!$AG$81,0))","v":""},{"$f":"IF(LEN(B71)=0,\"\",IF(LEN(Data!$AG$71)=0,\"\",IF(Data!$AG$71=1,\"Yes\", \"No\")))","v":""},{"$f":"IF(ISERROR(IF(V71=\"NO\",U71,VLOOKUP(U71,Data!$AA$72:$AB$85,2,0))),\"\",IF(V71=\"NO\",U71,VLOOKUP(U71,Data!$AA$72:$AB$85,2,0)))","v":""},{"$f":"IF(ISBLANK(Planning!H95),\"\",Planning!H95)","v":""},{"$f":"IF(ISBLANK(Planning!L95),\"\",Planning!L95)","v":""},{"$f":"IF(ISERROR(INDEX(Data!$D$128:$T$146,MATCH(X71,Data!$C$128:$C$146,1),MATCH(Y71,Data!$D$127:$T$127,1))),\"\",INDEX(Data!$D$128:$T$146,MATCH(X71,Data!$C$128:$C$146,1),MATCH(Y71,Data!$D$127:$T$127,1)))","v":""},{"$f":"IF(ISBLANK(Planning!F147),\"\",Planning!F147)","v":""},{"$f":"IF(ISBLANK(Planning!H147),\"\",Planning!H147)","v":""},{"$f":"IF(ISERROR(INDEX(Data!$F$155:$K$156,VLOOKUP(AA71,Data!$C$79:$D$81,2),VLOOKUP(AB71,Data!$G$79:$H$85,2,0))),\"\",INDEX(Data!$F$155:$K$156,VLOOKUP(AA71,Data!$C$79:$D$81,2),VLOOKUP(AB71,Data!$G$79:$H$85,2,0)))","v":""},{"$f":"IF(ISBLANK(Planning!J147),\"\",Planning!J147)","v":""},{"$f":"IF(ISERROR(VLOOKUP(AD71,Data!$J$79:$K$81,2,0)),\"\",VLOOKUP(AD71,Data!$J$79:$K$81,2,0))","v":""},{"$f":"IF(ISERROR(VLOOKUP(C71,INDIRECT(ADDRESS(Data!$AG$67,Data!$AG$65,1,1,\"Data\")):INDIRECT(ADDRESS(Data!$AG$68,Data!$AG$66,1,1,\"Data\")),Data!$AG$84,0)),\"\",VLOOKUP(C71,INDIRECT(ADDRESS(Data!$AG$67,Data!$AG$65,1,1,\"Data\")):INDIRECT(ADDRESS(Data!$AG$68,Data!$AG$66,1,1,\"Data\")),Data!$AG$84,0))","v":""},{"$f":"IF(LEN(B71)=0,\"\",IF(LEN(Data!$AG$70)=0,\"\",Data!$AG$70))","v":""},{"$f":"IF(LEN(AE71)=0,\"\",IF(AE71=\"Yes\",INDIRECT(ADDRESS((ROW(Data!$M$153)+MATCH(AG71,Data!$M$154:$M$293,0)+MATCH(X71,Data!$P$154:$P$174,1)-1),(COLUMN(Data!$Q$153)+MATCH(AF71,Data!$R$153:$U$153,0)),1,1,\"Data\"),TRUE),1))","v":""},"",{"$f":"IF(ISBLANK(Planning!M147),\"\",Planning!M147)","v":""},"",{"$f":"IF(ISERROR(VLOOKUP(AK71,Data!$J$105:$K$109,2,1)),\"\",VLOOKUP(AK71,Data!$J$105:$K$109,2,1))","v":""},{"$f":"IF(ISBLANK(Planning!B201),\"\",Planning!B201)","v":""},{"$f":"IF(ISERROR(INDEX(Data!$D$91:$G$94,MATCH(AM71,Data!$C$91:$C$94,1),MATCH(AF71,Data!$D$90:$G$90,1))),\"\",INDEX(Data!$D$91:$G$94,MATCH(AM71,Data!$C$91:$C$94,1),MATCH(AF71,Data!$D$90:$G$90,1)))","v":""},{"$f":"IF(ISERROR(VLOOKUP(X71,Data!$D$184:$K$200,HLOOKUP(AN71,Data!$E$182:$K$183,2))),\"\",VLOOKUP(X71,Data!$D$184:$K$200,HLOOKUP(AN71,Data!$E$182:$K$183,2)))","v":""},{"$f":"IF(ISERROR(VLOOKUP(AO71,Data!$C$105:$D$110,2)),\"\",VLOOKUP(AO71,Data!$C$105:$D$110,2))","v":""},{"$f":"IF(ISBLANK(Planning!M95),\"\",Planning!M95)","v":""},{"$f":"IF(ISERROR(VLOOKUP(AQ71,Data!$F$105:$G$108,2,1)),\"\",VLOOKUP(AQ71,Data!$F$105:$G$108,2,1))","v":""},{"$f":"IF(ISBLANK(Planning!F201),\"\",Planning!F201)","v":""},{"$f":"IF(ISERROR(VLOOKUP(AS71,Data!$C$99:$D$101,2)),\"\",VLOOKUP(AS71,Data!$C$99:$D$101,2))","v":""},{"$f":"IF(ISBLANK(Planning!H201),\"\",Planning!H201)","v":""},{"$f":"IF(ISERROR(VLOOKUP(AU71,Data!$G$99:$H$101,2)),\"\",VLOOKUP(AU71,Data!$G$99:$H$101,2))","v":""},"","","",{"$f":"IF(AX71=0,VLOOKUP(AY71,Data!$C$116:$D$119,2),\"\")","v":""},{"$f":"IF(LEN(B71)=0,\"\",IF(ISBLANK(Planning!B254),0,Planning!B254))","v":""},{"$f":"IF(LEN(B71)=0,\"\",IF(ISBLANK(Planning!C254),0,Planning!C254))","v":""},{"$f":"IF(LEN(B71)=0,\"\",IF(ISBLANK(Planning!D254),0,Planning!D254))","v":""},{"$f":"IF(LEN(B71)=0,\"\",IF(ISBLANK(Planning!E254),0,Planning!E254))","v":""},{"$f":"IF(LEN(B71)=0,\"\",IF(ISBLANK(Planning!F254),0,Planning!F254))","v":""},{"$f":"IF(LEN(B71)=0,\"\",IF(ISBLANK(Planning!G254),0,Planning!G254))","v":""},{"$f":"IF(LEN(B71)=0,\"\",IF(ISBLANK(Planning!H254),0,Planning!H254))","v":""},{"$f":"IF(LEN(B71)=0,\"\",IF(ISBLANK(Planning!I254),0,Planning!I254))","v":""},{"$f":"IF(LEN(B71)=0,\"\",IF(ISBLANK(Planning!J254),0,Planning!J254))","v":""},"","",{"$f":"IF(AX71=0,VLOOKUP(BK71,Data!$C$116:$D$119,2),\"\")","v":""}]
[null,{"$f":"IF(ISBLANK(Planning!A202),\"\",Planning!A202)","v":""},{"$f":"IF(ISBLANK(Planning!D96),\"\",Planning!D96)","v":""},{"$f":"IF(LEN(C72)=0,\"\",IF(ISNA(VLOOKUP(C72,INDIRECT(ADDRESS(Data!$AG$67,Data!$AG$65,1,1,\"Data\")):INDIRECT(ADDRESS(Data!$AG$68,Data!$AG$66,1,1,\"Data\")),Data!$AG$74,0)),$B$10,VLOOKUP(Planning!D96,INDIRECT(ADDRESS(Data!$AG$67,Data!$AG$65,1,1,\"Data\")):INDIRECT(ADDRESS(Data!$AG$68,Data!$AG$66,1,1,\"Data\")),Data!$AG$74,0)))","v":""},{"$f":"IF(ISBLANK(Planning!I202),\"\",Planning!I202)","v":""},{"$f":"IF(ISBLANK(Planning!I202),\"\",INDEX(Planning!$A$21:$C$25,MATCH(E72,Planning!$A$21:$A$25,0),2))","v":""},{"$f":"IF(ISNA(INDEX(Planning!$A$21:$N$25,MATCH(E72,Planning!$A$21:$A$25,0),12)),\"\",INDEX(Planning!$A$21:$N$25,MATCH(E72,Planning!$A$21:$A$25,0),12))","v":""},{"$f":"IF(ISNA(INDEX(Planning!$A$21:$N$25,MATCH(E72,Planning!$A$21:$A$25,0),8)/2.29),\"\",INDEX(Planning!$A$21:$N$25,MATCH(E72,Planning!$A$21:$A$25,0),8)/2.29)","v":""},{"$f":"IF(ISBLANK(Planning!J202),\"\",Planning!J202)","v":""},"","",{"$f":"IF(ISNA(INDEX(Planning!$A$21:$N$25,MATCH(E72,Planning!$A$21:$A$25,0),14)),\"\",INDEX(Planning!$A$21:$N$25,MATCH(E72,Planning!$A$21:$A$25,0),14))","v":""},{"$f":"IF(ISERROR(VLOOKUP(L72,Data!$Q$65:$R$66,2,1)),\"\",VLOOKUP(L72,Data!$Q$65:$R$66,2,1))","v":""},"","",{"$f":"IF(LEN(B72)=0,\"\",Planning!B96*(1.3333))","v":""},"","","",{"$f":"IF(LEN(B72)=0,\"\",IF(ISBLANK(Data!$AG$69),\"\",Data!$AG$69))","v":""},{"$f":"IF(ISERROR(VLOOKUP(C72,INDIRECT(ADDRESS(Data!$AG$67,Data!$AG$65,1,1,\"Data\")):INDIRECT(ADDRESS(Data!$AG$68,Data!$AG$66,1,1,\"Data\")),Data!$AG$81,0)),\"\",VLOOKUP(C72,INDIRECT(ADDRESS(Data!$AG$67,Data!$AG$65,1,1,\"Data\")):INDIRECT(ADDRESS(Data!$AG$68,Data!$AG$66,1,1,\"Data\")),Data!$AG$81,0))","v":""},{"$f":"IF(LEN(B72)=0,\"\",IF(LEN(Data!$AG$71)=0,\"\",IF(Data!$AG$71=1,\"Yes\", \"No\")))","v":""},{"$f":"IF(ISERROR(IF(V72=\"NO\",U72,VLOOKUP(U72,Data!$AA$72:$AB$85,2,0))),\"\",IF(V72=\"NO\",U72,VLOOKUP(U72,Data!$AA$72:$AB$85,2,0)))","v":""},{"$f":"IF(ISBLANK(Planning!H96),\"\",Planning!H96)","v":""},{"$f":"IF(ISBLANK(Planning!L96),\"\",Planning!L96)","v":""},{"$f":"IF(ISERROR(INDEX(Data!$D$128:$T$146,MATCH(X72,Data!$C$128:$C$146,1),MATCH(Y72,Data!$D$127:$T$127,1))),\"\",INDEX(Data!$D$128:$T$146,MATCH(X72,Data!$C$128:$C$146,1),MATCH(Y72,Data!$D$127:$T$127,1)))","v":""},{"$f":"IF(ISBLANK(Planning!F148),\"\",Planning!F148)","v":""},{"$f":"IF(ISBLANK(Planning!H148),\"\",Planning!H148)","v":""},{"$f":"IF(ISERROR(INDEX(Data!$F$155:$K$156,VLOOKUP(AA72,Data!$C$79:$D$81,2),VLOOKUP(AB72,Data!$G$79:$H$85,2,0))),\"\",INDEX(Data!$F$155:$K$156,VLOOKUP(AA72,Data!$C$79:$D$81,2),VLOOKUP(AB72,Data!$G$79:$H$85,2,0)))","v":""},{"$f":"IF(ISBLANK(Planning!J148),\"\",Planning!J148)","v":""},{"$f":"IF(ISERROR(VLOOKUP(AD72,Data!$J$79:$K$81,2,0)),\"\",VLOOKUP(AD72,Data!$J$79:$K$81,2,0))","v":""},{"$f":"IF(ISERROR(VLOOKUP(C72,INDIRECT(ADDRESS(Data!$AG$67,Data!$AG$65,1,1,\"Data\")):INDIRECT(ADDRESS(Data!$AG$68,Data!$AG$66,1,1,\"Data\")),Data!$AG$84,0)),\"\",VLOOKUP(C72,INDIRECT(ADDRESS(Data!$AG$67,Data!$AG$65,1,1,\"Data\")):INDIRECT(ADDRESS(Data!$AG$68,Data!$AG$66,1,1,\"Data\")),Data!$AG$84,0))","v":""},{"$f":"IF(LEN(B72)=0,\"\",IF(LEN(Data!$AG$70)=0,\"\",Data!$AG$70))","v":""},{"$f":"IF(LEN(AE72)=0,\"\",IF(AE72=\"Yes\",INDIRECT(ADDRESS((ROW(Data!$M$153)+MATCH(AG72,Data!$M$154:$M$293,0)+MATCH(X72,Data!$P$154:$P$174,1)-1),(COLUMN(Data!$Q$153)+MATCH(AF72,Data!$R$153:$U$153,0)),1,1,\"Data\"),TRUE),1))","v":""},"",{"$f":"IF(ISBLANK(Planning!M148),\"\",Planning!M148)","v":""},"",{"$f":"IF(ISERROR(VLOOKUP(AK72,Data!$J$105:$K$109,2,1)),\"\",VLOOKUP(AK72,Data!$J$105:$K$109,2,1))","v":""},{"$f":"IF(ISBLANK(Planning!B202),\"\",Planning!B202)","v":""},{"$f":"IF(ISERROR(INDEX(Data!$D$91:$G$94,MATCH(AM72,Data!$C$91:$C$94,1),MATCH(AF72,Data!$D$90:$G$90,1))),\"\",INDEX(Data!$D$91:$G$94,MATCH(AM72,Data!$C$91:$C$94,1),MATCH(AF72,Data!$D$90:$G$90,1)))","v":""},{"$f":"IF(ISERROR(VLOOKUP(X72,Data!$D$184:$K$200,HLOOKUP(AN72,Data!$E$182:$K$183,2))),\"\",VLOOKUP(X72,Data!$D$184:$K$200,HLOOKUP(AN72,Data!$E$182:$K$183,2)))","v":""},{"$f":"IF(ISERROR(VLOOKUP(AO72,Data!$C$105:$D$110,2)),\"\",VLOOKUP(AO72,Data!$C$105:$D$110,2))","v":""},{"$f":"IF(ISBLANK(Planning!M96),\"\",Planning!M96)","v":""},{"$f":"IF(ISERROR(VLOOKUP(AQ72,Data!$F$105:$G$108,2,1)),\"\",VLOOKUP(AQ72,Data!$F$105:$G$108,2,1))","v":""},{"$f":"IF(ISBLANK(Planning!F202),\"\",Planning!F202)","v":""},{"$f":"IF(ISERROR(VLOOKUP(AS72,Data!$C$99:$D$101,2)),\"\",VLOOKUP(AS72,Data!$C$99:$D$101,2))","v":""},{"$f":"IF(ISBLANK(Planning!H202),\"\",Planning!H202)","v":""},{"$f":"IF(ISERROR(VLOOKUP(AU72,Data!$G$99:$H$101,2)),\"\",VLOOKUP(AU72,Data!$G$99:$H$101,2))","v":""},"","","",{"$f":"IF(AX72=0,VLOOKUP(AY72,Data!$C$116:$D$119,2),\"\")","v":""},{"$f":"IF(LEN(B72)=0,\"\",IF(ISBLANK(Planning!B255),0,Planning!B255))","v":""},{"$f":"IF(LEN(B72)=0,\"\",IF(ISBLANK(Planning!C255),0,Planning!C255))","v":""},{"$f":"IF(LEN(B72)=0,\"\",IF(ISBLANK(Planning!D255),0,Planning!D255))","v":""},{"$f":"IF(LEN(B72)=0,\"\",IF(ISBLANK(Planning!E255),0,Planning!E255))","v":""},{"$f":"IF(LEN(B72)=0,\"\",IF(ISBLANK(Planning!F255),0,Planning!F255))","v":""},{"$f":"IF(LEN(B72)=0,\"\",IF(ISBLANK(Planning!G255),0,Planning!G255))","v":""},{"$f":"IF(LEN(B72)=0,\"\",IF(ISBLANK(Planning!H255),0,Planning!H255))","v":""},{"$f":"IF(LEN(B72)=0,\"\",IF(ISBLANK(Planning!I255),0,Planning!I255))","v":""},{"$f":"IF(LEN(B72)=0,\"\",IF(ISBLANK(Planning!J255),0,Planning!J255))","v":""},"","",{"$f":"IF(AX72=0,VLOOKUP(BK72,Data!$C$116:$D$119,2),\"\")","v":""}]
[null,{"$f":"IF(ISBLANK(Planning!A203),\"\",Planning!A203)","v":""},{"$f":"IF(ISBLANK(Planning!D97),\"\",Planning!D97)","v":""},{"$f":"IF(LEN(C73)=0,\"\",IF(ISNA(VLOOKUP(C73,INDIRECT(ADDRESS(Data!$AG$67,Data!$AG$65,1,1,\"Data\")):INDIRECT(ADDRESS(Data!$AG$68,Data!$AG$66,1,1,\"Data\")),Data!$AG$74,0)),$B$10,VLOOKUP(Planning!D97,INDIRECT(ADDRESS(Data!$AG$67,Data!$AG$65,1,1,\"Data\")):INDIRECT(ADDRESS(Data!$AG$68,Data!$AG$66,1,1,\"Data\")),Data!$AG$74,0)))","v":""},{"$f":"IF(ISBLANK(Planning!I203),\"\",Planning!I203)","v":""},{"$f":"IF(ISBLANK(Planning!I203),\"\",INDEX(Planning!$A$21:$C$25,MATCH(E73,Planning!$A$21:$A$25,0),2))","v":""},{"$f":"IF(ISNA(INDEX(Planning!$A$21:$N$25,MATCH(E73,Planning!$A$21:$A$25,0),12)),\"\",INDEX(Planning!$A$21:$N$25,MATCH(E73,Planning!$A$21:$A$25,0),12))","v":""},{"$f":"IF(ISNA(INDEX(Planning!$A$21:$N$25,MATCH(E73,Planning!$A$21:$A$25,0),8)/2.29),\"\",INDEX(Planning!$A$21:$N$25,MATCH(E73,Planning!$A$21:$A$25,0),8)/2.29)","v":""},{"$f":"IF(ISBLANK(Planning!J203),\"\",Planning!J203)","v":""},"","",{"$f":"IF(ISNA(INDEX(Planning!$A$21:$N$25,MATCH(E73,Planning!$A$21:$A$25,0),14)),\"\",INDEX(Planning!$A$21:$N$25,MATCH(E73,Planning!$A$21:$A$25,0),14))","v":""},{"$f":"IF(ISERROR(VLOOKUP(L73,Data!$Q$65:$R$66,2,1)),\"\",VLOOKUP(L73,Data!$Q$65:$R$66,2,1))","v":""},"","",{"$f":"IF(LEN(B73)=0,\"\",Planning!B97*(1.3333))","v":""},"","","",{"$f":"IF(LEN(B73)=0,\"\",IF(ISBLANK(Data!$AG$69),\"\",Data!$AG$69))","v":""},{"$f":"IF(ISERROR(VLOOKUP(C73,INDIRECT(ADDRESS(Data!$AG$67,Data!$AG$65,1,1,\"Data\")):INDIRECT(ADDRESS(Data!$AG$68,Data!$AG$66,1,1,\"Data\")),Data!$AG$81,0)),\"\",VLOOKUP(C73,INDIRECT(ADDRESS(Data!$AG$67,Data!$AG$65,1,1,\"Data\")):INDIRECT(ADDRESS(Data!$AG$68,Data!$AG$66,1,1,\"Data\")),Data!$AG$81,0))","v":""},{"$f":"IF(LEN(B73)=0,\"\",IF(LEN(Data!$AG$71)=0,\"\",IF(Data!$AG$71=1,\"Yes\", \"No\")))","v":""},{"$f":"IF(ISERROR(IF(V73=\"NO\",U73,VLOOKUP(U73,Data!$AA$72:$AB$85,2,0))),\"\",IF(V73=\"NO\",U73,VLOOKUP(U73,Data!$AA$72:$AB$85,2,0)))","v":""},{"$f":"IF(ISBLANK(Planning!H97),\"\",Planning!H97)","v":""},{"$f":"IF(ISBLANK(Planning!L97),\"\",Planning!L97)","v":""},{"$f":"IF(ISERROR(INDEX(Data!$D$128:$T$146,MATCH(X73,Data!$C$128:$C$146,1),MATCH(Y73,Data!$D$127:$T$127,1))),\"\",INDEX(Data!$D$128:$T$146,MATCH(X73,Data!$C$128:$C$146,1),MATCH(Y73,Data!$D$127:$T$127,1)))","v":""},{"$f":"IF(ISBLANK(Planning!F149),\"\",Planning!F149)","v":""},{"$f":"IF(ISBLANK(Planning!H149),\"\",Planning!H149)","v":""},{"$f":"IF(ISERROR(INDEX(Data!$F$155:$K$156,VLOOKUP(AA73,Data!$C$79:$D$81,2),VLOOKUP(AB73,Data!$G$79:$H$85,2,0))),\"\",INDEX(Data!$F$155:$K$156,VLOOKUP(AA73,Data!$C$79:$D$81,2),VLOOKUP(AB73,Data!$G$79:$H$85,2,0)))","v":""},{"$f":"IF(ISBLANK(Planning!J149),\"\",Planning!J149)","v":""},{"$f":"IF(ISERROR(VLOOKUP(AD73,Data!$J$79:$K$81,2,0)),\"\",VLOOKUP(AD73,Data!$J$79:$K$81,2,0))","v":""},{"$f":"IF(ISERROR(VLOOKUP(C73,INDIRECT(ADDRESS(Data!$AG$67,Data!$AG$65,1,1,\"Data\")):INDIRECT(ADDRESS(Data!$AG$68,Data!$AG$66,1,1,\"Data\")),Data!$AG$84,0)),\"\",VLOOKUP(C73,INDIRECT(ADDRESS(Data!$AG$67,Data!$AG$65,1,1,\"Data\")):INDIRECT(ADDRESS(Data!$AG$68,Data!$AG$66,1,1,\"Data\")),Data!$AG$84,0))","v":""},{"$f":"IF(LEN(B73)=0,\"\",IF(LEN(Data!$AG$70)=0,\"\",Data!$AG$70))","v":""},{"$f":"IF(LEN(AE73)=0,\"\",IF(AE73=\"Yes\",INDIRECT(ADDRESS((ROW(Data!$M$153)+MATCH(AG73,Data!$M$154:$M$293,0)+MATCH(X73,Data!$P$154:$P$174,1)-1),(COLUMN(Data!$Q$153)+MATCH(AF73,Data!$R$153:$U$153,0)),1,1,\"Data\"),TRUE),1))","v":""},"",{"$f":"IF(ISBLANK(Planning!M149),\"\",Planning!M149)","v":""},"",{"$f":"IF(ISERROR(VLOOKUP(AK73,Data!$J$105:$K$109,2,1)),\"\",VLOOKUP(AK73,Data!$J$105:$K$109,2,1))","v":""},{"$f":"IF(ISBLANK(Planning!B203),\"\",Planning!B203)","v":""},{"$f":"IF(ISERROR(INDEX(Data!$D$91:$G$94,MATCH(AM73,Data!$C$91:$C$94,1),MATCH(AF73,Data!$D$90:$G$90,1))),\"\",INDEX(Data!$D$91:$G$94,MATCH(AM73,Data!$C$91:$C$94,1),MATCH(AF73,Data!$D$90:$G$90,1)))","v":""},{"$f":"IF(ISERROR(VLOOKUP(X73,Data!$D$184:$K$200,HLOOKUP(AN73,Data!$E$182:$K$183,2))),\"\",VLOOKUP(X73,Data!$D$184:$K$200,HLOOKUP(AN73,Data!$E$182:$K$183,2)))","v":""},{"$f":"IF(ISERROR(VLOOKUP(AO73,Data!$C$105:$D$110,2)),\"\",VLOOKUP(AO73,Data!$C$105:$D$110,2))","v":""},{"$f":"IF(ISBLANK(Planning!M97),\"\",Planning!M97)","v":""},{"$f":"IF(ISERROR(VLOOKUP(AQ73,Data!$F$105:$G$108,2,1)),\"\",VLOOKUP(AQ73,Data!$F$105:$G$108,2,1))","v":""},{"$f":"IF(ISBLANK(Planning!F203),\"\",Planning!F203)","v":""},{"$f":"IF(ISERROR(VLOOKUP(AS73,Data!$C$99:$D$101,2)),\"\",VLOOKUP(AS73,Data!$C$99:$D$101,2))","v":""},{"$f":"IF(ISBLANK(Planning!H203),\"\",Planning!H203)","v":""},{"$f":"IF(ISERROR(VLOOKUP(AU73,Data!$G$99:$H$101,2)),\"\",VLOOKUP(AU73,Data!$G$99:$H$101,2))","v":""},"","","",{"$f":"IF(AX73=0,VLOOKUP(AY73,Data!$C$116:$D$119,2),\"\")","v":""},{"$f":"IF(LEN(B73)=0,\"\",IF(ISBLANK(Planning!B256),0,Planning!B256))","v":""},{"$f":"IF(LEN(B73)=0,\"\",IF(ISBLANK(Planning!C256),0,Planning!C256))","v":""},{"$f":"IF(LEN(B73)=0,\"\",IF(ISBLANK(Planning!D256),0,Planning!D256))","v":""},{"$f":"IF(LEN(B73)=0,\"\",IF(ISBLANK(Planning!E256),0,Planning!E256))","v":""},{"$f":"IF(LEN(B73)=0,\"\",IF(ISBLANK(Planning!F256),0,Planning!F256))","v":""},{"$f":"IF(LEN(B73)=0,\"\",IF(ISBLANK(Planning!G256),0,Planning!G256))","v":""},{"$f":"IF(LEN(B73)=0,\"\",IF(ISBLANK(Planning!H256),0,Planning!H256))","v":""},{"$f":"IF(LEN(B73)=0,\"\",IF(ISBLANK(Planning!I256),0,Planning!I256))","v":""},{"$f":"IF(LEN(B73)=0,\"\",IF(ISBLANK(Planning!J256),0,Planning!J256))","v":""},"","",{"$f":"IF(AX73=0,VLOOKUP(BK73,Data!$C$116:$D$119,2),\"\")","v":""}]
[null,{"$f":"IF(ISBLANK(Planning!A204),\"\",Planning!A204)","v":""},{"$f":"IF(ISBLANK(Planning!D98),\"\",Planning!D98)","v":""},{"$f":"IF(LEN(C74)=0,\"\",IF(ISNA(VLOOKUP(C74,INDIRECT(ADDRESS(Data!$AG$67,Data!$AG$65,1,1,\"Data\")):INDIRECT(ADDRESS(Data!$AG$68,Data!$AG$66,1,1,\"Data\")),Data!$AG$74,0)),$B$10,VLOOKUP(Planning!D98,INDIRECT(ADDRESS(Data!$AG$67,Data!$AG$65,1,1,\"Data\")):INDIRECT(ADDRESS(Data!$AG$68,Data!$AG$66,1,1,\"Data\")),Data!$AG$74,0)))","v":""},{"$f":"IF(ISBLANK(Planning!I204),\"\",Planning!I204)","v":""},{"$f":"IF(ISBLANK(Planning!I204),\"\",INDEX(Planning!$A$21:$C$25,MATCH(E74,Planning!$A$21:$A$25,0),2))","v":""},{"$f":"IF(ISNA(INDEX(Planning!$A$21:$N$25,MATCH(E74,Planning!$A$21:$A$25,0),12)),\"\",INDEX(Planning!$A$21:$N$25,MATCH(E74,Planning!$A$21:$A$25,0),12))","v":""},{"$f":"IF(ISNA(INDEX(Planning!$A$21:$N$25,MATCH(E74,Planning!$A$21:$A$25,0),8)/2.29),\"\",INDEX(Planning!$A$21:$N$25,MATCH(E74,Planning!$A$21:$A$25,0),8)/2.29)","v":""},{"$f":"IF(ISBLANK(Planning!J204),\"\",Planning!J204)","v":""},"","",{"$f":"IF(ISNA(INDEX(Planning!$A$21:$N$25,MATCH(E74,Planning!$A$21:$A$25,0),14)),\"\",INDEX(Planning!$A$21:$N$25,MATCH(E74,Planning!$A$21:$A$25,0),14))","v":""},{"$f":"IF(ISERROR(VLOOKUP(L74,Data!$Q$65:$R$66,2,1)),\"\",VLOOKUP(L74,Data!$Q$65:$R$66,2,1))","v":""},"","",{"$f":"IF(LEN(B74)=0,\"\",Planning!B98*(1.3333))","v":""},"","","",{"$f":"IF(LEN(B74)=0,\"\",IF(ISBLANK(Data!$AG$69),\"\",Data!$AG$69))","v":""},{"$f":"IF(ISERROR(VLOOKUP(C74,INDIRECT(ADDRESS(Data!$AG$67,Data!$AG$65,1,1,\"Data\")):INDIRECT(ADDRESS(Data!$AG$68,Data!$AG$66,1,1,\"Data\")),Data!$AG$81,0)),\"\",VLOOKUP(C74,INDIRECT(ADDRESS(Data!$AG$67,Data!$AG$65,1,1,\"Data\")):INDIRECT(ADDRESS(Data!$AG$68,Data!$AG$66,1,1,\"Data\")),Data!$AG$81,0))","v":""},{"$f":"IF(LEN(B74)=0,\"\",IF(LEN(Data!$AG$71)=0,\"\",IF(Data!$AG$71=1,\"Yes\", \"No\")))","v":""},{"$f":"IF(ISERROR(IF(V74=\"NO\",U74,VLOOKUP(U74,Data!$AA$72:$AB$85,2,0))),\"\",IF(V74=\"NO\",U74,VLOOKUP(U74,Data!$AA$72:$AB$85,2,0)))","v":""},{"$f":"IF(ISBLANK(Planning!H98),\"\",Planning!H98)","v":""},{"$f":"IF(ISBLANK(Planning!L98),\"\",Planning!L98)","v":""},{"$f":"IF(ISERROR(INDEX(Data!$D$128:$T$146,MATCH(X74,Data!$C$128:$C$146,1),MATCH(Y74,Data!$D$127:$T$127,1))),\"\",INDEX(Data!$D$128:$T$146,MATCH(X74,Data!$C$128:$C$146,1),MATCH(Y74,Data!$D$127:$T$127,1)))","v":""},{"$f":"IF(ISBLANK(Planning!F150),\"\",Planning!F150)","v":""},{"$f":"IF(ISBLANK(Planning!H150),\"\",Planning!H150)","v":""},{"$f":"IF(ISERROR(INDEX(Data!$F$155:$K$156,VLOOKUP(AA74,Data!$C$79:$D$81,2),VLOOKUP(AB74,Data!$G$79:$H$85,2,0))),\"\",INDEX(Data!$F$155:$K$156,VLOOKUP(AA74,Data!$C$79:$D$81,2),VLOOKUP(AB74,Data!$G$79:$H$85,2,0)))","v":""},{"$f":"IF(ISBLANK(Planning!J150),\"\",Planning!J150)","v":""},{"$f":"IF(ISERROR(VLOOKUP(AD74,Data!$J$79:$K$81,2,0)),\"\",VLOOKUP(AD74,Data!$J$79:$K$81,2,0))","v":""},{"$f":"IF(ISERROR(VLOOKUP(C74,INDIRECT(ADDRESS(Data!$AG$67,Data!$AG$65,1,1,\"Data\")):INDIRECT(ADDRESS(Data!$AG$68,Data!$AG$66,1,1,\"Data\")),Data!$AG$84,0)),\"\",VLOOKUP(C74,INDIRECT(ADDRESS(Data!$AG$67,Data!$AG$65,1,1,\"Data\")):INDIRECT(ADDRESS(Data!$AG$68,Data!$AG$66,1,1,\"Data\")),Data!$AG$84,0))","v":""},{"$f":"IF(LEN(B74)=0,\"\",IF(LEN(Data!$AG$70)=0,\"\",Data!$AG$70))","v":""},{"$f":"IF(LEN(AE74)=0,\"\",IF(AE74=\"Yes\",INDIRECT(ADDRESS((ROW(Data!$M$153)+MATCH(AG74,Data!$M$154:$M$293,0)+MATCH(X74,Data!$P$154:$P$174,1)-1),(COLUMN(Data!$Q$153)+MATCH(AF74,Data!$R$153:$U$153,0)),1,1,\"Data\"),TRUE),1))","v":""},"",{"$f":"IF(ISBLANK(Planning!M150),\"\",Planning!M150)","v":""},"",{"$f":"IF(ISERROR(VLOOKUP(AK74,Data!$J$105:$K$109,2,1)),\"\",VLOOKUP(AK74,Data!$J$105:$K$109,2,1))","v":""},{"$f":"IF(ISBLANK(Planning!B204),\"\",Planning!B204)","v":""},{"$f":"IF(ISERROR(INDEX(Data!$D$91:$G$94,MATCH(AM74,Data!$C$91:$C$94,1),MATCH(AF74,Data!$D$90:$G$90,1))),\"\",INDEX(Data!$D$91:$G$94,MATCH(AM74,Data!$C$91:$C$94,1),MATCH(AF74,Data!$D$90:$G$90,1)))","v":""},{"$f":"IF(ISERROR(VLOOKUP(X74,Data!$D$184:$K$200,HLOOKUP(AN74,Data!$E$182:$K$183,2))),\"\",VLOOKUP(X74,Data!$D$184:$K$200,HLOOKUP(AN74,Data!$E$182:$K$183,2)))","v":""},{"$f":"IF(ISERROR(VLOOKUP(AO74,Data!$C$105:$D$110,2)),\"\",VLOOKUP(AO74,Data!$C$105:$D$110,2))","v":""},{"$f":"IF(ISBLANK(Planning!M98),\"\",Planning!M98)","v":""},{"$f":"IF(ISERROR(VLOOKUP(AQ74,Data!$F$105:$G$108,2,1)),\"\",VLOOKUP(AQ74,Data!$F$105:$G$108,2,1))","v":""},{"$f":"IF(ISBLANK(Planning!F204),\"\",Planning!F204)","v":""},{"$f":"IF(ISERROR(VLOOKUP(AS74,Data!$C$99:$D$101,2)),\"\",VLOOKUP(AS74,Data!$C$99:$D$101,2))","v":""},{"$f":"IF(ISBLANK(Planning!H204),\"\",Planning!H204)","v":""},{"$f":"IF(ISERROR(VLOOKUP(AU74,Data!$G$99:$H$101,2)),\"\",VLOOKUP(AU74,Data!$G$99:$H$101,2))","v":""},"","","",{"$f":"IF(AX74=0,VLOOKUP(AY74,Data!$C$116:$D$119,2),\"\")","v":""},{"$f":"IF(LEN(B74)=0,\"\",IF(ISBLANK(Planning!B257),0,Planning!B257))","v":""},{"$f":"IF(LEN(B74)=0,\"\",IF(ISBLANK(Planning!C257),0,Planning!C257))","v":""},{"$f":"IF(LEN(B74)=0,\"\",IF(ISBLANK(Planning!D257),0,Planning!D257))","v":""},{"$f":"IF(LEN(B74)=0,\"\",IF(ISBLANK(Planning!E257),0,Planning!E257))","v":""},{"$f":"IF(LEN(B74)=0,\"\",IF(ISBLANK(Planning!F257),0,Planning!F257))","v":""},{"$f":"IF(LEN(B74)=0,\"\",IF(ISBLANK(Planning!G257),0,Planning!G257))","v":""},{"$f":"IF(LEN(B74)=0,\"\",IF(ISBLANK(Planning!H257),0,Planning!H257))","v":""},{"$f":"IF(LEN(B74)=0,\"\",IF(ISBLANK(Planning!I257),0,Planning!I257))","v":""},{"$f":"IF(LEN(B74)=0,\"\",IF(ISBLANK(Planning!J257),0,Planning!J257))","v":""},"","",{"$f":"IF(AX74=0,VLOOKUP(BK74,Data!$C$116:$D$119,2),\"\")","v":""}]
[null,{"$f":"IF(ISBLANK(Planning!A205),\"\",Planning!A205)","v":""},{"$f":"IF(ISBLANK(Planning!D99),\"\",Planning!D99)","v":""},{"$f":"IF(LEN(C75)=0,\"\",IF(ISNA(VLOOKUP(C75,INDIRECT(ADDRESS(Data!$AG$67,Data!$AG$65,1,1,\"Data\")):INDIRECT(ADDRESS(Data!$AG$68,Data!$AG$66,1,1,\"Data\")),Data!$AG$74,0)),$B$10,VLOOKUP(Planning!D99,INDIRECT(ADDRESS(Data!$AG$67,Data!$AG$65,1,1,\"Data\")):INDIRECT(ADDRESS(Data!$AG$68,Data!$AG$66,1,1,\"Data\")),Data!$AG$74,0)))","v":""},{"$f":"IF(ISBLANK(Planning!I205),\"\",Planning!I205)","v":""},{"$f":"IF(ISBLANK(Planning!I205),\"\",INDEX(Planning!$A$21:$C$25,MATCH(E75,Planning!$A$21:$A$25,0),2))","v":""},{"$f":"IF(ISNA(INDEX(Planning!$A$21:$N$25,MATCH(E75,Planning!$A$21:$A$25,0),12)),\"\",INDEX(Planning!$A$21:$N$25,MATCH(E75,Planning!$A$21:$A$25,0),12))","v":""},{"$f":"IF(ISNA(INDEX(Planning!$A$21:$N$25,MATCH(E75,Planning!$A$21:$A$25,0),8)/2.29),\"\",INDEX(Planning!$A$21:$N$25,MATCH(E75,Planning!$A$21:$A$25,0),8)/2.29)","v":""},{"$f":"IF(ISBLANK(Planning!J205),\"\",Planning!J205)","v":""},"","",{"$f":"IF(ISNA(INDEX(Planning!$A$21:$N$25,MATCH(E75,Planning!$A$21:$A$25,0),14)),\"\",INDEX(Planning!$A$21:$N$25,MATCH(E75,Planning!$A$21:$A$25,0),14))","v":""},{"$f":"IF(ISERROR(VLOOKUP(L75,Data!$Q$65:$R$66,2,1)),\"\",VLOOKUP(L75,Data!$Q$65:$R$66,2,1))","v":""},"","",{"$f":"IF(LEN(B75)=0,\"\",Planning!B99*(1.3333))","v":""},"","","",{"$f":"IF(LEN(B75)=0,\"\",IF(ISBLANK(Data!$AG$69),\"\",Data!$AG$69))","v":""},{"$f":"IF(ISERROR(VLOOKUP(C75,INDIRECT(ADDRESS(Data!$AG$67,Data!$AG$65,1,1,\"Data\")):INDIRECT(ADDRESS(Data!$AG$68,Data!$AG$66,1,1,\"Data\")),Data!$AG$81,0)),\"\",VLOOKUP(C75,INDIRECT(ADDRESS(Data!$AG$67,Data!$AG$65,1,1,\"Data\")):INDIRECT(ADDRESS(Data!$AG$68,Data!$AG$66,1,1,\"Data\")),Data!$AG$81,0))","v":""},{"$f":"IF(LEN(B75)=0,\"\",IF(LEN(Data!$AG$71)=0,\"\",IF(Data!$AG$71=1,\"Yes\", \"No\")))","v":""},{"$f":"IF(ISERROR(IF(V75=\"NO\",U75,VLOOKUP(U75,Data!$AA$72:$AB$85,2,0))),\"\",IF(V75=\"NO\",U75,VLOOKUP(U75,Data!$AA$72:$AB$85,2,0)))","v":""},{"$f":"IF(ISBLANK(Planning!H99),\"\",Planning!H99)","v":""},{"$f":"IF(ISBLANK(Planning!L99),\"\",Planning!L99)","v":""},{"$f":"IF(ISERROR(INDEX(Data!$D$128:$T$146,MATCH(X75,Data!$C$128:$C$146,1),MATCH(Y75,Data!$D$127:$T$127,1))),\"\",INDEX(Data!$D$128:$T$146,MATCH(X75,Data!$C$128:$C$146,1),MATCH(Y75,Data!$D$127:$T$127,1)))","v":""},{"$f":"IF(ISBLANK(Planning!F151),\"\",Planning!F151)","v":""},{"$f":"IF(ISBLANK(Planning!H151),\"\",Planning!H151)","v":""},{"$f":"IF(ISERROR(INDEX(Data!$F$155:$K$156,VLOOKUP(AA75,Data!$C$79:$D$81,2),VLOOKUP(AB75,Data!$G$79:$H$85,2,0))),\"\",INDEX(Data!$F$155:$K$156,VLOOKUP(AA75,Data!$C$79:$D$81,2),VLOOKUP(AB75,Data!$G$79:$H$85,2,0)))","v":""},{"$f":"IF(ISBLANK(Planning!J151),\"\",Planning!J151)","v":""},{"$f":"IF(ISERROR(VLOOKUP(AD75,Data!$J$79:$K$81,2,0)),\"\",VLOOKUP(AD75,Data!$J$79:$K$81,2,0))","v":""},{"$f":"IF(ISERROR(VLOOKUP(C75,INDIRECT(ADDRESS(Data!$AG$67,Data!$AG$65,1,1,\"Data\")):INDIRECT(ADDRESS(Data!$AG$68,Data!$AG$66,1,1,\"Data\")),Data!$AG$84,0)),\"\",VLOOKUP(C75,INDIRECT(ADDRESS(Data!$AG$67,Data!$AG$65,1,1,\"Data\")):INDIRECT(ADDRESS(Data!$AG$68,Data!$AG$66,1,1,\"Data\")),Data!$AG$84,0))","v":""},{"$f":"IF(LEN(B75)=0,\"\",IF(LEN(Data!$AG$70)=0,\"\",Data!$AG$70))","v":""},{"$f":"IF(LEN(AE75)=0,\"\",IF(AE75=\"Yes\",INDIRECT(ADDRESS((ROW(Data!$M$153)+MATCH(AG75,Data!$M$154:$M$293,0)+MATCH(X75,Data!$P$154:$P$174,1)-1),(COLUMN(Data!$Q$153)+MATCH(AF75,Data!$R$153:$U$153,0)),1,1,\"Data\"),TRUE),1))","v":""},"",{"$f":"IF(ISBLANK(Planning!M151),\"\",Planning!M151)","v":""},"",{"$f":"IF(ISERROR(VLOOKUP(AK75,Data!$J$105:$K$109,2,1)),\"\",VLOOKUP(AK75,Data!$J$105:$K$109,2,1))","v":""},{"$f":"IF(ISBLANK(Planning!B205),\"\",Planning!B205)","v":""},{"$f":"IF(ISERROR(INDEX(Data!$D$91:$G$94,MATCH(AM75,Data!$C$91:$C$94,1),MATCH(AF75,Data!$D$90:$G$90,1))),\"\",INDEX(Data!$D$91:$G$94,MATCH(AM75,Data!$C$91:$C$94,1),MATCH(AF75,Data!$D$90:$G$90,1)))","v":""},{"$f":"IF(ISERROR(VLOOKUP(X75,Data!$D$184:$K$200,HLOOKUP(AN75,Data!$E$182:$K$183,2))),\"\",VLOOKUP(X75,Data!$D$184:$K$200,HLOOKUP(AN75,Data!$E$182:$K$183,2)))","v":""},{"$f":"IF(ISERROR(VLOOKUP(AO75,Data!$C$105:$D$110,2)),\"\",VLOOKUP(AO75,Data!$C$105:$D$110,2))","v":""},{"$f":"IF(ISBLANK(Planning!M99),\"\",Planning!M99)","v":""},{"$f":"IF(ISERROR(VLOOKUP(AQ75,Data!$F$105:$G$108,2,1)),\"\",VLOOKUP(AQ75,Data!$F$105:$G$108,2,1))","v":""},{"$f":"IF(ISBLANK(Planning!F205),\"\",Planning!F205)","v":""},{"$f":"IF(ISERROR(VLOOKUP(AS75,Data!$C$99:$D$101,2)),\"\",VLOOKUP(AS75,Data!$C$99:$D$101,2))","v":""},{"$f":"IF(ISBLANK(Planning!H205),\"\",Planning!H205)","v":""},{"$f":"IF(ISERROR(VLOOKUP(AU75,Data!$G$99:$H$101,2)),\"\",VLOOKUP(AU75,Data!$G$99:$H$101,2))","v":""},"","","",{"$f":"IF(AX75=0,VLOOKUP(AY75,Data!$C$116:$D$119,2),\"\")","v":""},{"$f":"IF(LEN(B75)=0,\"\",IF(ISBLANK(Planning!B258),0,Planning!B258))","v":""},{"$f":"IF(LEN(B75)=0,\"\",IF(ISBLANK(Planning!C258),0,Planning!C258))","v":""},{"$f":"IF(LEN(B75)=0,\"\",IF(ISBLANK(Planning!D258),0,Planning!D258))","v":""},{"$f":"IF(LEN(B75)=0,\"\",IF(ISBLANK(Planning!E258),0,Planning!E258))","v":""},{"$f":"IF(LEN(B75)=0,\"\",IF(ISBLANK(Planning!F258),0,Planning!F258))","v":""},{"$f":"IF(LEN(B75)=0,\"\",IF(ISBLANK(Planning!G258),0,Planning!G258))","v":""},{"$f":"IF(LEN(B75)=0,\"\",IF(ISBLANK(Planning!H258),0,Planning!H258))","v":""},{"$f":"IF(LEN(B75)=0,\"\",IF(ISBLANK(Planning!I258),0,Planning!I258))","v":""},{"$f":"IF(LEN(B75)=0,\"\",IF(ISBLANK(Planning!J258),0,Planning!J258))","v":""},"","",{"$f":"IF(AX75=0,VLOOKUP(BK75,Data!$C$116:$D$119,2),\"\")","v":""}]
[null,{"$f":"IF(ISBLANK(Planning!A206),\"\",Planning!A206)","v":""},{"$f":"IF(ISBLANK(Planning!D100),\"\",Planning!D100)","v":""},{"$f":"IF(LEN(C76)=0,\"\",IF(ISNA(VLOOKUP(C76,INDIRECT(ADDRESS(Data!$AG$67,Data!$AG$65,1,1,\"Data\")):INDIRECT(ADDRESS(Data!$AG$68,Data!$AG$66,1,1,\"Data\")),Data!$AG$74,0)),$B$10,VLOOKUP(Planning!D100,INDIRECT(ADDRESS(Data!$AG$67,Data!$AG$65,1,1,\"Data\")):INDIRECT(ADDRESS(Data!$AG$68,Data!$AG$66,1,1,\"Data\")),Data!$AG$74,0)))","v":""},{"$f":"IF(ISBLANK(Planning!I206),\"\",Planning!I206)","v":""},{"$f":"IF(ISBLANK(Planning!I206),\"\",INDEX(Planning!$A$21:$C$25,MATCH(E76,Planning!$A$21:$A$25,0),2))","v":""},{"$f":"IF(ISNA(INDEX(Planning!$A$21:$N$25,MATCH(E76,Planning!$A$21:$A$25,0),12)),\"\",INDEX(Planning!$A$21:$N$25,MATCH(E76,Planning!$A$21:$A$25,0),12))","v":""},{"$f":"IF(ISNA(INDEX(Planning!$A$21:$N$25,MATCH(E76,Planning!$A$21:$A$25,0),8)/2.29),\"\",INDEX(Planning!$A$21:$N$25,MATCH(E76,Planning!$A$21:$A$25,0),8)/2.29)","v":""},{"$f":"IF(ISBLANK(Planning!J206),\"\",Planning!J206)","v":""},"","",{"$f":"IF(ISNA(INDEX(Planning!$A$21:$N$25,MATCH(E76,Planning!$A$21:$A$25,0),14)),\"\",INDEX(Planning!$A$21:$N$25,MATCH(E76,Planning!$A$21:$A$25,0),14))","v":""},{"$f":"IF(ISERROR(VLOOKUP(L76,Data!$Q$65:$R$66,2,1)),\"\",VLOOKUP(L76,Data!$Q$65:$R$66,2,1))","v":""},"","",{"$f":"IF(LEN(B76)=0,\"\",Planning!B100*(1.3333))","v":""},"","","",{"$f":"IF(LEN(B76)=0,\"\",IF(ISBLANK(Data!$AG$69),\"\",Data!$AG$69))","v":""},{"$f":"IF(ISERROR(VLOOKUP(C76,INDIRECT(ADDRESS(Data!$AG$67,Data!$AG$65,1,1,\"Data\")):INDIRECT(ADDRESS(Data!$AG$68,Data!$AG$66,1,1,\"Data\")),Data!$AG$81,0)),\"\",VLOOKUP(C76,INDIRECT(ADDRESS(Data!$AG$67,Data!$AG$65,1,1,\"Data\")):INDIRECT(ADDRESS(Data!$AG$68,Data!$AG$66,1,1,\"Data\")),Data!$AG$81,0))","v":""},{"$f":"IF(LEN(B76)=0,\"\",IF(LEN(Data!$AG$71)=0,\"\",IF(Data!$AG$71=1,\"Yes\", \"No\")))","v":""},{"$f":"IF(ISERROR(IF(V76=\"NO\",U76,VLOOKUP(U76,Data!$AA$72:$AB$85,2,0))),\"\",IF(V76=\"NO\",U76,VLOOKUP(U76,Data!$AA$72:$AB$85,2,0)))","v":""},{"$f":"IF(ISBLANK(Planning!H100),\"\",Planning!H100)","v":""},{"$f":"IF(ISBLANK(Planning!L100),\"\",Planning!L100)","v":""},{"$f":"IF(ISERROR(INDEX(Data!$D$128:$T$146,MATCH(X76,Data!$C$128:$C$146,1),MATCH(Y76,Data!$D$127:$T$127,1))),\"\",INDEX(Data!$D$128:$T$146,MATCH(X76,Data!$C$128:$C$146,1),MATCH(Y76,Data!$D$127:$T$127,1)))","v":""},{"$f":"IF(ISBLANK(Planning!F152),\"\",Planning!F152)","v":""},{"$f":"IF(ISBLANK(Planning!H152),\"\",Planning!H152)","v":""},{"$f":"IF(ISERROR(INDEX(Data!$F$155:$K$156,VLOOKUP(AA76,Data!$C$79:$D$81,2),VLOOKUP(AB76,Data!$G$79:$H$85,2,0))),\"\",INDEX(Data!$F$155:$K$156,VLOOKUP(AA76,Data!$C$79:$D$81,2),VLOOKUP(AB76,Data!$G$79:$H$85,2,0)))","v":""},{"$f":"IF(ISBLANK(Planning!J152),\"\",Planning!J152)","v":""},{"$f":"IF(ISERROR(VLOOKUP(AD76,Data!$J$79:$K$81,2,0)),\"\",VLOOKUP(AD76,Data!$J$79:$K$81,2,0))","v":""},{"$f":"IF(ISERROR(VLOOKUP(C76,INDIRECT(ADDRESS(Data!$AG$67,Data!$AG$65,1,1,\"Data\")):INDIRECT(ADDRESS(Data!$AG$68,Data!$AG$66,1,1,\"Data\")),Data!$AG$84,0)),\"\",VLOOKUP(C76,INDIRECT(ADDRESS(Data!$AG$67,Data!$AG$65,1,1,\"Data\")):INDIRECT(ADDRESS(Data!$AG$68,Data!$AG$66,1,1,\"Data\")),Data!$AG$84,0))","v":""},{"$f":"IF(LEN(B76)=0,\"\",IF(LEN(Data!$AG$70)=0,\"\",Data!$AG$70))","v":""},{"$f":"IF(LEN(AE76)=0,\"\",IF(AE76=\"Yes\",INDIRECT(ADDRESS((ROW(Data!$M$153)+MATCH(AG76,Data!$M$154:$M$293,0)+MATCH(X76,Data!$P$154:$P$174,1)-1),(COLUMN(Data!$Q$153)+MATCH(AF76,Data!$R$153:$U$153,0)),1,1,\"Data\"),TRUE),1))","v":""},"",{"$f":"IF(ISBLANK(Planning!M152),\"\",Planning!M152)","v":""},"",{"$f":"IF(ISERROR(VLOOKUP(AK76,Data!$J$105:$K$109,2,1)),\"\",VLOOKUP(AK76,Data!$J$105:$K$109,2,1))","v":""},{"$f":"IF(ISBLANK(Planning!B206),\"\",Planning!B206)","v":""},{"$f":"IF(ISERROR(INDEX(Data!$D$91:$G$94,MATCH(AM76,Data!$C$91:$C$94,1),MATCH(AF76,Data!$D$90:$G$90,1))),\"\",INDEX(Data!$D$91:$G$94,MATCH(AM76,Data!$C$91:$C$94,1),MATCH(AF76,Data!$D$90:$G$90,1)))","v":""},{"$f":"IF(ISERROR(VLOOKUP(X76,Data!$D$184:$K$200,HLOOKUP(AN76,Data!$E$182:$K$183,2))),\"\",VLOOKUP(X76,Data!$D$184:$K$200,HLOOKUP(AN76,Data!$E$182:$K$183,2)))","v":""},{"$f":"IF(ISERROR(VLOOKUP(AO76,Data!$C$105:$D$110,2)),\"\",VLOOKUP(AO76,Data!$C$105:$D$110,2))","v":""},{"$f":"IF(ISBLANK(Planning!M100),\"\",Planning!M100)","v":""},{"$f":"IF(ISERROR(VLOOKUP(AQ76,Data!$F$105:$G$108,2,1)),\"\",VLOOKUP(AQ76,Data!$F$105:$G$108,2,1))","v":""},{"$f":"IF(ISBLANK(Planning!F206),\"\",Planning!F206)","v":""},{"$f":"IF(ISERROR(VLOOKUP(AS76,Data!$C$99:$D$101,2)),\"\",VLOOKUP(AS76,Data!$C$99:$D$101,2))","v":""},{"$f":"IF(ISBLANK(Planning!H206),\"\",Planning!H206)","v":""},{"$f":"IF(ISERROR(VLOOKUP(AU76,Data!$G$99:$H$101,2)),\"\",VLOOKUP(AU76,Data!$G$99:$H$101,2))","v":""},"","","",{"$f":"IF(AX76=0,VLOOKUP(AY76,Data!$C$116:$D$119,2),\"\")","v":""},{"$f":"IF(LEN(B76)=0,\"\",IF(ISBLANK(Planning!B259),0,Planning!B259))","v":""},{"$f":"IF(LEN(B76)=0,\"\",IF(ISBLANK(Planning!C259),0,Planning!C259))","v":""},{"$f":"IF(LEN(B76)=0,\"\",IF(ISBLANK(Planning!D259),0,Planning!D259))","v":""},{"$f":"IF(LEN(B76)=0,\"\",IF(ISBLANK(Planning!E259),0,Planning!E259))","v":""},{"$f":"IF(LEN(B76)=0,\"\",IF(ISBLANK(Planning!F259),0,Planning!F259))","v":""},{"$f":"IF(LEN(B76)=0,\"\",IF(ISBLANK(Planning!G259),0,Planning!G259))","v":""},{"$f":"IF(LEN(B76)=0,\"\",IF(ISBLANK(Planning!H259),0,Planning!H259))","v":""},{"$f":"IF(LEN(B76)=0,\"\",IF(ISBLANK(Planning!I259),0,Planning!I259))","v":""},{"$f":"IF(LEN(B76)=0,\"\",IF(ISBLANK(Planning!J259),0,Planning!J259))","v":""},"","",{"$f":"IF(AX76=0,VLOOKUP(BK76,Data!$C$116:$D$119,2),\"\")","v":""}]
[null,{"$f":"IF(ISBLANK(Planning!A207),\"\",Planning!A207)","v":""},{"$f":"IF(ISBLANK(Planning!D101),\"\",Planning!D101)","v":""},{"$f":"IF(LEN(C77)=0,\"\",IF(ISNA(VLOOKUP(C77,INDIRECT(ADDRESS(Data!$AG$67,Data!$AG$65,1,1,\"Data\")):INDIRECT(ADDRESS(Data!$AG$68,Data!$AG$66,1,1,\"Data\")),Data!$AG$74,0)),$B$10,VLOOKUP(Planning!D101,INDIRECT(ADDRESS(Data!$AG$67,Data!$AG$65,1,1,\"Data\")):INDIRECT(ADDRESS(Data!$AG$68,Data!$AG$66,1,1,\"Data\")),Data!$AG$74,0)))","v":""},{"$f":"IF(ISBLANK(Planning!I207),\"\",Planning!I207)","v":""},{"$f":"IF(ISBLANK(Planning!I207),\"\",INDEX(Planning!$A$21:$C$25,MATCH(E77,Planning!$A$21:$A$25,0),2))","v":""},{"$f":"IF(ISNA(INDEX(Planning!$A$21:$N$25,MATCH(E77,Planning!$A$21:$A$25,0),12)),\"\",INDEX(Planning!$A$21:$N$25,MATCH(E77,Planning!$A$21:$A$25,0),12))","v":""},{"$f":"IF(ISNA(INDEX(Planning!$A$21:$N$25,MATCH(E77,Planning!$A$21:$A$25,0),8)/2.29),\"\",INDEX(Planning!$A$21:$N$25,MATCH(E77,Planning!$A$21:$A$25,0),8)/2.29)","v":""},{"$f":"IF(ISBLANK(Planning!J207),\"\",Planning!J207)","v":""},"","",{"$f":"IF(ISNA(INDEX(Planning!$A$21:$N$25,MATCH(E77,Planning!$A$21:$A$25,0),14)),\"\",INDEX(Planning!$A$21:$N$25,MATCH(E77,Planning!$A$21:$A$25,0),14))","v":""},{"$f":"IF(ISERROR(VLOOKUP(L77,Data!$Q$65:$R$66,2,1)),\"\",VLOOKUP(L77,Data!$Q$65:$R$66,2,1))","v":""},"","",{"$f":"IF(LEN(B77)=0,\"\",Planning!B101*(1.3333))","v":""},"","","",{"$f":"IF(LEN(B77)=0,\"\",IF(ISBLANK(Data!$AG$69),\"\",Data!$AG$69))","v":""},{"$f":"IF(ISERROR(VLOOKUP(C77,INDIRECT(ADDRESS(Data!$AG$67,Data!$AG$65,1,1,\"Data\")):INDIRECT(ADDRESS(Data!$AG$68,Data!$AG$66,1,1,\"Data\")),Data!$AG$81,0)),\"\",VLOOKUP(C77,INDIRECT(ADDRESS(Data!$AG$67,Data!$AG$65,1,1,\"Data\")):INDIRECT(ADDRESS(Data!$AG$68,Data!$AG$66,1,1,\"Data\")),Data!$AG$81,0))","v":""},{"$f":"IF(LEN(B77)=0,\"\",IF(LEN(Data!$AG$71)=0,\"\",IF(Data!$AG$71=1,\"Yes\", \"No\")))","v":""},{"$f":"IF(ISERROR(IF(V77=\"NO\",U77,VLOOKUP(U77,Data!$AA$72:$AB$85,2,0))),\"\",IF(V77=\"NO\",U77,VLOOKUP(U77,Data!$AA$72:$AB$85,2,0)))","v":""},{"$f":"IF(ISBLANK(Planning!H101),\"\",Planning!H101)","v":""},{"$f":"IF(ISBLANK(Planning!L101),\"\",Planning!L101)","v":""},{"$f":"IF(ISERROR(INDEX(Data!$D$128:$T$146,MATCH(X77,Data!$C$128:$C$146,1),MATCH(Y77,Data!$D$127:$T$127,1))),\"\",INDEX(Data!$D$128:$T$146,MATCH(X77,Data!$C$128:$C$146,1),MATCH(Y77,Data!$D$127:$T$127,1)))","v":""},{"$f":"IF(ISBLANK(Planning!F153),\"\",Planning!F153)","v":""},{"$f":"IF(ISBLANK(Planning!H153),\"\",Planning!H153)","v":""},{"$f":"IF(ISERROR(INDEX(Data!$F$155:$K$156,VLOOKUP(AA77,Data!$C$79:$D$81,2),VLOOKUP(AB77,Data!$G$79:$H$85,2,0))),\"\",INDEX(Data!$F$155:$K$156,VLOOKUP(AA77,Data!$C$79:$D$81,2),VLOOKUP(AB77,Data!$G$79:$H$85,2,0)))","v":""},{"$f":"IF(ISBLANK(Planning!J153),\"\",Planning!J153)","v":""},{"$f":"IF(ISERROR(VLOOKUP(AD77,Data!$J$79:$K$81,2,0)),\"\",VLOOKUP(AD77,Data!$J$79:$K$81,2,0))","v":""},{"$f":"IF(ISERROR(VLOOKUP(C77,INDIRECT(ADDRESS(Data!$AG$67,Data!$AG$65,1,1,\"Data\")):INDIRECT(ADDRESS(Data!$AG$68,Data!$AG$66,1,1,\"Data\")),Data!$AG$84,0)),\"\",VLOOKUP(C77,INDIRECT(ADDRESS(Data!$AG$67,Data!$AG$65,1,1,\"Data\")):INDIRECT(ADDRESS(Data!$AG$68,Data!$AG$66,1,1,\"Data\")),Data!$AG$84,0))","v":""},{"$f":"IF(LEN(B77)=0,\"\",IF(LEN(Data!$AG$70)=0,\"\",Data!$AG$70))","v":""},{"$f":"IF(LEN(AE77)=0,\"\",IF(AE77=\"Yes\",INDIRECT(ADDRESS((ROW(Data!$M$153)+MATCH(AG77,Data!$M$154:$M$293,0)+MATCH(X77,Data!$P$154:$P$174,1)-1),(COLUMN(Data!$Q$153)+MATCH(AF77,Data!$R$153:$U$153,0)),1,1,\"Data\"),TRUE),1))","v":""},"",{"$f":"IF(ISBLANK(Planning!M153),\"\",Planning!M153)","v":""},"",{"$f":"IF(ISERROR(VLOOKUP(AK77,Data!$J$105:$K$109,2,1)),\"\",VLOOKUP(AK77,Data!$J$105:$K$109,2,1))","v":""},{"$f":"IF(ISBLANK(Planning!B207),\"\",Planning!B207)","v":""},{"$f":"IF(ISERROR(INDEX(Data!$D$91:$G$94,MATCH(AM77,Data!$C$91:$C$94,1),MATCH(AF77,Data!$D$90:$G$90,1))),\"\",INDEX(Data!$D$91:$G$94,MATCH(AM77,Data!$C$91:$C$94,1),MATCH(AF77,Data!$D$90:$G$90,1)))","v":""},{"$f":"IF(ISERROR(VLOOKUP(X77,Data!$D$184:$K$200,HLOOKUP(AN77,Data!$E$182:$K$183,2))),\"\",VLOOKUP(X77,Data!$D$184:$K$200,HLOOKUP(AN77,Data!$E$182:$K$183,2)))","v":""},{"$f":"IF(ISERROR(VLOOKUP(AO77,Data!$C$105:$D$110,2)),\"\",VLOOKUP(AO77,Data!$C$105:$D$110,2))","v":""},{"$f":"IF(ISBLANK(Planning!M101),\"\",Planning!M101)","v":""},{"$f":"IF(ISERROR(VLOOKUP(AQ77,Data!$F$105:$G$108,2,1)),\"\",VLOOKUP(AQ77,Data!$F$105:$G$108,2,1))","v":""},{"$f":"IF(ISBLANK(Planning!F207),\"\",Planning!F207)","v":""},{"$f":"IF(ISERROR(VLOOKUP(AS77,Data!$C$99:$D$101,2)),\"\",VLOOKUP(AS77,Data!$C$99:$D$101,2))","v":""},{"$f":"IF(ISBLANK(Planning!H207),\"\",Planning!H207)","v":""},{"$f":"IF(ISERROR(VLOOKUP(AU77,Data!$G$99:$H$101,2)),\"\",VLOOKUP(AU77,Data!$G$99:$H$101,2))","v":""},"","","",{"$f":"IF(AX77=0,VLOOKUP(AY77,Data!$C$116:$D$119,2),\"\")","v":""},{"$f":"IF(LEN(B77)=0,\"\",IF(ISBLANK(Planning!B260),0,Planning!B260))","v":""},{"$f":"IF(LEN(B77)=0,\"\",IF(ISBLANK(Planning!C260),0,Planning!C260))","v":""},{"$f":"IF(LEN(B77)=0,\"\",IF(ISBLANK(Planning!D260),0,Planning!D260))","v":""},{"$f":"IF(LEN(B77)=0,\"\",IF(ISBLANK(Planning!E260),0,Planning!E260))","v":""},{"$f":"IF(LEN(B77)=0,\"\",IF(ISBLANK(Planning!F260),0,Planning!F260))","v":""},{"$f":"IF(LEN(B77)=0,\"\",IF(ISBLANK(Planning!G260),0,Planning!G260))","v":""},{"$f":"IF(LEN(B77)=0,\"\",IF(ISBLANK(Planning!H260),0,Planning!H260))","v":""},{"$f":"IF(LEN(B77)=0,\"\",IF(ISBLANK(Planning!I260),0,Planning!I260))","v":""},{"$f":"IF(LEN(B77)=0,\"\",IF(ISBLANK(Planning!J260),0,Planning!J260))","v":""},"","",{"$f":"IF(AX77=0,VLOOKUP(BK77,Data!$C$116:$D$119,2),\"\")","v":""}]
[null,{"$f":"IF(ISBLANK(Planning!A208),\"\",Planning!A208)","v":""},{"$f":"IF(ISBLANK(Planning!D102),\"\",Planning!D102)","v":""},{"$f":"IF(LEN(C78)=0,\"\",IF(ISNA(VLOOKUP(C78,INDIRECT(ADDRESS(Data!$AG$67,Data!$AG$65,1,1,\"Data\")):INDIRECT(ADDRESS(Data!$AG$68,Data!$AG$66,1,1,\"Data\")),Data!$AG$74,0)),$B$10,VLOOKUP(Planning!D102,INDIRECT(ADDRESS(Data!$AG$67,Data!$AG$65,1,1,\"Data\")):INDIRECT(ADDRESS(Data!$AG$68,Data!$AG$66,1,1,\"Data\")),Data!$AG$74,0)))","v":""},{"$f":"IF(ISBLANK(Planning!I208),\"\",Planning!I208)","v":""},{"$f":"IF(ISBLANK(Planning!I208),\"\",INDEX(Planning!$A$21:$C$25,MATCH(E78,Planning!$A$21:$A$25,0),2))","v":""},{"$f":"IF(ISNA(INDEX(Planning!$A$21:$N$25,MATCH(E78,Planning!$A$21:$A$25,0),12)),\"\",INDEX(Planning!$A$21:$N$25,MATCH(E78,Planning!$A$21:$A$25,0),12))","v":""},{"$f":"IF(ISNA(INDEX(Planning!$A$21:$N$25,MATCH(E78,Planning!$A$21:$A$25,0),8)/2.29),\"\",INDEX(Planning!$A$21:$N$25,MATCH(E78,Planning!$A$21:$A$25,0),8)/2.29)","v":""},{"$f":"IF(ISBLANK(Planning!J208),\"\",Planning!J208)","v":""},"","",{"$f":"IF(ISNA(INDEX(Planning!$A$21:$N$25,MATCH(E78,Planning!$A$21:$A$25,0),14)),\"\",INDEX(Planning!$A$21:$N$25,MATCH(E78,Planning!$A$21:$A$25,0),14))","v":""},{"$f":"IF(ISERROR(VLOOKUP(L78,Data!$Q$65:$R$66,2,1)),\"\",VLOOKUP(L78,Data!$Q$65:$R$66,2,1))","v":""},"","",{"$f":"IF(LEN(B78)=0,\"\",Planning!B102*(1.3333))","v":""},"","","",{"$f":"IF(LEN(B78)=0,\"\",IF(ISBLANK(Data!$AG$69),\"\",Data!$AG$69))","v":""},{"$f":"IF(ISERROR(VLOOKUP(C78,INDIRECT(ADDRESS(Data!$AG$67,Data!$AG$65,1,1,\"Data\")):INDIRECT(ADDRESS(Data!$AG$68,Data!$AG$66,1,1,\"Data\")),Data!$AG$81,0)),\"\",VLOOKUP(C78,INDIRECT(ADDRESS(Data!$AG$67,Data!$AG$65,1,1,\"Data\")):INDIRECT(ADDRESS(Data!$AG$68,Data!$AG$66,1,1,\"Data\")),Data!$AG$81,0))","v":""},{"$f":"IF(LEN(B78)=0,\"\",IF(LEN(Data!$AG$71)=0,\"\",IF(Data!$AG$71=1,\"Yes\", \"No\")))","v":""},{"$f":"IF(ISERROR(IF(V78=\"NO\",U78,VLOOKUP(U78,Data!$AA$72:$AB$85,2,0))),\"\",IF(V78=\"NO\",U78,VLOOKUP(U78,Data!$AA$72:$AB$85,2,0)))","v":""},{"$f":"IF(ISBLANK(Planning!H102),\"\",Planning!H102)","v":""},{"$f":"IF(ISBLANK(Planning!L102),\"\",Planning!L102)","v":""},{"$f":"IF(ISERROR(INDEX(Data!$D$128:$T$146,MATCH(X78,Data!$C$128:$C$146,1),MATCH(Y78,Data!$D$127:$T$127,1))),\"\",INDEX(Data!$D$128:$T$146,MATCH(X78,Data!$C$128:$C$146,1),MATCH(Y78,Data!$D$127:$T$127,1)))","v":""},{"$f":"IF(ISBLANK(Planning!F154),\"\",Planning!F154)","v":""},{"$f":"IF(ISBLANK(Planning!H154),\"\",Planning!H154)","v":""},{"$f":"IF(ISERROR(INDEX(Data!$F$155:$K$156,VLOOKUP(AA78,Data!$C$79:$D$81,2),VLOOKUP(AB78,Data!$G$79:$H$85,2,0))),\"\",INDEX(Data!$F$155:$K$156,VLOOKUP(AA78,Data!$C$79:$D$81,2),VLOOKUP(AB78,Data!$G$79:$H$85,2,0)))","v":""},{"$f":"IF(ISBLANK(Planning!J154),\"\",Planning!J154)","v":""},{"$f":"IF(ISERROR(VLOOKUP(AD78,Data!$J$79:$K$81,2,0)),\"\",VLOOKUP(AD78,Data!$J$79:$K$81,2,0))","v":""},{"$f":"IF(ISERROR(VLOOKUP(C78,INDIRECT(ADDRESS(Data!$AG$67,Data!$AG$65,1,1,\"Data\")):INDIRECT(ADDRESS(Data!$AG$68,Data!$AG$66,1,1,\"Data\")),Data!$AG$84,0)),\"\",VLOOKUP(C78,INDIRECT(ADDRESS(Data!$AG$67,Data!$AG$65,1,1,\"Data\")):INDIRECT(ADDRESS(Data!$AG$68,Data!$AG$66,1,1,\"Data\")),Data!$AG$84,0))","v":""},{"$f":"IF(LEN(B78)=0,\"\",IF(LEN(Data!$AG$70)=0,\"\",Data!$AG$70))","v":""},{"$f":"IF(LEN(AE78)=0,\"\",IF(AE78=\"Yes\",INDIRECT(ADDRESS((ROW(Data!$M$153)+MATCH(AG78,Data!$M$154:$M$293,0)+MATCH(X78,Data!$P$154:$P$174,1)-1),(COLUMN(Data!$Q$153)+MATCH(AF78,Data!$R$153:$U$153,0)),1,1,\"Data\"),TRUE),1))","v":""},"",{"$f":"IF(ISBLANK(Planning!M154),\"\",Planning!M154)","v":""},"",{"$f":"IF(ISERROR(VLOOKUP(AK78,Data!$J$105:$K$109,2,1)),\"\",VLOOKUP(AK78,Data!$J$105:$K$109,2,1))","v":""},{"$f":"IF(ISBLANK(Planning!B208),\"\",Planning!B208)","v":""},{"$f":"IF(ISERROR(INDEX(Data!$D$91:$G$94,MATCH(AM78,Data!$C$91:$C$94,1),MATCH(AF78,Data!$D$90:$G$90,1))),\"\",INDEX(Data!$D$91:$G$94,MATCH(AM78,Data!$C$91:$C$94,1),MATCH(AF78,Data!$D$90:$G$90,1)))","v":""},{"$f":"IF(ISERROR(VLOOKUP(X78,Data!$D$184:$K$200,HLOOKUP(AN78,Data!$E$182:$K$183,2))),\"\",VLOOKUP(X78,Data!$D$184:$K$200,HLOOKUP(AN78,Data!$E$182:$K$183,2)))","v":""},{"$f":"IF(ISERROR(VLOOKUP(AO78,Data!$C$105:$D$110,2)),\"\",VLOOKUP(AO78,Data!$C$105:$D$110,2))","v":""},{"$f":"IF(ISBLANK(Planning!M102),\"\",Planning!M102)","v":""},{"$f":"IF(ISERROR(VLOOKUP(AQ78,Data!$F$105:$G$108,2,1)),\"\",VLOOKUP(AQ78,Data!$F$105:$G$108,2,1))","v":""},{"$f":"IF(ISBLANK(Planning!F208),\"\",Planning!F208)","v":""},{"$f":"IF(ISERROR(VLOOKUP(AS78,Data!$C$99:$D$101,2)),\"\",VLOOKUP(AS78,Data!$C$99:$D$101,2))","v":""},{"$f":"IF(ISBLANK(Planning!H208),\"\",Planning!H208)","v":""},{"$f":"IF(ISERROR(VLOOKUP(AU78,Data!$G$99:$H$101,2)),\"\",VLOOKUP(AU78,Data!$G$99:$H$101,2))","v":""},"","","",{"$f":"IF(AX78=0,VLOOKUP(AY78,Data!$C$116:$D$119,2),\"\")","v":""},{"$f":"IF(LEN(B78)=0,\"\",IF(ISBLANK(Planning!B261),0,Planning!B261))","v":""},{"$f":"IF(LEN(B78)=0,\"\",IF(ISBLANK(Planning!C261),0,Planning!C261))","v":""},{"$f":"IF(LEN(B78)=0,\"\",IF(ISBLANK(Planning!D261),0,Planning!D261))","v":""},{"$f":"IF(LEN(B78)=0,\"\",IF(ISBLANK(Planning!E261),0,Planning!E261))","v":""},{"$f":"IF(LEN(B78)=0,\"\",IF(ISBLANK(Planning!F261),0,Planning!F261))","v":""},{"$f":"IF(LEN(B78)=0,\"\",IF(ISBLANK(Planning!G261),0,Planning!G261))","v":""},{"$f":"IF(LEN(B78)=0,\"\",IF(ISBLANK(Planning!H261),0,Planning!H261))","v":""},{"$f":"IF(LEN(B78)=0,\"\",IF(ISBLANK(Planning!I261),0,Planning!I261))","v":""},{"$f":"IF(LEN(B78)=0,\"\",IF(ISBLANK(Planning!J261),0,Planning!J261))","v":""},"","",{"$f":"IF(AX78=0,VLOOKUP(BK78,Data!$C$116:$D$119,2),\"\")","v":""}]
[null,1,2,3,4,5,6,7,8,9,10,11,12,13,14,15,16,17,18,19,20,21,22,23,24,25,26,27,28,29,30,31,32,33,34,35,36,37,38,39,40,41,42,43,44,45,46,47,48,49,50,51,52,53,54,55,56,57,58,59,60,61,62,63]
[]
[]
[null,"Check For Planned Rates Exceeding PI Rates",null,null,null,null,null,"Check for Planned Applicaton on soils > 150 ppm"]
[]
[null,{"$f":"Planning!C266","v":"PI Max"},{"$f":"Planning!D266","v":"Planned"},"Check",null,null,null,"Field","ppm","Planned Rate","Check"]
[1,{"$f":"ROUND(Planning!C267,2)","v":1.62},{"$f":"ROUND(Planning!D267,2)","v":1.5},{"$f":"IF(C85>B85,1,0)","v":0},null,null,null,{"$f":"Planning!A53","v":"Rotation"},{"$f":"Planning!B53","v":137},{"$f":"Planning!D267","v":1.5},{"$f":"IF(AND(I85>150,J85>0),1,0)","v":0}]
[2,{"$f":"ROUND(Planning!C268,2)","v":3.59},{"$f":"ROUND(Planning!D268,2)","v":1.5},{"$f":"IF(C86>B86,1,0)","v":0},null,null,null,{"$f":"Planning!A54","v":"Continuous"},{"$f":"Planning!B54","v":46},{"$f":"Planning!D268","v":1.5},{"$f":"IF(AND(I86>150,J86>0),1,0)","v":0}]
[3,{"$f":"ROUND(Planning!C269,2)","v":{"$error":"#VALUE!"}},{"$f":"ROUND(Planning!D269,2)","v":0},{"$error":"#VALUE!"},null,null,null,{"$f":"Planning!A55","v":0},{"$f":"Planning!B55","v":0},{"$f":"Planning!D269","v":0},0]
[4,{"$f":"ROUND(Planning!C270,2)","v":{"$error":"#VALUE!"}},{"$f":"ROUND(Planning!D270,2)","v":0},{"$error":"#VALUE!"},null,null,null,{"$f":"Planning!A56","v":0},{"$f":"Planning!B56","v":0},{"$f":"Planning!D270","v":0},0]
[5,{"$f":"ROUND(Planning!C271,2)","v":{"$error":"#VALUE!"}},{"$f":"ROUND(Planning!D271,2)","v":0},{"$error":"#VALUE!"},null,null,null,{"$f":"Planning!A57","v":0},{"$f":"Planning!B57","v":0},{"$f":"Planning!D271","v":0},0]
[6,{"$f":"ROUND(Planning!C272,2)","v":{"$error":"#VALUE!"}},{"$f":"ROUND(Planning!D272,2)","v":0},{"$error":"#VALUE!"},null,null,null,{"$f":"Planning!A58","v":0},{"$f":"Planning!B58","v":0},{"$f":"Planning!D272","v":0},0]
[7,{"$f":"ROUND(Planning!C273,2)","v":{"$error":"#VALUE!"}},{"$f":"ROUND(Planning!D273,2)","v":0},{"$error":"#VALUE!"},null,null,null,{"$f":"Planning!A59","v":0},{"$f":"Planning!B59","v":0},{"$f":"Planning!D273","v":0},0]
[8,{"$f":"ROUND(Planning!C274,2)","v":{"$error":"#VALUE!"}},{"$f":"ROUND(Planning!D274,2)","v":0},{"$error":"#VALUE!"},null,null,null,{"$f":"Planning!A60","v":0},{"$f":"Planning!B60","v":0},{"$f":"Planning!D274","v":0},0]
[9,{"$f":"ROUND(Planning!C275,2)","v":{"$error":"#VALUE!"}},{"$f":"ROUND(Planning!D275,2)","v":0},{"$error":"#VALUE!"},null,null,null,{"$f":"Planning!A61","v":0},{"$f":"Planning!B61","v":0},{"$f":"Planning!D275","v":0},0]
[10,{"$f":"ROUND(Planning!C276,2)","v":{"$error":"#VALUE!"}},{"$f":"ROUND(Planning!D276,2)","v":0},{"$error":"#VALUE!"},null,null,null,{"$f":"Planning!A62","v":0},{"$f":"Planning!B62","v":0},{"$f":"Planning!D276","v":0},0]
[11,{"$f":"ROUND(Planning!C277,2)","v":{"$error":"#VALUE!"}},{"$f":"ROUND(Planning!D277,2)","v":0},{"$error":"#VALUE!"},null,null,null,{"$f":"Planning!A63","v":0},{"$f":"Planning!B63","v":0},{"$f":"Planning!D277","v":0},0]
[12,{"$f":"ROUND(Planning!C278,2)","v":{"$error":"#VALUE!"}},{"$f":"ROUND(Planning!D278,2)","v":0},{"$error":"#VALUE!"},null,null,null,{"$f":"Planning!A64","v":0},{"$f":"Planning!B64","v":0},{"$f":"Planning!D278","v":0},0]
[13,{"$f":"ROUND(Planning!C279,2)","v":{"$error":"#VALUE!"}},{"$f":"ROUND(Planning!D279,2)","v":0},{"$error":"#VALUE!"},null,null,null,{"$f":"Planning!A65","v":0},{"$f":"Planning!B65","v":0},{"$f":"Planning!D279","v":0},0]
[14,{"$f":"ROUND(Planning!C280,2)","v":{"$error":"#VALUE!"}},{"$f":"ROUND(Planning!D280,2)","v":0},{"$error":"#VALUE!"},null,null,null,{"$f":"Planning!A66","v":0},{"$f":"Planning!B66","v":0},{"$f":"Planning!D280","v":0},0]
[15,{"$f":"ROUND(Planning!C281,2)","v":{"$error":"#VALUE!"}},{"$f":"ROUND(Planning!D281,2)","v":0},{"$error":"#VALUE!"},null,null,null,{"$f":"Planning!A67","v":0},{"$f":"Planning!B67","v":0},{"$f":"Planning!D281","v":0},0]
[16,{"$f":"ROUND(Planning!C282,2)","v":{"$error":"#VALUE!"}},{"$f":"ROUND(Planning!D282,2)","v":0},{"$error":"#VALUE!"},null,null,null,{"$f":"Planning!A68","v":0},{"$f":"Planning!B68","v":0},{"$f":"Planning!D282","v":0},0]
[17,{"$f":"ROUND(Planning!C283,2)","v":{"$error":"#VALUE!"}},{"$f":"ROUND(Planning!D283,2)","v":0},{"$error":"#VALUE!"},null,null,null,{"$f":"Planning!A69","v":0},{"$f":"Planning!B69","v":0},{"$f":"Planning!D283","v":0},0]
[18,{"$f":"ROUND(Planning!C284,2)","v":{"$error":"#VALUE!"}},{"$f":"ROUND(Planning!D284,2)","v":0},{"$error":"#VALUE!"},null,null,null,{"$f":"Planning!A70","v":0},{"$f":"Planning!B70","v":0},{"$f":"Planning!D284","v":0},0]
[19,{"$f":"ROUND(Planning!C285,2)","v":{"$error":"#VALUE!"}},{"$f":"ROUND(Planning!D285,2)","v":0},{"$error":"#VALUE!"},null,null,null,{"$f":"Planning!A71","v":0},{"$f":"Planning!B71","v":0},{"$f":"Planning!D285","v":0},0]
[20,{"$f":"ROUND(Planning!C286,2)","v":{"$error":"#VALUE!"}},{"$f":"ROUND(Planning!D286,2)","v":0},{"$error":"#VALUE!"},null,null,null,{"$f":"Planning!A72","v":0},{"$f":"Planning!B72","v":0},{"$f":"Planning!D286","v":0},0]
[21,{"$f":"ROUND(Planning!C287,2)","v":{"$error":"#VALUE!"}},{"$f":"ROUND(Planning!D287,2)","v":0},{"$error":"#VALUE!"},null,null,null,{"$f":"Planning!A73","v":0},{"$f":"Planning!B73","v":0},{"$f":"Planning!D287","v":0},0]
[22,{"$f":"ROUND(Planning!C288,2)","v":{"$error":"#VALUE!"}},{"$f":"ROUND(Planning!D288,2)","v":0},{"$error":"#VALUE!"},null,null,null,{"$f":"Planning!A74","v":0},{"$f":"Planning!B74","v":0},{"$f":"Planning!D288","v":0},0]
[23,{"$f":"ROUND(Planning!C289,2)","v":{"$error":"#VALUE!"}},{"$f":"ROUND(Planning!D289,2)","v":0},{"$error":"#VALUE!"},null,null,null,{"$f":"Planning!A75","v":0},{"$f":"Planning!B75","v":0},{"$f":"Planning!D289","v":0},0]
[24,{"$f":"ROUND(Planning!C290,2)","v":{"$error":"#VALUE!"}},{"$f":"ROUND(Planning!D290,2)","v":0},{"$error":"#VALUE!"},null,null,null,{"$f":"Planning!A76","v":0},{"$f":"Planning!B76","v":0},{"$f":"Planning!D290","v":0},0]
[25,{"$f":"ROUND(Planning!C291,2)","v":{"$error":"#VALUE!"}},{"$f":"ROUND(Planning!D291,2)","v":0},{"$error":"#VALUE!"},null,null,null,{"$f":"Planning!A77","v":0},{"$f":"Planning!B77","v":0},{"$f":"Planning!D291","v":0},0]
[26,{"$f":"ROUND(Planning!C292,2)","v":{"$error":"#VALUE!"}},{"$f":"ROUND(Planning!D292,2)","v":0},{"$error":"#VALUE!"},null,null,null,{"$f":"Planning!A78","v":0},{"$f":"Planning!B78","v":0},{"$f":"Planning!D292","v":0},0]
[27,{"$f":"ROUND(Planning!C293,2)","v":{"$error":"#VALUE!"}},{"$f":"ROUND(Planning!D293,2)","v":0},{"$error":"#VALUE!"},null,null,null,{"$f":"Planning!A79","v":0},{"$f":"Planning!B79","v":0},{"$f":"Planning!D293","v":0},0]
[28,{"$f":"ROUND(Planning!C294,2)","v":{"$error":"#VALUE!"}},{"$f":"ROUND(Planning!D294,2)","v":0},{"$error":"#VALUE!"},null,null,null,{"$f":"Planning!A80","v":0},{"$f":"Planning!B80","v":0},{"$f":"Planning!D294","v":0},0]
[29,{"$f":"ROUND(Planning!C295,2)","v":{"$error":"#VALUE!"}},{"$f":"ROUND(Planning!D295,2)","v":0},{"$error":"#VALUE!"},null,null,null,{"$f":"Planning!A81","v":0},{"$f":"Planning!B81","v":0},{"$f":"Planning!D295","v":0},0]
[30,{"$f":"ROUND(Planning!C296,2)","v":{"$error":"#VALUE!"}},{"$f":"ROUND(Planning!D296,2)","v":0},{"$error":"#VALUE!"},null,null,null,{"$f":"Planning!A82","v":0},{"$f":"Planning!B82","v":0},{"$f":"Planning!D296","v":0},0]
[31,{"$f":"ROUND(Planning!C297,2)","v":{"$error":"#VALUE!"}},{"$f":"ROUND(Planning!D297,2)","v":0},{"$error":"#VALUE!"},null,null,null,{"$f":"Planning!A83","v":0},{"$f":"Planning!B83","v":0},{"$f":"Planning!D297","v":0},0]
[32,{"$f":"ROUND(Planning!C298,2)","v":{"$error":"#VALUE!"}},{"$f":"ROUND(Planning!D298,2)","v":0},{"$error":"#VALUE!"},null,null,null,{"$f":"Planning!A84","v":0},{"$f":"Planning!B84","v":0},{"$f":"Planning!D298","v":0},0]
[33,{"$f":"ROUND(Planning!C299,2)","v":{"$error":"#VALUE!"}},{"$f":"ROUND(Planning!D299,2)","v":0},{"$error":"#VALUE!"},null,null,null,{"$f":"Planning!A85","v":0},{"$f":"Planning!B85","v":0},{"$f":"Planning!D299","v":0},0]
[34,{"$f":"ROUND(Planning!C300,2)","v":{"$error":"#VALUE!"}},{"$f":"ROUND(Planning!D300,2)","v":0},{"$error":"#VALUE!"},null,null,null,{"$f":"Planning!A86","v":0},{"$f":"Planning!B86","v":0},{"$f":"Planning!D300","v":0},0]
[35,{"$f":"ROUND(Planning!C301,2)","v":{"$error":"#VALUE!"}},{"$f":"ROUND(Planning!D301,2)","v":0},{"$error":"#VALUE!"},null,null,null,{"$f":"Planning!A87","v":0},{"$f":"Planning!B87","v":0},{"$f":"Planning!D301","v":0},0]
[36,{"$f":"ROUND(Planning!C302,2)","v":{"$error":"#VALUE!"}},{"$f":"ROUND(Planning!D302,2)","v":0},{"$error":"#VALUE!"},null,null,null,{"$f":"Planning!A88","v":0},{"$f":"Planning!B88","v":0},{"$f":"Planning!D302","v":0},0]
[37,{"$f":"ROUND(Planning!C303,2)","v":{"$error":"#VALUE!"}},{"$f":"ROUND(Planning!D303,2)","v":0},{"$error":"#VALUE!"},null,null,null,{"$f":"Planning!A89","v":0},{"$f":"Planning!B89","v":0},{"$f":"Planning!D303","v":0},0]
[38,{"$f":"ROUND(Planning!C304,2)","v":{"$error":"#VALUE!"}},{"$f":"ROUND(Planning!D304,2)","v":0},{"$error":"#VALUE!"},null,null,null,{"$f":"Planning!A90","v":0},{"$f":"Planning!B90","v":0},{"$f":"Planning!D304","v":0},0]
[39,{"$f":"ROUND(Planning!C305,2)","v":{"$error":"#VALUE!"}},{"$f":"ROUND(Planning!D305,2)","v":0},{"$error":"#VALUE!"},null,null,null,{"$f":"Planning!A91","v":0},{"$f":"Planning!B91","v":0},{"$f":"Planning!D305","v":0},0]
[40,{"$f":"ROUND(Planning!C306,2)","v":{"$error":"#VALUE!"}},{"$f":"ROUND(Planning!D306,2)","v":0},{"$error":"#VALUE!"},null,null,null,{"$f":"Planning!A92","v":0},{"$f":"Planning!B92","v":0},{"$f":"Planning!D306","v":0},0]
[41,{"$f":"ROUND(Planning!C307,2)","v":{"$error":"#VALUE!"}},{"$f":"ROUND(Planning!D307,2)","v":0},{"$error":"#VALUE!"},null,null,null,{"$f":"Planning!A93","v":0},{"$f":"Planning!B93","v":0},{"$f":"Planning!D307","v":0},0]
[42,{"$f":"ROUND(Planning!C308,2)","v":{"$error":"#VALUE!"}},{"$f":"ROUND(Planning!D308,2)","v":0},{"$error":"#VALUE!"},null,null,null,{"$f":"Planning!A94","v":0},{"$f":"Planning!B94","v":0},{"$f":"Planning!D308","v":0},0]
[43,{"$f":"ROUND(Planning!C309,2)","v":{"$error":"#VALUE!"}},{"$f":"ROUND(Planning!D309,2)","v":0},{"$error":"#VALUE!"},null,null,null,{"$f":"Planning!A95","v":0},{"$f":"Planning!B95","v":0},{"$f":"Planning!D309","v":0},0]
[44,{"$f":"ROUND(Planning!C310,2)","v":{"$error":"#VALUE!"}},{"$f":"ROUND(Planning!D310,2)","v":0},{"$error":"#VALUE!"},null,null,null,{"$f":"Planning!A96","v":0},{"$f":"Planning!B96","v":0},{"$f":"Planning!D310","v":0},0]
[45,{"$f":"ROUND(Planning!C311,2)","v":{"$error":"#VALUE!"}},{"$f":"ROUND(Planning!D311,2)","v":0},{"$error":"#VALUE!"},null,null,null,{"$f":"Planning!A97","v":0},{"$f":"Planning!B97","v":0},{"$f":"Planning!D311","v":0},0]
[46,{"$f":"ROUND(Planning!C312,2)","v":{"$error":"#VALUE!"}},{"$f":"ROUND(Planning!D312,2)","v":0},{"$error":"#VALUE!"},null,null,null,{"$f":"Planning!A98","v":0},{"$f":"Planning!B98","v":0},{"$f":"Planning!D312","v":0},0]
[47,{"$f":"ROUND(Planning!C313,2)","v":{"$error":"#VALUE!"}},{"$f":"ROUND(Planning!D313,2)","v":0},{"$error":"#VALUE!"},null,null,null,{"$f":"Planning!A99","v":0},{"$f":"Planning!B99","v":0},{"$f":"Planning!D313","v":0},0]
[48,{"$f":"ROUND(Planning!C314,2)","v":{"$error":"#VALUE!"}},{"$f":"ROUND(Planning!D314,2)","v":0},{"$error":"#VALUE!"},null,null,null,{"$f":"Planning!A100","v":0},{"$f":"Planning!B100","v":0},{"$f":"Planning!D314","v":0},0]
[null,"Num Exceed",null,{"$f":"COUNTIF(D85:D132,1)","v":0},null,null,null,"Num Exceed",null,null,{"$f":"COUNTIF(K85:K132,1)","v":0}]

{"sheet":"Example Inputs","index":8,"n_rows":2011,"n_cols":2,"rows_kept":2011,"cut":false,"hidden":true,"merged":[]}
["Cell","Input Value"]
["B3","Jane Doe"]
["C3"]
["D3"]
["E3"]
["F3"]
["G3"]
["H3"]
["I3"]
["K3","2017-09-01"]
["L3"]
["B4","Jon Q. Byrd"]
["C4"]
["D4"]
["E4"]
["F4"]
["G4"]
["H4"]
["I4"]
["J4"]
["K4"]
["L4"]
["B5"]
["C5"]
["D5"]
["E5"]
["F5"]
["G5"]
["H5"]
["I5"]
["J5"]
["K5"]
["L5"]
["C14","Washington"]
["D14"]
["A21","CleanOut"]
["B21","Dry Litter"]
["C21"]
["D21",300]
["F21",64.099999999999994]
["H21",64.8]
["J21",62.2]
["L21",5.9]
["N21","No"]
["A22","Cake"]
["B22","Dry Litter"]
["C22"]
["D22",100]
["F22",55.6]
["H22",61.6]
["J22",59.5]
["L22",4.9000000000000004]
["N22","No"]
["A23"]
["B23"]
["C23"]
["D23"]
["F23"]
["H23"]
["J23"]
["L23"]
["N23"]
["A24"]
["B24"]
["C24"]
["D24"]
["F24"]
["H24"]
["J24"]
["L24"]
["N24"]
["A25"]
["B25"]
["C25"]
["D25"]
["F25"]
["H25"]
["J25"]
["L25"]
["N25"]
["B32"]
["C32",0.25]
["D32"]
["E32"]
["F32"]
["G32"]
["B33"]
["C33",0.25]
["D33"]
["E33"]
["F33"]
["G33"]
["B34"]
["C34"]
["D34"]
["E34"]
["F34"]
["G34"]
["B35"]
["C35"]
["D35"]
["E35"]
["F35"]
["G35"]
["B36"]
["C36"]
["D36"]
["E36"]
["F36"]
["G36"]
["A52",2]
["A53","Rotation"]
["B53",137]
["D53","NaC"]
["H53",5]
["L53",48]
["A54","Continuous"]
["B54",46]
["D54","ClG"]
["H54",14]
["L54",15]
["A55"]
["B55"]
["D55"]
["H55"]
["L55"]
["A56"]
["B56"]
["D56"]
["H56"]
["L56"]
["A57"]
["B57"]
["D57"]
["H57"]
["L57"]
["A58"]
["B58"]
["D58"]
["H58"]
["L58"]
["A59"]
["B59"]
["D59"]
["H59"]
["L59"]
["A60"]
["B60"]
["D60"]
["H60"]
["L60"]
["A61"]
["B61"]
["D61"]
["H61"]
["L61"]
["A62"]
["B62"]
["D62"]
["H62"]
["L62"]
["A63"]
["B63"]
["D63"]
["H63"]
["L63"]
["A64"]
["B64"]
["D64"]
["H64"]
["L64"]
["A65"]
["B65"]
["D65"]
["H65"]
["L65"]
["A66"]
["B66"]
["D66"]
["H66"]
["L66"]
["A67"]
["B67"]
["D67"]
["H67"]
["L67"]
["A68"]
["B68"]
["D68"]
["H68"]
["L68"]
["A69"]
["B69"]
["D69"]
["H69"]
["L69"]
["A70"]
["B70"]
["D70"]
["H70"]
["L70"]
["A71"]
["B71"]
["D71"]
["H71"]
["L71"]
["A72"]
["B72"]
["D72"]
["H72"]
["L72"]
["A73"]
["B73"]
["D73"]
["H73"]
["L73"]
["A74"]
["B74"]
["D74"]
["H74"]
["L74"]
["A75"]
["B75"]
["D75"]
["H75"]
["L75"]
["A76"]
["B76"]
["D76"]
["H76"]
["L76"]
["A77"]
["B77"]
["D77"]
["H77"]
["L77"]
["A78"]
["B78"]
["D78"]
["H78"]
["L78"]
["A79"]
["B79"]
["D79"]
["H79"]
["L79"]
["A80"]
["B80"]
["D80"]
["H80"]
["L80"]
["A81"]
["B81"]
["D81"]
["H81"]
["L81"]
["A82"]
["B82"]
["D82"]
["H82"]
["L82"]
["A83"]
["B83"]
["D83"]
["H83"]
["L83"]
["A84"]
["B84"]
["D84"]
["H84"]
["L84"]
["A85"]
["B85"]
["D85"]
["H85"]
["L85"]
["A86"]
["B86"]
["D86"]
["H86"]
["L86"]
["A87"]
["B87"]
["D87"]
["H87"]
["L87"]
["A88"]
["B88"]
["D88"]
["H88"]
["L88"]
["A89"]
["B89"]
["D89"]
["H89"]
["L89"]
["A90"]
["B90"]
["D90"]
["H90"]
["L90"]
["A91"]
["B91"]
["D91"]
["H91"]
["L91"]
["A92"]
["B92"]
["D92"]
["H92"]
["L92"]
["A93"]
["B93"]
["D93"]
["H93"]
["L93"]
["A94"]
["B94"]
["D94"]
["H94"]
["L94"]
["A95"]
["B95"]
["D95"]
["H95"]
["L95"]
["A96"]
["B96"]
["D96"]
["H96"]
["L96"]
["A97"]
["B97"]
["D97"]
["H97"]
["L97"]
["A98"]
["B98"]
["D98"]
["H98"]
["L98"]
["A99"]
["B99"]
["D99"]
["H99"]
["L99"]
["A100"]
["B100"]
["D100"]
["H100"]
["L100"]
["A101"]
["B101"]
["D101"]
["H101"]
["L101"]
["A102"]
["B102"]
["D102"]
["H102"]
["L102"]
["B105",35]
["C105"]
["D105"]
["F105","Grass"]
["G105"]
["H105","95-100"]
["I105"]
["J105","None in place"]
["K105"]
["M105",0.18883920000000001]
["B106",32]
["C106"]
["D106"]
["F106","Grass"]
["G106"]
["H106","95-100"]
["I106"]
["J106","None in place"]
["K106"]
["M106",0.27430199999999999]
["B107"]
["C107"]
["D107"]
["F107"]
["G107"]
["H107"]
["I107"]
["J107"]
["K107"]
["M107"]
["B108"]
["C108"]
["D108"]
["F108"]
["G108"]
["H108"]
["I108"]
["J108"]
["K108"]
["M108"]
["B109"]
["C109"]
["D109"]
["F109"]
["G109"]
["H109"]
["I109"]
["J109"]
["K109"]
["M109"]
["B110"]
["C110"]
["D110"]
["F110"]
["G110"]
["H110"]
["I110"]
["J110"]
["K110"]
["M110"]
["B111"]
["C111"]
["D111"]
["F111"]
["G111"]
["H111"]
["I111"]
["J111"]
["K111"]
["M111"]
["B112"]
["C112"]
["D112"]
["F112"]
["G112"]
["H112"]
["I112"]
["J112"]
["K112"]
["M112"]
["B113"]
["C113"]
["D113"]
["F113"]
["G113"]
["H113"]
["I113"]
["J113"]
["K113"]
["M113"]
["B114"]
["C114"]
["D114"]
["F114"]
["G114"]
["H114"]
["I114"]
["J114"]
["K114"]
["M114"]
["B115"]
["C115"]
["D115"]
["F115"]
["G115"]
["H115"]
["I115"]
["J115"]
["K115"]
["M115"]
["B116"]
["C116"]
["D116"]
["F116"]
["G116"]
["H116"]
["I116"]
["J116"]
["K116"]
["M116"]
["B117"]
["C117"]
["D117"]
["F117"]
["G117"]
["H117"]
["I117"]
["J117"]
["K117"]
["M117"]
["B118"]
["C118"]
["D118"]
["F118"]
["G118"]
["H118"]
["I118"]
["J118"]
["K118"]
["M118"]
["B119"]
["C119"]
["D119"]
["F119"]
["G119"]
["H119"]
["I119"]
["J119"]
["K119"]
["M119"]
["B120"]
["C120"]
["D120"]
["F120"]
["G120"]
["H120"]
["I120"]
["J120"]
["K120"]
["M120"]
["B121"]
["C121"]
["D121"]
["F121"]
["G121"]
["H121"]
["I121"]
["J121"]
["K121"]
["M121"]
["B122"]
["C122"]
["D122"]
["F122"]
["G122"]
["H122"]
["I122"]
["J122"]
["K122"]
["M122"]
["B123"]
["C123"]
["D123"]
["F123"]
["G123"]
["H123"]
["I123"]
["J123"]
["K123"]
["M123"]
["B124"]
["C124"]
["D124"]
["F124"]
["G124"]
["H124"]
["I124"]
["J124"]
["K124"]
["M124"]
["B125"]
["C125"]
["D125"]
["F125"]
["G125"]
["H125"]
["I125"]
["J125"]
["K125"]
["M125"]
["B126"]
["C126"]
["D126"]
["F126"]
["G126"]
["H126"]
["I126"]
["J126"]
["K126"]
["M126"]
["B127"]
["C127"]
["D127"]
["F127"]
["G127"]
["H127"]
["I127"]
["J127"]
["K127"]
["M127"]
["B128"]
["C128"]
["D128"]
["F128"]
["G128"]
["H128"]
["I128"]
["J128"]
["K128"]
["M128"]
["B129"]
["C129"]
["D129"]
["F129"]
["G129"]
["H129"]
["I129"]
["J129"]
["K129"]
["M129"]
["B130"]
["C130"]
["D130"]
["F130"]
["G130"]
["H130"]
["I130"]
["J130"]
["K130"]
["M130"]
["B131"]
["C131"]
["D131"]
["F131"]
["G131"]
["H131"]
["I131"]
["J131"]
["K131"]
["M131"]
["B132"]
["C132"]
["D132"]
["F132"]
["G132"]
["H132"]
["I132"]
["J132"]
["K132"]
["M132"]
["B133"]
["C133"]
["D133"]
["F133"]
["G133"]
["H133"]
["I133"]
["J133"]
["K133"]
["M133"]
["B134"]
["C134"]
["D134"]
["F134"]
["G134"]
["H134"]
["I134"]
["J134"]
["K134"]
["M134"]
["B135"]
["C135"]
["D135"]
["F135"]
["G135"]
["H135"]
["I135"]
["J135"]
["K135"]
["M135"]
["B136"]
["C136"]
["D136"]
["F136"]
["G136"]
["H136"]
["I136"]
["J136"]
["K136"]
["M136"]
["B137"]
["C137"]
["D137"]
["F137"]
["G137"]
["H137"]
["I137"]
["J137"]
["K137"]
["M137"]
["B138"]
["C138"]
["D138"]
["F138"]
["G138"]
["H138"]
["I138"]
["J138"]
["K138"]
["M138"]
["B139"]
["C139"]
["D139"]
["F139"]
["G139"]
["H139"]
["I139"]
["J139"]
["K139"]
["M139"]
["B140"]
["C140"]
["D140"]
["F140"]
["G140"]
["H140"]
["I140"]
["J140"]
["K140"]
["M140"]
["B141"]
["C141"]
["D141"]
["F141"]
["G141"]
["H141"]
["I141"]
["J141"]
["K141"]
["M141"]
["B142"]
["C142"]
["D142"]
["F142"]
["G142"]
["H142"]
["I142"]
["J142"]
["K142"]
["M142"]
["B143"]
["C143"]
["D143"]
["F143"]
["G143"]
["H143"]
["I143"]
["J143"]
["K143"]
["M143"]
["B144"]
["C144"]
["D144"]
["F144"]
["G144"]
["H144"]
["I144"]
["J144"]
["K144"]
["M144"]
["B145"]
["C145"]
["D145"]
["F145"]
["G145"]
["H145"]
["I145"]
["J145"]
["K145"]
["M145"]
["B146"]
["C146"]
["D146"]
["F146"]
["G146"]
["H146"]
["I146"]
["J146"]
["K146"]
["M146"]
["B147"]
["C147"]
["D147"]
["F147"]
["G147"]
["H147"]
["I147"]
["J147"]
["K147"]
["M147"]
["B148"]
["C148"]
["D148"]
["F148"]
["G148"]
["H148"]
["I148"]
["J148"]
["K148"]
["M148"]
["B149"]
["C149"]
["D149"]
["F149"]
["G149"]
["H149"]
["I149"]
["J149"]
["K149"]
["M149"]
["B150"]
["C150"]
["D150"]
["F150"]
["G150"]
["H150"]
["I150"]
["J150"]
["K150"]
["M150"]
["B151"]
["C151"]
["D151"]
["F151"]
["G151"]
["H151"]
["I151"]
["J151"]
["K151"]
["M151"]
["B152"]
["C152"]
["D152"]
["F152"]
["G152"]
["H152"]
["I152"]
["J152"]
["K152"]
["M152"]
["B153"]
["C153"]
["D153"]
["F153"]
["G153"]
["H153"]
["I153"]
["J153"]
["K153"]
["M153"]
["B154"]
["C154"]
["D154"]
["F154"]
["G154"]
["H154"]
["I154"]
["J154"]
["K154"]
["M154"]
["B159","Rotational Grazing"]
["C159"]
["D159"]
["E159"]
["F159","Surface Applied"]
["G159"]
["H159","March-June"]
["I159","Cake"]
["J159",1.6199999999999992]
["N159",66]
["B160","Continuously Grazed <0.75 An.Units"]
["C160"]
["D160"]
["E160"]
["F160","Surface Applied"]
["G160"]
["H160","March-June"]
["I160","Cake"]
["J160",3.5881578947368422]
["N160",66]
["B161"]
["C161"]
["D161"]
["E161"]
["F161"]
["G161"]
["H161"]
["I161"]
["J161"]
["N161"]
["B162"]
["C162"]
["D162"]
["E162"]
["F162"]
["G162"]
["H162"]
["I162"]
["J162"]
["N162"]
["B163"]
["C163"]
["D163"]
["E163"]
["F163"]
["G163"]
["H163"]
["I163"]
["J163"]
["N163"]
["B164"]
["C164"]
["D164"]
["E164"]
["F164"]
["G164"]
["H164"]
["I164"]
["J164"]
["N164"]
["B165"]
["C165"]
["D165"]
["E165"]
["F165"]
["G165"]
["H165"]
["I165"]
["J165"]
["N165"]
["B166"]
["C166"]
["D166"]
["E166"]
["F166"]
["G166"]
["H166"]
["I166"]
["J166"]
["N166"]
["B167"]
["C167"]
["D167"]
["E167"]
["F167"]
["G167"]
["H167"]
["I167"]
["J167"]
["N167"]
["B168"]
["C168"]
["D168"]
["E168"]
["F168"]
["G168"]
["H168"]
["I168"]
["J168"]
["N168"]
["B169"]
["C169"]
["D169"]
["E169"]
["F169"]
["G169"]
["H169"]
["I169"]
["J169"]
["N169"]
["B170"]
["C170"]
["D170"]
["E170"]
["F170"]
["G170"]
["H170"]
["I170"]
["J170"]
["N170"]
["B171"]
["C171"]
["D171"]
["E171"]
["F171"]
["G171"]
["H171"]
["I171"]
["J171"]
["N171"]
["B172"]
["C172"]
["D172"]
["E172"]
["F172"]
["G172"]
["H172"]
["I172"]
["J172"]
["N172"]
["B173"]
["C173"]
["D173"]
["E173"]
["F173"]
["G173"]
["H173"]
["I173"]
["J173"]
["N173"]
["B174"]
["C174"]
["D174"]
["E174"]
["F174"]
["G174"]
["H174"]
["I174"]
["J174"]
["N174"]
["B175"]
["C175"]
["D175"]
["E175"]
["F175"]
["G175"]
["H175"]
["I175"]
["J175"]
["N175"]
["B176"]
["C176"]
["D176"]
["E176"]
["F176"]
["G176"]
["H176"]
["I176"]
["J176"]
["N176"]
["B177"]
["C177"]
["D177"]
["E177"]
["F177"]
["G177"]
["H177"]
["I177"]
["J177"]
["N177"]
["B178"]
["C178"]
["D178"]
["E178"]
["F178"]
["G178"]
["H178"]
["I178"]
["J178"]
["N178"]
["B179"]
["C179"]
["D179"]
["E179"]
["F179"]
["G179"]
["H179"]
["I179"]
["J179"]
["N179"]
["B180"]
["C180"]
["D180"]
["E180"]
["F180"]
["G180"]
["H180"]
["I180"]
["J180"]
["N180"]
["B181"]
["C181"]
["D181"]
["E181"]
["F181"]
["G181"]
["H181"]
["I181"]
["J181"]
["N181"]
["B182"]
["C182"]
["D182"]
["E182"]
["F182"]
["G182"]
["H182"]
["I182"]
["J182"]
["N182"]
["B183"]
["C183"]
["D183"]
["E183"]
["F183"]
["G183"]
["H183"]
["I183"]
["J183"]
["N183"]
["B184"]
["C184"]
["D184"]
["E184"]
["F184"]
["G184"]
["H184"]
["I184"]
["J184"]
["N184"]
["B185"]
["C185"]
["D185"]
["E185"]
["F185"]
["G185"]
["H185"]
["I185"]
["J185"]
["N185"]
["B186"]
["C186"]
["D186"]
["E186"]
["F186"]
["G186"]
["H186"]
["I186"]
["J186"]
["N186"]
["B187"]
["C187"]
["D187"]
["E187"]
["F187"]
["G187"]
["H187"]
["I187"]
["J187"]
["N187"]
["B188"]
["C188"]
["D188"]
["E188"]
["F188"]
["G188"]
["H188"]
["I188"]
["J188"]
["N188"]
["B189"]
["C189"]
["D189"]
["E189"]
["F189"]
["G189"]
["H189"]
["I189"]
["J189"]
["N189"]
["B190"]
["C190"]
["D190"]
["E190"]
["F190"]
["G190"]
["H190"]
["I190"]
["J190"]
["N190"]
["B191"]
["C191"]
["D191"]
["E191"]
["F191"]
["G191"]
["H191"]
["I191"]
["J191"]
["N191"]
["B192"]
["C192"]
["D192"]
["E192"]
["F192"]
["G192"]
["H192"]
["I192"]
["J192"]
["N192"]
["B193"]
["C193"]
["D193"]
["E193"]
["F193"]
["G193"]
["H193"]
["I193"]
["J193"]
["N193"]
["B194"]
["C194"]
["D194"]
["E194"]
["F194"]
["G194"]
["H194"]
["I194"]
["J194"]
["N194"]
["B195"]
["C195"]
["D195"]
["E195"]
["F195"]
["G195"]
["H195"]
["I195"]
["J195"]
["N195"]
["B196"]
["C196"]
["D196"]
["E196"]
["F196"]
["G196"]
["H196"]
["I196"]
["J196"]
["N196"]
["B197"]
["C197"]
["D197"]
["E197"]
["F197"]
["G197"]
["H197"]
["I197"]
["J197"]
["N197"]
["B198"]
["C198"]
["D198"]
["E198"]
["F198"]
["G198"]
["H198"]
["I198"]
["J198"]
["N198"]
["B199"]
["C199"]
["D199"]
["E199"]
["F199"]
["G199"]
["H199"]
["I199"]
["J199"]
["N199"]
["B200"]
["C200"]
["D200"]
["E200"]
["F200"]
["G200"]
["H200"]
["I200"]
["J200"]
["N200"]
["B201"]
["C201"]
["D201"]
["E201"]
["F201"]
["G201"]
["H201"]
["I201"]
["J201"]
["N201"]
["B202"]
["C202"]
["D202"]
["E202"]
["F202"]
["G202"]
["H202"]
["I202"]
["J202"]
["N202"]
["B203"]
["C203"]
["D203"]
["E203"]
["F203"]
["G203"]
["H203"]
["I203"]
["J203"]
["N203"]
["B204"]
["C204"]
["D204"]
["E204"]
["F204"]
["G204"]
["H204"]
["I204"]
["J204"]
["N204"]
["B205"]
["C205"]
["D205"]
["E205"]
["F205"]
["G205"]
["H205"]
["I205"]
["J205"]
["N205"]
["B206"]
["C206"]
["D206"]
["E206"]
["F206"]
["G206"]
["H206"]
["I206"]
["J206"]
["N206"]
["B207"]
["C207"]
["D207"]
["E207"]
["F207"]
["G207"]
["H207"]
["I207"]
["J207"]
["N207"]
["B208"]
["C208"]
["D208"]
["E208"]
["F208"]
["G208"]
["H208"]
["I208"]
["J208"]
["N208"]
["B212"]
["C212"]
["D212"]
["E212"]
["F212"]
["G212"]
["H212"]
["I212"]
["J212"]
["B213"]
["C213"]
["D213"]
["E213"]
["F213"]
["G213"]
["H213"]
["I213"]
["J213"]
["B214"]
["C214"]
["D214"]
["E214"]
["F214"]
["G214"]
["H214"]
["I214"]
["J214"]
["B215"]
["C215"]
["D215"]
["E215"]
["F215"]
["G215"]
["H215"]
["I215"]
["J215"]
["B216"]
["C216"]
["D216"]
["E216"]
["F216"]
["G216"]
["H216"]
["I216"]
["J216"]
["B217"]
["C217"]
["D217"]
["E217"]
["F217"]
["G217"]
["H217"]
["I217"]
["J217"]
["B218"]
["C218"]
["D218"]
["E218"]
["F218"]
["G218"]
["H218"]
["I218"]
["J218"]
["B219"]
["C219"]
["D219"]
["E219"]
["F219"]
["G219"]
["H219"]
["I219"]
["J219"]
["B220"]
["C220"]
["D220"]
["E220"]
["F220"]
["G220"]
["H220"]
["I220"]
["J220"]
["B221"]
["C221"]
["D221"]
["E221"]
["F221"]
["G221"]
["H221"]
["I221"]
["J221"]
["B222"]
["C222"]
["D222"]
["E222"]
["F222"]
["G222"]
["H222"]
["I222"]
["J222"]
["B223"]
["C223"]
["D223"]
["E223"]
["F223"]
["G223"]
["H223"]
["I223"]
["J223"]
["B224"]
["C224"]
["D224"]
["E224"]
["F224"]
["G224"]
["H224"]
["I224"]
["J224"]
["B225"]
["C225"]
["D225"]
["E225"]
["F225"]
["G225"]
["H225"]
["I225"]
["J225"]
["B226"]
["C226"]
["D226"]
["E226"]
["F226"]
["G226"]
["H226"]
["I226"]
["J226"]
["B227"]
["C227"]
["D227"]
["E227"]
["F227"]
["G227"]
["H227"]
["I227"]
["J227"]
["B228"]
["C228"]
["D228"]
["E228"]
["F228"]
["G228"]
["H228"]
["I228"]
["J228"]
["B229"]
["C229"]
["D229"]
["E229"]
["F229"]
["G229"]
["H229"]
["I229"]
["J229"]
["B230"]
["C230"]
["D230"]
["E230"]
["F230"]
["G230"]
["H230"]
["I230"]
["J230"]
["B231"]
["C231"]
["D231"]
["E231"]
["F231"]
["G231"]
["H231"]
["I231"]
["J231"]
["B232"]
["C232"]
["D232"]
["E232"]
["F232"]
["G232"]
["H232"]
["I232"]
["J232"]
["B233"]
["C233"]
["D233"]
["E233"]
["F233"]
["G233"]
["H233"]
["I233"]
["J233"]
["B234"]
["C234"]
["D234"]
["E234"]
["F234"]
["G234"]
["H234"]
["I234"]
["J234"]
["B235"]
["C235"]
["D235"]
["E235"]
["F235"]
["G235"]
["H235"]
["I235"]
["J235"]
["B236"]
["C236"]
["D236"]
["E236"]
["F236"]
["G236"]
["H236"]
["I236"]
["J236"]
["B237"]
["C237"]
["D237"]
["E237"]
["F237"]
["G237"]
["H237"]
["I237"]
["J237"]
["B238"]
["C238"]
["D238"]
["E238"]
["F238"]
["G238"]
["H238"]
["I238"]
["J238"]
["B239"]
["C239"]
["D239"]
["E239"]
["F239"]
["G239"]
["H239"]
["I239"]
["J239"]
["B240"]
["C240"]
["D240"]
["E240"]
["F240"]
["G240"]
["H240"]
["I240"]
["J240"]
["B241"]
["C241"]
["D241"]
["E241"]
["F241"]
["G241"]
["H241"]
["I241"]
["J241"]
["B242"]
["C242"]
["D242"]
["E242"]
["F242"]
["G242"]
["H242"]
["I242"]
["J242"]
["B243"]
["C243"]
["D243"]
["E243"]
["F243"]
["G243"]
["H243"]
["I243"]
["J243"]
["B244"]
["C244"]
["D244"]
["E244"]
["F244"]
["G244"]
["H244"]
["I244"]
["J244"]
["B245"]
["C245"]
["D245"]
["E245"]
["F245"]
["G245"]
["H245"]
["I245"]
["J245"]
["B246"]
["C246"]
["D246"]
["E246"]
["F246"]
["G246"]
["H246"]
["I246"]
["J246"]
["B247"]
["C247"]
["D247"]
["E247"]
["F247"]
["G247"]
["H247"]
["I247"]
["J247"]
["B248"]
["C248"]
["D248"]
["E248"]
["F248"]
["G248"]
["H248"]
["I248"]
["J248"]
["B249"]
["C249"]
["D249"]
["E249"]
["F249"]
["G249"]
["H249"]
["I249"]
["J249"]
["B250"]
["C250"]
["D250"]
["E250"]
["F250"]
["G250"]
["H250"]
["I250"]
["J250"]
["B251"]
["C251"]
["D251"]
["E251"]
["F251"]
["G251"]
["H251"]
["I251"]
["J251"]
["B252"]
["C252"]
["D252"]
["E252"]
["F252"]
["G252"]
["H252"]
["I252"]
["J252"]
["B253"]
["C253"]
["D253"]
["E253"]
["F253"]
["G253"]
["H253"]
["I253"]
["J253"]
["B254"]
["C254"]
["D254"]
["E254"]
["F254"]
["G254"]
["H254"]
["I254"]
["J254"]
["B255"]
["C255"]
["D255"]
["E255"]
["F255"]
["G255"]
["H255"]
["I255"]
["J255"]
["B256"]
["C256"]
["D256"]
["E256"]
["F256"]
["G256"]
["H256"]
["I256"]
["J256"]
["B257"]
["C257"]
["D257"]
["E257"]
["F257"]
["G257"]
["H257"]
["I257"]
["J257"]
["B258"]
["C258"]
["D258"]
["E258"]
["F258"]
["G258"]
["H258"]
["I258"]
["J258"]
["B259"]
["C259"]
["D259"]
["E259"]
["F259"]
["G259"]
["H259"]
["I259"]
["J259"]
["B260"]
["C260"]
["D260"]
["E260"]
["F260"]
["G260"]
["H260"]
["I260"]
["J260"]
["B261"]
["C261"]
["D261"]
["E261"]
["F261"]
["G261"]
["H261"]
["I261"]
["J261"]
["D267",1.5]
["F267",110]
["G267",0]
["H267",0]
["D268",1.5]
["F268",110]
["G268",30]
["H268",40]
["D269"]
["F269"]
["G269"]
["H269"]
["D270"]
["F270"]
["G270"]
["H270"]
["D271"]
["F271"]
["G271"]
["H271"]
["D272"]
["F272"]
["G272"]
["H272"]
["D273"]
["F273"]
["G273"]
["H273"]
["D274"]
["F274"]
["G274"]
["H274"]
["D275"]
["F275"]
["G275"]
["H275"]
["D276"]
["F276"]
["G276"]
["H276"]
["D277"]
["F277"]
["G277"]
["H277"]
["D278"]
["F278"]
["G278"]
["H278"]
["D279"]
["F279"]
["G279"]
["H279"]
["D280"]
["F280"]
["G280"]
["H280"]
["D281"]
["F281"]
["G281"]
["H281"]
["D282"]
["F282"]
["G282"]
["H282"]
["D283"]
["F283"]
["G283"]
["H283"]
["D284"]
["F284"]
["G284"]
["H284"]
["D285"]
["F285"]
["G285"]
["H285"]
["D286"]
["F286"]
["G286"]
["H286"]
["D287"]
["F287"]
["G287"]
["H287"]
["D288"]
["F288"]
["G288"]
["H288"]
["D289"]
["F289"]
["G289"]
["H289"]
["D290"]
["F290"]
["G290"]
["H290"]
["D291"]
["F291"]
["G291"]
["H291"]
["D292"]
["F292"]
["G292"]
["H292"]
["D293"]
["F293"]
["G293"]
["H293"]
["D294"]
["F294"]
["G294"]
["H294"]
["D295"]
["F295"]
["G295"]
["H295"]
["D296"]
["F296"]
["G296"]
["H296"]
["D297"]
["F297"]
["G297"]
["H297"]
["D298"]
["F298"]
["G298"]
["H298"]
["D299"]
["F299"]
["G299"]
["H299"]
["D300"]
["F300"]
["G300"]
["H300"]
["D301"]
["F301"]
["G301"]
["H301"]
["D302"]
["F302"]
["G302"]
["H302"]
["D303"]
["F303"]
["G303"]
["H303"]
["D304"]
["F304"]
["G304"]
["H304"]
["D305"]
["F305"]
["G305"]
["H305"]
["D306"]
["F306"]
["G306"]
["H306"]
["D307"]
["F307"]
["G307"]
["H307"]
["D308"]
["F308"]
["G308"]
["H308"]
["D309"]
["F309"]
["G309"]
["H309"]
["D310"]
["F310"]
["G310"]
["H310"]
["D311"]
["F311"]
["G311"]
["H311"]
["D312"]
["F312"]
["G312"]
["H312"]
["D313"]
["F313"]
["G313"]
["H313"]
["D314"]
["F314"]
["G314"]
["H314"]
["D315"]
["F315"]
["G315"]
["H315"]
["D316"]
["F316"]
["G316"]
["H316"]