{"text_format":"1","workbook":"xlsx","n_sheets":9,"sheets":["Summary","Mileage","Expenses","Copy","Formulas","Totals","Finals","Sheet4","Print"],"not_rendered":{"charts":0,"images":1,"macros":1,"external_links":1,"defined_names":6,"comments":6,"pivot_tables":0},"unopened":[],"bounds":{"document_bytes":16777216,"sheet_cells":100000,"rows_first":2000,"rows_last":500,"rows_between":2000,"halvings":0,"cell_chars":16384,"cell_head_chars":4096},"cells_cut":0,"cells_raw":0,"read":"whole","date_system":"1900"}

{"sheet":"Summary","index":0,"n_rows":68,"n_cols":11,"rows_kept":68,"cut":false,"hidden":false,"merged":[[2,9,2,10],[43,0,43,10],[41,0,41,10],[0,4,0,5],[46,1,46,7],[8,1,8,6],[8,7,8,9],[11,0,11,10],[12,0,12,6],[12,7,12,9],[44,1,44,7],[6,0,6,2],[6,3,6,5],[4,6,4,7],[5,0,5,2],[5,3,5,5],[5,9,5,10],[6,9,6,10],[2,3,2,8]]}
[null,null,null,null,{"$f":"IF(J3=\"Select One\",\"\",J3)","v":""},null,"TRAVEL FORM",null,null,null,"TRAV-207"]
[]
[null,null,null,{"$f":"IF(J3=\"Select One\",\"Select In-State or Out-of-State from Drop Down\",\"\")","v":"Select In-State or Out-of-State from Drop Down"},null,null,null,null,null,"Select One"]
[]
[null,null,null,null,null,null,"Travel Dates"]
["Name",null,null,"Employee I.D. #",null,null,"From","To",null,"Official Station"]
[]
[]
["Title",null,null,null,null,null,null,"Home Org #"]
[]
[]
["Private Vehicle Certification: I am the legal owner of the vehicle used for official transportation"]
["described on this form. Liability insurance is in force on this vehicle.",null,null,null,null,null,null,"License number"]
[]
["Travel Account Summary"]
[null,null,"Mileage",null,null,"Registration",null,"Ground"]
["Fund #","Org #","Charged","lodging","Meals","Fees","Parking","Transp.","Flight","Other","Total"]
[{"$f":"IF(IF(Sheet4!A3=\"Grand\",\"Total\",IF(Sheet4!A3=\"Grand\",\"Total\",Sheet4!A3))=0,\"\",IF(Sheet4!A3=\"Grand\",\"Total\",IF(Sheet4!A3=\"Grand\",\"Total\",Sheet4!A3)))","v":""},{"$f":"IF(IF(IF(Sheet4!B3=\"Grand\",\"Total\",IF(Sheet4!B3=\"Grand\",\"Total\",Sheet4!B3))=0,\"\",IF(Sheet4!B3=\"Grand\",\"Total\",IF(Sheet4!B3=\"Grand\",\"Total\",Sheet4!B3)))=\" Tot\",\"\",IF(IF(Sheet4!B3=\"Grand\",\"Total\",IF(Sheet4!B3=\"Grand\",\"Total\",Sheet4!B3))=0,\"\",IF(Sheet4!B3=\"Grand\",\"Total\",IF(Sheet4!B3=\"Grand\",\"Total\",Sheet4!B3))))","v":""},{"$f":"IF(Sheet4!C3=0,\"\",Sheet4!C3)","v":""},{"$f":"IF(Sheet4!D3=0,\"\",Sheet4!D3)","v":""},{"$f":"IF(Sheet4!E3=0,\"\",Sheet4!E3)","v":""},{"$f":"IF(Sheet4!F3=0,\"\",Sheet4!F3)","v":""},{"$f":"IF(Sheet4!G3=0,\"\",Sheet4!G3)","v":""},{"$f":"IF(Sheet4!H3=0,\"\",Sheet4!H3)","v":""},{"$f":"IF(Sheet4!I3=0,\"\",Sheet4!I3)","v":""},{"$f":"IF(Sheet4!J3=0,\"\",Sheet4!J3)","v":""},{"$f":"IF(A18<>\"\",SUM(C18:J18),\"\")","v":""}]
[{"$f":"IF(IF(Sheet4!A4=\"Grand\",\"Total\",IF(Sheet4!A4=\"Grand\",\"Total\",Sheet4!A4))=0,\"\",IF(Sheet4!A4=\"Grand\",\"Total\",IF(Sheet4!A4=\"Grand\",\"Total\",Sheet4!A4)))","v":""},{"$f":"IF(IF(IF(Sheet4!B4=\"Grand\",\"Total\",IF(Sheet4!B4=\"Grand\",\"Total\",Sheet4!B4))=0,\"\",IF(Sheet4!B4=\"Grand\",\"Total\",IF(Sheet4!B4=\"Grand\",\"Total\",Sheet4!B4)))=\" Tot\",\"\",IF(IF(Sheet4!B4=\"Grand\",\"Total\",IF(Sheet4!B4=\"Grand\",\"Total\",Sheet4!B4))=0,\"\",IF(Sheet4!B4=\"Grand\",\"Total\",IF(Sheet4!B4=\"Grand\",\"Total\",Sheet4!B4))))","v":""},{"$f":"IF(Sheet4!C4=0,\"\",Sheet4!C4)","v":""},{"$f":"IF(Sheet4!D4=0,\"\",Sheet4!D4)","v":""},{"$f":"IF(Sheet4!E4=0,\"\",Sheet4!E4)","v":""},{"$f":"IF(Sheet4!F4=0,\"\",Sheet4!F4)","v":""},{"$f":"IF(Sheet4!G4=0,\"\",Sheet4!G4)","v":""},{"$f":"IF(Sheet4!H4=0,\"\",Sheet4!H4)","v":""},{"$f":"IF(Sheet4!I4=0,\"\",Sheet4!I4)","v":""},{"$f":"IF(Sheet4!J4=0,\"\",Sheet4!J4)","v":""},""]
[{"$f":"IF(IF(Sheet4!A5=\"Grand\",\"Total\",IF(Sheet4!A5=\"Grand\",\"Total\",Sheet4!A5))=0,\"\",IF(Sheet4!A5=\"Grand\",\"Total\",IF(Sheet4!A5=\"Grand\",\"Total\",Sheet4!A5)))","v":""},{"$f":"IF(IF(IF(Sheet4!B5=\"Grand\",\"Total\",IF(Sheet4!B5=\"Grand\",\"Total\",Sheet4!B5))=0,\"\",IF(Sheet4!B5=\"Grand\",\"Total\",IF(Sheet4!B5=\"Grand\",\"Total\",Sheet4!B5)))=\" Tot\",\"\",IF(IF(Sheet4!B5=\"Grand\",\"Total\",IF(Sheet4!B5=\"Grand\",\"Total\",Sheet4!B5))=0,\"\",IF(Sheet4!B5=\"Grand\",\"Total\",IF(Sheet4!B5=\"Grand\",\"Total\",Sheet4!B5))))","v":""},{"$f":"IF(Sheet4!C5=0,\"\",Sheet4!C5)","v":""},{"$f":"IF(Sheet4!D5=0,\"\",Sheet4!D5)","v":""},{"$f":"IF(Sheet4!E5=0,\"\",Sheet4!E5)","v":""},{"$f":"IF(Sheet4!F5=0,\"\",Sheet4!F5)","v":""},{"$f":"IF(Sheet4!G5=0,\"\",Sheet4!G5)","v":""},{"$f":"IF(Sheet4!H5=0,\"\",Sheet4!H5)","v":""},{"$f":"IF(Sheet4!I5=0,\"\",Sheet4!I5)","v":""},{"$f":"IF(Sheet4!J5=0,\"\",Sheet4!J5)","v":""},""]
[{"$f":"IF(IF(Sheet4!A6=\"Grand\",\"Total\",IF(Sheet4!A6=\"Grand\",\"Total\",Sheet4!A6))=0,\"\",IF(Sheet4!A6=\"Grand\",\"Total\",IF(Sheet4!A6=\"Grand\",\"Total\",Sheet4!A6)))","v":""},{"$f":"IF(IF(IF(Sheet4!B6=\"Grand\",\"Total\",IF(Sheet4!B6=\"Grand\",\"Total\",Sheet4!B6))=0,\"\",IF(Sheet4!B6=\"Grand\",\"Total\",IF(Sheet4!B6=\"Grand\",\"Total\",Sheet4!B6)))=\" Tot\",\"\",IF(IF(Sheet4!B6=\"Grand\",\"Total\",IF(Sheet4!B6=\"Grand\",\"Total\",Sheet4!B6))=0,\"\",IF(Sheet4!B6=\"Grand\",\"Total\",IF(Sheet4!B6=\"Grand\",\"Total\",Sheet4!B6))))","v":""},{"$f":"IF(Sheet4!C6=0,\"\",Sheet4!C6)","v":""},{"$f":"IF(Sheet4!D6=0,\"\",Sheet4!D6)","v":""},{"$f":"IF(Sheet4!E6=0,\"\",Sheet4!E6)","v":""},{"$f":"IF(Sheet4!F6=0,\"\",Sheet4!F6)","v":""},{"$f":"IF(Sheet4!G6=0,\"\",Sheet4!G6)","v":""},{"$f":"IF(Sheet4!H6=0,\"\",Sheet4!H6)","v":""},{"$f":"IF(Sheet4!I6=0,\"\",Sheet4!I6)","v":""},{"$f":"IF(Sheet4!J6=0,\"\",Sheet4!J6)","v":""},""]
[{"$f":"IF(IF(Sheet4!A7=\"Grand\",\"Total\",IF(Sheet4!A7=\"Grand\",\"Total\",Sheet4!A7))=0,\"\",IF(Sheet4!A7=\"Grand\",\"Total\",IF(Sheet4!A7=\"Grand\",\"Total\",Sheet4!A7)))","v":""},{"$f":"IF(IF(IF(Sheet4!B7=\"Grand\",\"Total\",IF(Sheet4!B7=\"Grand\",\"Total\",Sheet4!B7))=0,\"\",IF(Sheet4!B7=\"Grand\",\"Total\",IF(Sheet4!B7=\"Grand\",\"Total\",Sheet4!B7)))=\" Tot\",\"\",IF(IF(Sheet4!B7=\"Grand\",\"Total\",IF(Sheet4!B7=\"Grand\",\"Total\",Sheet4!B7))=0,\"\",IF(Sheet4!B7=\"Grand\",\"Total\",IF(Sheet4!B7=\"Grand\",\"Total\",Sheet4!B7))))","v":""},{"$f":"IF(Sheet4!C7=0,\"\",Sheet4!C7)","v":""},{"$f":"IF(Sheet4!D7=0,\"\",Sheet4!D7)","v":""},{"$f":"IF(Sheet4!E7=0,\"\",Sheet4!E7)","v":""},{"$f":"IF(Sheet4!F7=0,\"\",Sheet4!F7)","v":""},{"$f":"IF(Sheet4!G7=0,\"\",Sheet4!G7)","v":""},{"$f":"IF(Sheet4!H7=0,\"\",Sheet4!H7)","v":""},{"$f":"IF(Sheet4!I7=0,\"\",Sheet4!I7)","v":""},{"$f":"IF(Sheet4!J7=0,\"\",Sheet4!J7)","v":""},""]
[{"$f":"IF(IF(Sheet4!A8=\"Grand\",\"Total\",IF(Sheet4!A8=\"Grand\",\"Total\",Sheet4!A8))=0,\"\",IF(Sheet4!A8=\"Grand\",\"Total\",IF(Sheet4!A8=\"Grand\",\"Total\",Sheet4!A8)))","v":""},{"$f":"IF(IF(IF(Sheet4!B8=\"Grand\",\"Total\",IF(Sheet4!B8=\"Grand\",\"Total\",Sheet4!B8))=0,\"\",IF(Sheet4!B8=\"Grand\",\"Total\",IF(Sheet4!B8=\"Grand\",\"Total\",Sheet4!B8)))=\" Tot\",\"\",IF(IF(Sheet4!B8=\"Grand\",\"Total\",IF(Sheet4!B8=\"Grand\",\"Total\",Sheet4!B8))=0,\"\",IF(Sheet4!B8=\"Grand\",\"Total\",IF(Sheet4!B8=\"Grand\",\"Total\",Sheet4!B8))))","v":""},{"$f":"IF(Sheet4!C8=0,\"\",Sheet4!C8)","v":""},{"$f":"IF(Sheet4!D8=0,\"\",Sheet4!D8)","v":""},{"$f":"IF(Sheet4!E8=0,\"\",Sheet4!E8)","v":""},{"$f":"IF(Sheet4!F8=0,\"\",Sheet4!F8)","v":""},{"$f":"IF(Sheet4!G8=0,\"\",Sheet4!G8)","v":""},{"$f":"IF(Sheet4!H8=0,\"\",Sheet4!H8)","v":""},{"$f":"IF(Sheet4!I8=0,\"\",Sheet4!I8)","v":""},{"$f":"IF(Sheet4!J8=0,\"\",Sheet4!J8)","v":""},""]
[{"$f":"IF(IF(Sheet4!A9=\"Grand\",\"Total\",IF(Sheet4!A9=\"Grand\",\"Total\",Sheet4!A9))=0,\"\",IF(Sheet4!A9=\"Grand\",\"Total\",IF(Sheet4!A9=\"Grand\",\"Total\",Sheet4!A9)))","v":""},{"$f":"IF(IF(IF(Sheet4!B9=\"Grand\",\"Total\",IF(Sheet4!B9=\"Grand\",\"Total\",Sheet4!B9))=0,\"\",IF(Sheet4!B9=\"Grand\",\"Total\",IF(Sheet4!B9=\"Grand\",\"Total\",Sheet4!B9)))=\" Tot\",\"\",IF(IF(Sheet4!B9=\"Grand\",\"Total\",IF(Sheet4!B9=\"Grand\",\"Total\",Sheet4!B9))=0,\"\",IF(Sheet4!B9=\"Grand\",\"Total\",IF(Sheet4!B9=\"Grand\",\"Total\",Sheet4!B9))))","v":""},{"$f":"IF(Sheet4!C9=0,\"\",Sheet4!C9)","v":""},{"$f":"IF(Sheet4!D9=0,\"\",Sheet4!D9)","v":""},{"$f":"IF(Sheet4!E9=0,\"\",Sheet4!E9)","v":""},{"$f":"IF(Sheet4!F9=0,\"\",Sheet4!F9)","v":""},{"$f":"IF(Sheet4!G9=0,\"\",Sheet4!G9)","v":""},{"$f":"IF(Sheet4!H9=0,\"\",Sheet4!H9)","v":""},{"$f":"IF(Sheet4!I9=0,\"\",Sheet4!I9)","v":""},{"$f":"IF(Sheet4!J9=0,\"\",Sheet4!J9)","v":""},""]
[{"$f":"IF(IF(Sheet4!A10=\"Grand\",\"Total\",IF(Sheet4!A10=\"Grand\",\"Total\",Sheet4!A10))=0,\"\",IF(Sheet4!A10=\"Grand\",\"Total\",IF(Sheet4!A10=\"Grand\",\"Total\",Sheet4!A10)))","v":""},{"$f":"IF(IF(IF(Sheet4!B10=\"Grand\",\"Total\",IF(Sheet4!B10=\"Grand\",\"Total\",Sheet4!B10))=0,\"\",IF(Sheet4!B10=\"Grand\",\"Total\",IF(Sheet4!B10=\"Grand\",\"Total\",Sheet4!B10)))=\" Tot\",\"\",IF(IF(Sheet4!B10=\"Grand\",\"Total\",IF(Sheet4!B10=\"Grand\",\"Total\",Sheet4!B10))=0,\"\",IF(Sheet4!B10=\"Grand\",\"Total\",IF(Sheet4!B10=\"Grand\",\"Total\",Sheet4!B10))))","v":""},{"$f":"IF(Sheet4!C10=0,\"\",Sheet4!C10)","v":""},{"$f":"IF(Sheet4!D10=0,\"\",Sheet4!D10)","v":""},{"$f":"IF(Sheet4!E10=0,\"\",Sheet4!E10)","v":""},{"$f":"IF(Sheet4!F10=0,\"\",Sheet4!F10)","v":""},{"$f":"IF(Sheet4!G10=0,\"\",Sheet4!G10)","v":""},{"$f":"IF(Sheet4!H10=0,\"\",Sheet4!H10)","v":""},{"$f":"IF(Sheet4!I10=0,\"\",Sheet4!I10)","v":""},{"$f":"IF(Sheet4!J10=0,\"\",Sheet4!J10)","v":""},""]
[{"$f":"IF(IF(Sheet4!A11=\"Grand\",\"Total\",IF(Sheet4!A11=\"Grand\",\"Total\",Sheet4!A11))=0,\"\",IF(Sheet4!A11=\"Grand\",\"Total\",IF(Sheet4!A11=\"Grand\",\"Total\",Sheet4!A11)))","v":""},{"$f":"IF(IF(IF(Sheet4!B11=\"Grand\",\"Total\",IF(Sheet4!B11=\"Grand\",\"Total\",Sheet4!B11))=0,\"\",IF(Sheet4!B11=\"Grand\",\"Total\",IF(Sheet4!B11=\"Grand\",\"Total\",Sheet4!B11)))=\" Tot\",\"\",IF(IF(Sheet4!B11=\"Grand\",\"Total\",IF(Sheet4!B11=\"Grand\",\"Total\",Sheet4!B11))=0,\"\",IF(Sheet4!B11=\"Grand\",\"Total\",IF(Sheet4!B11=\"Grand\",\"Total\",Sheet4!B11))))","v":""},{"$f":"IF(Sheet4!C11=0,\"\",Sheet4!C11)","v":""},{"$f":"IF(Sheet4!D11=0,\"\",Sheet4!D11)","v":""},{"$f":"IF(Sheet4!E11=0,\"\",Sheet4!E11)","v":""},{"$f":"IF(Sheet4!F11=0,\"\",Sheet4!F11)","v":""},{"$f":"IF(Sheet4!G11=0,\"\",Sheet4!G11)","v":""},{"$f":"IF(Sheet4!H11=0,\"\",Sheet4!H11)","v":""},{"$f":"IF(Sheet4!I11=0,\"\",Sheet4!I11)","v":""},{"$f":"IF(Sheet4!J11=0,\"\",Sheet4!J11)","v":""},""]
[{"$f":"IF(IF(Sheet4!A12=\"Grand\",\"Total\",IF(Sheet4!A12=\"Grand\",\"Total\",Sheet4!A12))=0,\"\",IF(Sheet4!A12=\"Grand\",\"Total\",IF(Sheet4!A12=\"Grand\",\"Total\",Sheet4!A12)))","v":""},{"$f":"IF(IF(IF(Sheet4!B12=\"Grand\",\"Total\",IF(Sheet4!B12=\"Grand\",\"Total\",Sheet4!B12))=0,\"\",IF(Sheet4!B12=\"Grand\",\"Total\",IF(Sheet4!B12=\"Grand\",\"Total\",Sheet4!B12)))=\" Tot\",\"\",IF(IF(Sheet4!B12=\"Grand\",\"Total\",IF(Sheet4!B12=\"Grand\",\"Total\",Sheet4!B12))=0,\"\",IF(Sheet4!B12=\"Grand\",\"Total\",IF(Sheet4!B12=\"Grand\",\"Total\",Sheet4!B12))))","v":""},{"$f":"IF(Sheet4!C12=0,\"\",Sheet4!C12)","v":""},{"$f":"IF(Sheet4!D12=0,\"\",Sheet4!D12)","v":""},{"$f":"IF(Sheet4!E12=0,\"\",Sheet4!E12)","v":""},{"$f":"IF(Sheet4!F12=0,\"\",Sheet4!F12)","v":""},{"$f":"IF(Sheet4!G12=0,\"\",Sheet4!G12)","v":""},{"$f":"IF(Sheet4!H12=0,\"\",Sheet4!H12)","v":""},{"$f":"IF(Sheet4!I12=0,\"\",Sheet4!I12)","v":""},{"$f":"IF(Sheet4!J12=0,\"\",Sheet4!J12)","v":""},""]
[{"$f":"IF(IF(Sheet4!A13=\"Grand\",\"Total\",IF(Sheet4!A13=\"Grand\",\"Total\",Sheet4!A13))=0,\"\",IF(Sheet4!A13=\"Grand\",\"Total\",IF(Sheet4!A13=\"Grand\",\"Total\",Sheet4!A13)))","v":""},{"$f":"IF(IF(IF(Sheet4!B13=\"Grand\",\"Total\",IF(Sheet4!B13=\"Grand\",\"Total\",Sheet4!B13))=0,\"\",IF(Sheet4!B13=\"Grand\",\"Total\",IF(Sheet4!B13=\"Grand\",\"Total\",Sheet4!B13)))=\" Tot\",\"\",IF(IF(Sheet4!B13=\"Grand\",\"Total\",IF(Sheet4!B13=\"Grand\",\"Total\",Sheet4!B13))=0,\"\",IF(Sheet4!B13=\"Grand\",\"Total\",IF(Sheet4!B13=\"Grand\",\"Total\",Sheet4!B13))))","v":""},{"$f":"IF(Sheet4!C13=0,\"\",Sheet4!C13)","v":""},{"$f":"IF(Sheet4!D13=0,\"\",Sheet4!D13)","v":""},{"$f":"IF(Sheet4!E13=0,\"\",Sheet4!E13)","v":""},{"$f":"IF(Sheet4!F13=0,\"\",Sheet4!F13)","v":""},{"$f":"IF(Sheet4!G13=0,\"\",Sheet4!G13)","v":""},{"$f":"IF(Sheet4!H13=0,\"\",Sheet4!H13)","v":""},{"$f":"IF(Sheet4!I13=0,\"\",Sheet4!I13)","v":""},{"$f":"IF(Sheet4!J13=0,\"\",Sheet4!J13)","v":""},""]
[{"$f":"IF(IF(Sheet4!A14=\"Grand\",\"Total\",IF(Sheet4!A14=\"Grand\",\"Total\",Sheet4!A14))=0,\"\",IF(Sheet4!A14=\"Grand\",\"Total\",IF(Sheet4!A14=\"Grand\",\"Total\",Sheet4!A14)))","v":""},{"$f":"IF(IF(IF(Sheet4!B14=\"Grand\",\"Total\",IF(Sheet4!B14=\"Grand\",\"Total\",Sheet4!B14))=0,\"\",IF(Sheet4!B14=\"Grand\",\"Total\",IF(Sheet4!B14=\"Grand\",\"Total\",Sheet4!B14)))=\" Tot\",\"\",IF(IF(Sheet4!B14=\"Grand\",\"Total\",IF(Sheet4!B14=\"Grand\",\"Total\",Sheet4!B14))=0,\"\",IF(Sheet4!B14=\"Grand\",\"Total\",IF(Sheet4!B14=\"Grand\",\"Total\",Sheet4!B14))))","v":""},{"$f":"IF(Sheet4!C14=0,\"\",Sheet4!C14)","v":""},{"$f":"IF(Sheet4!D14=0,\"\",Sheet4!D14)","v":""},{"$f":"IF(Sheet4!E14=0,\"\",Sheet4!E14)","v":""},{"$f":"IF(Sheet4!F14=0,\"\",Sheet4!F14)","v":""},{"$f":"IF(Sheet4!G14=0,\"\",Sheet4!G14)","v":""},{"$f":"IF(Sheet4!H14=0,\"\",Sheet4!H14)","v":""},{"$f":"IF(Sheet4!I14=0,\"\",Sheet4!I14)","v":""},{"$f":"IF(Sheet4!J14=0,\"\",Sheet4!J14)","v":""},""]
[{"$f":"IF(IF(Sheet4!A15=\"Grand\",\"Total\",IF(Sheet4!A15=\"Grand\",\"Total\",Sheet4!A15))=0,\"\",IF(Sheet4!A15=\"Grand\",\"Total\",IF(Sheet4!A15=\"Grand\",\"Total\",Sheet4!A15)))","v":""},{"$f":"IF(IF(IF(Sheet4!B15=\"Grand\",\"Total\",IF(Sheet4!B15=\"Grand\",\"Total\",Sheet4!B15))=0,\"\",IF(Sheet4!B15=\"Grand\",\"Total\",IF(Sheet4!B15=\"Grand\",\"Total\",Sheet4!B15)))=\" Tot\",\"\",IF(IF(Sheet4!B15=\"Grand\",\"Total\",IF(Sheet4!B15=\"Grand\",\"Total\",Sheet4!B15))=0,\"\",IF(Sheet4!B15=\"Grand\",\"Total\",IF(Sheet4!B15=\"Grand\",\"Total\",Sheet4!B15))))","v":""},{"$f":"IF(Sheet4!C15=0,\"\",Sheet4!C15)","v":""},{"$f":"IF(Sheet4!D15=0,\"\",Sheet4!D15)","v":""},{"$f":"IF(Sheet4!E15=0,\"\",Sheet4!E15)","v":""},{"$f":"IF(Sheet4!F15=0,\"\",Sheet4!F15)","v":""},{"$f":"IF(Sheet4!G15=0,\"\",Sheet4!G15)","v":""},{"$f":"IF(Sheet4!H15=0,\"\",Sheet4!H15)","v":""},{"$f":"IF(Sheet4!I15=0,\"\",Sheet4!I15)","v":""},{"$f":"IF(Sheet4!J15=0,\"\",Sheet4!J15)","v":""},""]
[{"$f":"IF(IF(Sheet4!A16=\"Grand\",\"Total\",IF(Sheet4!A16=\"Grand\",\"Total\",Sheet4!A16))=0,\"\",IF(Sheet4!A16=\"Grand\",\"Total\",IF(Sheet4!A16=\"Grand\",\"Total\",Sheet4!A16)))","v":""},{"$f":"IF(IF(IF(Sheet4!B16=\"Grand\",\"Total\",IF(Sheet4!B16=\"Grand\",\"Total\",Sheet4!B16))=0,\"\",IF(Sheet4!B16=\"Grand\",\"Total\",IF(Sheet4!B16=\"Grand\",\"Total\",Sheet4!B16)))=\" Tot\",\"\",IF(IF(Sheet4!B16=\"Grand\",\"Total\",IF(Sheet4!B16=\"Grand\",\"Total\",Sheet4!B16))=0,\"\",IF(Sheet4!B16=\"Grand\",\"Total\",IF(Sheet4!B16=\"Grand\",\"Total\",Sheet4!B16))))","v":""},{"$f":"IF(Sheet4!C16=0,\"\",Sheet4!C16)","v":""},{"$f":"IF(Sheet4!D16=0,\"\",Sheet4!D16)","v":""},{"$f":"IF(Sheet4!E16=0,\"\",Sheet4!E16)","v":""},{"$f":"IF(Sheet4!F16=0,\"\",Sheet4!F16)","v":""},{"$f":"IF(Sheet4!G16=0,\"\",Sheet4!G16)","v":""},{"$f":"IF(Sheet4!H16=0,\"\",Sheet4!H16)","v":""},{"$f":"IF(Sheet4!I16=0,\"\",Sheet4!I16)","v":""},{"$f":"IF(Sheet4!J16=0,\"\",Sheet4!J16)","v":""},""]
[{"$f":"IF(IF(Sheet4!A17=\"Grand\",\"Total\",IF(Sheet4!A17=\"Grand\",\"Total\",Sheet4!A17))=0,\"\",IF(Sheet4!A17=\"Grand\",\"Total\",IF(Sheet4!A17=\"Grand\",\"Total\",Sheet4!A17)))","v":""},{"$f":"IF(IF(IF(Sheet4!B17=\"Grand\",\"Total\",IF(Sheet4!B17=\"Grand\",\"Total\",Sheet4!B17))=0,\"\",IF(Sheet4!B17=\"Grand\",\"Total\",IF(Sheet4!B17=\"Grand\",\"Total\",Sheet4!B17)))=\" Tot\",\"\",IF(IF(Sheet4!B17=\"Grand\",\"Total\",IF(Sheet4!B17=\"Grand\",\"Total\",Sheet4!B17))=0,\"\",IF(Sheet4!B17=\"Grand\",\"Total\",IF(Sheet4!B17=\"Grand\",\"Total\",Sheet4!B17))))","v":""},{"$f":"IF(Sheet4!C17=0,\"\",Sheet4!C17)","v":""},{"$f":"IF(Sheet4!D17=0,\"\",Sheet4!D17)","v":""},{"$f":"IF(Sheet4!E17=0,\"\",Sheet4!E17)","v":""},{"$f":"IF(Sheet4!F17=0,\"\",Sheet4!F17)","v":""},{"$f":"IF(Sheet4!G17=0,\"\",Sheet4!G17)","v":""},{"$f":"IF(Sheet4!H17=0,\"\",Sheet4!H17)","v":""},{"$f":"IF(Sheet4!I17=0,\"\",Sheet4!I17)","v":""},{"$f":"IF(Sheet4!J17=0,\"\",Sheet4!J17)","v":""},""]
[{"$f":"IF(IF(Sheet4!A18=\"Grand\",\"Total\",IF(Sheet4!A18=\"Grand\",\"Total\",Sheet4!A18))=0,\"\",IF(Sheet4!A18=\"Grand\",\"Total\",IF(Sheet4!A18=\"Grand\",\"Total\",Sheet4!A18)))","v":""},{"$f":"IF(IF(IF(Sheet4!B18=\"Grand\",\"Total\",IF(Sheet4!B18=\"Grand\",\"Total\",Sheet4!B18))=0,\"\",IF(Sheet4!B18=\"Grand\",\"Total\",IF(Sheet4!B18=\"Grand\",\"Total\",Sheet4!B18)))=\" Tot\",\"\",IF(IF(Sheet4!B18=\"Grand\",\"Total\",IF(Sheet4!B18=\"Grand\",\"Total\",Sheet4!B18))=0,\"\",IF(Sheet4!B18=\"Grand\",\"Total\",IF(Sheet4!B18=\"Grand\",\"Total\",Sheet4!B18))))","v":""},{"$f":"IF(Sheet4!C18=0,\"\",Sheet4!C18)","v":""},{"$f":"IF(Sheet4!D18=0,\"\",Sheet4!D18)","v":""},{"$f":"IF(Sheet4!E18=0,\"\",Sheet4!E18)","v":""},{"$f":"IF(Sheet4!F18=0,\"\",Sheet4!F18)","v":""},{"$f":"IF(Sheet4!G18=0,\"\",Sheet4!G18)","v":""},{"$f":"IF(Sheet4!H18=0,\"\",Sheet4!H18)","v":""},{"$f":"IF(Sheet4!I18=0,\"\",Sheet4!I18)","v":""},{"$f":"IF(Sheet4!J18=0,\"\",Sheet4!J18)","v":""},""]
[{"$f":"IF(IF(Sheet4!A19=\"Grand\",\"Total\",IF(Sheet4!A19=\"Grand\",\"Total\",Sheet4!A19))=0,\"\",IF(Sheet4!A19=\"Grand\",\"Total\",IF(Sheet4!A19=\"Grand\",\"Total\",Sheet4!A19)))","v":""},{"$f":"IF(IF(IF(Sheet4!B19=\"Grand\",\"Total\",IF(Sheet4!B19=\"Grand\",\"Total\",Sheet4!B19))=0,\"\",IF(Sheet4!B19=\"Grand\",\"Total\",IF(Sheet4!B19=\"Grand\",\"Total\",Sheet4!B19)))=\" Tot\",\"\",IF(IF(Sheet4!B19=\"Grand\",\"Total\",IF(Sheet4!B19=\"Grand\",\"Total\",Sheet4!B19))=0,\"\",IF(Sheet4!B19=\"Grand\",\"Total\",IF(Sheet4!B19=\"Grand\",\"Total\",Sheet4!B19))))","v":""},{"$f":"IF(Sheet4!C19=0,\"\",Sheet4!C19)","v":""},{"$f":"IF(Sheet4!D19=0,\"\",Sheet4!D19)","v":""},{"$f":"IF(Sheet4!E19=0,\"\",Sheet4!E19)","v":""},{"$f":"IF(Sheet4!F19=0,\"\",Sheet4!F19)","v":""},{"$f":"IF(Sheet4!G19=0,\"\",Sheet4!G19)","v":""},{"$f":"IF(Sheet4!H19=0,\"\",Sheet4!H19)","v":""},{"$f":"IF(Sheet4!I19=0,\"\",Sheet4!I19)","v":""},{"$f":"IF(Sheet4!J19=0,\"\",Sheet4!J19)","v":""},""]
[{"$f":"IF(IF(Sheet4!A20=\"Grand\",\"Total\",IF(Sheet4!A20=\"Grand\",\"Total\",Sheet4!A20))=0,\"\",IF(Sheet4!A20=\"Grand\",\"Total\",IF(Sheet4!A20=\"Grand\",\"Total\",Sheet4!A20)))","v":""},{"$f":"IF(IF(IF(Sheet4!B20=\"Grand\",\"Total\",IF(Sheet4!B20=\"Grand\",\"Total\",Sheet4!B20))=0,\"\",IF(Sheet4!B20=\"Grand\",\"Total\",IF(Sheet4!B20=\"Grand\",\"Total\",Sheet4!B20)))=\" Tot\",\"\",IF(IF(Sheet4!B20=\"Grand\",\"Total\",IF(Sheet4!B20=\"Grand\",\"Total\",Sheet4!B20))=0,\"\",IF(Sheet4!B20=\"Grand\",\"Total\",IF(Sheet4!B20=\"Grand\",\"Total\",Sheet4!B20))))","v":""},{"$f":"IF(Sheet4!C20=0,\"\",Sheet4!C20)","v":""},{"$f":"IF(Sheet4!D20=0,\"\",Sheet4!D20)","v":""},{"$f":"IF(Sheet4!E20=0,\"\",Sheet4!E20)","v":""},{"$f":"IF(Sheet4!F20=0,\"\",Sheet4!F20)","v":""},{"$f":"IF(Sheet4!G20=0,\"\",Sheet4!G20)","v":""},{"$f":"IF(Sheet4!H20=0,\"\",Sheet4!H20)","v":""},{"$f":"IF(Sheet4!I20=0,\"\",Sheet4!I20)","v":""},{"$f":"IF(Sheet4!J20=0,\"\",Sheet4!J20)","v":""},""]
[{"$f":"IF(IF(Sheet4!A21=\"Grand\",\"Total\",IF(Sheet4!A21=\"Grand\",\"Total\",Sheet4!A21))=0,\"\",IF(Sheet4!A21=\"Grand\",\"Total\",IF(Sheet4!A21=\"Grand\",\"Total\",Sheet4!A21)))","v":""},{"$f":"IF(IF(IF(Sheet4!B21=\"Grand\",\"Total\",IF(Sheet4!B21=\"Grand\",\"Total\",Sheet4!B21))=0,\"\",IF(Sheet4!B21=\"Grand\",\"Total\",IF(Sheet4!B21=\"Grand\",\"Total\",Sheet4!B21)))=\" Tot\",\"\",IF(IF(Sheet4!B21=\"Grand\",\"Total\",IF(Sheet4!B21=\"Grand\",\"Total\",Sheet4!B21))=0,\"\",IF(Sheet4!B21=\"Grand\",\"Total\",IF(Sheet4!B21=\"Grand\",\"Total\",Sheet4!B21))))","v":""},{"$f":"IF(Sheet4!C21=0,\"\",Sheet4!C21)","v":""},{"$f":"IF(Sheet4!D21=0,\"\",Sheet4!D21)","v":""},{"$f":"IF(Sheet4!E21=0,\"\",Sheet4!E21)","v":""},{"$f":"IF(Sheet4!F21=0,\"\",Sheet4!F21)","v":""},{"$f":"IF(Sheet4!G21=0,\"\",Sheet4!G21)","v":""},{"$f":"IF(Sheet4!H21=0,\"\",Sheet4!H21)","v":""},{"$f":"IF(Sheet4!I21=0,\"\",Sheet4!I21)","v":""},{"$f":"IF(Sheet4!J21=0,\"\",Sheet4!J21)","v":""},""]
[{"$f":"IF(IF(Sheet4!A22=\"Grand\",\"Total\",IF(Sheet4!A22=\"Grand\",\"Total\",Sheet4!A22))=0,\"\",IF(Sheet4!A22=\"Grand\",\"Total\",IF(Sheet4!A22=\"Grand\",\"Total\",Sheet4!A22)))","v":""},{"$f":"IF(IF(IF(Sheet4!B22=\"Grand\",\"Total\",IF(Sheet4!B22=\"Grand\",\"Total\",Sheet4!B22))=0,\"\",IF(Sheet4!B22=\"Grand\",\"Total\",IF(Sheet4!B22=\"Grand\",\"Total\",Sheet4!B22)))=\" Tot\",\"\",IF(IF(Sheet4!B22=\"Grand\",\"Total\",IF(Sheet4!B22=\"Grand\",\"Total\",Sheet4!B22))=0,\"\",IF(Sheet4!B22=\"Grand\",\"Total\",IF(Sheet4!B22=\"Grand\",\"Total\",Sheet4!B22))))","v":""},{"$f":"IF(Sheet4!C22=0,\"\",Sheet4!C22)","v":""},{"$f":"IF(Sheet4!D22=0,\"\",Sheet4!D22)","v":""},{"$f":"IF(Sheet4!E22=0,\"\",Sheet4!E22)","v":""},{"$f":"IF(Sheet4!F22=0,\"\",Sheet4!F22)","v":""},{"$f":"IF(Sheet4!G22=0,\"\",Sheet4!G22)","v":""},{"$f":"IF(Sheet4!H22=0,\"\",Sheet4!H22)","v":""},{"$f":"IF(Sheet4!I22=0,\"\",Sheet4!I22)","v":""},{"$f":"IF(Sheet4!J22=0,\"\",Sheet4!J22)","v":""},""]
[{"$f":"IF(IF(Sheet4!A23=\"Grand\",\"Total\",IF(Sheet4!A23=\"Grand\",\"Total\",Sheet4!A23))=0,\"\",IF(Sheet4!A23=\"Grand\",\"Total\",IF(Sheet4!A23=\"Grand\",\"Total\",Sheet4!A23)))","v":""},{"$f":"IF(IF(IF(Sheet4!B23=\"Grand\",\"Total\",IF(Sheet4!B23=\"Grand\",\"Total\",Sheet4!B23))=0,\"\",IF(Sheet4!B23=\"Grand\",\"Total\",IF(Sheet4!B23=\"Grand\",\"Total\",Sheet4!B23)))=\" Tot\",\"\",IF(IF(Sheet4!B23=\"Grand\",\"Total\",IF(Sheet4!B23=\"Grand\",\"Total\",Sheet4!B23))=0,\"\",IF(Sheet4!B23=\"Grand\",\"Total\",IF(Sheet4!B23=\"Grand\",\"Total\",Sheet4!B23))))","v":""},{"$f":"IF(Sheet4!C23=0,\"\",Sheet4!C23)","v":""},{"$f":"IF(Sheet4!D23=0,\"\",Sheet4!D23)","v":""},{"$f":"IF(Sheet4!E23=0,\"\",Sheet4!E23)","v":""},{"$f":"IF(Sheet4!F23=0,\"\",Sheet4!F23)","v":""},{"$f":"IF(Sheet4!G23=0,\"\",Sheet4!G23)","v":""},{"$f":"IF(Sheet4!H23=0,\"\",Sheet4!H23)","v":""},{"$f":"IF(Sheet4!I23=0,\"\",Sheet4!I23)","v":""},{"$f":"IF(Sheet4!J23=0,\"\",Sheet4!J23)","v":""},""]
[{"$f":"IF(IF(Sheet4!A24=\"Grand\",\"Total\",IF(Sheet4!A24=\"Grand\",\"Total\",Sheet4!A24))=0,\"\",IF(Sheet4!A24=\"Grand\",\"Total\",IF(Sheet4!A24=\"Grand\",\"Total\",Sheet4!A24)))","v":""},{"$f":"IF(IF(IF(Sheet4!B24=\"Grand\",\"Total\",IF(Sheet4!B24=\"Grand\",\"Total\",Sheet4!B24))=0,\"\",IF(Sheet4!B24=\"Grand\",\"Total\",IF(Sheet4!B24=\"Grand\",\"Total\",Sheet4!B24)))=\" Tot\",\"\",IF(IF(Sheet4!B24=\"Grand\",\"Total\",IF(Sheet4!B24=\"Grand\",\"Total\",Sheet4!B24))=0,\"\",IF(Sheet4!B24=\"Grand\",\"Total\",IF(Sheet4!B24=\"Grand\",\"Total\",Sheet4!B24))))","v":""},{"$f":"IF(Sheet4!C24=0,\"\",Sheet4!C24)","v":""},{"$f":"IF(Sheet4!D24=0,\"\",Sheet4!D24)","v":""},{"$f":"IF(Sheet4!E24=0,\"\",Sheet4!E24)","v":""},{"$f":"IF(Sheet4!F24=0,\"\",Sheet4!F24)","v":""},{"$f":"IF(Sheet4!G24=0,\"\",Sheet4!G24)","v":""},{"$f":"IF(Sheet4!H24=0,\"\",Sheet4!H24)","v":""},{"$f":"IF(Sheet4!I24=0,\"\",Sheet4!I24)","v":""},{"$f":"IF(Sheet4!J24=0,\"\",Sheet4!J24)","v":""},""]
[]
["The following University employees were furnished official transportation without charge in this vehicle:"]
[]
[]
["Certification: When signing this form, the traveler certifies that the expenses claimed are true and correct and were incurred in the performance of official duties and that meals and other expenses included in a registration fee or provided by others are not claimed for reimbursement. "]
["Signature"," ",null,null,null,null,null,null,null,"Date "]
[null,"(Manual signature of person to whom account is due)"]
["Approved",null,null,null,null,null,null,null,null,"Date"]
[null,"(Travel Supervisor)"]
[]
["Revised 3/7/2013"]
[]
[]
[]
[]
[]
[]
[]
[]
[]
[]
[]
[]
[]
[]
[]
["Select One"]
["IN-STATE"]
["OUT-OF-STATE"]

{"sheet":"Mileage","index":1,"n_rows":238,"n_cols":10,"rows_kept":238,"cut":false,"hidden":false,"merged":[[0,3,0,4],[0,5,0,6],[1,3,1,6]]}
["Name",{"$f":"Summary!A7","v":0},null,{"$f":"Summary!E1","v":""},null,"Travel Form"]
["Period ended",{"$f":"Summary!H7","v":"00:00:00"},null,"Purpose and Mileage",null,null,null,null,null,0.42]
[null,null,null,null,null,null,null,null,"Mileage rate",0.42]
["Date","Purpose of Trip","Fund#","Org","From","Time","To","Time","Miles","Mileage Charged"]
[null,null,{"$f":"IF(AND(A5=\"\",B5=\"\"),\"\",14000)","v":""},{"$f":"IF(AND(A5=\"\",B5=\"\"),\"\",Summary!$K$9)","v":""},null,null,null,null,null,{"$f":"IF(I5=\"NC\",0,IF(I5=\"nc\",0,IF(I5=\"N/C\",0,IF(A5>38943,I5*$J$2,I5*$J$3))))","v":0}]
[null,null,"",{"$f":"IF(AND(A6=\"\",B6=\"\"),\"\",Summary!$K$9)","v":""},null,null,null,null,null,{"$f":"IF(I6=\"NC\",0,IF(I6=\"nc\",0,IF(I6=\"N/C\",0,IF(A6>38943,I6*$J$2,I6*$J$3))))","v":0}]
[null,null,"",{"$f":"IF(AND(A7=\"\",B7=\"\"),\"\",Summary!$K$9)","v":""},null,null,null,null,null,0]
[null,null,"",{"$f":"IF(AND(A8=\"\",B8=\"\"),\"\",Summary!$K$9)","v":""},null,null,null,null,null,0]
[null,null,"",{"$f":"IF(AND(A9=\"\",B9=\"\"),\"\",Summary!$K$9)","v":""},null,null,null,null,null,0]
[null,null,"",{"$f":"IF(AND(A10=\"\",B10=\"\"),\"\",Summary!$K$9)","v":""},null,null,null,null,null,0]
[null,null,"",{"$f":"IF(AND(A11=\"\",B11=\"\"),\"\",Summary!$K$9)","v":""},null,null,null,null,null,0]
[null,null,"",{"$f":"IF(AND(A12=\"\",B12=\"\"),\"\",Summary!$K$9)","v":""},null,null,null,null,null,0]
[null,null,"",{"$f":"IF(AND(A13=\"\",B13=\"\"),\"\",Summary!$K$9)","v":""},null,null,null,null,null,0]
[null,null,"",{"$f":"IF(AND(A14=\"\",B14=\"\"),\"\",Summary!$K$9)","v":""},null,null,null,null,null,0]
[null,null,"",{"$f":"IF(AND(A15=\"\",B15=\"\"),\"\",Summary!$K$9)","v":""},null,null,null,null,null,0]
[null,null,"",{"$f":"IF(AND(A16=\"\",B16=\"\"),\"\",Summary!$K$9)","v":""},null,null,null,null,null,0]
[null,null,"",{"$f":"IF(AND(A17=\"\",B17=\"\"),\"\",Summary!$K$9)","v":""},null,null,null,null,null,0]
[null,null,"",{"$f":"IF(AND(A18=\"\",B18=\"\"),\"\",Summary!$K$9)","v":""},null,null,null,null,null,0]
[null,null,"",{"$f":"IF(AND(A19=\"\",B19=\"\"),\"\",Summary!$K$9)","v":""},null,null,null,null,null,0]
[null,null,"",{"$f":"IF(AND(A20=\"\",B20=\"\"),\"\",Summary!$K$9)","v":""},null,null,null,null,null,0]
[null,null,"",{"$f":"IF(AND(A21=\"\",B21=\"\"),\"\",Summary!$K$9)","v":""},null,null,null,null,null,0]
[null,null,"",{"$f":"IF(AND(A22=\"\",B22=\"\"),\"\",Summary!$K$9)","v":""},null,null,null,null,null,0]
[null,null,"",{"$f":"IF(AND(A23=\"\",B23=\"\"),\"\",Summary!$K$9)","v":""},null,null,null,null,null,0]
[null,null,"",{"$f":"IF(AND(A24=\"\",B24=\"\"),\"\",Summary!$K$9)","v":""},null,null,null,null,null,0]
[null,null,"",{"$f":"IF(AND(A25=\"\",B25=\"\"),\"\",Summary!$K$9)","v":""},null,null,null,null,null,0]
[null,null,"",{"$f":"IF(AND(A26=\"\",B26=\"\"),\"\",Summary!$K$9)","v":""},null,null,null,null,null,0]
[null,null,"",{"$f":"IF(AND(A27=\"\",B27=\"\"),\"\",Summary!$K$9)","v":""},null,null,null,null,null,0]
[null,null,"",{"$f":"IF(AND(A28=\"\",B28=\"\"),\"\",Summary!$K$9)","v":""},null,null,null,null,null,0]
[null,null,"",{"$f":"IF(AND(A29=\"\",B29=\"\"),\"\",Summary!$K$9)","v":""},null,null,null,null,null,0]
[null,null,"",{"$f":"IF(AND(A30=\"\",B30=\"\"),\"\",Summary!$K$9)","v":""},null,null,null,null,null,0]
[null,null,"",{"$f":"IF(AND(A31=\"\",B31=\"\"),\"\",Summary!$K$9)","v":""},null,null,null,null,null,0]
[null,null,"",{"$f":"IF(AND(A32=\"\",B32=\"\"),\"\",Summary!$K$9)","v":""},null,null,null,null,null,0]
[null,null,"",{"$f":"IF(AND(A33=\"\",B33=\"\"),\"\",Summary!$K$9)","v":""},null,null,null,null,null,0]
[null,null,"",{"$f":"IF(AND(A34=\"\",B34=\"\"),\"\",Summary!$K$9)","v":""},null,null,null,null,null,0]
[null,null,"",{"$f":"IF(AND(A35=\"\",B35=\"\"),\"\",Summary!$K$9)","v":""},null,null,null,null,null,0]
[null,null,"",{"$f":"IF(AND(A36=\"\",B36=\"\"),\"\",Summary!$K$9)","v":""},null,null,null,null,null,0]
[null,null,"",{"$f":"IF(AND(A37=\"\",B37=\"\"),\"\",Summary!$K$9)","v":""},null,null,null,null,null,0]
[null,null,"",{"$f":"IF(AND(A38=\"\",B38=\"\"),\"\",Summary!$K$9)","v":""},null,null,null,null,null,0]
[null,null,"",{"$f":"IF(AND(A39=\"\",B39=\"\"),\"\",Summary!$K$9)","v":""},null,null,null,null,null,0]
[null,null,"",{"$f":"IF(AND(A40=\"\",B40=\"\"),\"\",Summary!$K$9)","v":""},null,null,null,null,null,0]
[null,null,"",{"$f":"IF(AND(A41=\"\",B41=\"\"),\"\",Summary!$K$9)","v":""},null,null,null,null,null,0]
[null,null,"",{"$f":"IF(AND(A42=\"\",B42=\"\"),\"\",Summary!$K$9)","v":""},null,null,null,null,null,0]
[null,null,"",{"$f":"IF(AND(A43=\"\",B43=\"\"),\"\",Summary!$K$9)","v":""},null,null,null,null,null,0]
[null,null,"",{"$f":"IF(AND(A44=\"\",B44=\"\"),\"\",Summary!$K$9)","v":""},null,null,null,null,null,0]
[null,null,"",{"$f":"IF(AND(A45=\"\",B45=\"\"),\"\",Summary!$K$9)","v":""},null,null,null,null,null,0]
[null,null,"",{"$f":"IF(AND(A46=\"\",B46=\"\"),\"\",Summary!$K$9)","v":""},null,null,null,null,null,0]
[null,null,"",{"$f":"IF(AND(A47=\"\",B47=\"\"),\"\",Summary!$K$9)","v":""},null,null,null,null,null,0]
[null,null,"",{"$f":"IF(AND(A48=\"\",B48=\"\"),\"\",Summary!$K$9)","v":""},null,null,null,null,null,0]
[null,null,"",{"$f":"IF(AND(A49=\"\",B49=\"\"),\"\",Summary!$K$9)","v":""},null,null,null,null,null,0]
[null,null,"",{"$f":"IF(AND(A50=\"\",B50=\"\"),\"\",Summary!$K$9)","v":""},null,null,null,null,null,0]
[null,null,"",{"$f":"IF(AND(A51=\"\",B51=\"\"),\"\",Summary!$K$9)","v":""},null,null,null,null,null,0]
[null,null,"",{"$f":"IF(AND(A52=\"\",B52=\"\"),\"\",Summary!$K$9)","v":""},null,null,null,null,null,0]
[null,null,"",{"$f":"IF(AND(A53=\"\",B53=\"\"),\"\",Summary!$K$9)","v":""},null,null,null,null,null,0]
[null,null,"",{"$f":"IF(AND(A54=\"\",B54=\"\"),\"\",Summary!$K$9)","v":""},null,null,null,null,null,0]
[null,null,"",{"$f":"IF(AND(A55=\"\",B55=\"\"),\"\",Summary!$K$9)","v":""},null,null,null,null,null,0]
[null,null,"",{"$f":"IF(AND(A56=\"\",B56=\"\"),\"\",Summary!$K$9)","v":""},null,null,null,null,null,0]
[null,null,"",{"$f":"IF(AND(A57=\"\",B57=\"\"),\"\",Summary!$K$9)","v":""},null,null,null,null,null,0]
[null,null,"",{"$f":"IF(AND(A58=\"\",B58=\"\"),\"\",Summary!$K$9)","v":""},null,null,null,null,null,0]
[null,null,"",{"$f":"IF(AND(A59=\"\",B59=\"\"),\"\",Summary!$K$9)","v":""},null,null,null,null,null,0]
[null,null,"",{"$f":"IF(AND(A60=\"\",B60=\"\"),\"\",Summary!$K$9)","v":""},null,null,null,null,null,0]
[null,null,"",{"$f":"IF(AND(A61=\"\",B61=\"\"),\"\",Summary!$K$9)","v":""},null,null,null,null,null,0]
[null,null,"",{"$f":"IF(AND(A62=\"\",B62=\"\"),\"\",Summary!$K$9)","v":""},null,null,null,null,null,0]
[null,null,"",{"$f":"IF(AND(A63=\"\",B63=\"\"),\"\",Summary!$K$9)","v":""},null,null,null,null,null,0]
[null,null,"",{"$f":"IF(AND(A64=\"\",B64=\"\"),\"\",Summary!$K$9)","v":""},null,null,null,null,null,0]
[null,null,"",{"$f":"IF(AND(A65=\"\",B65=\"\"),\"\",Summary!$K$9)","v":""},null,null,null,null,null,0]
[null,null,"",{"$f":"IF(AND(A66=\"\",B66=\"\"),\"\",Summary!$K$9)","v":""},null,null,null,null,null,0]
[null,null,"",{"$f":"IF(AND(A67=\"\",B67=\"\"),\"\",Summary!$K$9)","v":""},null,null,null,null,null,0]
[null,null,"",{"$f":"IF(AND(A68=\"\",B68=\"\"),\"\",Summary!$K$9)","v":""},null,null,null,null,null,0]
[null,null,{"$f":"IF(AND(A69=\"\",B69=\"\"),\"\",14000)","v":""},{"$f":"IF(AND(A69=\"\",B69=\"\"),\"\",Summary!$K$9)","v":""},null,null,null,null,null,0]
[null,null,"",{"$f":"IF(AND(A70=\"\",B70=\"\"),\"\",Summary!$K$9)","v":""},null,null,null,null,null,{"$f":"IF(I70=\"NC\",0,IF(I70=\"nc\",0,IF(I70=\"N/C\",0,IF(A70>38943,I70*$J$2,I70*$J$3))))","v":0}]
[null,null,"",{"$f":"IF(AND(A71=\"\",B71=\"\"),\"\",Summary!$K$9)","v":""},null,null,null,null,null,0]
[null,null,"",{"$f":"IF(AND(A72=\"\",B72=\"\"),\"\",Summary!$K$9)","v":""},null,null,null,null,null,0]
[null,null,"",{"$f":"IF(AND(A73=\"\",B73=\"\"),\"\",Summary!$K$9)","v":""},null,null,null,null,null,0]
[null,null,"",{"$f":"IF(AND(A74=\"\",B74=\"\"),\"\",Summary!$K$9)","v":""},null,null,null,null,null,0]
[null,null,"",{"$f":"IF(AND(A75=\"\",B75=\"\"),\"\",Summary!$K$9)","v":""},null,null,null,null,null,0]
[null,null,"",{"$f":"IF(AND(A76=\"\",B76=\"\"),\"\",Summary!$K$9)","v":""},null,null,null,null,null,0]
[null,null,"",{"$f":"IF(AND(A77=\"\",B77=\"\"),\"\",Summary!$K$9)","v":""},null,null,null,null,null,0]
[null,null,"",{"$f":"IF(AND(A78=\"\",B78=\"\"),\"\",Summary!$K$9)","v":""},null,null,null,null,null,0]
[null,null,"",{"$f":"IF(AND(A79=\"\",B79=\"\"),\"\",Summary!$K$9)","v":""},null,null,null,null,null,0]
[null,null,"",{"$f":"IF(AND(A80=\"\",B80=\"\"),\"\",Summary!$K$9)","v":""},null,null,null,null,null,0]
[null,null,"",{"$f":"IF(AND(A81=\"\",B81=\"\"),\"\",Summary!$K$9)","v":""},null,null,null,null,null,0]
[null,null,"",{"$f":"IF(AND(A82=\"\",B82=\"\"),\"\",Summary!$K$9)","v":""},null,null,null,null,null,0]
[null,null,"",{"$f":"IF(AND(A83=\"\",B83=\"\"),\"\",Summary!$K$9)","v":""},null,null,null,null,null,0]
[null,null,"",{"$f":"IF(AND(A84=\"\",B84=\"\"),\"\",Summary!$K$9)","v":""},null,null,null,null,null,0]
[null,null,"",{"$f":"IF(AND(A85=\"\",B85=\"\"),\"\",Summary!$K$9)","v":""},null,null,null,null,null,0]
[null,null,"",{"$f":"IF(AND(A86=\"\",B86=\"\"),\"\",Summary!$K$9)","v":""},null,null,null,null,null,0]
[null,null,"",{"$f":"IF(AND(A87=\"\",B87=\"\"),\"\",Summary!$K$9)","v":""},null,null,null,null,null,0]
[null,null,"",{"$f":"IF(AND(A88=\"\",B88=\"\"),\"\",Summary!$K$9)","v":""},null,null,null,null,null,0]
[null,null,"",{"$f":"IF(AND(A89=\"\",B89=\"\"),\"\",Summary!$K$9)","v":""},null,null,null,null,null,0]
[null,null,"",{"$f":"IF(AND(A90=\"\",B90=\"\"),\"\",Summary!$K$9)","v":""},null,null,null,null,null,0]
[null,null,"",{"$f":"IF(AND(A91=\"\",B91=\"\"),\"\",Summary!$K$9)","v":""},null,null,null,null,null,0]
[null,null,"",{"$f":"IF(AND(A92=\"\",B92=\"\"),\"\",Summary!$K$9)","v":""},null,null,null,null,null,0]
[null,null,"",{"$f":"IF(AND(A93=\"\",B93=\"\"),\"\",Summary!$K$9)","v":""},null,null,null,null,null,0]
[null,null,"",{"$f":"IF(AND(A94=\"\",B94=\"\"),\"\",Summary!$K$9)","v":""},null,null,null,null,null,0]
[null,null,"",{"$f":"IF(AND(A95=\"\",B95=\"\"),\"\",Summary!$K$9)","v":""},null,null,null,null,null,0]
[null,null,"",{"$f":"IF(AND(A96=\"\",B96=\"\"),\"\",Summary!$K$9)","v":""},null,null,null,null,null,0]
[null,null,"",{"$f":"IF(AND(A97=\"\",B97=\"\"),\"\",Summary!$K$9)","v":""},null,null,null,null,null,0]
[null,null,"",{"$f":"IF(AND(A98=\"\",B98=\"\"),\"\",Summary!$K$9)","v":""},null,null,null,null,null,0]
[null,null,"",{"$f":"IF(AND(A99=\"\",B99=\"\"),\"\",Summary!$K$9)","v":""},null,null,null,null,null,0]
[null,null,"",{"$f":"IF(AND(A100=\"\",B100=\"\"),\"\",Summary!$K$9)","v":""},null,null,null,null,null,0]
[null,null,"",{"$f":"IF(AND(A101=\"\",B101=\"\"),\"\",Summary!$K$9)","v":""},null,null,null,null,null,0]
[null,null,"",{"$f":"IF(AND(A102=\"\",B102=\"\"),\"\",Summary!$K$9)","v":""},null,null,null,null,null,0]
[null,null,"",{"$f":"IF(AND(A103=\"\",B103=\"\"),\"\",Summary!$K$9)","v":""},null,null,null,null,null,0]
[null,null,"",{"$f":"IF(AND(A104=\"\",B104=\"\"),\"\",Summary!$K$9)","v":""},null,null,null,null,null,0]
[null,null,"",{"$f":"IF(AND(A105=\"\",B105=\"\"),\"\",Summary!$K$9)","v":""},null,null,null,null,null,0]
[null,null,"",{"$f":"IF(AND(A106=\"\",B106=\"\"),\"\",Summary!$K$9)","v":""},null,null,null,null,null,0]
[null,null,"",{"$f":"IF(AND(A107=\"\",B107=\"\"),\"\",Summary!$K$9)","v":""},null,null,null,null,null,0]
[null,null,"",{"$f":"IF(AND(A108=\"\",B108=\"\"),\"\",Summary!$K$9)","v":""},null,null,null,null,null,0]
[null,null,"",{"$f":"IF(AND(A109=\"\",B109=\"\"),\"\",Summary!$K$9)","v":""},null,null,null,null,null,0]
[null,null,"",{"$f":"IF(AND(A110=\"\",B110=\"\"),\"\",Summary!$K$9)","v":""},null,null,null,null,null,0]
[null,null,"",{"$f":"IF(AND(A111=\"\",B111=\"\"),\"\",Summary!$K$9)","v":""},null,null,null,null,null,0]
[null,null,"",{"$f":"IF(AND(A112=\"\",B112=\"\"),\"\",Summary!$K$9)","v":""},null,null,null,null,null,0]
[null,null,"",{"$f":"IF(AND(A113=\"\",B113=\"\"),\"\",Summary!$K$9)","v":""},null,null,null,null,null,0]
[null,null,"",{"$f":"IF(AND(A114=\"\",B114=\"\"),\"\",Summary!$K$9)","v":""},null,null,null,null,null,0]
[null,null,"",{"$f":"IF(AND(A115=\"\",B115=\"\"),\"\",Summary!$K$9)","v":""},null,null,null,null,null,0]
[null,null,"",{"$f":"IF(AND(A116=\"\",B116=\"\"),\"\",Summary!$K$9)","v":""},null,null,null,null,null,0]
[null,null,"",{"$f":"IF(AND(A117=\"\",B117=\"\"),\"\",Summary!$K$9)","v":""},null,null,null,null,null,0]
[null,null,"",{"$f":"IF(AND(A118=\"\",B118=\"\"),\"\",Summary!$K$9)","v":""},null,null,null,null,null,0]
[null,null,"",{"$f":"IF(AND(A119=\"\",B119=\"\"),\"\",Summary!$K$9)","v":""},null,null,null,null,null,0]
[null,null,"",{"$f":"IF(AND(A120=\"\",B120=\"\"),\"\",Summary!$K$9)","v":""},null,null,null,null,null,0]
[null,null,"",{"$f":"IF(AND(A121=\"\",B121=\"\"),\"\",Summary!$K$9)","v":""},null,null,null,null,null,0]
[null,null,"",{"$f":"IF(AND(A122=\"\",B122=\"\"),\"\",Summary!$K$9)","v":""},null,null,null,null,null,0]
[null,null,"",{"$f":"IF(AND(A123=\"\",B123=\"\"),\"\",Summary!$K$9)","v":""},null,null,null,null,null,0]
[null,null,"",{"$f":"IF(AND(A124=\"\",B124=\"\"),\"\",Summary!$K$9)","v":""},null,null,null,null,null,0]
[null,null,"",{"$f":"IF(AND(A125=\"\",B125=\"\"),\"\",Summary!$K$9)","v":""},null,null,null,null,null,0]
[null,null,"",{"$f":"IF(AND(A126=\"\",B126=\"\"),\"\",Summary!$K$9)","v":""},null,null,null,null,null,0]
[null,null,"",{"$f":"IF(AND(A127=\"\",B127=\"\"),\"\",Summary!$K$9)","v":""},null,null,null,null,null,0]
[null,null,"",{"$f":"IF(AND(A128=\"\",B128=\"\"),\"\",Summary!$K$9)","v":""},null,null,null,null,null,0]
[null,null,"",{"$f":"IF(AND(A129=\"\",B129=\"\"),\"\",Summary!$K$9)","v":""},null,null,null,null,null,0]
[null,null,"",{"$f":"IF(AND(A130=\"\",B130=\"\"),\"\",Summary!$K$9)","v":""},null,null,null,null,null,0]
[null,null,"",{"$f":"IF(AND(A131=\"\",B131=\"\"),\"\",Summary!$K$9)","v":""},null,null,null,null,null,0]
[null,null,"",{"$f":"IF(AND(A132=\"\",B132=\"\"),\"\",Summary!$K$9)","v":""},null,null,null,null,null,0]
[null,null,{"$f":"IF(AND(A133=\"\",B133=\"\"),\"\",14000)","v":""},{"$f":"IF(AND(A133=\"\",B133=\"\"),\"\",Summary!$K$9)","v":""},null,null,null,null,null,0]
[null,null,"",{"$f":"IF(AND(A134=\"\",B134=\"\"),\"\",Summary!$K$9)","v":""},null,null,null,null,null,{"$f":"IF(I134=\"NC\",0,IF(I134=\"nc\",0,IF(I134=\"N/C\",0,IF(A134>38943,I134*$J$2,I134*$J$3))))","v":0}]
[null,null,"",{"$f":"IF(AND(A135=\"\",B135=\"\"),\"\",Summary!$K$9)","v":""},null,null,null,null,null,0]
[null,null,"",{"$f":"IF(AND(A136=\"\",B136=\"\"),\"\",Summary!$K$9)","v":""},null,null,null,null,null,0]
[null,null,"",{"$f":"IF(AND(A137=\"\",B137=\"\"),\"\",Summary!$K$9)","v":""},null,null,null,null,null,0]
[null,null,"",{"$f":"IF(AND(A138=\"\",B138=\"\"),\"\",Summary!$K$9)","v":""},null,null,null,null,null,0]
[null,null,"",{"$f":"IF(AND(A139=\"\",B139=\"\"),\"\",Summary!$K$9)","v":""},null,null,null,null,null,0]
[null,null,"",{"$f":"IF(AND(A140=\"\",B140=\"\"),\"\",Summary!$K$9)","v":""},null,null,null,null,null,0]
[null,null,"",{"$f":"IF(AND(A141=\"\",B141=\"\"),\"\",Summary!$K$9)","v":""},null,null,null,null,null,0]
[null,null,"",{"$f":"IF(AND(A142=\"\",B142=\"\"),\"\",Summary!$K$9)","v":""},null,null,null,null,null,0]
[null,null,"",{"$f":"IF(AND(A143=\"\",B143=\"\"),\"\",Summary!$K$9)","v":""},null,null,null,null,null,0]
[null,null,"",{"$f":"IF(AND(A144=\"\",B144=\"\"),\"\",Summary!$K$9)","v":""},null,null,null,null,null,0]
[null,null,"",{"$f":"IF(AND(A145=\"\",B145=\"\"),\"\",Summary!$K$9)","v":""},null,null,null,null,null,0]
[null,null,"",{"$f":"IF(AND(A146=\"\",B146=\"\"),\"\",Summary!$K$9)","v":""},null,null,null,null,null,0]
[null,null,"",{"$f":"IF(AND(A147=\"\",B147=\"\"),\"\",Summary!$K$9)","v":""},null,null,null,null,null,0]
[null,null,"",{"$f":"IF(AND(A148=\"\",B148=\"\"),\"\",Summary!$K$9)","v":""},null,null,null,null,null,0]
[null,null,"",{"$f":"IF(AND(A149=\"\",B149=\"\"),\"\",Summary!$K$9)","v":""},null,null,null,null,null,0]
[null,null,"",{"$f":"IF(AND(A150=\"\",B150=\"\"),\"\",Summary!$K$9)","v":""},null,null,null,null,null,0]
[null,null,"",{"$f":"IF(AND(A151=\"\",B151=\"\"),\"\",Summary!$K$9)","v":""},null,null,null,null,null,0]
[null,null,"",{"$f":"IF(AND(A152=\"\",B152=\"\"),\"\",Summary!$K$9)","v":""},null,null,null,null,null,0]
[null,null,"",{"$f":"IF(AND(A153=\"\",B153=\"\"),\"\",Summary!$K$9)","v":""},null,null,null,null,null,0]
[null,null,"",{"$f":"IF(AND(A154=\"\",B154=\"\"),\"\",Summary!$K$9)","v":""},null,null,null,null,null,0]
[null,null,"",{"$f":"IF(AND(A155=\"\",B155=\"\"),\"\",Summary!$K$9)","v":""},null,null,null,null,null,0]
[null,null,"",{"$f":"IF(AND(A156=\"\",B156=\"\"),\"\",Summary!$K$9)","v":""},null,null,null,null,null,0]
[null,null,"",{"$f":"IF(AND(A157=\"\",B157=\"\"),\"\",Summary!$K$9)","v":""},null,null,null,null,null,0]
[null,null,"",{"$f":"IF(AND(A158=\"\",B158=\"\"),\"\",Summary!$K$9)","v":""},null,null,null,null,null,0]
[null,null,"",{"$f":"IF(AND(A159=\"\",B159=\"\"),\"\",Summary!$K$9)","v":""},null,null,null,null,null,0]
[null,null,"",{"$f":"IF(AND(A160=\"\",B160=\"\"),\"\",Summary!$K$9)","v":""},null,null,null,null,null,0]
[null,null,"",{"$f":"IF(AND(A161=\"\",B161=\"\"),\"\",Summary!$K$9)","v":""},null,null,null,null,null,0]
[null,null,"",{"$f":"IF(AND(A162=\"\",B162=\"\"),\"\",Summary!$K$9)","v":""},null,null,null,null,null,0]
[null,null,"",{"$f":"IF(AND(A163=\"\",B163=\"\"),\"\",Summary!$K$9)","v":""},null,null,null,null,null,0]
[null,null,"",{"$f":"IF(AND(A164=\"\",B164=\"\"),\"\",Summary!$K$9)","v":""},null,null,null,null,null,0]
[null,null,"",{"$f":"IF(AND(A165=\"\",B165=\"\"),\"\",Summary!$K$9)","v":""},null,null,null,null,null,0]
[null,null,"",{"$f":"IF(AND(A166=\"\",B166=\"\"),\"\",Summary!$K$9)","v":""},null,null,null,null,null,0]
[null,null,"",{"$f":"IF(AND(A167=\"\",B167=\"\"),\"\",Summary!$K$9)","v":""},null,null,null,null,null,0]
[null,null,"",{"$f":"IF(AND(A168=\"\",B168=\"\"),\"\",Summary!$K$9)","v":""},null,null,null,null,null,0]
[null,null,"",{"$f":"IF(AND(A169=\"\",B169=\"\"),\"\",Summary!$K$9)","v":""},null,null,null,null,null,0]
[null,null,"",{"$f":"IF(AND(A170=\"\",B170=\"\"),\"\",Summary!$K$9)","v":""},null,null,null,null,null,0]
[null,null,"",{"$f":"IF(AND(A171=\"\",B171=\"\"),\"\",Summary!$K$9)","v":""},null,null,null,null,null,0]
[null,null,"",{"$f":"IF(AND(A172=\"\",B172=\"\"),\"\",Summary!$K$9)","v":""},null,null,null,null,null,0]
[null,null,"",{"$f":"IF(AND(A173=\"\",B173=\"\"),\"\",Summary!$K$9)","v":""},null,null,null,null,null,0]
[null,null,"",{"$f":"IF(AND(A174=\"\",B174=\"\"),\"\",Summary!$K$9)","v":""},null,null,null,null,null,0]
[null,null,"",{"$f":"IF(AND(A175=\"\",B175=\"\"),\"\",Summary!$K$9)","v":""},null,null,null,null,null,0]
[null,null,"",{"$f":"IF(AND(A176=\"\",B176=\"\"),\"\",Summary!$K$9)","v":""},null,null,null,null,null,0]
[null,null,"",{"$f":"IF(AND(A177=\"\",B177=\"\"),\"\",Summary!$K$9)","v":""},null,null,null,null,null,0]
[null,null,"",{"$f":"IF(AND(A178=\"\",B178=\"\"),\"\",Summary!$K$9)","v":""},null,null,null,null,null,0]
[null,null,"",{"$f":"IF(AND(A179=\"\",B179=\"\"),\"\",Summary!$K$9)","v":""},null,null,null,null,null,0]
[null,null,"",{"$f":"IF(AND(A180=\"\",B180=\"\"),\"\",Summary!$K$9)","v":""},null,null,null,null,null,0]
[null,null,"",{"$f":"IF(AND(A181=\"\",B181=\"\"),\"\",Summary!$K$9)","v":""},null,null,null,null,null,0]
[null,null,"",{"$f":"IF(AND(A182=\"\",B182=\"\"),\"\",Summary!$K$9)","v":""},null,null,null,null,null,0]
[null,null,"",{"$f":"IF(AND(A183=\"\",B183=\"\"),\"\",Summary!$K$9)","v":""},null,null,null,null,null,0]
[null,null,"",{"$f":"IF(AND(A184=\"\",B184=\"\"),\"\",Summary!$K$9)","v":""},null,null,null,null,null,0]
[null,null,"",{"$f":"IF(AND(A185=\"\",B185=\"\"),\"\",Summary!$K$9)","v":""},null,null,null,null,null,0]
[null,null,"",{"$f":"IF(AND(A186=\"\",B186=\"\"),\"\",Summary!$K$9)","v":""},null,null,null,null,null,0]
[null,null,"",{"$f":"IF(AND(A187=\"\",B187=\"\"),\"\",Summary!$K$9)","v":""},null,null,null,null,null,0]
[null,null,"",{"$f":"IF(AND(A188=\"\",B188=\"\"),\"\",Summary!$K$9)","v":""},null,null,null,null,null,0]
[null,null,"",{"$f":"IF(AND(A189=\"\",B189=\"\"),\"\",Summary!$K$9)","v":""},null,null,null,null,null,0]
[null,null,"",{"$f":"IF(AND(A190=\"\",B190=\"\"),\"\",Summary!$K$9)","v":""},null,null,null,null,null,0]
[null,null,"",{"$f":"IF(AND(A191=\"\",B191=\"\"),\"\",Summary!$K$9)","v":""},null,null,null,null,null,0]
[null,null,"",{"$f":"IF(AND(A192=\"\",B192=\"\"),\"\",Summary!$K$9)","v":""},null,null,null,null,null,0]
[null,null,"",{"$f":"IF(AND(A193=\"\",B193=\"\"),\"\",Summary!$K$9)","v":""},null,null,null,null,null,0]
[null,null,"",{"$f":"IF(AND(A194=\"\",B194=\"\"),\"\",Summary!$K$9)","v":""},null,null,null,null,null,0]
[null,null,"",{"$f":"IF(AND(A195=\"\",B195=\"\"),\"\",Summary!$K$9)","v":""},null,null,null,null,null,0]
[null,null,"",{"$f":"IF(AND(A196=\"\",B196=\"\"),\"\",Summary!$K$9)","v":""},null,null,null,null,null,0]
[null,null,{"$f":"IF(AND(A197=\"\",B197=\"\"),\"\",14000)","v":""},{"$f":"IF(AND(A197=\"\",B197=\"\"),\"\",Summary!$K$9)","v":""},null,null,null,null,null,0]
[null,null,"",{"$f":"IF(AND(A198=\"\",B198=\"\"),\"\",Summary!$K$9)","v":""},null,null,null,null,null,{"$f":"IF(I198=\"NC\",0,IF(I198=\"nc\",0,IF(I198=\"N/C\",0,IF(A198>38943,I198*$J$2,I198*$J$3))))","v":0}]
[null,null,"",{"$f":"IF(AND(A199=\"\",B199=\"\"),\"\",Summary!$K$9)","v":""},null,null,null,null,null,0]
[null,null,"",{"$f":"IF(AND(A200=\"\",B200=\"\"),\"\",Summary!$K$9)","v":""},null,null,null,null,null,0]
[null,null,"",{"$f":"IF(AND(A201=\"\",B201=\"\"),\"\",Summary!$K$9)","v":""},null,null,null,null,null,0]
[null,null,"",{"$f":"IF(AND(A202=\"\",B202=\"\"),\"\",Summary!$K$9)","v":""},null,null,null,null,null,0]
[null,null,"",{"$f":"IF(AND(A203=\"\",B203=\"\"),\"\",Summary!$K$9)","v":""},null,null,null,null,null,0]
[null,null,"",{"$f":"IF(AND(A204=\"\",B204=\"\"),\"\",Summary!$K$9)","v":""},null,null,null,null,null,0]
[null,null,"",{"$f":"IF(AND(A205=\"\",B205=\"\"),\"\",Summary!$K$9)","v":""},null,null,null,null,null,0]
[null,null,"",{"$f":"IF(AND(A206=\"\",B206=\"\"),\"\",Summary!$K$9)","v":""},null,null,null,null,null,0]
[null,null,"",{"$f":"IF(AND(A207=\"\",B207=\"\"),\"\",Summary!$K$9)","v":""},null,null,null,null,null,0]
[null,null,"",{"$f":"IF(AND(A208=\"\",B208=\"\"),\"\",Summary!$K$9)","v":""},null,null,null,null,null,0]
[null,null,"",{"$f":"IF(AND(A209=\"\",B209=\"\"),\"\",Summary!$K$9)","v":""},null,null,null,null,null,0]
[null,null,"",{"$f":"IF(AND(A210=\"\",B210=\"\"),\"\",Summary!$K$9)","v":""},null,null,null,null,null,0]
[null,null,"",{"$f":"IF(AND(A211=\"\",B211=\"\"),\"\",Summary!$K$9)","v":""},null,null,null,null,null,0]
[null,null,"",{"$f":"IF(AND(A212=\"\",B212=\"\"),\"\",Summary!$K$9)","v":""},null,null,null,null,null,0]
[null,null,"",{"$f":"IF(AND(A213=\"\",B213=\"\"),\"\",Summary!$K$9)","v":""},null,null,null,null,null,0]
[null,null,"",{"$f":"IF(AND(A214=\"\",B214=\"\"),\"\",Summary!$K$9)","v":""},null,null,null,null,null,0]
[null,null,"",{"$f":"IF(AND(A215=\"\",B215=\"\"),\"\",Summary!$K$9)","v":""},null,null,null,null,null,0]
[null,null,"",{"$f":"IF(AND(A216=\"\",B216=\"\"),\"\",Summary!$K$9)","v":""},null,null,null,null,null,0]
[null,null,"",{"$f":"IF(AND(A217=\"\",B217=\"\"),\"\",Summary!$K$9)","v":""},null,null,null,null,null,0]
[null,null,"",{"$f":"IF(AND(A218=\"\",B218=\"\"),\"\",Summary!$K$9)","v":""},null,null,null,null,null,0]
[null,null,"",{"$f":"IF(AND(A219=\"\",B219=\"\"),\"\",Summary!$K$9)","v":""},null,null,null,null,null,0]
[null,null,"",{"$f":"IF(AND(A220=\"\",B220=\"\"),\"\",Summary!$K$9)","v":""},null,null,null,null,null,0]
[null,null,"",{"$f":"IF(AND(A221=\"\",B221=\"\"),\"\",Summary!$K$9)","v":""},null,null,null,null,null,0]
[null,null,"",{"$f":"IF(AND(A222=\"\",B222=\"\"),\"\",Summary!$K$9)","v":""},null,null,null,null,null,0]
[null,null,"",{"$f":"IF(AND(A223=\"\",B223=\"\"),\"\",Summary!$K$9)","v":""},null,null,null,null,null,0]
[null,null,"",{"$f":"IF(AND(A224=\"\",B224=\"\"),\"\",Summary!$K$9)","v":""},null,null,null,null,null,0]
[null,null,"",{"$f":"IF(AND(A225=\"\",B225=\"\"),\"\",Summary!$K$9)","v":""},null,null,null,null,null,0]
[null,null,"",{"$f":"IF(AND(A226=\"\",B226=\"\"),\"\",Summary!$K$9)","v":""},null,null,null,null,null,0]
[null,null,"",{"$f":"IF(AND(A227=\"\",B227=\"\"),\"\",Summary!$K$9)","v":""},null,null,null,null,null,0]
[null,null,"",{"$f":"IF(AND(A228=\"\",B228=\"\"),\"\",Summary!$K$9)","v":""},null,null,null,null,null,0]
[null,null,"",{"$f":"IF(AND(A229=\"\",B229=\"\"),\"\",Summary!$K$9)","v":""},null,null,null,null,null,0]
[null,null,"",{"$f":"IF(AND(A230=\"\",B230=\"\"),\"\",Summary!$K$9)","v":""},null,null,null,null,null,0]
[null,null,"",{"$f":"IF(AND(A231=\"\",B231=\"\"),\"\",Summary!$K$9)","v":""},null,null,null,null,null,0]
[null,null,"",{"$f":"IF(AND(A232=\"\",B232=\"\"),\"\",Summary!$K$9)","v":""},null,null,null,null,null,0]
[null,null,"",{"$f":"IF(AND(A233=\"\",B233=\"\"),\"\",Summary!$K$9)","v":""},null,null,null,null,null,0]
[null,null,"",{"$f":"IF(AND(A234=\"\",B234=\"\"),\"\",Summary!$K$9)","v":""},null,null,null,null,null,0]
[null,null,"",{"$f":"IF(AND(A235=\"\",B235=\"\"),\"\",Summary!$K$9)","v":""},null,null,null,null,null,0]
[null,null,"",{"$f":"IF(AND(A236=\"\",B236=\"\"),\"\",Summary!$K$9)","v":""},null,null,null,null,null,0]
[null,null,"",{"$f":"IF(AND(A237=\"\",B237=\"\"),\"\",Summary!$K$9)","v":""},null,null,null,null,null,0]
[null,null,{"$f":"IF(AND(A238=\"\",B238=\"\"),\"\",14000)","v":""},{"$f":"IF(AND(A238=\"\",B238=\"\"),\"\",Summary!$K$9)","v":""},null,null,null,null,null,0]

{"sheet":"Expenses","index":2,"n_rows":250,"n_cols":14,"rows_kept":250,"cut":false,"hidden":false,"merged":[[0,1,0,2],[1,3,1,7],[0,4,0,5]]}
["Name",{"$f":"Summary!A7","v":0},null,null,{"$f":"Summary!E1","v":""},null,"Travel Form"]
["Period ended",{"$f":"Summary!H7","v":"00:00:00"},null,"Subsistence and Miscellaneous"]
[]
["Date","Place","Fund#","Org#","Lodging","Breakfast","Lunch","Dinner","Registration","Parking","Ground Trans.","Flight","Other","Explanation of Other"]
[null,null,{"$f":"IF(AND(A5=\"\",B5=\"\"),\"\",14000)","v":""},{"$f":"IF(AND(A5=\"\",B5=\"\"),\"\",Summary!$K$9)","v":""}]
[null,null,"",{"$f":"IF(AND(A6=\"\",B6=\"\"),\"\",Summary!$K$9)","v":""}]
[null,null,"",{"$f":"IF(AND(A7=\"\",B7=\"\"),\"\",Summary!$K$9)","v":""}]
[null,null,"",{"$f":"IF(AND(A8=\"\",B8=\"\"),\"\",Summary!$K$9)","v":""}]
[null,null,"",{"$f":"IF(AND(A9=\"\",B9=\"\"),\"\",Summary!$K$9)","v":""}]
[null,null,"",{"$f":"IF(AND(A10=\"\",B10=\"\"),\"\",Summary!$K$9)","v":""}]
[null,null,"",{"$f":"IF(AND(A11=\"\",B11=\"\"),\"\",Summary!$K$9)","v":""}]
[null,null,"",{"$f":"IF(AND(A12=\"\",B12=\"\"),\"\",Summary!$K$9)","v":""}]
[null,null,"",{"$f":"IF(AND(A13=\"\",B13=\"\"),\"\",Summary!$K$9)","v":""}]
[null,null,"",{"$f":"IF(AND(A14=\"\",B14=\"\"),\"\",Summary!$K$9)","v":""}]
[null,null,"",{"$f":"IF(AND(A15=\"\",B15=\"\"),\"\",Summary!$K$9)","v":""}]
[null,null,"",{"$f":"IF(AND(A16=\"\",B16=\"\"),\"\",Summary!$K$9)","v":""}]
[null,null,"",{"$f":"IF(AND(A17=\"\",B17=\"\"),\"\",Summary!$K$9)","v":""}]
[null,null,"",{"$f":"IF(AND(A18=\"\",B18=\"\"),\"\",Summary!$K$9)","v":""}]
[null,null,"",{"$f":"IF(AND(A19=\"\",B19=\"\"),\"\",Summary!$K$9)","v":""}]
[null,null,"",{"$f":"IF(AND(A20=\"\",B20=\"\"),\"\",Summary!$K$9)","v":""}]
[null,null,"",{"$f":"IF(AND(A21=\"\",B21=\"\"),\"\",Summary!$K$9)","v":""}]
[null,null,"",{"$f":"IF(AND(A22=\"\",B22=\"\"),\"\",Summary!$K$9)","v":""}]
[null,null,"",{"$f":"IF(AND(A23=\"\",B23=\"\"),\"\",Summary!$K$9)","v":""}]
[null,null,"",{"$f":"IF(AND(A24=\"\",B24=\"\"),\"\",Summary!$K$9)","v":""}]
[null,null,"",{"$f":"IF(AND(A25=\"\",B25=\"\"),\"\",Summary!$K$9)","v":""}]
[null,null,"",{"$f":"IF(AND(A26=\"\",B26=\"\"),\"\",Summary!$K$9)","v":""}]
[null,null,"",{"$f":"IF(AND(A27=\"\",B27=\"\"),\"\",Summary!$K$9)","v":""}]
[null,null,"",{"$f":"IF(AND(A28=\"\",B28=\"\"),\"\",Summary!$K$9)","v":""}]
[null,null,"",{"$f":"IF(AND(A29=\"\",B29=\"\"),\"\",Summary!$K$9)","v":""}]
[null,null,"",{"$f":"IF(AND(A30=\"\",B30=\"\"),\"\",Summary!$K$9)","v":""}]
[null,null,"",{"$f":"IF(AND(A31=\"\",B31=\"\"),\"\",Summary!$K$9)","v":""}]
[null,null,"",{"$f":"IF(AND(A32=\"\",B32=\"\"),\"\",Summary!$K$9)","v":""}]
[null,null,"",{"$f":"IF(AND(A33=\"\",B33=\"\"),\"\",Summary!$K$9)","v":""}]
[null,null,"",{"$f":"IF(AND(A34=\"\",B34=\"\"),\"\",Summary!$K$9)","v":""}]
[null,null,"",{"$f":"IF(AND(A35=\"\",B35=\"\"),\"\",Summary!$K$9)","v":""}]
[null,null,"",{"$f":"IF(AND(A36=\"\",B36=\"\"),\"\",Summary!$K$9)","v":""}]
[null,null,"",{"$f":"IF(AND(A37=\"\",B37=\"\"),\"\",Summary!$K$9)","v":""}]
[null,null,"",{"$f":"IF(AND(A38=\"\",B38=\"\"),\"\",Summary!$K$9)","v":""}]
[null,null,"",{"$f":"IF(AND(A39=\"\",B39=\"\"),\"\",Summary!$K$9)","v":""}]
[null,null,"",{"$f":"IF(AND(A40=\"\",B40=\"\"),\"\",Summary!$K$9)","v":""}]
[null,null,"",{"$f":"IF(AND(A41=\"\",B41=\"\"),\"\",Summary!$K$9)","v":""}]
[null,null,"",{"$f":"IF(AND(A42=\"\",B42=\"\"),\"\",Summary!$K$9)","v":""}]
[null,null,"",{"$f":"IF(AND(A43=\"\",B43=\"\"),\"\",Summary!$K$9)","v":""}]
[null,null,"",{"$f":"IF(AND(A44=\"\",B44=\"\"),\"\",Summary!$K$9)","v":""}]
[null,null,"",{"$f":"IF(AND(A45=\"\",B45=\"\"),\"\",Summary!$K$9)","v":""}]
[null,null,"",{"$f":"IF(AND(A46=\"\",B46=\"\"),\"\",Summary!$K$9)","v":""}]
[null,null,"",{"$f":"IF(AND(A47=\"\",B47=\"\"),\"\",Summary!$K$9)","v":""}]
[null,null,"",{"$f":"IF(AND(A48=\"\",B48=\"\"),\"\",Summary!$K$9)","v":""}]
[null,null,"",{"$f":"IF(AND(A49=\"\",B49=\"\"),\"\",Summary!$K$9)","v":""}]
[null,null,"",{"$f":"IF(AND(A50=\"\",B50=\"\"),\"\",Summary!$K$9)","v":""}]
[null,null,"",{"$f":"IF(AND(A51=\"\",B51=\"\"),\"\",Summary!$K$9)","v":""}]
[null,null,"",{"$f":"IF(AND(A52=\"\",B52=\"\"),\"\",Summary!$K$9)","v":""}]
[null,null,"",{"$f":"IF(AND(A53=\"\",B53=\"\"),\"\",Summary!$K$9)","v":""}]
[null,null,"",{"$f":"IF(AND(A54=\"\",B54=\"\"),\"\",Summary!$K$9)","v":""}]
[null,null,"",{"$f":"IF(AND(A55=\"\",B55=\"\"),\"\",Summary!$K$9)","v":""}]
[null,null,"",{"$f":"IF(AND(A56=\"\",B56=\"\"),\"\",Summary!$K$9)","v":""}]
[null,null,"",{"$f":"IF(AND(A57=\"\",B57=\"\"),\"\",Summary!$K$9)","v":""}]
[null,null,"",{"$f":"IF(AND(A58=\"\",B58=\"\"),\"\",Summary!$K$9)","v":""}]
[null,null,"",{"$f":"IF(AND(A59=\"\",B59=\"\"),\"\",Summary!$K$9)","v":""}]
[null,null,"",{"$f":"IF(AND(A60=\"\",B60=\"\"),\"\",Summary!$K$9)","v":""}]
[null,null,"",{"$f":"IF(AND(A61=\"\",B61=\"\"),\"\",Summary!$K$9)","v":""}]
[null,null,"",{"$f":"IF(AND(A62=\"\",B62=\"\"),\"\",Summary!$K$9)","v":""}]
[null,null,"",{"$f":"IF(AND(A63=\"\",B63=\"\"),\"\",Summary!$K$9)","v":""}]
[null,null,"",{"$f":"IF(AND(A64=\"\",B64=\"\"),\"\",Summary!$K$9)","v":""}]
[null,null,"",{"$f":"IF(AND(A65=\"\",B65=\"\"),\"\",Summary!$K$9)","v":""}]
[null,null,"",{"$f":"IF(AND(A66=\"\",B66=\"\"),\"\",Summary!$K$9)","v":""}]
[null,null,"",{"$f":"IF(AND(A67=\"\",B67=\"\"),\"\",Summary!$K$9)","v":""}]
[null,null,"",{"$f":"IF(AND(A68=\"\",B68=\"\"),\"\",Summary!$K$9)","v":""}]
[null,null,{"$f":"IF(AND(A69=\"\",B69=\"\"),\"\",14000)","v":""},{"$f":"IF(AND(A69=\"\",B69=\"\"),\"\",Summary!$K$9)","v":""}]
[null,null,"",{"$f":"IF(AND(A70=\"\",B70=\"\"),\"\",Summary!$K$9)","v":""}]
[null,null,"",{"$f":"IF(AND(A71=\"\",B71=\"\"),\"\",Summary!$K$9)","v":""}]
[null,null,"",{"$f":"IF(AND(A72=\"\",B72=\"\"),\"\",Summary!$K$9)","v":""}]
[null,null,"",{"$f":"IF(AND(A73=\"\",B73=\"\"),\"\",Summary!$K$9)","v":""}]
[null,null,"",{"$f":"IF(AND(A74=\"\",B74=\"\"),\"\",Summary!$K$9)","v":""}]
[null,null,"",{"$f":"IF(AND(A75=\"\",B75=\"\"),\"\",Summary!$K$9)","v":""}]
[null,null,"",{"$f":"IF(AND(A76=\"\",B76=\"\"),\"\",Summary!$K$9)","v":""}]
[null,null,"",{"$f":"IF(AND(A77=\"\",B77=\"\"),\"\",Summary!$K$9)","v":""}]
[null,null,"",{"$f":"IF(AND(A78=\"\",B78=\"\"),\"\",Summary!$K$9)","v":""}]
[null,null,"",{"$f":"IF(AND(A79=\"\",B79=\"\"),\"\",Summary!$K$9)","v":""}]
[null,null,"",{"$f":"IF(AND(A80=\"\",B80=\"\"),\"\",Summary!$K$9)","v":""}]
[null,null,"",{"$f":"IF(AND(A81=\"\",B81=\"\"),\"\",Summary!$K$9)","v":""}]
[null,null,"",{"$f":"IF(AND(A82=\"\",B82=\"\"),\"\",Summary!$K$9)","v":""}]
[null,null,"",{"$f":"IF(AND(A83=\"\",B83=\"\"),\"\",Summary!$K$9)","v":""}]
[null,null,"",{"$f":"IF(AND(A84=\"\",B84=\"\"),\"\",Summary!$K$9)","v":""}]
[null,null,"",{"$f":"IF(AND(A85=\"\",B85=\"\"),\"\",Summary!$K$9)","v":""}]
[null,null,"",{"$f":"IF(AND(A86=\"\",B86=\"\"),\"\",Summary!$K$9)","v":""}]
[null,null,"",{"$f":"IF(AND(A87=\"\",B87=\"\"),\"\",Summary!$K$9)","v":""}]
[null,null,"",{"$f":"IF(AND(A88=\"\",B88=\"\"),\"\",Summary!$K$9)","v":""}]
[null,null,"",{"$f":"IF(AND(A89=\"\",B89=\"\"),\"\",Summary!$K$9)","v":""}]
[null,null,"",{"$f":"IF(AND(A90=\"\",B90=\"\"),\"\",Summary!$K$9)","v":""}]
[null,null,"",{"$f":"IF(AND(A91=\"\",B91=\"\"),\"\",Summary!$K$9)","v":""}]
[null,null,"",{"$f":"IF(AND(A92=\"\",B92=\"\"),\"\",Summary!$K$9)","v":""}]
[null,null,"",{"$f":"IF(AND(A93=\"\",B93=\"\"),\"\",Summary!$K$9)","v":""}]
[null,null,"",{"$f":"IF(AND(A94=\"\",B94=\"\"),\"\",Summary!$K$9)","v":""}]
[null,null,"",{"$f":"IF(AND(A95=\"\",B95=\"\"),\"\",Summary!$K$9)","v":""}]
[null,null,"",{"$f":"IF(AND(A96=\"\",B96=\"\"),\"\",Summary!$K$9)","v":""}]
[null,null,"",{"$f":"IF(AND(A97=\"\",B97=\"\"),\"\",Summary!$K$9)","v":""}]
[null,null,"",{"$f":"IF(AND(A98=\"\",B98=\"\"),\"\",Summary!$K$9)","v":""}]
[null,null,"",{"$f":"IF(AND(A99=\"\",B99=\"\"),\"\",Summary!$K$9)","v":""}]
[null,null,"",{"$f":"IF(AND(A100=\"\",B100=\"\"),\"\",Summary!$K$9)","v":""}]
[null,null,"",{"$f":"IF(AND(A101=\"\",B101=\"\"),\"\",Summary!$K$9)","v":""}]
[null,null,"",{"$f":"IF(AND(A102=\"\",B102=\"\"),\"\",Summary!$K$9)","v":""}]
[null,null,"",{"$f":"IF(AND(A103=\"\",B103=\"\"),\"\",Summary!$K$9)","v":""}]
[null,null,"",{"$f":"IF(AND(A104=\"\",B104=\"\"),\"\",Summary!$K$9)","v":""}]
[null,null,"",{"$f":"IF(AND(A105=\"\",B105=\"\"),\"\",Summary!$K$9)","v":""}]
[null,null,"",{"$f":"IF(AND(A106=\"\",B106=\"\"),\"\",Summary!$K$9)","v":""}]
[null,null,"",{"$f":"IF(AND(A107=\"\",B107=\"\"),\"\",Summary!$K$9)","v":""}]
[null,null,"",{"$f":"IF(AND(A108=\"\",B108=\"\"),\"\",Summary!$K$9)","v":""}]
[null,null,"",{"$f":"IF(AND(A109=\"\",B109=\"\"),\"\",Summary!$K$9)","v":""}]
[null,null,"",{"$f":"IF(AND(A110=\"\",B110=\"\"),\"\",Summary!$K$9)","v":""}]
[null,null,"",{"$f":"IF(AND(A111=\"\",B111=\"\"),\"\",Summary!$K$9)","v":""}]
[null,null,"",{"$f":"IF(AND(A112=\"\",B112=\"\"),\"\",Summary!$K$9)","v":""}]
[null,null,"",{"$f":"IF(AND(A113=\"\",B113=\"\"),\"\",Summary!$K$9)","v":""}]
[null,null,"",{"$f":"IF(AND(A114=\"\",B114=\"\"),\"\",Summary!$K$9)","v":""}]
[null,null,"",{"$f":"IF(AND(A115=\"\",B115=\"\"),\"\",Summary!$K$9)","v":""}]
[null,null,"",{"$f":"IF(AND(A116=\"\",B116=\"\"),\"\",Summary!$K$9)","v":""}]
[null,null,"",{"$f":"IF(AND(A117=\"\",B117=\"\"),\"\",Summary!$K$9)","v":""}]
[null,null,"",{"$f":"IF(AND(A118=\"\",B118=\"\"),\"\",Summary!$K$9)","v":""}]
[null,null,"",{"$f":"IF(AND(A119=\"\",B119=\"\"),\"\",Summary!$K$9)","v":""}]
[null,null,"",{"$f":"IF(AND(A120=\"\",B120=\"\"),\"\",Summary!$K$9)","v":""}]
[null,null,"",{"$f":"IF(AND(A121=\"\",B121=\"\"),\"\",Summary!$K$9)","v":""}]
[null,null,"",{"$f":"IF(AND(A122=\"\",B122=\"\"),\"\",Summary!$K$9)","v":""}]
[null,null,"",{"$f":"IF(AND(A123=\"\",B123=\"\"),\"\",Summary!$K$9)","v":""}]
[null,null,"",{"$f":"IF(AND(A124=\"\",B124=\"\"),\"\",Summary!$K$9)","v":""}]
[null,null,"",{"$f":"IF(AND(A125=\"\",B125=\"\"),\"\",Summary!$K$9)","v":""}]
[null,null,"",{"$f":"IF(AND(A126=\"\",B126=\"\"),\"\",Summary!$K$9)","v":""}]
[null,null,"",{"$f":"IF(AND(A127=\"\",B127=\"\"),\"\",Summary!$K$9)","v":""}]
[null,null,"",{"$f":"IF(AND(A128=\"\",B128=\"\"),\"\",Summary!$K$9)","v":""}]
[null,null,"",{"$f":"IF(AND(A129=\"\",B129=\"\"),\"\",Summary!$K$9)","v":""}]
[null,null,"",{"$f":"IF(AND(A130=\"\",B130=\"\"),\"\",Summary!$K$9)","v":""}]
[null,null,"",{"$f":"IF(AND(A131=\"\",B131=\"\"),\"\",Summary!$K$9)","v":""}]
[null,null,"",{"$f":"IF(AND(A132=\"\",B132=\"\"),\"\",Summary!$K$9)","v":""}]
[null,null,{"$f":"IF(AND(A133=\"\",B133=\"\"),\"\",14000)","v":""},{"$f":"IF(AND(A133=\"\",B133=\"\"),\"\",Summary!$K$9)","v":""}]
[null,null,"",{"$f":"IF(AND(A134=\"\",B134=\"\"),\"\",Summary!$K$9)","v":""}]
[null,null,"",{"$f":"IF(AND(A135=\"\",B135=\"\"),\"\",Summary!$K$9)","v":""}]
[null,null,"",{"$f":"IF(AND(A136=\"\",B136=\"\"),\"\",Summary!$K$9)","v":""}]
[null,null,"",{"$f":"IF(AND(A137=\"\",B137=\"\"),\"\",Summary!$K$9)","v":""}]
[null,null,"",{"$f":"IF(AND(A138=\"\",B138=\"\"),\"\",Summary!$K$9)","v":""}]
[null,null,"",{"$f":"IF(AND(A139=\"\",B139=\"\"),\"\",Summary!$K$9)","v":""}]
[null,null,"",{"$f":"IF(AND(A140=\"\",B140=\"\"),\"\",Summary!$K$9)","v":""}]
[null,null,"",{"$f":"IF(AND(A141=\"\",B141=\"\"),\"\",Summary!$K$9)","v":""}]
[null,null,"",{"$f":"IF(AND(A142=\"\",B142=\"\"),\"\",Summary!$K$9)","v":""}]
[null,null,"",{"$f":"IF(AND(A143=\"\",B143=\"\"),\"\",Summary!$K$9)","v":""}]
[null,null,"",{"$f":"IF(AND(A144=\"\",B144=\"\"),\"\",Summary!$K$9)","v":""}]
[null,null,"",{"$f":"IF(AND(A145=\"\",B145=\"\"),\"\",Summary!$K$9)","v":""}]
[null,null,"",{"$f":"IF(AND(A146=\"\",B146=\"\"),\"\",Summary!$K$9)","v":""}]
[null,null,"",{"$f":"IF(AND(A147=\"\",B147=\"\"),\"\",Summary!$K$9)","v":""}]
[null,null,"",{"$f":"IF(AND(A148=\"\",B148=\"\"),\"\",Summary!$K$9)","v":""}]
[null,null,"",{"$f":"IF(AND(A149=\"\",B149=\"\"),\"\",Summary!$K$9)","v":""}]
[null,null,"",{"$f":"IF(AND(A150=\"\",B150=\"\"),\"\",Summary!$K$9)","v":""}]
[null,null,"",{"$f":"IF(AND(A151=\"\",B151=\"\"),\"\",Summary!$K$9)","v":""}]
[null,null,"",{"$f":"IF(AND(A152=\"\",B152=\"\"),\"\",Summary!$K$9)","v":""}]
[null,null,"",{"$f":"IF(AND(A153=\"\",B153=\"\"),\"\",Summary!$K$9)","v":""}]
[null,null,"",{"$f":"IF(AND(A154=\"\",B154=\"\"),\"\",Summary!$K$9)","v":""}]
[null,null,"",{"$f":"IF(AND(A155=\"\",B155=\"\"),\"\",Summary!$K$9)","v":""}]
[null,null,"",{"$f":"IF(AND(A156=\"\",B156=\"\"),\"\",Summary!$K$9)","v":""}]
[null,null,"",{"$f":"IF(AND(A157=\"\",B157=\"\"),\"\",Summary!$K$9)","v":""}]
[null,null,"",{"$f":"IF(AND(A158=\"\",B158=\"\"),\"\",Summary!$K$9)","v":""}]
[null,null,"",{"$f":"IF(AND(A159=\"\",B159=\"\"),\"\",Summary!$K$9)","v":""}]
[null,null,"",{"$f":"IF(AND(A160=\"\",B160=\"\"),\"\",Summary!$K$9)","v":""}]
[null,null,"",{"$f":"IF(AND(A161=\"\",B161=\"\"),\"\",Summary!$K$9)","v":""}]
[null,null,"",{"$f":"IF(AND(A162=\"\",B162=\"\"),\"\",Summary!$K$9)","v":""}]
[null,null,"",{"$f":"IF(AND(A163=\"\",B163=\"\"),\"\",Summary!$K$9)","v":""}]
[null,null,"",{"$f":"IF(AND(A164=\"\",B164=\"\"),\"\",Summary!$K$9)","v":""}]
[null,null,"",{"$f":"IF(AND(A165=\"\",B165=\"\"),\"\",Summary!$K$9)","v":""}]
[null,null,"",{"$f":"IF(AND(A166=\"\",B166=\"\"),\"\",Summary!$K$9)","v":""}]
[null,null,"",{"$f":"IF(AND(A167=\"\",B167=\"\"),\"\",Summary!$K$9)","v":""}]
[null,null,"",{"$f":"IF(AND(A168=\"\",B168=\"\"),\"\",Summary!$K$9)","v":""}]
[null,null,"",{"$f":"IF(AND(A169=\"\",B169=\"\"),\"\",Summary!$K$9)","v":""}]
[null,null,"",{"$f":"IF(AND(A170=\"\",B170=\"\"),\"\",Summary!$K$9)","v":""}]
[null,null,"",{"$f":"IF(AND(A171=\"\",B171=\"\"),\"\",Summary!$K$9)","v":""}]
[null,null,"",{"$f":"IF(AND(A172=\"\",B172=\"\"),\"\",Summary!$K$9)","v":""}]
[null,null,"",{"$f":"IF(AND(A173=\"\",B173=\"\"),\"\",Summary!$K$9)","v":""}]
[null,null,"",{"$f":"IF(AND(A174=\"\",B174=\"\"),\"\",Summary!$K$9)","v":""}]
[null,null,"",{"$f":"IF(AND(A175=\"\",B175=\"\"),\"\",Summary!$K$9)","v":""}]
[null,null,"",{"$f":"IF(AND(A176=\"\",B176=\"\"),\"\",Summary!$K$9)","v":""}]
[null,null,"",{"$f":"IF(AND(A177=\"\",B177=\"\"),\"\",Summary!$K$9)","v":""}]
[null,null,"",{"$f":"IF(AND(A178=\"\",B178=\"\"),\"\",Summary!$K$9)","v":""}]
[null,null,"",{"$f":"IF(AND(A179=\"\",B179=\"\"),\"\",Summary!$K$9)","v":""}]
[null,null,"",{"$f":"IF(AND(A180=\"\",B180=\"\"),\"\",Summary!$K$9)","v":""}]
[null,null,"",{"$f":"IF(AND(A181=\"\",B181=\"\"),\"\",Summary!$K$9)","v":""}]
[null,null,"",{"$f":"IF(AND(A182=\"\",B182=\"\"),\"\",Summary!$K$9)","v":""}]
[null,null,"",{"$f":"IF(AND(A183=\"\",B183=\"\"),\"\",Summary!$K$9)","v":""}]
[null,null,"",{"$f":"IF(AND(A184=\"\",B184=\"\"),\"\",Summary!$K$9)","v":""}]
[null,null,"",{"$f":"IF(AND(A185=\"\",B185=\"\"),\"\",Summary!$K$9)","v":""}]
[null,null,"",{"$f":"IF(AND(A186=\"\",B186=\"\"),\"\",Summary!$K$9)","v":""}]
[null,null,"",{"$f":"IF(AND(A187=\"\",B187=\"\"),\"\",Summary!$K$9)","v":""}]
[null,null,"",{"$f":"IF(AND(A188=\"\",B188=\"\"),\"\",Summary!$K$9)","v":""}]
[null,null,"",{"$f":"IF(AND(A189=\"\",B189=\"\"),\"\",Summary!$K$9)","v":""}]
[null,null,"",{"$f":"IF(AND(A190=\"\",B190=\"\"),\"\",Summary!$K$9)","v":""}]
[null,null,"",{"$f":"IF(AND(A191=\"\",B191=\"\"),\"\",Summary!$K$9)","v":""}]
[null,null,"",{"$f":"IF(AND(A192=\"\",B192=\"\"),\"\",Summary!$K$9)","v":""}]
[null,null,"",{"$f":"IF(AND(A193=\"\",B193=\"\"),\"\",Summary!$K$9)","v":""}]
[null,null,"",{"$f":"IF(AND(A194=\"\",B194=\"\"),\"\",Summary!$K$9)","v":""}]
[null,null,"",{"$f":"IF(AND(A195=\"\",B195=\"\"),\"\",Summary!$K$9)","v":""}]
[null,null,"",{"$f":"IF(AND(A196=\"\",B196=\"\"),\"\",Summary!$K$9)","v":""}]
[null,null,{"$f":"IF(AND(A197=\"\",B197=\"\"),\"\",14000)","v":""},{"$f":"IF(AND(A197=\"\",B197=\"\"),\"\",Summary!$K$9)","v":""}]
[null,null,"",{"$f":"IF(AND(A198=\"\",B198=\"\"),\"\",Summary!$K$9)","v":""}]
[null,null,"",{"$f":"IF(AND(A199=\"\",B199=\"\"),\"\",Summary!$K$9)","v":""}]
[null,null,"",{"$f":"IF(AND(A200=\"\",B200=\"\"),\"\",Summary!$K$9)","v":""}]
[null,null,"",{"$f":"IF(AND(A201=\"\",B201=\"\"),\"\",Summary!$K$9)","v":""}]
[null,null,"",{"$f":"IF(AND(A202=\"\",B202=\"\"),\"\",Summary!$K$9)","v":""}]
[null,null,"",{"$f":"IF(AND(A203=\"\",B203=\"\"),\"\",Summary!$K$9)","v":""}]
[null,null,"",{"$f":"IF(AND(A204=\"\",B204=\"\"),\"\",Summary!$K$9)","v":""}]
[null,null,"",{"$f":"IF(AND(A205=\"\",B205=\"\"),\"\",Summary!$K$9)","v":""}]
[null,null,"",{"$f":"IF(AND(A206=\"\",B206=\"\"),\"\",Summary!$K$9)","v":""}]
[null,null,"",{"$f":"IF(AND(A207=\"\",B207=\"\"),\"\",Summary!$K$9)","v":""}]
[null,null,"",{"$f":"IF(AND(A208=\"\",B208=\"\"),\"\",Summary!$K$9)","v":""}]
[null,null,"",{"$f":"IF(AND(A209=\"\",B209=\"\"),\"\",Summary!$K$9)","v":""}]
[null,null,"",{"$f":"IF(AND(A210=\"\",B210=\"\"),\"\",Summary!$K$9)","v":""}]
[null,null,"",{"$f":"IF(AND(A211=\"\",B211=\"\"),\"\",Summary!$K$9)","v":""}]
[null,null,"",{"$f":"IF(AND(A212=\"\",B212=\"\"),\"\",Summary!$K$9)","v":""}]
[null,null,"",{"$f":"IF(AND(A213=\"\",B213=\"\"),\"\",Summary!$K$9)","v":""}]
[null,null,"",{"$f":"IF(AND(A214=\"\",B214=\"\"),\"\",Summary!$K$9)","v":""}]
[null,null,"",{"$f":"IF(AND(A215=\"\",B215=\"\"),\"\",Summary!$K$9)","v":""}]
[null,null,"",{"$f":"IF(AND(A216=\"\",B216=\"\"),\"\",Summary!$K$9)","v":""}]
[null,null,"",{"$f":"IF(AND(A217=\"\",B217=\"\"),\"\",Summary!$K$9)","v":""}]
[null,null,"",{"$f":"IF(AND(A218=\"\",B218=\"\"),\"\",Summary!$K$9)","v":""}]
[null,null,"",{"$f":"IF(AND(A219=\"\",B219=\"\"),\"\",Summary!$K$9)","v":""}]
[null,null,"",{"$f":"IF(AND(A220=\"\",B220=\"\"),\"\",Summary!$K$9)","v":""}]
[null,null,"",{"$f":"IF(AND(A221=\"\",B221=\"\"),\"\",Summary!$K$9)","v":""}]
[null,null,"",{"$f":"IF(AND(A222=\"\",B222=\"\"),\"\",Summary!$K$9)","v":""}]
[null,null,"",{"$f":"IF(AND(A223=\"\",B223=\"\"),\"\",Summary!$K$9)","v":""}]
[null,null,"",{"$f":"IF(AND(A224=\"\",B224=\"\"),\"\",Summary!$K$9)","v":""}]
[null,null,"",{"$f":"IF(AND(A225=\"\",B225=\"\"),\"\",Summary!$K$9)","v":""}]
[null,null,"",{"$f":"IF(AND(A226=\"\",B226=\"\"),\"\",Summary!$K$9)","v":""}]
[null,null,"",{"$f":"IF(AND(A227=\"\",B227=\"\"),\"\",Summary!$K$9)","v":""}]
[null,null,"",{"$f":"IF(AND(A228=\"\",B228=\"\"),\"\",Summary!$K$9)","v":""}]
[null,null,"",{"$f":"IF(AND(A229=\"\",B229=\"\"),\"\",Summary!$K$9)","v":""}]
[null,null,"",{"$f":"IF(AND(A230=\"\",B230=\"\"),\"\",Summary!$K$9)","v":""}]
[null,null,"",{"$f":"IF(AND(A231=\"\",B231=\"\"),\"\",Summary!$K$9)","v":""}]
[null,null,"",{"$f":"IF(AND(A232=\"\",B232=\"\"),\"\",Summary!$K$9)","v":""}]
[null,null,"",{"$f":"IF(AND(A233=\"\",B233=\"\"),\"\",Summary!$K$9)","v":""}]
[null,null,"",{"$f":"IF(AND(A234=\"\",B234=\"\"),\"\",Summary!$K$9)","v":""}]
[null,null,"",{"$f":"IF(AND(A235=\"\",B235=\"\"),\"\",Summary!$K$9)","v":""}]
[null,null,"",{"$f":"IF(AND(A236=\"\",B236=\"\"),\"\",Summary!$K$9)","v":""}]
[null,null,"",{"$f":"IF(AND(A237=\"\",B237=\"\"),\"\",Summary!$K$9)","v":""}]
[null,null,"",{"$f":"IF(AND(A238=\"\",B238=\"\"),\"\",Summary!$K$9)","v":""}]
[null,null,"",{"$f":"IF(AND(A239=\"\",B239=\"\"),\"\",Summary!$K$9)","v":""}]
[null,null,"",{"$f":"IF(AND(A240=\"\",B240=\"\"),\"\",Summary!$K$9)","v":""}]
[null,null,"",{"$f":"IF(AND(A241=\"\",B241=\"\"),\"\",Summary!$K$9)","v":""}]
[null,null,"",{"$f":"IF(AND(A242=\"\",B242=\"\"),\"\",Summary!$K$9)","v":""}]
[null,null,"",{"$f":"IF(AND(A243=\"\",B243=\"\"),\"\",Summary!$K$9)","v":""}]
[null,null,"",{"$f":"IF(AND(A244=\"\",B244=\"\"),\"\",Summary!$K$9)","v":""}]
[null,null,"",{"$f":"IF(AND(A245=\"\",B245=\"\"),\"\",Summary!$K$9)","v":""}]
[null,null,"",{"$f":"IF(AND(A246=\"\",B246=\"\"),\"\",Summary!$K$9)","v":""}]
[null,null,"",{"$f":"IF(AND(A247=\"\",B247=\"\"),\"\",Summary!$K$9)","v":""}]
[null,null,"",{"$f":"IF(AND(A248=\"\",B248=\"\"),\"\",Summary!$K$9)","v":""}]
[null,null,"",{"$f":"IF(AND(A249=\"\",B249=\"\"),\"\",Summary!$K$9)","v":""}]
[null,null,{"$f":"IF(AND(A250=\"\",B250=\"\"),\"\",14000)","v":""},{"$f":"IF(AND(A250=\"\",B250=\"\"),\"\",Summary!$K$9)","v":""}]

{"sheet":"Copy","index":3,"n_rows":489,"n_cols":11,"rows_kept":489,"cut":false,"hidden":false,"merged":[]}
[]
[]
[]
["Fund #","Org #","Mileage Charged","FundOrg","Lodging","Meals","Registration","Parking","Ground Trans.","Flight","Other"]
[{"$f":"IF(Mileage!C5=\"\",0,Mileage!C5)","v":0},{"$f":"IF(Mileage!D5=\"\",0,Mileage!D5)","v":0},{"$f":"IF(Mileage!C5=\"\",0,Mileage!J5)","v":0},{"$f":"IF(A5>0,A5&B5,0)","v":0},{"$f":"IF(Mileage!B5=0,0,0)","v":0},{"$f":"IF(Mileage!C5=0,0,0)","v":0},{"$f":"IF(Mileage!C5=0,0,0)","v":0},{"$f":"IF(Mileage!C5=0,0,0)","v":0},{"$f":"IF(Mileage!D5=0,0,0)","v":0},{"$f":"IF(Mileage!E5=0,0,0)","v":0},{"$f":"IF(Mileage!C5=0,0,0)","v":0}]
[{"$f":"IF(Mileage!C6=\"\",0,Mileage!C6)","v":0},{"$f":"IF(Mileage!D6=\"\",0,Mileage!D6)","v":0},{"$f":"IF(Mileage!C6=\"\",0,Mileage!J6)","v":0},{"$f":"IF(A6>0,A6&B6,0)","v":0},{"$f":"IF(Mileage!B6=0,0,0)","v":0},{"$f":"IF(Mileage!C6=0,0,0)","v":0},{"$f":"IF(Mileage!C6=0,0,0)","v":0},{"$f":"IF(Mileage!C6=0,0,0)","v":0},{"$f":"IF(Mileage!C6=0,0,0)","v":0},{"$f":"IF(Mileage!E6=0,0,0)","v":0},{"$f":"IF(Mileage!C6=0,0,0)","v":0}]
[{"$f":"IF(Mileage!C7=\"\",0,Mileage!C7)","v":0},{"$f":"IF(Mileage!D7=\"\",0,Mileage!D7)","v":0},{"$f":"IF(Mileage!C7=\"\",0,Mileage!J7)","v":0},0,{"$f":"IF(Mileage!B7=0,0,0)","v":0},{"$f":"IF(Mileage!C7=0,0,0)","v":0},{"$f":"IF(Mileage!C7=0,0,0)","v":0},{"$f":"IF(Mileage!C7=0,0,0)","v":0},{"$f":"IF(Mileage!C7=0,0,0)","v":0},{"$f":"IF(Mileage!E7=0,0,0)","v":0},{"$f":"IF(Mileage!C7=0,0,0)","v":0}]
[{"$f":"IF(Mileage!C8=\"\",0,Mileage!C8)","v":0},{"$f":"IF(Mileage!D8=\"\",0,Mileage!D8)","v":0},{"$f":"IF(Mileage!C8=\"\",0,Mileage!J8)","v":0},0,{"$f":"IF(Mileage!B8=0,0,0)","v":0},{"$f":"IF(Mileage!C8=0,0,0)","v":0},{"$f":"IF(Mileage!C8=0,0,0)","v":0},{"$f":"IF(Mileage!C8=0,0,0)","v":0},{"$f":"IF(Mileage!C8=0,0,0)","v":0},{"$f":"IF(Mileage!E8=0,0,0)","v":0},{"$f":"IF(Mileage!C8=0,0,0)","v":0}]
[{"$f":"IF(Mileage!C9=\"\",0,Mileage!C9)","v":0},{"$f":"IF(Mileage!D9=\"\",0,Mileage!D9)","v":0},{"$f":"IF(Mileage!C9=\"\",0,Mileage!J9)","v":0},0,{"$f":"IF(Mileage!B9=0,0,0)","v":0},{"$f":"IF(Mileage!C9=0,0,0)","v":0},{"$f":"IF(Mileage!C9=0,0,0)","v":0},{"$f":"IF(Mileage!C9=0,0,0)","v":0},{"$f":"IF(Mileage!C9=0,0,0)","v":0},{"$f":"IF(Mileage!E9=0,0,0)","v":0},{"$f":"IF(Mileage!C9=0,0,0)","v":0}]
[{"$f":"IF(Mileage!C10=\"\",0,Mileage!C10)","v":0},{"$f":"IF(Mileage!D10=\"\",0,Mileage!D10)","v":0},{"$f":"IF(Mileage!C10=\"\",0,Mileage!J10)","v":0},0,{"$f":"IF(Mileage!B10=0,0,0)","v":0},{"$f":"IF(Mileage!C10=0,0,0)","v":0},{"$f":"IF(Mileage!C10=0,0,0)","v":0},{"$f":"IF(Mileage!C10=0,0,0)","v":0},{"$f":"IF(Mileage!C10=0,0,0)","v":0},{"$f":"IF(Mileage!E10=0,0,0)","v":0},{"$f":"IF(Mileage!C10=0,0,0)","v":0}]
[{"$f":"IF(Mileage!C11=\"\",0,Mileage!C11)","v":0},{"$f":"IF(Mileage!D11=\"\",0,Mileage!D11)","v":0},{"$f":"IF(Mileage!C11=\"\",0,Mileage!J11)","v":0},0,{"$f":"IF(Mileage!B11=0,0,0)","v":0},{"$f":"IF(Mileage!C11=0,0,0)","v":0},{"$f":"IF(Mileage!C11=0,0,0)","v":0},{"$f":"IF(Mileage!C11=0,0,0)","v":0},{"$f":"IF(Mileage!C11=0,0,0)","v":0},{"$f":"IF(Mileage!E11=0,0,0)","v":0},{"$f":"IF(Mileage!C11=0,0,0)","v":0}]
[{"$f":"IF(Mileage!C12=\"\",0,Mileage!C12)","v":0},{"$f":"IF(Mileage!D12=\"\",0,Mileage!D12)","v":0},{"$f":"IF(Mileage!C12=\"\",0,Mileage!J12)","v":0},0,{"$f":"IF(Mileage!B12=0,0,0)","v":0},{"$f":"IF(Mileage!C12=0,0,0)","v":0},{"$f":"IF(Mileage!C12=0,0,0)","v":0},{"$f":"IF(Mileage!C12=0,0,0)","v":0},{"$f":"IF(Mileage!C12=0,0,0)","v":0},{"$f":"IF(Mileage!E12=0,0,0)","v":0},{"$f":"IF(Mileage!C12=0,0,0)","v":0}]
[{"$f":"IF(Mileage!C13=\"\",0,Mileage!C13)","v":0},{"$f":"IF(Mileage!D13=\"\",0,Mileage!D13)","v":0},{"$f":"IF(Mileage!C13=\"\",0,Mileage!J13)","v":0},0,{"$f":"IF(Mileage!B13=0,0,0)","v":0},{"$f":"IF(Mileage!C13=0,0,0)","v":0},{"$f":"IF(Mileage!C13=0,0,0)","v":0},{"$f":"IF(Mileage!C13=0,0,0)","v":0},{"$f":"IF(Mileage!C13=0,0,0)","v":0},{"$f":"IF(Mileage!E13=0,0,0)","v":0},{"$f":"IF(Mileage!C13=0,0,0)","v":0}]
[{"$f":"IF(Mileage!C14=\"\",0,Mileage!C14)","v":0},{"$f":"IF(Mileage!D14=\"\",0,Mileage!D14)","v":0},{"$f":"IF(Mileage!C14=\"\",0,Mileage!J14)","v":0},0,{"$f":"IF(Mileage!B14=0,0,0)","v":0},{"$f":"IF(Mileage!C14=0,0,0)","v":0},{"$f":"IF(Mileage!C14=0,0,0)","v":0},{"$f":"IF(Mileage!C14=0,0,0)","v":0},{"$f":"IF(Mileage!C14=0,0,0)","v":0},{"$f":"IF(Mileage!E14=0,0,0)","v":0},{"$f":"IF(Mileage!C14=0,0,0)","v":0}]
[{"$f":"IF(Mileage!C15=\"\",0,Mileage!C15)","v":0},{"$f":"IF(Mileage!D15=\"\",0,Mileage!D15)","v":0},{"$f":"IF(Mileage!C15=\"\",0,Mileage!J15)","v":0},0,{"$f":"IF(Mileage!B15=0,0,0)","v":0},{"$f":"IF(Mileage!C15=0,0,0)","v":0},{"$f":"IF(Mileage!C15=0,0,0)","v":0},{"$f":"IF(Mileage!C15=0,0,0)","v":0},{"$f":"IF(Mileage!C15=0,0,0)","v":0},{"$f":"IF(Mileage!E15=0,0,0)","v":0},{"$f":"IF(Mileage!C15=0,0,0)","v":0}]
[{"$f":"IF(Mileage!C16=\"\",0,Mileage!C16)","v":0},{"$f":"IF(Mileage!D16=\"\",0,Mileage!D16)","v":0},{"$f":"IF(Mileage!C16=\"\",0,Mileage!J16)","v":0},0,{"$f":"IF(Mileage!B16=0,0,0)","v":0},{"$f":"IF(Mileage!C16=0,0,0)","v":0},{"$f":"IF(Mileage!C16=0,0,0)","v":0},{"$f":"IF(Mileage!C16=0,0,0)","v":0},{"$f":"IF(Mileage!C16=0,0,0)","v":0},{"$f":"IF(Mileage!E16=0,0,0)","v":0},{"$f":"IF(Mileage!C16=0,0,0)","v":0}]
[{"$f":"IF(Mileage!C17=\"\",0,Mileage!C17)","v":0},{"$f":"IF(Mileage!D17=\"\",0,Mileage!D17)","v":0},{"$f":"IF(Mileage!C17=\"\",0,Mileage!J17)","v":0},0,{"$f":"IF(Mileage!B17=0,0,0)","v":0},{"$f":"IF(Mileage!C17=0,0,0)","v":0},{"$f":"IF(Mileage!C17=0,0,0)","v":0},{"$f":"IF(Mileage!C17=0,0,0)","v":0},{"$f":"IF(Mileage!C17=0,0,0)","v":0},{"$f":"IF(Mileage!E17=0,0,0)","v":0},{"$f":"IF(Mileage!C17=0,0,0)","v":0}]
[{"$f":"IF(Mileage!C18=\"\",0,Mileage!C18)","v":0},{"$f":"IF(Mileage!D18=\"\",0,Mileage!D18)","v":0},{"$f":"IF(Mileage!C18=\"\",0,Mileage!J18)","v":0},0,{"$f":"IF(Mileage!B18=0,0,0)","v":0},{"$f":"IF(Mileage!C18=0,0,0)","v":0},{"$f":"IF(Mileage!C18=0,0,0)","v":0},{"$f":"IF(Mileage!C18=0,0,0)","v":0},{"$f":"IF(Mileage!C18=0,0,0)","v":0},{"$f":"IF(Mileage!E18=0,0,0)","v":0},{"$f":"IF(Mileage!C18=0,0,0)","v":0}]
[{"$f":"IF(Mileage!C19=\"\",0,Mileage!C19)","v":0},{"$f":"IF(Mileage!D19=\"\",0,Mileage!D19)","v":0},{"$f":"IF(Mileage!C19=\"\",0,Mileage!J19)","v":0},0,{"$f":"IF(Mileage!B19=0,0,0)","v":0},{"$f":"IF(Mileage!C19=0,0,0)","v":0},{"$f":"IF(Mileage!C19=0,0,0)","v":0},{"$f":"IF(Mileage!C19=0,0,0)","v":0},{"$f":"IF(Mileage!C19=0,0,0)","v":0},{"$f":"IF(Mileage!E19=0,0,0)","v":0},{"$f":"IF(Mileage!C19=0,0,0)","v":0}]
[{"$f":"IF(Mileage!C20=\"\",0,Mileage!C20)","v":0},{"$f":"IF(Mileage!D20=\"\",0,Mileage!D20)","v":0},{"$f":"IF(Mileage!C20=\"\",0,Mileage!J20)","v":0},0,{"$f":"IF(Mileage!B20=0,0,0)","v":0},{"$f":"IF(Mileage!C20=0,0,0)","v":0},{"$f":"IF(Mileage!C20=0,0,0)","v":0},{"$f":"IF(Mileage!C20=0,0,0)","v":0},{"$f":"IF(Mileage!C20=0,0,0)","v":0},{"$f":"IF(Mileage!E20=0,0,0)","v":0},{"$f":"IF(Mileage!C20=0,0,0)","v":0}]
[{"$f":"IF(Mileage!C21=\"\",0,Mileage!C21)","v":0},{"$f":"IF(Mileage!D21=\"\",0,Mileage!D21)","v":0},{"$f":"IF(Mileage!C21=\"\",0,Mileage!J21)","v":0},0,{"$f":"IF(Mileage!B21=0,0,0)","v":0},{"$f":"IF(Mileage!C21=0,0,0)","v":0},{"$f":"IF(Mileage!C21=0,0,0)","v":0},{"$f":"IF(Mileage!C21=0,0,0)","v":0},{"$f":"IF(Mileage!C21=0,0,0)","v":0},{"$f":"IF(Mileage!E21=0,0,0)","v":0},{"$f":"IF(Mileage!C21=0,0,0)","v":0}]
[{"$f":"IF(Mileage!C22=\"\",0,Mileage!C22)","v":0},{"$f":"IF(Mileage!D22=\"\",0,Mileage!D22)","v":0},{"$f":"IF(Mileage!C22=\"\",0,Mileage!J22)","v":0},0,{"$f":"IF(Mileage!B22=0,0,0)","v":0},{"$f":"IF(Mileage!C22=0,0,0)","v":0},{"$f":"IF(Mileage!C22=0,0,0)","v":0},{"$f":"IF(Mileage!C22=0,0,0)","v":0},{"$f":"IF(Mileage!C22=0,0,0)","v":0},{"$f":"IF(Mileage!E22=0,0,0)","v":0},{"$f":"IF(Mileage!C22=0,0,0)","v":0}]
[{"$f":"IF(Mileage!C23=\"\",0,Mileage!C23)","v":0},{"$f":"IF(Mileage!D23=\"\",0,Mileage!D23)","v":0},{"$f":"IF(Mileage!C23=\"\",0,Mileage!J23)","v":0},0,{"$f":"IF(Mileage!B23=0,0,0)","v":0},{"$f":"IF(Mileage!C23=0,0,0)","v":0},{"$f":"IF(Mileage!C23=0,0,0)","v":0},{"$f":"IF(Mileage!C23=0,0,0)","v":0},{"$f":"IF(Mileage!C23=0,0,0)","v":0},{"$f":"IF(Mileage!E23=0,0,0)","v":0},{"$f":"IF(Mileage!C23=0,0,0)","v":0}]
[{"$f":"IF(Mileage!C24=\"\",0,Mileage!C24)","v":0},{"$f":"IF(Mileage!D24=\"\",0,Mileage!D24)","v":0},{"$f":"IF(Mileage!C24=\"\",0,Mileage!J24)","v":0},0,{"$f":"IF(Mileage!B24=0,0,0)","v":0},{"$f":"IF(Mileage!C24=0,0,0)","v":0},{"$f":"IF(Mileage!C24=0,0,0)","v":0},{"$f":"IF(Mileage!C24=0,0,0)","v":0},{"$f":"IF(Mileage!C24=0,0,0)","v":0},{"$f":"IF(Mileage!E24=0,0,0)","v":0},{"$f":"IF(Mileage!C24=0,0,0)","v":0}]
[{"$f":"IF(Mileage!C25=\"\",0,Mileage!C25)","v":0},{"$f":"IF(Mileage!D25=\"\",0,Mileage!D25)","v":0},{"$f":"IF(Mileage!C25=\"\",0,Mileage!J25)","v":0},0,{"$f":"IF(Mileage!B25=0,0,0)","v":0},{"$f":"IF(Mileage!C25=0,0,0)","v":0},{"$f":"IF(Mileage!C25=0,0,0)","v":0},{"$f":"IF(Mileage!C25=0,0,0)","v":0},{"$f":"IF(Mileage!C25=0,0,0)","v":0},{"$f":"IF(Mileage!E25=0,0,0)","v":0},{"$f":"IF(Mileage!C25=0,0,0)","v":0}]
[{"$f":"IF(Mileage!C26=\"\",0,Mileage!C26)","v":0},{"$f":"IF(Mileage!D26=\"\",0,Mileage!D26)","v":0},{"$f":"IF(Mileage!C26=\"\",0,Mileage!J26)","v":0},0,{"$f":"IF(Mileage!B26=0,0,0)","v":0},{"$f":"IF(Mileage!C26=0,0,0)","v":0},{"$f":"IF(Mileage!C26=0,0,0)","v":0},{"$f":"IF(Mileage!C26=0,0,0)","v":0},{"$f":"IF(Mileage!C26=0,0,0)","v":0},{"$f":"IF(Mileage!E26=0,0,0)","v":0},{"$f":"IF(Mileage!C26=0,0,0)","v":0}]
[{"$f":"IF(Mileage!C27=\"\",0,Mileage!C27)","v":0},{"$f":"IF(Mileage!D27=\"\",0,Mileage!D27)","v":0},{"$f":"IF(Mileage!C27=\"\",0,Mileage!J27)","v":0},0,{"$f":"IF(Mileage!B27=0,0,0)","v":0},{"$f":"IF(Mileage!C27=0,0,0)","v":0},{"$f":"IF(Mileage!C27=0,0,0)","v":0},{"$f":"IF(Mileage!C27=0,0,0)","v":0},{"$f":"IF(Mileage!C27=0,0,0)","v":0},{"$f":"IF(Mileage!E27=0,0,0)","v":0},{"$f":"IF(Mileage!C27=0,0,0)","v":0}]
[{"$f":"IF(Mileage!C28=\"\",0,Mileage!C28)","v":0},{"$f":"IF(Mileage!D28=\"\",0,Mileage!D28)","v":0},{"$f":"IF(Mileage!C28=\"\",0,Mileage!J28)","v":0},0,{"$f":"IF(Mileage!B28=0,0,0)","v":0},{"$f":"IF(Mileage!C28=0,0,0)","v":0},{"$f":"IF(Mileage!C28=0,0,0)","v":0},{"$f":"IF(Mileage!C28=0,0,0)","v":0},{"$f":"IF(Mileage!C28=0,0,0)","v":0},{"$f":"IF(Mileage!E28=0,0,0)","v":0},{"$f":"IF(Mileage!C28=0,0,0)","v":0}]
[{"$f":"IF(Mileage!C29=\"\",0,Mileage!C29)","v":0},{"$f":"IF(Mileage!D29=\"\",0,Mileage!D29)","v":0},{"$f":"IF(Mileage!C29=\"\",0,Mileage!J29)","v":0},0,{"$f":"IF(Mileage!B29=0,0,0)","v":0},{"$f":"IF(Mileage!C29=0,0,0)","v":0},{"$f":"IF(Mileage!C29=0,0,0)","v":0},{"$f":"IF(Mileage!C29=0,0,0)","v":0},{"$f":"IF(Mileage!C29=0,0,0)","v":0},{"$f":"IF(Mileage!E29=0,0,0)","v":0},{"$f":"IF(Mileage!C29=0,0,0)","v":0}]
[{"$f":"IF(Mileage!C30=\"\",0,Mileage!C30)","v":0},{"$f":"IF(Mileage!D30=\"\",0,Mileage!D30)","v":0},{"$f":"IF(Mileage!C30=\"\",0,Mileage!J30)","v":0},0,{"$f":"IF(Mileage!B30=0,0,0)","v":0},{"$f":"IF(Mileage!C30=0,0,0)","v":0},{"$f":"IF(Mileage!C30=0,0,0)","v":0},{"$f":"IF(Mileage!C30=0,0,0)","v":0},{"$f":"IF(Mileage!C30=0,0,0)","v":0},{"$f":"IF(Mileage!E30=0,0,0)","v":0},{"$f":"IF(Mileage!C30=0,0,0)","v":0}]
[{"$f":"IF(Mileage!C31=\"\",0,Mileage!C31)","v":0},{"$f":"IF(Mileage!D31=\"\",0,Mileage!D31)","v":0},{"$f":"IF(Mileage!C31=\"\",0,Mileage!J31)","v":0},0,{"$f":"IF(Mileage!B31=0,0,0)","v":0},{"$f":"IF(Mileage!C31=0,0,0)","v":0},{"$f":"IF(Mileage!C31=0,0,0)","v":0},{"$f":"IF(Mileage!C31=0,0,0)","v":0},{"$f":"IF(Mileage!C31=0,0,0)","v":0},{"$f":"IF(Mileage!E31=0,0,0)","v":0},{"$f":"IF(Mileage!C31=0,0,0)","v":0}]
[{"$f":"IF(Mileage!C32=\"\",0,Mileage!C32)","v":0},{"$f":"IF(Mileage!D32=\"\",0,Mileage!D32)","v":0},{"$f":"IF(Mileage!C32=\"\",0,Mileage!J32)","v":0},0,{"$f":"IF(Mileage!B32=0,0,0)","v":0},{"$f":"IF(Mileage!C32=0,0,0)","v":0},{"$f":"IF(Mileage!C32=0,0,0)","v":0},{"$f":"IF(Mileage!C32=0,0,0)","v":0},{"$f":"IF(Mileage!C32=0,0,0)","v":0},{"$f":"IF(Mileage!E32=0,0,0)","v":0},{"$f":"IF(Mileage!C32=0,0,0)","v":0}]
[{"$f":"IF(Mileage!C33=\"\",0,Mileage!C33)","v":0},{"$f":"IF(Mileage!D33=\"\",0,Mileage!D33)","v":0},{"$f":"IF(Mileage!C33=\"\",0,Mileage!J33)","v":0},0,{"$f":"IF(Mileage!B33=0,0,0)","v":0},{"$f":"IF(Mileage!C33=0,0,0)","v":0},{"$f":"IF(Mileage!C33=0,0,0)","v":0},{"$f":"IF(Mileage!C33=0,0,0)","v":0},{"$f":"IF(Mileage!C33=0,0,0)","v":0},{"$f":"IF(Mileage!E33=0,0,0)","v":0},{"$f":"IF(Mileage!C33=0,0,0)","v":0}]
[{"$f":"IF(Mileage!C34=\"\",0,Mileage!C34)","v":0},{"$f":"IF(Mileage!D34=\"\",0,Mileage!D34)","v":0},{"$f":"IF(Mileage!C34=\"\",0,Mileage!J34)","v":0},0,{"$f":"IF(Mileage!B34=0,0,0)","v":0},{"$f":"IF(Mileage!C34=0,0,0)","v":0},{"$f":"IF(Mileage!C34=0,0,0)","v":0},{"$f":"IF(Mileage!C34=0,0,0)","v":0},{"$f":"IF(Mileage!C34=0,0,0)","v":0},{"$f":"IF(Mileage!E34=0,0,0)","v":0},{"$f":"IF(Mileage!C34=0,0,0)","v":0}]
[{"$f":"IF(Mileage!C35=\"\",0,Mileage!C35)","v":0},{"$f":"IF(Mileage!D35=\"\",0,Mileage!D35)","v":0},{"$f":"IF(Mileage!C35=\"\",0,Mileage!J35)","v":0},0,{"$f":"IF(Mileage!B35=0,0,0)","v":0},{"$f":"IF(Mileage!C35=0,0,0)","v":0},{"$f":"IF(Mileage!C35=0,0,0)","v":0},{"$f":"IF(Mileage!C35=0,0,0)","v":0},{"$f":"IF(Mileage!C35=0,0,0)","v":0},{"$f":"IF(Mileage!E35=0,0,0)","v":0},{"$f":"IF(Mileage!C35=0,0,0)","v":0}]
[{"$f":"IF(Mileage!C36=\"\",0,Mileage!C36)","v":0},{"$f":"IF(Mileage!D36=\"\",0,Mileage!D36)","v":0},{"$f":"IF(Mileage!C36=\"\",0,Mileage!J36)","v":0},0,{"$f":"IF(Mileage!B36=0,0,0)","v":0},{"$f":"IF(Mileage!C36=0,0,0)","v":0},{"$f":"IF(Mileage!C36=0,0,0)","v":0},{"$f":"IF(Mileage!C36=0,0,0)","v":0},{"$f":"IF(Mileage!C36=0,0,0)","v":0},{"$f":"IF(Mileage!E36=0,0,0)","v":0},{"$f":"IF(Mileage!C36=0,0,0)","v":0}]
[{"$f":"IF(Mileage!C37=\"\",0,Mileage!C37)","v":0},{"$f":"IF(Mileage!D37=\"\",0,Mileage!D37)","v":0},{"$f":"IF(Mileage!C37=\"\",0,Mileage!J37)","v":0},0,{"$f":"IF(Mileage!B37=0,0,0)","v":0},{"$f":"IF(Mileage!C37=0,0,0)","v":0},{"$f":"IF(Mileage!C37=0,0,0)","v":0},{"$f":"IF(Mileage!C37=0,0,0)","v":0},{"$f":"IF(Mileage!C37=0,0,0)","v":0},{"$f":"IF(Mileage!E37=0,0,0)","v":0},{"$f":"IF(Mileage!C37=0,0,0)","v":0}]
[{"$f":"IF(Mileage!C38=\"\",0,Mileage!C38)","v":0},{"$f":"IF(Mileage!D38=\"\",0,Mileage!D38)","v":0},{"$f":"IF(Mileage!C38=\"\",0,Mileage!J38)","v":0},0,{"$f":"IF(Mileage!B38=0,0,0)","v":0},{"$f":"IF(Mileage!C38=0,0,0)","v":0},{"$f":"IF(Mileage!C38=0,0,0)","v":0},{"$f":"IF(Mileage!C38=0,0,0)","v":0},{"$f":"IF(Mileage!C38=0,0,0)","v":0},{"$f":"IF(Mileage!E38=0,0,0)","v":0},{"$f":"IF(Mileage!C38=0,0,0)","v":0}]
[{"$f":"IF(Mileage!C39=\"\",0,Mileage!C39)","v":0},{"$f":"IF(Mileage!D39=\"\",0,Mileage!D39)","v":0},{"$f":"IF(Mileage!C39=\"\",0,Mileage!J39)","v":0},0,{"$f":"IF(Mileage!B39=0,0,0)","v":0},{"$f":"IF(Mileage!C39=0,0,0)","v":0},{"$f":"IF(Mileage!C39=0,0,0)","v":0},{"$f":"IF(Mileage!C39=0,0,0)","v":0},{"$f":"IF(Mileage!C39=0,0,0)","v":0},{"$f":"IF(Mileage!E39=0,0,0)","v":0},{"$f":"IF(Mileage!C39=0,0,0)","v":0}]
[{"$f":"IF(Mileage!C40=\"\",0,Mileage!C40)","v":0},{"$f":"IF(Mileage!D40=\"\",0,Mileage!D40)","v":0},{"$f":"IF(Mileage!C40=\"\",0,Mileage!J40)","v":0},0,{"$f":"IF(Mileage!B40=0,0,0)","v":0},{"$f":"IF(Mileage!C40=0,0,0)","v":0},{"$f":"IF(Mileage!C40=0,0,0)","v":0},{"$f":"IF(Mileage!C40=0,0,0)","v":0},{"$f":"IF(Mileage!C40=0,0,0)","v":0},{"$f":"IF(Mileage!E40=0,0,0)","v":0},{"$f":"IF(Mileage!C40=0,0,0)","v":0}]
[{"$f":"IF(Mileage!C41=\"\",0,Mileage!C41)","v":0},{"$f":"IF(Mileage!D41=\"\",0,Mileage!D41)","v":0},{"$f":"IF(Mileage!C41=\"\",0,Mileage!J41)","v":0},0,{"$f":"IF(Mileage!B41=0,0,0)","v":0},{"$f":"IF(Mileage!C41=0,0,0)","v":0},{"$f":"IF(Mileage!C41=0,0,0)","v":0},{"$f":"IF(Mileage!C41=0,0,0)","v":0},{"$f":"IF(Mileage!C41=0,0,0)","v":0},{"$f":"IF(Mileage!E41=0,0,0)","v":0},{"$f":"IF(Mileage!C41=0,0,0)","v":0}]
[{"$f":"IF(Mileage!C42=\"\",0,Mileage!C42)","v":0},{"$f":"IF(Mileage!D42=\"\",0,Mileage!D42)","v":0},{"$f":"IF(Mileage!C42=\"\",0,Mileage!J42)","v":0},0,{"$f":"IF(Mileage!B42=0,0,0)","v":0},{"$f":"IF(Mileage!C42=0,0,0)","v":0},{"$f":"IF(Mileage!C42=0,0,0)","v":0},{"$f":"IF(Mileage!C42=0,0,0)","v":0},{"$f":"IF(Mileage!C42=0,0,0)","v":0},{"$f":"IF(Mileage!E42=0,0,0)","v":0},{"$f":"IF(Mileage!C42=0,0,0)","v":0}]
[{"$f":"IF(Mileage!C43=\"\",0,Mileage!C43)","v":0},{"$f":"IF(Mileage!D43=\"\",0,Mileage!D43)","v":0},{"$f":"IF(Mileage!C43=\"\",0,Mileage!J43)","v":0},0,{"$f":"IF(Mileage!B43=0,0,0)","v":0},{"$f":"IF(Mileage!C43=0,0,0)","v":0},{"$f":"IF(Mileage!C43=0,0,0)","v":0},{"$f":"IF(Mileage!C43=0,0,0)","v":0},{"$f":"IF(Mileage!C43=0,0,0)","v":0},{"$f":"IF(Mileage!E43=0,0,0)","v":0},{"$f":"IF(Mileage!C43=0,0,0)","v":0}]
[{"$f":"IF(Mileage!C44=\"\",0,Mileage!C44)","v":0},{"$f":"IF(Mileage!D44=\"\",0,Mileage!D44)","v":0},{"$f":"IF(Mileage!C44=\"\",0,Mileage!J44)","v":0},0,{"$f":"IF(Mileage!B44=0,0,0)","v":0},{"$f":"IF(Mileage!C44=0,0,0)","v":0},{"$f":"IF(Mileage!C44=0,0,0)","v":0},{"$f":"IF(Mileage!C44=0,0,0)","v":0},{"$f":"IF(Mileage!C44=0,0,0)","v":0},{"$f":"IF(Mileage!E44=0,0,0)","v":0},{"$f":"IF(Mileage!C44=0,0,0)","v":0}]
[{"$f":"IF(Mileage!C45=\"\",0,Mileage!C45)","v":0},{"$f":"IF(Mileage!D45=\"\",0,Mileage!D45)","v":0},{"$f":"IF(Mileage!C45=\"\",0,Mileage!J45)","v":0},0,{"$f":"IF(Mileage!B45=0,0,0)","v":0},{"$f":"IF(Mileage!C45=0,0,0)","v":0},{"$f":"IF(Mileage!C45=0,0,0)","v":0},{"$f":"IF(Mileage!C45=0,0,0)","v":0},{"$f":"IF(Mileage!C45=0,0,0)","v":0},{"$f":"IF(Mileage!E45=0,0,0)","v":0},{"$f":"IF(Mileage!C45=0,0,0)","v":0}]
[{"$f":"IF(Mileage!C46=\"\",0,Mileage!C46)","v":0},{"$f":"IF(Mileage!D46=\"\",0,Mileage!D46)","v":0},{"$f":"IF(Mileage!C46=\"\",0,Mileage!J46)","v":0},0,{"$f":"IF(Mileage!B46=0,0,0)","v":0},{"$f":"IF(Mileage!C46=0,0,0)","v":0},{"$f":"IF(Mileage!C46=0,0,0)","v":0},{"$f":"IF(Mileage!C46=0,0,0)","v":0},{"$f":"IF(Mileage!C46=0,0,0)","v":0},{"$f":"IF(Mileage!E46=0,0,0)","v":0},{"$f":"IF(Mileage!C46=0,0,0)","v":0}]
[{"$f":"IF(Mileage!C47=\"\",0,Mileage!C47)","v":0},{"$f":"IF(Mileage!D47=\"\",0,Mileage!D47)","v":0},{"$f":"IF(Mileage!C47=\"\",0,Mileage!J47)","v":0},0,{"$f":"IF(Mileage!B47=0,0,0)","v":0},{"$f":"IF(Mileage!C47=0,0,0)","v":0},{"$f":"IF(Mileage!C47=0,0,0)","v":0},{"$f":"IF(Mileage!C47=0,0,0)","v":0},{"$f":"IF(Mileage!C47=0,0,0)","v":0},{"$f":"IF(Mileage!E47=0,0,0)","v":0},{"$f":"IF(Mileage!C47=0,0,0)","v":0}]
[{"$f":"IF(Mileage!C48=\"\",0,Mileage!C48)","v":0},{"$f":"IF(Mileage!D48=\"\",0,Mileage!D48)","v":0},{"$f":"IF(Mileage!C48=\"\",0,Mileage!J48)","v":0},0,{"$f":"IF(Mileage!B48=0,0,0)","v":0},{"$f":"IF(Mileage!C48=0,0,0)","v":0},{"$f":"IF(Mileage!C48=0,0,0)","v":0},{"$f":"IF(Mileage!C48=0,0,0)","v":0},{"$f":"IF(Mileage!C48=0,0,0)","v":0},{"$f":"IF(Mileage!E48=0,0,0)","v":0},{"$f":"IF(Mileage!C48=0,0,0)","v":0}]
[{"$f":"IF(Mileage!C49=\"\",0,Mileage!C49)","v":0},{"$f":"IF(Mileage!D49=\"\",0,Mileage!D49)","v":0},{"$f":"IF(Mileage!C49=\"\",0,Mileage!J49)","v":0},0,{"$f":"IF(Mileage!B49=0,0,0)","v":0},{"$f":"IF(Mileage!C49=0,0,0)","v":0},{"$f":"IF(Mileage!C49=0,0,0)","v":0},{"$f":"IF(Mileage!C49=0,0,0)","v":0},{"$f":"IF(Mileage!C49=0,0,0)","v":0},{"$f":"IF(Mileage!E49=0,0,0)","v":0},{"$f":"IF(Mileage!C49=0,0,0)","v":0}]
[{"$f":"IF(Mileage!C50=\"\",0,Mileage!C50)","v":0},{"$f":"IF(Mileage!D50=\"\",0,Mileage!D50)","v":0},{"$f":"IF(Mileage!C50=\"\",0,Mileage!J50)","v":0},0,{"$f":"IF(Mileage!B50=0,0,0)","v":0},{"$f":"IF(Mileage!C50=0,0,0)","v":0},{"$f":"IF(Mileage!C50=0,0,0)","v":0},{"$f":"IF(Mileage!C50=0,0,0)","v":0},{"$f":"IF(Mileage!C50=0,0,0)","v":0},{"$f":"IF(Mileage!E50=0,0,0)","v":0},{"$f":"IF(Mileage!C50=0,0,0)","v":0}]
[{"$f":"IF(Mileage!C51=\"\",0,Mileage!C51)","v":0},{"$f":"IF(Mileage!D51=\"\",0,Mileage!D51)","v":0},{"$f":"IF(Mileage!C51=\"\",0,Mileage!J51)","v":0},0,{"$f":"IF(Mileage!B51=0,0,0)","v":0},{"$f":"IF(Mileage!C51=0,0,0)","v":0},{"$f":"IF(Mileage!C51=0,0,0)","v":0},{"$f":"IF(Mileage!C51=0,0,0)","v":0},{"$f":"IF(Mileage!C51=0,0,0)","v":0},{"$f":"IF(Mileage!E51=0,0,0)","v":0},{"$f":"IF(Mileage!C51=0,0,0)","v":0}]
[{"$f":"IF(Mileage!C52=\"\",0,Mileage!C52)","v":0},{"$f":"IF(Mileage!D52=\"\",0,Mileage!D52)","v":0},{"$f":"IF(Mileage!C52=\"\",0,Mileage!J52)","v":0},0,{"$f":"IF(Mileage!B52=0,0,0)","v":0},{"$f":"IF(Mileage!C52=0,0,0)","v":0},{"$f":"IF(Mileage!C52=0,0,0)","v":0},{"$f":"IF(Mileage!C52=0,0,0)","v":0},{"$f":"IF(Mileage!C52=0,0,0)","v":0},{"$f":"IF(Mileage!E52=0,0,0)","v":0},{"$f":"IF(Mileage!C52=0,0,0)","v":0}]
[{"$f":"IF(Mileage!C53=\"\",0,Mileage!C53)","v":0},{"$f":"IF(Mileage!D53=\"\",0,Mileage!D53)","v":0},{"$f":"IF(Mileage!C53=\"\",0,Mileage!J53)","v":0},0,{"$f":"IF(Mileage!B53=0,0,0)","v":0},{"$f":"IF(Mileage!C53=0,0,0)","v":0},{"$f":"IF(Mileage!C53=0,0,0)","v":0},{"$f":"IF(Mileage!C53=0,0,0)","v":0},{"$f":"IF(Mileage!C53=0,0,0)","v":0},{"$f":"IF(Mileage!E53=0,0,0)","v":0},{"$f":"IF(Mileage!C53=0,0,0)","v":0}]
[{"$f":"IF(Mileage!C54=\"\",0,Mileage!C54)","v":0},{"$f":"IF(Mileage!D54=\"\",0,Mileage!D54)","v":0},{"$f":"IF(Mileage!C54=\"\",0,Mileage!J54)","v":0},0,{"$f":"IF(Mileage!B54=0,0,0)","v":0},{"$f":"IF(Mileage!C54=0,0,0)","v":0},{"$f":"IF(Mileage!C54=0,0,0)","v":0},{"$f":"IF(Mileage!C54=0,0,0)","v":0},{"$f":"IF(Mileage!C54=0,0,0)","v":0},{"$f":"IF(Mileage!E54=0,0,0)","v":0},{"$f":"IF(Mileage!C54=0,0,0)","v":0}]
[{"$f":"IF(Mileage!C55=\"\",0,Mileage!C55)","v":0},{"$f":"IF(Mileage!D55=\"\",0,Mileage!D55)","v":0},{"$f":"IF(Mileage!C55=\"\",0,Mileage!J55)","v":0},0,{"$f":"IF(Mileage!B55=0,0,0)","v":0},{"$f":"IF(Mileage!C55=0,0,0)","v":0},{"$f":"IF(Mileage!C55=0,0,0)","v":0},{"$f":"IF(Mileage!C55=0,0,0)","v":0},{"$f":"IF(Mileage!C55=0,0,0)","v":0},{"$f":"IF(Mileage!E55=0,0,0)","v":0},{"$f":"IF(Mileage!C55=0,0,0)","v":0}]
[{"$f":"IF(Mileage!C56=\"\",0,Mileage!C56)","v":0},{"$f":"IF(Mileage!D56=\"\",0,Mileage!D56)","v":0},{"$f":"IF(Mileage!C56=\"\",0,Mileage!J56)","v":0},0,{"$f":"IF(Mileage!B56=0,0,0)","v":0},{"$f":"IF(Mileage!C56=0,0,0)","v":0},{"$f":"IF(Mileage!C56=0,0,0)","v":0},{"$f":"IF(Mileage!C56=0,0,0)","v":0},{"$f":"IF(Mileage!C56=0,0,0)","v":0},{"$f":"IF(Mileage!E56=0,0,0)","v":0},{"$f":"IF(Mileage!C56=0,0,0)","v":0}]
[{"$f":"IF(Mileage!C57=\"\",0,Mileage!C57)","v":0},{"$f":"IF(Mileage!D57=\"\",0,Mileage!D57)","v":0},{"$f":"IF(Mileage!C57=\"\",0,Mileage!J57)","v":0},0,{"$f":"IF(Mileage!B57=0,0,0)","v":0},{"$f":"IF(Mileage!C57=0,0,0)","v":0},{"$f":"IF(Mileage!C57=0,0,0)","v":0},{"$f":"IF(Mileage!C57=0,0,0)","v":0},{"$f":"IF(Mileage!C57=0,0,0)","v":0},{"$f":"IF(Mileage!E57=0,0,0)","v":0},{"$f":"IF(Mileage!C57=0,0,0)","v":0}]
[{"$f":"IF(Mileage!C58=\"\",0,Mileage!C58)","v":0},{"$f":"IF(Mileage!D58=\"\",0,Mileage!D58)","v":0},{"$f":"IF(Mileage!C58=\"\",0,Mileage!J58)","v":0},0,{"$f":"IF(Mileage!B58=0,0,0)","v":0},{"$f":"IF(Mileage!C58=0,0,0)","v":0},{"$f":"IF(Mileage!C58=0,0,0)","v":0},{"$f":"IF(Mileage!C58=0,0,0)","v":0},{"$f":"IF(Mileage!C58=0,0,0)","v":0},{"$f":"IF(Mileage!E58=0,0,0)","v":0},{"$f":"IF(Mileage!C58=0,0,0)","v":0}]
[{"$f":"IF(Mileage!C59=\"\",0,Mileage!C59)","v":0},{"$f":"IF(Mileage!D59=\"\",0,Mileage!D59)","v":0},{"$f":"IF(Mileage!C59=\"\",0,Mileage!J59)","v":0},0,{"$f":"IF(Mileage!B59=0,0,0)","v":0},{"$f":"IF(Mileage!C59=0,0,0)","v":0},{"$f":"IF(Mileage!C59=0,0,0)","v":0},{"$f":"IF(Mileage!C59=0,0,0)","v":0},{"$f":"IF(Mileage!C59=0,0,0)","v":0},{"$f":"IF(Mileage!E59=0,0,0)","v":0},{"$f":"IF(Mileage!C59=0,0,0)","v":0}]
[{"$f":"IF(Mileage!C60=\"\",0,Mileage!C60)","v":0},{"$f":"IF(Mileage!D60=\"\",0,Mileage!D60)","v":0},{"$f":"IF(Mileage!C60=\"\",0,Mileage!J60)","v":0},0,{"$f":"IF(Mileage!B60=0,0,0)","v":0},{"$f":"IF(Mileage!C60=0,0,0)","v":0},{"$f":"IF(Mileage!C60=0,0,0)","v":0},{"$f":"IF(Mileage!C60=0,0,0)","v":0},{"$f":"IF(Mileage!C60=0,0,0)","v":0},{"$f":"IF(Mileage!E60=0,0,0)","v":0},{"$f":"IF(Mileage!C60=0,0,0)","v":0}]
[{"$f":"IF(Mileage!C61=\"\",0,Mileage!C61)","v":0},{"$f":"IF(Mileage!D61=\"\",0,Mileage!D61)","v":0},{"$f":"IF(Mileage!C61=\"\",0,Mileage!J61)","v":0},0,{"$f":"IF(Mileage!B61=0,0,0)","v":0},{"$f":"IF(Mileage!C61=0,0,0)","v":0},{"$f":"IF(Mileage!C61=0,0,0)","v":0},{"$f":"IF(Mileage!C61=0,0,0)","v":0},{"$f":"IF(Mileage!C61=0,0,0)","v":0},{"$f":"IF(Mileage!E61=0,0,0)","v":0},{"$f":"IF(Mileage!C61=0,0,0)","v":0}]
[{"$f":"IF(Mileage!C62=\"\",0,Mileage!C62)","v":0},{"$f":"IF(Mileage!D62=\"\",0,Mileage!D62)","v":0},{"$f":"IF(Mileage!C62=\"\",0,Mileage!J62)","v":0},0,{"$f":"IF(Mileage!B62=0,0,0)","v":0},{"$f":"IF(Mileage!C62=0,0,0)","v":0},{"$f":"IF(Mileage!C62=0,0,0)","v":0},{"$f":"IF(Mileage!C62=0,0,0)","v":0},{"$f":"IF(Mileage!C62=0,0,0)","v":0},{"$f":"IF(Mileage!E62=0,0,0)","v":0},{"$f":"IF(Mileage!C62=0,0,0)","v":0}]
[{"$f":"IF(Mileage!C63=\"\",0,Mileage!C63)","v":0},{"$f":"IF(Mileage!D63=\"\",0,Mileage!D63)","v":0},{"$f":"IF(Mileage!C63=\"\",0,Mileage!J63)","v":0},0,{"$f":"IF(Mileage!B63=0,0,0)","v":0},{"$f":"IF(Mileage!C63=0,0,0)","v":0},{"$f":"IF(Mileage!C63=0,0,0)","v":0},{"$f":"IF(Mileage!C63=0,0,0)","v":0},{"$f":"IF(Mileage!C63=0,0,0)","v":0},{"$f":"IF(Mileage!E63=0,0,0)","v":0},{"$f":"IF(Mileage!C63=0,0,0)","v":0}]
[{"$f":"IF(Mileage!C64=\"\",0,Mileage!C64)","v":0},{"$f":"IF(Mileage!D64=\"\",0,Mileage!D64)","v":0},{"$f":"IF(Mileage!C64=\"\",0,Mileage!J64)","v":0},0,{"$f":"IF(Mileage!B64=0,0,0)","v":0},{"$f":"IF(Mileage!C64=0,0,0)","v":0},{"$f":"IF(Mileage!C64=0,0,0)","v":0},{"$f":"IF(Mileage!C64=0,0,0)","v":0},{"$f":"IF(Mileage!C64=0,0,0)","v":0},{"$f":"IF(Mileage!E64=0,0,0)","v":0},{"$f":"IF(Mileage!C64=0,0,0)","v":0}]
[{"$f":"IF(Mileage!C65=\"\",0,Mileage!C65)","v":0},{"$f":"IF(Mileage!D65=\"\",0,Mileage!D65)","v":0},{"$f":"IF(Mileage!C65=\"\",0,Mileage!J65)","v":0},0,{"$f":"IF(Mileage!B65=0,0,0)","v":0},{"$f":"IF(Mileage!C65=0,0,0)","v":0},{"$f":"IF(Mileage!C65=0,0,0)","v":0},{"$f":"IF(Mileage!C65=0,0,0)","v":0},{"$f":"IF(Mileage!C65=0,0,0)","v":0},{"$f":"IF(Mileage!E65=0,0,0)","v":0},{"$f":"IF(Mileage!C65=0,0,0)","v":0}]
[{"$f":"IF(Mileage!C66=\"\",0,Mileage!C66)","v":0},{"$f":"IF(Mileage!D66=\"\",0,Mileage!D66)","v":0},{"$f":"IF(Mileage!C66=\"\",0,Mileage!J66)","v":0},0,{"$f":"IF(Mileage!B66=0,0,0)","v":0},{"$f":"IF(Mileage!C66=0,0,0)","v":0},{"$f":"IF(Mileage!C66=0,0,0)","v":0},{"$f":"IF(Mileage!C66=0,0,0)","v":0},{"$f":"IF(Mileage!C66=0,0,0)","v":0},{"$f":"IF(Mileage!E66=0,0,0)","v":0},{"$f":"IF(Mileage!C66=0,0,0)","v":0}]
[{"$f":"IF(Mileage!C67=\"\",0,Mileage!C67)","v":0},{"$f":"IF(Mileage!D67=\"\",0,Mileage!D67)","v":0},{"$f":"IF(Mileage!C67=\"\",0,Mileage!J67)","v":0},0,{"$f":"IF(Mileage!B67=0,0,0)","v":0},{"$f":"IF(Mileage!C67=0,0,0)","v":0},{"$f":"IF(Mileage!C67=0,0,0)","v":0},{"$f":"IF(Mileage!C67=0,0,0)","v":0},{"$f":"IF(Mileage!C67=0,0,0)","v":0},{"$f":"IF(Mileage!E67=0,0,0)","v":0},{"$f":"IF(Mileage!C67=0,0,0)","v":0}]
[{"$f":"IF(Mileage!C68=\"\",0,Mileage!C68)","v":0},{"$f":"IF(Mileage!D68=\"\",0,Mileage!D68)","v":0},{"$f":"IF(Mileage!C68=\"\",0,Mileage!J68)","v":0},0,{"$f":"IF(Mileage!B68=0,0,0)","v":0},{"$f":"IF(Mileage!C68=0,0,0)","v":0},{"$f":"IF(Mileage!C68=0,0,0)","v":0},{"$f":"IF(Mileage!C68=0,0,0)","v":0},{"$f":"IF(Mileage!C68=0,0,0)","v":0},{"$f":"IF(Mileage!E68=0,0,0)","v":0},{"$f":"IF(Mileage!C68=0,0,0)","v":0}]
[{"$f":"IF(Mileage!C69=\"\",0,Mileage!C69)","v":0},{"$f":"IF(Mileage!D69=\"\",0,Mileage!D69)","v":0},{"$f":"IF(Mileage!C69=\"\",0,Mileage!J69)","v":0},0,{"$f":"IF(Mileage!B69=0,0,0)","v":0},{"$f":"IF(Mileage!C69=0,0,0)","v":0},{"$f":"IF(Mileage!C69=0,0,0)","v":0},{"$f":"IF(Mileage!C69=0,0,0)","v":0},{"$f":"IF(Mileage!C69=0,0,0)","v":0},{"$f":"IF(Mileage!E69=0,0,0)","v":0},{"$f":"IF(Mileage!C69=0,0,0)","v":0}]
[{"$f":"IF(Mileage!C70=\"\",0,Mileage!C70)","v":0},{"$f":"IF(Mileage!D70=\"\",0,Mileage!D70)","v":0},{"$f":"IF(Mileage!C70=\"\",0,Mileage!J70)","v":0},{"$f":"IF(A70>0,A70&B70,0)","v":0},{"$f":"IF(Mileage!B70=0,0,0)","v":0},{"$f":"IF(Mileage!C70=0,0,0)","v":0},{"$f":"IF(Mileage!C70=0,0,0)","v":0},{"$f":"IF(Mileage!C70=0,0,0)","v":0},{"$f":"IF(Mileage!C70=0,0,0)","v":0},{"$f":"IF(Mileage!E70=0,0,0)","v":0},{"$f":"IF(Mileage!C70=0,0,0)","v":0}]
[{"$f":"IF(Mileage!C71=\"\",0,Mileage!C71)","v":0},{"$f":"IF(Mileage!D71=\"\",0,Mileage!D71)","v":0},{"$f":"IF(Mileage!C71=\"\",0,Mileage!J71)","v":0},0,{"$f":"IF(Mileage!B71=0,0,0)","v":0},{"$f":"IF(Mileage!C71=0,0,0)","v":0},{"$f":"IF(Mileage!C71=0,0,0)","v":0},{"$f":"IF(Mileage!C71=0,0,0)","v":0},{"$f":"IF(Mileage!C71=0,0,0)","v":0},{"$f":"IF(Mileage!E71=0,0,0)","v":0},{"$f":"IF(Mileage!C71=0,0,0)","v":0}]
[{"$f":"IF(Mileage!C72=\"\",0,Mileage!C72)","v":0},{"$f":"IF(Mileage!D72=\"\",0,Mileage!D72)","v":0},{"$f":"IF(Mileage!C72=\"\",0,Mileage!J72)","v":0},0,{"$f":"IF(Mileage!B72=0,0,0)","v":0},{"$f":"IF(Mileage!C72=0,0,0)","v":0},{"$f":"IF(Mileage!C72=0,0,0)","v":0},{"$f":"IF(Mileage!C72=0,0,0)","v":0},{"$f":"IF(Mileage!C72=0,0,0)","v":0},{"$f":"IF(Mileage!E72=0,0,0)","v":0},{"$f":"IF(Mileage!C72=0,0,0)","v":0}]
[{"$f":"IF(Mileage!C73=\"\",0,Mileage!C73)","v":0},{"$f":"IF(Mileage!D73=\"\",0,Mileage!D73)","v":0},{"$f":"IF(Mileage!C73=\"\",0,Mileage!J73)","v":0},0,{"$f":"IF(Mileage!B73=0,0,0)","v":0},{"$f":"IF(Mileage!C73=0,0,0)","v":0},{"$f":"IF(Mileage!C73=0,0,0)","v":0},{"$f":"IF(Mileage!C73=0,0,0)","v":0},{"$f":"IF(Mileage!C73=0,0,0)","v":0},{"$f":"IF(Mileage!E73=0,0,0)","v":0},{"$f":"IF(Mileage!C73=0,0,0)","v":0}]
[{"$f":"IF(Mileage!C74=\"\",0,Mileage!C74)","v":0},{"$f":"IF(Mileage!D74=\"\",0,Mileage!D74)","v":0},{"$f":"IF(Mileage!C74=\"\",0,Mileage!J74)","v":0},0,{"$f":"IF(Mileage!B74=0,0,0)","v":0},{"$f":"IF(Mileage!C74=0,0,0)","v":0},{"$f":"IF(Mileage!C74=0,0,0)","v":0},{"$f":"IF(Mileage!C74=0,0,0)","v":0},{"$f":"IF(Mileage!C74=0,0,0)","v":0},{"$f":"IF(Mileage!E74=0,0,0)","v":0},{"$f":"IF(Mileage!C74=0,0,0)","v":0}]
[{"$f":"IF(Mileage!C75=\"\",0,Mileage!C75)","v":0},{"$f":"IF(Mileage!D75=\"\",0,Mileage!D75)","v":0},{"$f":"IF(Mileage!C75=\"\",0,Mileage!J75)","v":0},0,{"$f":"IF(Mileage!B75=0,0,0)","v":0},{"$f":"IF(Mileage!C75=0,0,0)","v":0},{"$f":"IF(Mileage!C75=0,0,0)","v":0},{"$f":"IF(Mileage!C75=0,0,0)","v":0},{"$f":"IF(Mileage!C75=0,0,0)","v":0},{"$f":"IF(Mileage!E75=0,0,0)","v":0},{"$f":"IF(Mileage!C75=0,0,0)","v":0}]
[{"$f":"IF(Mileage!C76=\"\",0,Mileage!C76)","v":0},{"$f":"IF(Mileage!D76=\"\",0,Mileage!D76)","v":0},{"$f":"IF(Mileage!C76=\"\",0,Mileage!J76)","v":0},0,{"$f":"IF(Mileage!B76=0,0,0)","v":0},{"$f":"IF(Mileage!C76=0,0,0)","v":0},{"$f":"IF(Mileage!C76=0,0,0)","v":0},{"$f":"IF(Mileage!C76=0,0,0)","v":0},{"$f":"IF(Mileage!C76=0,0,0)","v":0},{"$f":"IF(Mileage!E76=0,0,0)","v":0},{"$f":"IF(Mileage!C76=0,0,0)","v":0}]
[{"$f":"IF(Mileage!C77=\"\",0,Mileage!C77)","v":0},{"$f":"IF(Mileage!D77=\"\",0,Mileage!D77)","v":0},{"$f":"IF(Mileage!C77=\"\",0,Mileage!J77)","v":0},0,{"$f":"IF(Mileage!B77=0,0,0)","v":0},{"$f":"IF(Mileage!C77=0,0,0)","v":0},{"$f":"IF(Mileage!C77=0,0,0)","v":0},{"$f":"IF(Mileage!C77=0,0,0)","v":0},{"$f":"IF(Mileage!C77=0,0,0)","v":0},{"$f":"IF(Mileage!E77=0,0,0)","v":0},{"$f":"IF(Mileage!C77=0,0,0)","v":0}]
[{"$f":"IF(Mileage!C78=\"\",0,Mileage!C78)","v":0},{"$f":"IF(Mileage!D78=\"\",0,Mileage!D78)","v":0},{"$f":"IF(Mileage!C78=\"\",0,Mileage!J78)","v":0},0,{"$f":"IF(Mileage!B78=0,0,0)","v":0},{"$f":"IF(Mileage!C78=0,0,0)","v":0},{"$f":"IF(Mileage!C78=0,0,0)","v":0},{"$f":"IF(Mileage!C78=0,0,0)","v":0},{"$f":"IF(Mileage!C78=0,0,0)","v":0},{"$f":"IF(Mileage!E78=0,0,0)","v":0},{"$f":"IF(Mileage!C78=0,0,0)","v":0}]
[{"$f":"IF(Mileage!C79=\"\",0,Mileage!C79)","v":0},{"$f":"IF(Mileage!D79=\"\",0,Mileage!D79)","v":0},{"$f":"IF(Mileage!C79=\"\",0,Mileage!J79)","v":0},0,{"$f":"IF(Mileage!B79=0,0,0)","v":0},{"$f":"IF(Mileage!C79=0,0,0)","v":0},{"$f":"IF(Mileage!C79=0,0,0)","v":0},{"$f":"IF(Mileage!C79=0,0,0)","v":0},{"$f":"IF(Mileage!C79=0,0,0)","v":0},{"$f":"IF(Mileage!E79=0,0,0)","v":0},{"$f":"IF(Mileage!C79=0,0,0)","v":0}]
[{"$f":"IF(Mileage!C80=\"\",0,Mileage!C80)","v":0},{"$f":"IF(Mileage!D80=\"\",0,Mileage!D80)","v":0},{"$f":"IF(Mileage!C80=\"\",0,Mileage!J80)","v":0},0,{"$f":"IF(Mileage!B80=0,0,0)","v":0},{"$f":"IF(Mileage!C80=0,0,0)","v":0},{"$f":"IF(Mileage!C80=0,0,0)","v":0},{"$f":"IF(Mileage!C80=0,0,0)","v":0},{"$f":"IF(Mileage!C80=0,0,0)","v":0},{"$f":"IF(Mileage!E80=0,0,0)","v":0},{"$f":"IF(Mileage!C80=0,0,0)","v":0}]
[{"$f":"IF(Mileage!C81=\"\",0,Mileage!C81)","v":0},{"$f":"IF(Mileage!D81=\"\",0,Mileage!D81)","v":0},{"$f":"IF(Mileage!C81=\"\",0,Mileage!J81)","v":0},0,{"$f":"IF(Mileage!B81=0,0,0)","v":0},{"$f":"IF(Mileage!C81=0,0,0)","v":0},{"$f":"IF(Mileage!C81=0,0,0)","v":0},{"$f":"IF(Mileage!C81=0,0,0)","v":0},{"$f":"IF(Mileage!C81=0,0,0)","v":0},{"$f":"IF(Mileage!E81=0,0,0)","v":0},{"$f":"IF(Mileage!C81=0,0,0)","v":0}]
[{"$f":"IF(Mileage!C82=\"\",0,Mileage!C82)","v":0},{"$f":"IF(Mileage!D82=\"\",0,Mileage!D82)","v":0},{"$f":"IF(Mileage!C82=\"\",0,Mileage!J82)","v":0},0,{"$f":"IF(Mileage!B82=0,0,0)","v":0},{"$f":"IF(Mileage!C82=0,0,0)","v":0},{"$f":"IF(Mileage!C82=0,0,0)","v":0},{"$f":"IF(Mileage!C82=0,0,0)","v":0},{"$f":"IF(Mileage!C82=0,0,0)","v":0},{"$f":"IF(Mileage!E82=0,0,0)","v":0},{"$f":"IF(Mileage!C82=0,0,0)","v":0}]
[{"$f":"IF(Mileage!C83=\"\",0,Mileage!C83)","v":0},{"$f":"IF(Mileage!D83=\"\",0,Mileage!D83)","v":0},{"$f":"IF(Mileage!C83=\"\",0,Mileage!J83)","v":0},0,{"$f":"IF(Mileage!B83=0,0,0)","v":0},{"$f":"IF(Mileage!C83=0,0,0)","v":0},{"$f":"IF(Mileage!C83=0,0,0)","v":0},{"$f":"IF(Mileage!C83=0,0,0)","v":0},{"$f":"IF(Mileage!C83=0,0,0)","v":0},{"$f":"IF(Mileage!E83=0,0,0)","v":0},{"$f":"IF(Mileage!C83=0,0,0)","v":0}]
[{"$f":"IF(Mileage!C84=\"\",0,Mileage!C84)","v":0},{"$f":"IF(Mileage!D84=\"\",0,Mileage!D84)","v":0},{"$f":"IF(Mileage!C84=\"\",0,Mileage!J84)","v":0},0,{"$f":"IF(Mileage!B84=0,0,0)","v":0},{"$f":"IF(Mileage!C84=0,0,0)","v":0},{"$f":"IF(Mileage!C84=0,0,0)","v":0},{"$f":"IF(Mileage!C84=0,0,0)","v":0},{"$f":"IF(Mileage!C84=0,0,0)","v":0},{"$f":"IF(Mileage!E84=0,0,0)","v":0},{"$f":"IF(Mileage!C84=0,0,0)","v":0}]
[{"$f":"IF(Mileage!C85=\"\",0,Mileage!C85)","v":0},{"$f":"IF(Mileage!D85=\"\",0,Mileage!D85)","v":0},{"$f":"IF(Mileage!C85=\"\",0,Mileage!J85)","v":0},0,{"$f":"IF(Mileage!B85=0,0,0)","v":0},{"$f":"IF(Mileage!C85=0,0,0)","v":0},{"$f":"IF(Mileage!C85=0,0,0)","v":0},{"$f":"IF(Mileage!C85=0,0,0)","v":0},{"$f":"IF(Mileage!C85=0,0,0)","v":0},{"$f":"IF(Mileage!E85=0,0,0)","v":0},{"$f":"IF(Mileage!C85=0,0,0)","v":0}]
[{"$f":"IF(Mileage!C86=\"\",0,Mileage!C86)","v":0},{"$f":"IF(Mileage!D86=\"\",0,Mileage!D86)","v":0},{"$f":"IF(Mileage!C86=\"\",0,Mileage!J86)","v":0},0,{"$f":"IF(Mileage!B86=0,0,0)","v":0},{"$f":"IF(Mileage!C86=0,0,0)","v":0},{"$f":"IF(Mileage!C86=0,0,0)","v":0},{"$f":"IF(Mileage!C86=0,0,0)","v":0},{"$f":"IF(Mileage!C86=0,0,0)","v":0},{"$f":"IF(Mileage!E86=0,0,0)","v":0},{"$f":"IF(Mileage!C86=0,0,0)","v":0}]
[{"$f":"IF(Mileage!C87=\"\",0,Mileage!C87)","v":0},{"$f":"IF(Mileage!D87=\"\",0,Mileage!D87)","v":0},{"$f":"IF(Mileage!C87=\"\",0,Mileage!J87)","v":0},0,{"$f":"IF(Mileage!B87=0,0,0)","v":0},{"$f":"IF(Mileage!C87=0,0,0)","v":0},{"$f":"IF(Mileage!C87=0,0,0)","v":0},{"$f":"IF(Mileage!C87=0,0,0)","v":0},{"$f":"IF(Mileage!C87=0,0,0)","v":0},{"$f":"IF(Mileage!E87=0,0,0)","v":0},{"$f":"IF(Mileage!C87=0,0,0)","v":0}]
[{"$f":"IF(Mileage!C88=\"\",0,Mileage!C88)","v":0},{"$f":"IF(Mileage!D88=\"\",0,Mileage!D88)","v":0},{"$f":"IF(Mileage!C88=\"\",0,Mileage!J88)","v":0},0,{"$f":"IF(Mileage!B88=0,0,0)","v":0},{"$f":"IF(Mileage!C88=0,0,0)","v":0},{"$f":"IF(Mileage!C88=0,0,0)","v":0},{"$f":"IF(Mileage!C88=0,0,0)","v":0},{"$f":"IF(Mileage!C88=0,0,0)","v":0},{"$f":"IF(Mileage!E88=0,0,0)","v":0},{"$f":"IF(Mileage!C88=0,0,0)","v":0}]
[{"$f":"IF(Mileage!C89=\"\",0,Mileage!C89)","v":0},{"$f":"IF(Mileage!D89=\"\",0,Mileage!D89)","v":0},{"$f":"IF(Mileage!C89=\"\",0,Mileage!J89)","v":0},0,{"$f":"IF(Mileage!B89=0,0,0)","v":0},{"$f":"IF(Mileage!C89=0,0,0)","v":0},{"$f":"IF(Mileage!C89=0,0,0)","v":0},{"$f":"IF(Mileage!C89=0,0,0)","v":0},{"$f":"IF(Mileage!C89=0,0,0)","v":0},{"$f":"IF(Mileage!E89=0,0,0)","v":0},{"$f":"IF(Mileage!C89=0,0,0)","v":0}]
[{"$f":"IF(Mileage!C90=\"\",0,Mileage!C90)","v":0},{"$f":"IF(Mileage!D90=\"\",0,Mileage!D90)","v":0},{"$f":"IF(Mileage!C90=\"\",0,Mileage!J90)","v":0},0,{"$f":"IF(Mileage!B90=0,0,0)","v":0},{"$f":"IF(Mileage!C90=0,0,0)","v":0},{"$f":"IF(Mileage!C90=0,0,0)","v":0},{"$f":"IF(Mileage!C90=0,0,0)","v":0},{"$f":"IF(Mileage!C90=0,0,0)","v":0},{"$f":"IF(Mileage!E90=0,0,0)","v":0},{"$f":"IF(Mileage!C90=0,0,0)","v":0}]
[{"$f":"IF(Mileage!C91=\"\",0,Mileage!C91)","v":0},{"$f":"IF(Mileage!D91=\"\",0,Mileage!D91)","v":0},{"$f":"IF(Mileage!C91=\"\",0,Mileage!J91)","v":0},0,{"$f":"IF(Mileage!B91=0,0,0)","v":0},{"$f":"IF(Mileage!C91=0,0,0)","v":0},{"$f":"IF(Mileage!C91=0,0,0)","v":0},{"$f":"IF(Mileage!C91=0,0,0)","v":0},{"$f":"IF(Mileage!C91=0,0,0)","v":0},{"$f":"IF(Mileage!E91=0,0,0)","v":0},{"$f":"IF(Mileage!C91=0,0,0)","v":0}]
[{"$f":"IF(Mileage!C92=\"\",0,Mileage!C92)","v":0},{"$f":"IF(Mileage!D92=\"\",0,Mileage!D92)","v":0},{"$f":"IF(Mileage!C92=\"\",0,Mileage!J92)","v":0},0,{"$f":"IF(Mileage!B92=0,0,0)","v":0},{"$f":"IF(Mileage!C92=0,0,0)","v":0},{"$f":"IF(Mileage!C92=0,0,0)","v":0},{"$f":"IF(Mileage!C92=0,0,0)","v":0},{"$f":"IF(Mileage!C92=0,0,0)","v":0},{"$f":"IF(Mileage!E92=0,0,0)","v":0},{"$f":"IF(Mileage!C92=0,0,0)","v":0}]
[{"$f":"IF(Mileage!C93=\"\",0,Mileage!C93)","v":0},{"$f":"IF(Mileage!D93=\"\",0,Mileage!D93)","v":0},{"$f":"IF(Mileage!C93=\"\",0,Mileage!J93)","v":0},0,{"$f":"IF(Mileage!B93=0,0,0)","v":0},{"$f":"IF(Mileage!C93=0,0,0)","v":0},{"$f":"IF(Mileage!C93=0,0,0)","v":0},{"$f":"IF(Mileage!C93=0,0,0)","v":0},{"$f":"IF(Mileage!C93=0,0,0)","v":0},{"$f":"IF(Mileage!E93=0,0,0)","v":0},{"$f":"IF(Mileage!C93=0,0,0)","v":0}]
[{"$f":"IF(Mileage!C94=\"\",0,Mileage!C94)","v":0},{"$f":"IF(Mileage!D94=\"\",0,Mileage!D94)","v":0},{"$f":"IF(Mileage!C94=\"\",0,Mileage!J94)","v":0},0,{"$f":"IF(Mileage!B94=0,0,0)","v":0},{"$f":"IF(Mileage!C94=0,0,0)","v":0},{"$f":"IF(Mileage!C94=0,0,0)","v":0},{"$f":"IF(Mileage!C94=0,0,0)","v":0},{"$f":"IF(Mileage!C94=0,0,0)","v":0},{"$f":"IF(Mileage!E94=0,0,0)","v":0},{"$f":"IF(Mileage!C94=0,0,0)","v":0}]
[{"$f":"IF(Mileage!C95=\"\",0,Mileage!C95)","v":0},{"$f":"IF(Mileage!D95=\"\",0,Mileage!D95)","v":0},{"$f":"IF(Mileage!C95=\"\",0,Mileage!J95)","v":0},0,{"$f":"IF(Mileage!B95=0,0,0)","v":0},{"$f":"IF(Mileage!C95=0,0,0)","v":0},{"$f":"IF(Mileage!C95=0,0,0)","v":0},{"$f":"IF(Mileage!C95=0,0,0)","v":0},{"$f":"IF(Mileage!C95=0,0,0)","v":0},{"$f":"IF(Mileage!E95=0,0,0)","v":0},{"$f":"IF(Mileage!C95=0,0,0)","v":0}]
[{"$f":"IF(Mileage!C96=\"\",0,Mileage!C96)","v":0},{"$f":"IF(Mileage!D96=\"\",0,Mileage!D96)","v":0},{"$f":"IF(Mileage!C96=\"\",0,Mileage!J96)","v":0},0,{"$f":"IF(Mileage!B96=0,0,0)","v":0},{"$f":"IF(Mileage!C96=0,0,0)","v":0},{"$f":"IF(Mileage!C96=0,0,0)","v":0},{"$f":"IF(Mileage!C96=0,0,0)","v":0},{"$f":"IF(Mileage!C96=0,0,0)","v":0},{"$f":"IF(Mileage!E96=0,0,0)","v":0},{"$f":"IF(Mileage!C96=0,0,0)","v":0}]
[{"$f":"IF(Mileage!C97=\"\",0,Mileage!C97)","v":0},{"$f":"IF(Mileage!D97=\"\",0,Mileage!D97)","v":0},{"$f":"IF(Mileage!C97=\"\",0,Mileage!J97)","v":0},0,{"$f":"IF(Mileage!B97=0,0,0)","v":0},{"$f":"IF(Mileage!C97=0,0,0)","v":0},{"$f":"IF(Mileage!C97=0,0,0)","v":0},{"$f":"IF(Mileage!C97=0,0,0)","v":0},{"$f":"IF(Mileage!C97=0,0,0)","v":0},{"$f":"IF(Mileage!E97=0,0,0)","v":0},{"$f":"IF(Mileage!C97=0,0,0)","v":0}]
[{"$f":"IF(Mileage!C98=\"\",0,Mileage!C98)","v":0},{"$f":"IF(Mileage!D98=\"\",0,Mileage!D98)","v":0},{"$f":"IF(Mileage!C98=\"\",0,Mileage!J98)","v":0},0,{"$f":"IF(Mileage!B98=0,0,0)","v":0},{"$f":"IF(Mileage!C98=0,0,0)","v":0},{"$f":"IF(Mileage!C98=0,0,0)","v":0},{"$f":"IF(Mileage!C98=0,0,0)","v":0},{"$f":"IF(Mileage!C98=0,0,0)","v":0},{"$f":"IF(Mileage!E98=0,0,0)","v":0},{"$f":"IF(Mileage!C98=0,0,0)","v":0}]
[{"$f":"IF(Mileage!C99=\"\",0,Mileage!C99)","v":0},{"$f":"IF(Mileage!D99=\"\",0,Mileage!D99)","v":0},{"$f":"IF(Mileage!C99=\"\",0,Mileage!J99)","v":0},0,{"$f":"IF(Mileage!B99=0,0,0)","v":0},{"$f":"IF(Mileage!C99=0,0,0)","v":0},{"$f":"IF(Mileage!C99=0,0,0)","v":0},{"$f":"IF(Mileage!C99=0,0,0)","v":0},{"$f":"IF(Mileage!C99=0,0,0)","v":0},{"$f":"IF(Mileage!E99=0,0,0)","v":0},{"$f":"IF(Mileage!C99=0,0,0)","v":0}]
[{"$f":"IF(Mileage!C100=\"\",0,Mileage!C100)","v":0},{"$f":"IF(Mileage!D100=\"\",0,Mileage!D100)","v":0},{"$f":"IF(Mileage!C100=\"\",0,Mileage!J100)","v":0},0,{"$f":"IF(Mileage!B100=0,0,0)","v":0},{"$f":"IF(Mileage!C100=0,0,0)","v":0},{"$f":"IF(Mileage!C100=0,0,0)","v":0},{"$f":"IF(Mileage!C100=0,0,0)","v":0},{"$f":"IF(Mileage!C100=0,0,0)","v":0},{"$f":"IF(Mileage!E100=0,0,0)","v":0},{"$f":"IF(Mileage!C100=0,0,0)","v":0}]
[{"$f":"IF(Mileage!C101=\"\",0,Mileage!C101)","v":0},{"$f":"IF(Mileage!D101=\"\",0,Mileage!D101)","v":0},{"$f":"IF(Mileage!C101=\"\",0,Mileage!J101)","v":0},0,{"$f":"IF(Mileage!B101=0,0,0)","v":0},{"$f":"IF(Mileage!C101=0,0,0)","v":0},{"$f":"IF(Mileage!C101=0,0,0)","v":0},{"$f":"IF(Mileage!C101=0,0,0)","v":0},{"$f":"IF(Mileage!C101=0,0,0)","v":0},{"$f":"IF(Mileage!E101=0,0,0)","v":0},{"$f":"IF(Mileage!C101=0,0,0)","v":0}]
[{"$f":"IF(Mileage!C102=\"\",0,Mileage!C102)","v":0},{"$f":"IF(Mileage!D102=\"\",0,Mileage!D102)","v":0},{"$f":"IF(Mileage!C102=\"\",0,Mileage!J102)","v":0},0,{"$f":"IF(Mileage!B102=0,0,0)","v":0},{"$f":"IF(Mileage!C102=0,0,0)","v":0},{"$f":"IF(Mileage!C102=0,0,0)","v":0},{"$f":"IF(Mileage!C102=0,0,0)","v":0},{"$f":"IF(Mileage!C102=0,0,0)","v":0},{"$f":"IF(Mileage!E102=0,0,0)","v":0},{"$f":"IF(Mileage!C102=0,0,0)","v":0}]
[{"$f":"IF(Mileage!C103=\"\",0,Mileage!C103)","v":0},{"$f":"IF(Mileage!D103=\"\",0,Mileage!D103)","v":0},{"$f":"IF(Mileage!C103=\"\",0,Mileage!J103)","v":0},0,{"$f":"IF(Mileage!B103=0,0,0)","v":0},{"$f":"IF(Mileage!C103=0,0,0)","v":0},{"$f":"IF(Mileage!C103=0,0,0)","v":0},{"$f":"IF(Mileage!C103=0,0,0)","v":0},{"$f":"IF(Mileage!C103=0,0,0)","v":0},{"$f":"IF(Mileage!E103=0,0,0)","v":0},{"$f":"IF(Mileage!C103=0,0,0)","v":0}]
[{"$f":"IF(Mileage!C104=\"\",0,Mileage!C104)","v":0},{"$f":"IF(Mileage!D104=\"\",0,Mileage!D104)","v":0},{"$f":"IF(Mileage!C104=\"\",0,Mileage!J104)","v":0},0,{"$f":"IF(Mileage!B104=0,0,0)","v":0},{"$f":"IF(Mileage!C104=0,0,0)","v":0},{"$f":"IF(Mileage!C104=0,0,0)","v":0},{"$f":"IF(Mileage!C104=0,0,0)","v":0},{"$f":"IF(Mileage!C104=0,0,0)","v":0},{"$f":"IF(Mileage!E104=0,0,0)","v":0},{"$f":"IF(Mileage!C104=0,0,0)","v":0}]
[{"$f":"IF(Mileage!C105=\"\",0,Mileage!C105)","v":0},{"$f":"IF(Mileage!D105=\"\",0,Mileage!D105)","v":0},{"$f":"IF(Mileage!C105=\"\",0,Mileage!J105)","v":0},0,{"$f":"IF(Mileage!B105=0,0,0)","v":0},{"$f":"IF(Mileage!C105=0,0,0)","v":0},{"$f":"IF(Mileage!C105=0,0,0)","v":0},{"$f":"IF(Mileage!C105=0,0,0)","v":0},{"$f":"IF(Mileage!C105=0,0,0)","v":0},{"$f":"IF(Mileage!E105=0,0,0)","v":0},{"$f":"IF(Mileage!C105=0,0,0)","v":0}]
[{"$f":"IF(Mileage!C106=\"\",0,Mileage!C106)","v":0},{"$f":"IF(Mileage!D106=\"\",0,Mileage!D106)","v":0},{"$f":"IF(Mileage!C106=\"\",0,Mileage!J106)","v":0},0,{"$f":"IF(Mileage!B106=0,0,0)","v":0},{"$f":"IF(Mileage!C106=0,0,0)","v":0},{"$f":"IF(Mileage!C106=0,0,0)","v":0},{"$f":"IF(Mileage!C106=0,0,0)","v":0},{"$f":"IF(Mileage!C106=0,0,0)","v":0},{"$f":"IF(Mileage!E106=0,0,0)","v":0},{"$f":"IF(Mileage!C106=0,0,0)","v":0}]
[{"$f":"IF(Mileage!C107=\"\",0,Mileage!C107)","v":0},{"$f":"IF(Mileage!D107=\"\",0,Mileage!D107)","v":0},{"$f":"IF(Mileage!C107=\"\",0,Mileage!J107)","v":0},0,{"$f":"IF(Mileage!B107=0,0,0)","v":0},{"$f":"IF(Mileage!C107=0,0,0)","v":0},{"$f":"IF(Mileage!C107=0,0,0)","v":0},{"$f":"IF(Mileage!C107=0,0,0)","v":0},{"$f":"IF(Mileage!C107=0,0,0)","v":0},{"$f":"IF(Mileage!E107=0,0,0)","v":0},{"$f":"IF(Mileage!C107=0,0,0)","v":0}]
[{"$f":"IF(Mileage!C108=\"\",0,Mileage!C108)","v":0},{"$f":"IF(Mileage!D108=\"\",0,Mileage!D108)","v":0},{"$f":"IF(Mileage!C108=\"\",0,Mileage!J108)","v":0},0,{"$f":"IF(Mileage!B108=0,0,0)","v":0},{"$f":"IF(Mileage!C108=0,0,0)","v":0},{"$f":"IF(Mileage!C108=0,0,0)","v":0},{"$f":"IF(Mileage!C108=0,0,0)","v":0},{"$f":"IF(Mileage!C108=0,0,0)","v":0},{"$f":"IF(Mileage!E108=0,0,0)","v":0},{"$f":"IF(Mileage!C108=0,0,0)","v":0}]
[{"$f":"IF(Mileage!C109=\"\",0,Mileage!C109)","v":0},{"$f":"IF(Mileage!D109=\"\",0,Mileage!D109)","v":0},{"$f":"IF(Mileage!C109=\"\",0,Mileage!J109)","v":0},0,{"$f":"IF(Mileage!B109=0,0,0)","v":0},{"$f":"IF(Mileage!C109=0,0,0)","v":0},{"$f":"IF(Mileage!C109=0,0,0)","v":0},{"$f":"IF(Mileage!C109=0,0,0)","v":0},{"$f":"IF(Mileage!C109=0,0,0)","v":0},{"$f":"IF(Mileage!E109=0,0,0)","v":0},{"$f":"IF(Mileage!C109=0,0,0)","v":0}]
[{"$f":"IF(Mileage!C110=\"\",0,Mileage!C110)","v":0},{"$f":"IF(Mileage!D110=\"\",0,Mileage!D110)","v":0},{"$f":"IF(Mileage!C110=\"\",0,Mileage!J110)","v":0},0,{"$f":"IF(Mileage!B110=0,0,0)","v":0},{"$f":"IF(Mileage!C110=0,0,0)","v":0},{"$f":"IF(Mileage!C110=0,0,0)","v":0},{"$f":"IF(Mileage!C110=0,0,0)","v":0},{"$f":"IF(Mileage!C110=0,0,0)","v":0},{"$f":"IF(Mileage!E110=0,0,0)","v":0},{"$f":"IF(Mileage!C110=0,0,0)","v":0}]
[{"$f":"IF(Mileage!C111=\"\",0,Mileage!C111)","v":0},{"$f":"IF(Mileage!D111=\"\",0,Mileage!D111)","v":0},{"$f":"IF(Mileage!C111=\"\",0,Mileage!J111)","v":0},0,{"$f":"IF(Mileage!B111=0,0,0)","v":0},{"$f":"IF(Mileage!C111=0,0,0)","v":0},{"$f":"IF(Mileage!C111=0,0,0)","v":0},{"$f":"IF(Mileage!C111=0,0,0)","v":0},{"$f":"IF(Mileage!C111=0,0,0)","v":0},{"$f":"IF(Mileage!E111=0,0,0)","v":0},{"$f":"IF(Mileage!C111=0,0,0)","v":0}]
[{"$f":"IF(Mileage!C112=\"\",0,Mileage!C112)","v":0},{"$f":"IF(Mileage!D112=\"\",0,Mileage!D112)","v":0},{"$f":"IF(Mileage!C112=\"\",0,Mileage!J112)","v":0},0,{"$f":"IF(Mileage!B112=0,0,0)","v":0},{"$f":"IF(Mileage!C112=0,0,0)","v":0},{"$f":"IF(Mileage!C112=0,0,0)","v":0},{"$f":"IF(Mileage!C112=0,0,0)","v":0},{"$f":"IF(Mileage!C112=0,0,0)","v":0},{"$f":"IF(Mileage!E112=0,0,0)","v":0},{"$f":"IF(Mileage!C112=0,0,0)","v":0}]
[{"$f":"IF(Mileage!C113=\"\",0,Mileage!C113)","v":0},{"$f":"IF(Mileage!D113=\"\",0,Mileage!D113)","v":0},{"$f":"IF(Mileage!C113=\"\",0,Mileage!J113)","v":0},0,{"$f":"IF(Mileage!B113=0,0,0)","v":0},{"$f":"IF(Mileage!C113=0,0,0)","v":0},{"$f":"IF(Mileage!C113=0,0,0)","v":0},{"$f":"IF(Mileage!C113=0,0,0)","v":0},{"$f":"IF(Mileage!C113=0,0,0)","v":0},{"$f":"IF(Mileage!E113=0,0,0)","v":0},{"$f":"IF(Mileage!C113=0,0,0)","v":0}]
[{"$f":"IF(Mileage!C114=\"\",0,Mileage!C114)","v":0},{"$f":"IF(Mileage!D114=\"\",0,Mileage!D114)","v":0},{"$f":"IF(Mileage!C114=\"\",0,Mileage!J114)","v":0},0,{"$f":"IF(Mileage!B114=0,0,0)","v":0},{"$f":"IF(Mileage!C114=0,0,0)","v":0},{"$f":"IF(Mileage!C114=0,0,0)","v":0},{"$f":"IF(Mileage!C114=0,0,0)","v":0},{"$f":"IF(Mileage!C114=0,0,0)","v":0},{"$f":"IF(Mileage!E114=0,0,0)","v":0},{"$f":"IF(Mileage!C114=0,0,0)","v":0}]
[{"$f":"IF(Mileage!C115=\"\",0,Mileage!C115)","v":0},{"$f":"IF(Mileage!D115=\"\",0,Mileage!D115)","v":0},{"$f":"IF(Mileage!C115=\"\",0,Mileage!J115)","v":0},0,{"$f":"IF(Mileage!B115=0,0,0)","v":0},{"$f":"IF(Mileage!C115=0,0,0)","v":0},{"$f":"IF(Mileage!C115=0,0,0)","v":0},{"$f":"IF(Mileage!C115=0,0,0)","v":0},{"$f":"IF(Mileage!C115=0,0,0)","v":0},{"$f":"IF(Mileage!E115=0,0,0)","v":0},{"$f":"IF(Mileage!C115=0,0,0)","v":0}]
[{"$f":"IF(Mileage!C116=\"\",0,Mileage!C116)","v":0},{"$f":"IF(Mileage!D116=\"\",0,Mileage!D116)","v":0},{"$f":"IF(Mileage!C116=\"\",0,Mileage!J116)","v":0},0,{"$f":"IF(Mileage!B116=0,0,0)","v":0},{"$f":"IF(Mileage!C116=0,0,0)","v":0},{"$f":"IF(Mileage!C116=0,0,0)","v":0},{"$f":"IF(Mileage!C116=0,0,0)","v":0},{"$f":"IF(Mileage!C116=0,0,0)","v":0},{"$f":"IF(Mileage!E116=0,0,0)","v":0},{"$f":"IF(Mileage!C116=0,0,0)","v":0}]
[{"$f":"IF(Mileage!C117=\"\",0,Mileage!C117)","v":0},{"$f":"IF(Mileage!D117=\"\",0,Mileage!D117)","v":0},{"$f":"IF(Mileage!C117=\"\",0,Mileage!J117)","v":0},0,{"$f":"IF(Mileage!B117=0,0,0)","v":0},{"$f":"IF(Mileage!C117=0,0,0)","v":0},{"$f":"IF(Mileage!C117=0,0,0)","v":0},{"$f":"IF(Mileage!C117=0,0,0)","v":0},{"$f":"IF(Mileage!C117=0,0,0)","v":0},{"$f":"IF(Mileage!E117=0,0,0)","v":0},{"$f":"IF(Mileage!C117=0,0,0)","v":0}]
[{"$f":"IF(Mileage!C118=\"\",0,Mileage!C118)","v":0},{"$f":"IF(Mileage!D118=\"\",0,Mileage!D118)","v":0},{"$f":"IF(Mileage!C118=\"\",0,Mileage!J118)","v":0},0,{"$f":"IF(Mileage!B118=0,0,0)","v":0},{"$f":"IF(Mileage!C118=0,0,0)","v":0},{"$f":"IF(Mileage!C118=0,0,0)","v":0},{"$f":"IF(Mileage!C118=0,0,0)","v":0},{"$f":"IF(Mileage!C118=0,0,0)","v":0},{"$f":"IF(Mileage!E118=0,0,0)","v":0},{"$f":"IF(Mileage!C118=0,0,0)","v":0}]
[{"$f":"IF(Mileage!C119=\"\",0,Mileage!C119)","v":0},{"$f":"IF(Mileage!D119=\"\",0,Mileage!D119)","v":0},{"$f":"IF(Mileage!C119=\"\",0,Mileage!J119)","v":0},0,{"$f":"IF(Mileage!B119=0,0,0)","v":0},{"$f":"IF(Mileage!C119=0,0,0)","v":0},{"$f":"IF(Mileage!C119=0,0,0)","v":0},{"$f":"IF(Mileage!C119=0,0,0)","v":0},{"$f":"IF(Mileage!C119=0,0,0)","v":0},{"$f":"IF(Mileage!E119=0,0,0)","v":0},{"$f":"IF(Mileage!C119=0,0,0)","v":0}]
[{"$f":"IF(Mileage!C120=\"\",0,Mileage!C120)","v":0},{"$f":"IF(Mileage!D120=\"\",0,Mileage!D120)","v":0},{"$f":"IF(Mileage!C120=\"\",0,Mileage!J120)","v":0},0,{"$f":"IF(Mileage!B120=0,0,0)","v":0},{"$f":"IF(Mileage!C120=0,0,0)","v":0},{"$f":"IF(Mileage!C120=0,0,0)","v":0},{"$f":"IF(Mileage!C120=0,0,0)","v":0},{"$f":"IF(Mileage!C120=0,0,0)","v":0},{"$f":"IF(Mileage!E120=0,0,0)","v":0},{"$f":"IF(Mileage!C120=0,0,0)","v":0}]
[{"$f":"IF(Mileage!C121=\"\",0,Mileage!C121)","v":0},{"$f":"IF(Mileage!D121=\"\",0,Mileage!D121)","v":0},{"$f":"IF(Mileage!C121=\"\",0,Mileage!J121)","v":0},0,{"$f":"IF(Mileage!B121=0,0,0)","v":0},{"$f":"IF(Mileage!C121=0,0,0)","v":0},{"$f":"IF(Mileage!C121=0,0,0)","v":0},{"$f":"IF(Mileage!C121=0,0,0)","v":0},{"$f":"IF(Mileage!C121=0,0,0)","v":0},{"$f":"IF(Mileage!E121=0,0,0)","v":0},{"$f":"IF(Mileage!C121=0,0,0)","v":0}]
[{"$f":"IF(Mileage!C122=\"\",0,Mileage!C122)","v":0},{"$f":"IF(Mileage!D122=\"\",0,Mileage!D122)","v":0},{"$f":"IF(Mileage!C122=\"\",0,Mileage!J122)","v":0},0,{"$f":"IF(Mileage!B122=0,0,0)","v":0},{"$f":"IF(Mileage!C122=0,0,0)","v":0},{"$f":"IF(Mileage!C122=0,0,0)","v":0},{"$f":"IF(Mileage!C122=0,0,0)","v":0},{"$f":"IF(Mileage!C122=0,0,0)","v":0},{"$f":"IF(Mileage!E122=0,0,0)","v":0},{"$f":"IF(Mileage!C122=0,0,0)","v":0}]
[{"$f":"IF(Mileage!C123=\"\",0,Mileage!C123)","v":0},{"$f":"IF(Mileage!D123=\"\",0,Mileage!D123)","v":0},{"$f":"IF(Mileage!C123=\"\",0,Mileage!J123)","v":0},0,{"$f":"IF(Mileage!B123=0,0,0)","v":0},{"$f":"IF(Mileage!C123=0,0,0)","v":0},{"$f":"IF(Mileage!C123=0,0,0)","v":0},{"$f":"IF(Mileage!C123=0,0,0)","v":0},{"$f":"IF(Mileage!C123=0,0,0)","v":0},{"$f":"IF(Mileage!E123=0,0,0)","v":0},{"$f":"IF(Mileage!C123=0,0,0)","v":0}]
[{"$f":"IF(Mileage!C124=\"\",0,Mileage!C124)","v":0},{"$f":"IF(Mileage!D124=\"\",0,Mileage!D124)","v":0},{"$f":"IF(Mileage!C124=\"\",0,Mileage!J124)","v":0},0,{"$f":"IF(Mileage!B124=0,0,0)","v":0},{"$f":"IF(Mileage!C124=0,0,0)","v":0},{"$f":"IF(Mileage!C124=0,0,0)","v":0},{"$f":"IF(Mileage!C124=0,0,0)","v":0},{"$f":"IF(Mileage!C124=0,0,0)","v":0},{"$f":"IF(Mileage!E124=0,0,0)","v":0},{"$f":"IF(Mileage!C124=0,0,0)","v":0}]
[{"$f":"IF(Mileage!C125=\"\",0,Mileage!C125)","v":0},{"$f":"IF(Mileage!D125=\"\",0,Mileage!D125)","v":0},{"$f":"IF(Mileage!C125=\"\",0,Mileage!J125)","v":0},0,{"$f":"IF(Mileage!B125=0,0,0)","v":0},{"$f":"IF(Mileage!C125=0,0,0)","v":0},{"$f":"IF(Mileage!C125=0,0,0)","v":0},{"$f":"IF(Mileage!C125=0,0,0)","v":0},{"$f":"IF(Mileage!C125=0,0,0)","v":0},{"$f":"IF(Mileage!E125=0,0,0)","v":0},{"$f":"IF(Mileage!C125=0,0,0)","v":0}]
[{"$f":"IF(Mileage!C126=\"\",0,Mileage!C126)","v":0},{"$f":"IF(Mileage!D126=\"\",0,Mileage!D126)","v":0},{"$f":"IF(Mileage!C126=\"\",0,Mileage!J126)","v":0},0,{"$f":"IF(Mileage!B126=0,0,0)","v":0},{"$f":"IF(Mileage!C126=0,0,0)","v":0},{"$f":"IF(Mileage!C126=0,0,0)","v":0},{"$f":"IF(Mileage!C126=0,0,0)","v":0},{"$f":"IF(Mileage!C126=0,0,0)","v":0},{"$f":"IF(Mileage!E126=0,0,0)","v":0},{"$f":"IF(Mileage!C126=0,0,0)","v":0}]
[{"$f":"IF(Mileage!C127=\"\",0,Mileage!C127)","v":0},{"$f":"IF(Mileage!D127=\"\",0,Mileage!D127)","v":0},{"$f":"IF(Mileage!C127=\"\",0,Mileage!J127)","v":0},0,{"$f":"IF(Mileage!B127=0,0,0)","v":0},{"$f":"IF(Mileage!C127=0,0,0)","v":0},{"$f":"IF(Mileage!C127=0,0,0)","v":0},{"$f":"IF(Mileage!C127=0,0,0)","v":0},{"$f":"IF(Mileage!C127=0,0,0)","v":0},{"$f":"IF(Mileage!E127=0,0,0)","v":0},{"$f":"IF(Mileage!C127=0,0,0)","v":0}]
[{"$f":"IF(Mileage!C128=\"\",0,Mileage!C128)","v":0},{"$f":"IF(Mileage!D128=\"\",0,Mileage!D128)","v":0},{"$f":"IF(Mileage!C128=\"\",0,Mileage!J128)","v":0},0,{"$f":"IF(Mileage!B128=0,0,0)","v":0},{"$f":"IF(Mileage!C128=0,0,0)","v":0},{"$f":"IF(Mileage!C128=0,0,0)","v":0},{"$f":"IF(Mileage!C128=0,0,0)","v":0},{"$f":"IF(Mileage!C128=0,0,0)","v":0},{"$f":"IF(Mileage!E128=0,0,0)","v":0},{"$f":"IF(Mileage!C128=0,0,0)","v":0}]
[{"$f":"IF(Mileage!C129=\"\",0,Mileage!C129)","v":0},{"$f":"IF(Mileage!D129=\"\",0,Mileage!D129)","v":0},{"$f":"IF(Mileage!C129=\"\",0,Mileage!J129)","v":0},0,{"$f":"IF(Mileage!B129=0,0,0)","v":0},{"$f":"IF(Mileage!C129=0,0,0)","v":0},{"$f":"IF(Mileage!C129=0,0,0)","v":0},{"$f":"IF(Mileage!C129=0,0,0)","v":0},{"$f":"IF(Mileage!C129=0,0,0)","v":0},{"$f":"IF(Mileage!E129=0,0,0)","v":0},{"$f":"IF(Mileage!C129=0,0,0)","v":0}]
[{"$f":"IF(Mileage!C130=\"\",0,Mileage!C130)","v":0},{"$f":"IF(Mileage!D130=\"\",0,Mileage!D130)","v":0},{"$f":"IF(Mileage!C130=\"\",0,Mileage!J130)","v":0},0,{"$f":"IF(Mileage!B130=0,0,0)","v":0},{"$f":"IF(Mileage!C130=0,0,0)","v":0},{"$f":"IF(Mileage!C130=0,0,0)","v":0},{"$f":"IF(Mileage!C130=0,0,0)","v":0},{"$f":"IF(Mileage!C130=0,0,0)","v":0},{"$f":"IF(Mileage!E130=0,0,0)","v":0},{"$f":"IF(Mileage!C130=0,0,0)","v":0}]
[{"$f":"IF(Mileage!C131=\"\",0,Mileage!C131)","v":0},{"$f":"IF(Mileage!D131=\"\",0,Mileage!D131)","v":0},{"$f":"IF(Mileage!C131=\"\",0,Mileage!J131)","v":0},0,{"$f":"IF(Mileage!B131=0,0,0)","v":0},{"$f":"IF(Mileage!C131=0,0,0)","v":0},{"$f":"IF(Mileage!C131=0,0,0)","v":0},{"$f":"IF(Mileage!C131=0,0,0)","v":0},{"$f":"IF(Mileage!C131=0,0,0)","v":0},{"$f":"IF(Mileage!E131=0,0,0)","v":0},{"$f":"IF(Mileage!C131=0,0,0)","v":0}]
[{"$f":"IF(Mileage!C132=\"\",0,Mileage!C132)","v":0},{"$f":"IF(Mileage!D132=\"\",0,Mileage!D132)","v":0},{"$f":"IF(Mileage!C132=\"\",0,Mileage!J132)","v":0},0,{"$f":"IF(Mileage!B132=0,0,0)","v":0},{"$f":"IF(Mileage!C132=0,0,0)","v":0},{"$f":"IF(Mileage!C132=0,0,0)","v":0},{"$f":"IF(Mileage!C132=0,0,0)","v":0},{"$f":"IF(Mileage!C132=0,0,0)","v":0},{"$f":"IF(Mileage!E132=0,0,0)","v":0},{"$f":"IF(Mileage!C132=0,0,0)","v":0}]
[{"$f":"IF(Mileage!C133=\"\",0,Mileage!C133)","v":0},{"$f":"IF(Mileage!D133=\"\",0,Mileage!D133)","v":0},{"$f":"IF(Mileage!C133=\"\",0,Mileage!J133)","v":0},0,{"$f":"IF(Mileage!B133=0,0,0)","v":0},{"$f":"IF(Mileage!C133=0,0,0)","v":0},{"$f":"IF(Mileage!C133=0,0,0)","v":0},{"$f":"IF(Mileage!C133=0,0,0)","v":0},{"$f":"IF(Mileage!C133=0,0,0)","v":0},{"$f":"IF(Mileage!E133=0,0,0)","v":0},{"$f":"IF(Mileage!C133=0,0,0)","v":0}]
[{"$f":"IF(Mileage!C134=\"\",0,Mileage!C134)","v":0},{"$f":"IF(Mileage!D134=\"\",0,Mileage!D134)","v":0},{"$f":"IF(Mileage!C134=\"\",0,Mileage!J134)","v":0},{"$f":"IF(A134>0,A134&B134,0)","v":0},{"$f":"IF(Mileage!B134=0,0,0)","v":0},{"$f":"IF(Mileage!C134=0,0,0)","v":0},{"$f":"IF(Mileage!C134=0,0,0)","v":0},{"$f":"IF(Mileage!C134=0,0,0)","v":0},{"$f":"IF(Mileage!C134=0,0,0)","v":0},{"$f":"IF(Mileage!E134=0,0,0)","v":0},{"$f":"IF(Mileage!C134=0,0,0)","v":0}]
[{"$f":"IF(Mileage!C135=\"\",0,Mileage!C135)","v":0},{"$f":"IF(Mileage!D135=\"\",0,Mileage!D135)","v":0},{"$f":"IF(Mileage!C135=\"\",0,Mileage!J135)","v":0},0,{"$f":"IF(Mileage!B135=0,0,0)","v":0},{"$f":"IF(Mileage!C135=0,0,0)","v":0},{"$f":"IF(Mileage!C135=0,0,0)","v":0},{"$f":"IF(Mileage!C135=0,0,0)","v":0},{"$f":"IF(Mileage!C135=0,0,0)","v":0},{"$f":"IF(Mileage!E135=0,0,0)","v":0},{"$f":"IF(Mileage!C135=0,0,0)","v":0}]
[{"$f":"IF(Mileage!C136=\"\",0,Mileage!C136)","v":0},{"$f":"IF(Mileage!D136=\"\",0,Mileage!D136)","v":0},{"$f":"IF(Mileage!C136=\"\",0,Mileage!J136)","v":0},0,{"$f":"IF(Mileage!B136=0,0,0)","v":0},{"$f":"IF(Mileage!C136=0,0,0)","v":0},{"$f":"IF(Mileage!C136=0,0,0)","v":0},{"$f":"IF(Mileage!C136=0,0,0)","v":0},{"$f":"IF(Mileage!C136=0,0,0)","v":0},{"$f":"IF(Mileage!E136=0,0,0)","v":0},{"$f":"IF(Mileage!C136=0,0,0)","v":0}]
[{"$f":"IF(Mileage!C137=\"\",0,Mileage!C137)","v":0},{"$f":"IF(Mileage!D137=\"\",0,Mileage!D137)","v":0},{"$f":"IF(Mileage!C137=\"\",0,Mileage!J137)","v":0},0,{"$f":"IF(Mileage!B137=0,0,0)","v":0},{"$f":"IF(Mileage!C137=0,0,0)","v":0},{"$f":"IF(Mileage!C137=0,0,0)","v":0},{"$f":"IF(Mileage!C137=0,0,0)","v":0},{"$f":"IF(Mileage!C137=0,0,0)","v":0},{"$f":"IF(Mileage!E137=0,0,0)","v":0},{"$f":"IF(Mileage!C137=0,0,0)","v":0}]
[{"$f":"IF(Mileage!C138=\"\",0,Mileage!C138)","v":0},{"$f":"IF(Mileage!D138=\"\",0,Mileage!D138)","v":0},{"$f":"IF(Mileage!C138=\"\",0,Mileage!J138)","v":0},0,{"$f":"IF(Mileage!B138=0,0,0)","v":0},{"$f":"IF(Mileage!C138=0,0,0)","v":0},{"$f":"IF(Mileage!C138=0,0,0)","v":0},{"$f":"IF(Mileage!C138=0,0,0)","v":0},{"$f":"IF(Mileage!C138=0,0,0)","v":0},{"$f":"IF(Mileage!E138=0,0,0)","v":0},{"$f":"IF(Mileage!C138=0,0,0)","v":0}]
[{"$f":"IF(Mileage!C139=\"\",0,Mileage!C139)","v":0},{"$f":"IF(Mileage!D139=\"\",0,Mileage!D139)","v":0},{"$f":"IF(Mileage!C139=\"\",0,Mileage!J139)","v":0},0,{"$f":"IF(Mileage!B139=0,0,0)","v":0},{"$f":"IF(Mileage!C139=0,0,0)","v":0},{"$f":"IF(Mileage!C139=0,0,0)","v":0},{"$f":"IF(Mileage!C139=0,0,0)","v":0},{"$f":"IF(Mileage!C139=0,0,0)","v":0},{"$f":"IF(Mileage!E139=0,0,0)","v":0},{"$f":"IF(Mileage!C139=0,0,0)","v":0}]
[{"$f":"IF(Mileage!C140=\"\",0,Mileage!C140)","v":0},{"$f":"IF(Mileage!D140=\"\",0,Mileage!D140)","v":0},{"$f":"IF(Mileage!C140=\"\",0,Mileage!J140)","v":0},0,{"$f":"IF(Mileage!B140=0,0,0)","v":0},{"$f":"IF(Mileage!C140=0,0,0)","v":0},{"$f":"IF(Mileage!C140=0,0,0)","v":0},{"$f":"IF(Mileage!C140=0,0,0)","v":0},{"$f":"IF(Mileage!C140=0,0,0)","v":0},{"$f":"IF(Mileage!E140=0,0,0)","v":0},{"$f":"IF(Mileage!C140=0,0,0)","v":0}]
[{"$f":"IF(Mileage!C141=\"\",0,Mileage!C141)","v":0},{"$f":"IF(Mileage!D141=\"\",0,Mileage!D141)","v":0},{"$f":"IF(Mileage!C141=\"\",0,Mileage!J141)","v":0},0,{"$f":"IF(Mileage!B141=0,0,0)","v":0},{"$f":"IF(Mileage!C141=0,0,0)","v":0},{"$f":"IF(Mileage!C141=0,0,0)","v":0},{"$f":"IF(Mileage!C141=0,0,0)","v":0},{"$f":"IF(Mileage!C141=0,0,0)","v":0},{"$f":"IF(Mileage!E141=0,0,0)","v":0},{"$f":"IF(Mileage!C141=0,0,0)","v":0}]
[{"$f":"IF(Mileage!C142=\"\",0,Mileage!C142)","v":0},{"$f":"IF(Mileage!D142=\"\",0,Mileage!D142)","v":0},{"$f":"IF(Mileage!C142=\"\",0,Mileage!J142)","v":0},0,{"$f":"IF(Mileage!B142=0,0,0)","v":0},{"$f":"IF(Mileage!C142=0,0,0)","v":0},{"$f":"IF(Mileage!C142=0,0,0)","v":0},{"$f":"IF(Mileage!C142=0,0,0)","v":0},{"$f":"IF(Mileage!C142=0,0,0)","v":0},{"$f":"IF(Mileage!E142=0,0,0)","v":0},{"$f":"IF(Mileage!C142=0,0,0)","v":0}]
[{"$f":"IF(Mileage!C143=\"\",0,Mileage!C143)","v":0},{"$f":"IF(Mileage!D143=\"\",0,Mileage!D143)","v":0},{"$f":"IF(Mileage!C143=\"\",0,Mileage!J143)","v":0},0,{"$f":"IF(Mileage!B143=0,0,0)","v":0},{"$f":"IF(Mileage!C143=0,0,0)","v":0},{"$f":"IF(Mileage!C143=0,0,0)","v":0},{"$f":"IF(Mileage!C143=0,0,0)","v":0},{"$f":"IF(Mileage!C143=0,0,0)","v":0},{"$f":"IF(Mileage!E143=0,0,0)","v":0},{"$f":"IF(Mileage!C143=0,0,0)","v":0}]
[{"$f":"IF(Mileage!C144=\"\",0,Mileage!C144)","v":0},{"$f":"IF(Mileage!D144=\"\",0,Mileage!D144)","v":0},{"$f":"IF(Mileage!C144=\"\",0,Mileage!J144)","v":0},0,{"$f":"IF(Mileage!B144=0,0,0)","v":0},{"$f":"IF(Mileage!C144=0,0,0)","v":0},{"$f":"IF(Mileage!C144=0,0,0)","v":0},{"$f":"IF(Mileage!C144=0,0,0)","v":0},{"$f":"IF(Mileage!C144=0,0,0)","v":0},{"$f":"IF(Mileage!E144=0,0,0)","v":0},{"$f":"IF(Mileage!C144=0,0,0)","v":0}]
[{"$f":"IF(Mileage!C145=\"\",0,Mileage!C145)","v":0},{"$f":"IF(Mileage!D145=\"\",0,Mileage!D145)","v":0},{"$f":"IF(Mileage!C145=\"\",0,Mileage!J145)","v":0},0,{"$f":"IF(Mileage!B145=0,0,0)","v":0},{"$f":"IF(Mileage!C145=0,0,0)","v":0},{"$f":"IF(Mileage!C145=0,0,0)","v":0},{"$f":"IF(Mileage!C145=0,0,0)","v":0},{"$f":"IF(Mileage!C145=0,0,0)","v":0},{"$f":"IF(Mileage!E145=0,0,0)","v":0},{"$f":"IF(Mileage!C145=0,0,0)","v":0}]
[{"$f":"IF(Mileage!C146=\"\",0,Mileage!C146)","v":0},{"$f":"IF(Mileage!D146=\"\",0,Mileage!D146)","v":0},{"$f":"IF(Mileage!C146=\"\",0,Mileage!J146)","v":0},0,{"$f":"IF(Mileage!B146=0,0,0)","v":0},{"$f":"IF(Mileage!C146=0,0,0)","v":0},{"$f":"IF(Mileage!C146=0,0,0)","v":0},{"$f":"IF(Mileage!C146=0,0,0)","v":0},{"$f":"IF(Mileage!C146=0,0,0)","v":0},{"$f":"IF(Mileage!E146=0,0,0)","v":0},{"$f":"IF(Mileage!C146=0,0,0)","v":0}]
[{"$f":"IF(Mileage!C147=\"\",0,Mileage!C147)","v":0},{"$f":"IF(Mileage!D147=\"\",0,Mileage!D147)","v":0},{"$f":"IF(Mileage!C147=\"\",0,Mileage!J147)","v":0},0,{"$f":"IF(Mileage!B147=0,0,0)","v":0},{"$f":"IF(Mileage!C147=0,0,0)","v":0},{"$f":"IF(Mileage!C147=0,0,0)","v":0},{"$f":"IF(Mileage!C147=0,0,0)","v":0},{"$f":"IF(Mileage!C147=0,0,0)","v":0},{"$f":"IF(Mileage!E147=0,0,0)","v":0},{"$f":"IF(Mileage!C147=0,0,0)","v":0}]
[{"$f":"IF(Mileage!C148=\"\",0,Mileage!C148)","v":0},{"$f":"IF(Mileage!D148=\"\",0,Mileage!D148)","v":0},{"$f":"IF(Mileage!C148=\"\",0,Mileage!J148)","v":0},0,{"$f":"IF(Mileage!B148=0,0,0)","v":0},{"$f":"IF(Mileage!C148=0,0,0)","v":0},{"$f":"IF(Mileage!C148=0,0,0)","v":0},{"$f":"IF(Mileage!C148=0,0,0)","v":0},{"$f":"IF(Mileage!C148=0,0,0)","v":0},{"$f":"IF(Mileage!E148=0,0,0)","v":0},{"$f":"IF(Mileage!C148=0,0,0)","v":0}]
[{"$f":"IF(Mileage!C149=\"\",0,Mileage!C149)","v":0},{"$f":"IF(Mileage!D149=\"\",0,Mileage!D149)","v":0},{"$f":"IF(Mileage!C149=\"\",0,Mileage!J149)","v":0},0,{"$f":"IF(Mileage!B149=0,0,0)","v":0},{"$f":"IF(Mileage!C149=0,0,0)","v":0},{"$f":"IF(Mileage!C149=0,0,0)","v":0},{"$f":"IF(Mileage!C149=0,0,0)","v":0},{"$f":"IF(Mileage!C149=0,0,0)","v":0},{"$f":"IF(Mileage!E149=0,0,0)","v":0},{"$f":"IF(Mileage!C149=0,0,0)","v":0}]
[{"$f":"IF(Mileage!C150=\"\",0,Mileage!C150)","v":0},{"$f":"IF(Mileage!D150=\"\",0,Mileage!D150)","v":0},{"$f":"IF(Mileage!C150=\"\",0,Mileage!J150)","v":0},0,{"$f":"IF(Mileage!B150=0,0,0)","v":0},{"$f":"IF(Mileage!C150=0,0,0)","v":0},{"$f":"IF(Mileage!C150=0,0,0)","v":0},{"$f":"IF(Mileage!C150=0,0,0)","v":0},{"$f":"IF(Mileage!C150=0,0,0)","v":0},{"$f":"IF(Mileage!E150=0,0,0)","v":0},{"$f":"IF(Mileage!C150=0,0,0)","v":0}]
[{"$f":"IF(Mileage!C151=\"\",0,Mileage!C151)","v":0},{"$f":"IF(Mileage!D151=\"\",0,Mileage!D151)","v":0},{"$f":"IF(Mileage!C151=\"\",0,Mileage!J151)","v":0},0,{"$f":"IF(Mileage!B151=0,0,0)","v":0},{"$f":"IF(Mileage!C151=0,0,0)","v":0},{"$f":"IF(Mileage!C151=0,0,0)","v":0},{"$f":"IF(Mileage!C151=0,0,0)","v":0},{"$f":"IF(Mileage!C151=0,0,0)","v":0},{"$f":"IF(Mileage!E151=0,0,0)","v":0},{"$f":"IF(Mileage!C151=0,0,0)","v":0}]
[{"$f":"IF(Mileage!C152=\"\",0,Mileage!C152)","v":0},{"$f":"IF(Mileage!D152=\"\",0,Mileage!D152)","v":0},{"$f":"IF(Mileage!C152=\"\",0,Mileage!J152)","v":0},0,{"$f":"IF(Mileage!B152=0,0,0)","v":0},{"$f":"IF(Mileage!C152=0,0,0)","v":0},{"$f":"IF(Mileage!C152=0,0,0)","v":0},{"$f":"IF(Mileage!C152=0,0,0)","v":0},{"$f":"IF(Mileage!C152=0,0,0)","v":0},{"$f":"IF(Mileage!E152=0,0,0)","v":0},{"$f":"IF(Mileage!C152=0,0,0)","v":0}]
[{"$f":"IF(Mileage!C153=\"\",0,Mileage!C153)","v":0},{"$f":"IF(Mileage!D153=\"\",0,Mileage!D153)","v":0},{"$f":"IF(Mileage!C153=\"\",0,Mileage!J153)","v":0},0,{"$f":"IF(Mileage!B153=0,0,0)","v":0},{"$f":"IF(Mileage!C153=0,0,0)","v":0},{"$f":"IF(Mileage!C153=0,0,0)","v":0},{"$f":"IF(Mileage!C153=0,0,0)","v":0},{"$f":"IF(Mileage!C153=0,0,0)","v":0},{"$f":"IF(Mileage!E153=0,0,0)","v":0},{"$f":"IF(Mileage!C153=0,0,0)","v":0}]
[{"$f":"IF(Mileage!C154=\"\",0,Mileage!C154)","v":0},{"$f":"IF(Mileage!D154=\"\",0,Mileage!D154)","v":0},{"$f":"IF(Mileage!C154=\"\",0,Mileage!J154)","v":0},0,{"$f":"IF(Mileage!B154=0,0,0)","v":0},{"$f":"IF(Mileage!C154=0,0,0)","v":0},{"$f":"IF(Mileage!C154=0,0,0)","v":0},{"$f":"IF(Mileage!C154=0,0,0)","v":0},{"$f":"IF(Mileage!C154=0,0,0)","v":0},{"$f":"IF(Mileage!E154=0,0,0)","v":0},{"$f":"IF(Mileage!C154=0,0,0)","v":0}]
[{"$f":"IF(Mileage!C155=\"\",0,Mileage!C155)","v":0},{"$f":"IF(Mileage!D155=\"\",0,Mileage!D155)","v":0},{"$f":"IF(Mileage!C155=\"\",0,Mileage!J155)","v":0},0,{"$f":"IF(Mileage!B155=0,0,0)","v":0},{"$f":"IF(Mileage!C155=0,0,0)","v":0},{"$f":"IF(Mileage!C155=0,0,0)","v":0},{"$f":"IF(Mileage!C155=0,0,0)","v":0},{"$f":"IF(Mileage!C155=0,0,0)","v":0},{"$f":"IF(Mileage!E155=0,0,0)","v":0},{"$f":"IF(Mileage!C155=0,0,0)","v":0}]
[{"$f":"IF(Mileage!C156=\"\",0,Mileage!C156)","v":0},{"$f":"IF(Mileage!D156=\"\",0,Mileage!D156)","v":0},{"$f":"IF(Mileage!C156=\"\",0,Mileage!J156)","v":0},0,{"$f":"IF(Mileage!B156=0,0,0)","v":0},{"$f":"IF(Mileage!C156=0,0,0)","v":0},{"$f":"IF(Mileage!C156=0,0,0)","v":0},{"$f":"IF(Mileage!C156=0,0,0)","v":0},{"$f":"IF(Mileage!C156=0,0,0)","v":0},{"$f":"IF(Mileage!E156=0,0,0)","v":0},{"$f":"IF(Mileage!C156=0,0,0)","v":0}]
[{"$f":"IF(Mileage!C157=\"\",0,Mileage!C157)","v":0},{"$f":"IF(Mileage!D157=\"\",0,Mileage!D157)","v":0},{"$f":"IF(Mileage!C157=\"\",0,Mileage!J157)","v":0},0,{"$f":"IF(Mileage!B157=0,0,0)","v":0},{"$f":"IF(Mileage!C157=0,0,0)","v":0},{"$f":"IF(Mileage!C157=0,0,0)","v":0},{"$f":"IF(Mileage!C157=0,0,0)","v":0},{"$f":"IF(Mileage!C157=0,0,0)","v":0},{"$f":"IF(Mileage!E157=0,0,0)","v":0},{"$f":"IF(Mileage!C157=0,0,0)","v":0}]
[{"$f":"IF(Mileage!C158=\"\",0,Mileage!C158)","v":0},{"$f":"IF(Mileage!D158=\"\",0,Mileage!D158)","v":0},{"$f":"IF(Mileage!C158=\"\",0,Mileage!J158)","v":0},0,{"$f":"IF(Mileage!B158=0,0,0)","v":0},{"$f":"IF(Mileage!C158=0,0,0)","v":0},{"$f":"IF(Mileage!C158=0,0,0)","v":0},{"$f":"IF(Mileage!C158=0,0,0)","v":0},{"$f":"IF(Mileage!C158=0,0,0)","v":0},{"$f":"IF(Mileage!E158=0,0,0)","v":0},{"$f":"IF(Mileage!C158=0,0,0)","v":0}]
[{"$f":"IF(Mileage!C159=\"\",0,Mileage!C159)","v":0},{"$f":"IF(Mileage!D159=\"\",0,Mileage!D159)","v":0},{"$f":"IF(Mileage!C159=\"\",0,Mileage!J159)","v":0},0,{"$f":"IF(Mileage!B159=0,0,0)","v":0},{"$f":"IF(Mileage!C159=0,0,0)","v":0},{"$f":"IF(Mileage!C159=0,0,0)","v":0},{"$f":"IF(Mileage!C159=0,0,0)","v":0},{"$f":"IF(Mileage!C159=0,0,0)","v":0},{"$f":"IF(Mileage!E159=0,0,0)","v":0},{"$f":"IF(Mileage!C159=0,0,0)","v":0}]
[{"$f":"IF(Mileage!C160=\"\",0,Mileage!C160)","v":0},{"$f":"IF(Mileage!D160=\"\",0,Mileage!D160)","v":0},{"$f":"IF(Mileage!C160=\"\",0,Mileage!J160)","v":0},0,{"$f":"IF(Mileage!B160=0,0,0)","v":0},{"$f":"IF(Mileage!C160=0,0,0)","v":0},{"$f":"IF(Mileage!C160=0,0,0)","v":0},{"$f":"IF(Mileage!C160=0,0,0)","v":0},{"$f":"IF(Mileage!C160=0,0,0)","v":0},{"$f":"IF(Mileage!E160=0,0,0)","v":0},{"$f":"IF(Mileage!C160=0,0,0)","v":0}]
[{"$f":"IF(Mileage!C161=\"\",0,Mileage!C161)","v":0},{"$f":"IF(Mileage!D161=\"\",0,Mileage!D161)","v":0},{"$f":"IF(Mileage!C161=\"\",0,Mileage!J161)","v":0},0,{"$f":"IF(Mileage!B161=0,0,0)","v":0},{"$f":"IF(Mileage!C161=0,0,0)","v":0},{"$f":"IF(Mileage!C161=0,0,0)","v":0},{"$f":"IF(Mileage!C161=0,0,0)","v":0},{"$f":"IF(Mileage!C161=0,0,0)","v":0},{"$f":"IF(Mileage!E161=0,0,0)","v":0},{"$f":"IF(Mileage!C161=0,0,0)","v":0}]
[{"$f":"IF(Mileage!C162=\"\",0,Mileage!C162)","v":0},{"$f":"IF(Mileage!D162=\"\",0,Mileage!D162)","v":0},{"$f":"IF(Mileage!C162=\"\",0,Mileage!J162)","v":0},0,{"$f":"IF(Mileage!B162=0,0,0)","v":0},{"$f":"IF(Mileage!C162=0,0,0)","v":0},{"$f":"IF(Mileage!C162=0,0,0)","v":0},{"$f":"IF(Mileage!C162=0,0,0)","v":0},{"$f":"IF(Mileage!C162=0,0,0)","v":0},{"$f":"IF(Mileage!E162=0,0,0)","v":0},{"$f":"IF(Mileage!C162=0,0,0)","v":0}]
[{"$f":"IF(Mileage!C163=\"\",0,Mileage!C163)","v":0},{"$f":"IF(Mileage!D163=\"\",0,Mileage!D163)","v":0},{"$f":"IF(Mileage!C163=\"\",0,Mileage!J163)","v":0},0,{"$f":"IF(Mileage!B163=0,0,0)","v":0},{"$f":"IF(Mileage!C163=0,0,0)","v":0},{"$f":"IF(Mileage!C163=0,0,0)","v":0},{"$f":"IF(Mileage!C163=0,0,0)","v":0},{"$f":"IF(Mileage!C163=0,0,0)","v":0},{"$f":"IF(Mileage!E163=0,0,0)","v":0},{"$f":"IF(Mileage!C163=0,0,0)","v":0}]
[{"$f":"IF(Mileage!C164=\"\",0,Mileage!C164)","v":0},{"$f":"IF(Mileage!D164=\"\",0,Mileage!D164)","v":0},{"$f":"IF(Mileage!C164=\"\",0,Mileage!J164)","v":0},0,{"$f":"IF(Mileage!B164=0,0,0)","v":0},{"$f":"IF(Mileage!C164=0,0,0)","v":0},{"$f":"IF(Mileage!C164=0,0,0)","v":0},{"$f":"IF(Mileage!C164=0,0,0)","v":0},{"$f":"IF(Mileage!C164=0,0,0)","v":0},{"$f":"IF(Mileage!E164=0,0,0)","v":0},{"$f":"IF(Mileage!C164=0,0,0)","v":0}]
[{"$f":"IF(Mileage!C165=\"\",0,Mileage!C165)","v":0},{"$f":"IF(Mileage!D165=\"\",0,Mileage!D165)","v":0},{"$f":"IF(Mileage!C165=\"\",0,Mileage!J165)","v":0},0,{"$f":"IF(Mileage!B165=0,0,0)","v":0},{"$f":"IF(Mileage!C165=0,0,0)","v":0},{"$f":"IF(Mileage!C165=0,0,0)","v":0},{"$f":"IF(Mileage!C165=0,0,0)","v":0},{"$f":"IF(Mileage!C165=0,0,0)","v":0},{"$f":"IF(Mileage!E165=0,0,0)","v":0},{"$f":"IF(Mileage!C165=0,0,0)","v":0}]
[{"$f":"IF(Mileage!C166=\"\",0,Mileage!C166)","v":0},{"$f":"IF(Mileage!D166=\"\",0,Mileage!D166)","v":0},{"$f":"IF(Mileage!C166=\"\",0,Mileage!J166)","v":0},0,{"$f":"IF(Mileage!B166=0,0,0)","v":0},{"$f":"IF(Mileage!C166=0,0,0)","v":0},{"$f":"IF(Mileage!C166=0,0,0)","v":0},{"$f":"IF(Mileage!C166=0,0,0)","v":0},{"$f":"IF(Mileage!C166=0,0,0)","v":0},{"$f":"IF(Mileage!E166=0,0,0)","v":0},{"$f":"IF(Mileage!C166=0,0,0)","v":0}]
[{"$f":"IF(Mileage!C167=\"\",0,Mileage!C167)","v":0},{"$f":"IF(Mileage!D167=\"\",0,Mileage!D167)","v":0},{"$f":"IF(Mileage!C167=\"\",0,Mileage!J167)","v":0},0,{"$f":"IF(Mileage!B167=0,0,0)","v":0},{"$f":"IF(Mileage!C167=0,0,0)","v":0},{"$f":"IF(Mileage!C167=0,0,0)","v":0},{"$f":"IF(Mileage!C167=0,0,0)","v":0},{"$f":"IF(Mileage!C167=0,0,0)","v":0},{"$f":"IF(Mileage!E167=0,0,0)","v":0},{"$f":"IF(Mileage!C167=0,0,0)","v":0}]
[{"$f":"IF(Mileage!C168=\"\",0,Mileage!C168)","v":0},{"$f":"IF(Mileage!D168=\"\",0,Mileage!D168)","v":0},{"$f":"IF(Mileage!C168=\"\",0,Mileage!J168)","v":0},0,{"$f":"IF(Mileage!B168=0,0,0)","v":0},{"$f":"IF(Mileage!C168=0,0,0)","v":0},{"$f":"IF(Mileage!C168=0,0,0)","v":0},{"$f":"IF(Mileage!C168=0,0,0)","v":0},{"$f":"IF(Mileage!C168=0,0,0)","v":0},{"$f":"IF(Mileage!E168=0,0,0)","v":0},{"$f":"IF(Mileage!C168=0,0,0)","v":0}]
[{"$f":"IF(Mileage!C169=\"\",0,Mileage!C169)","v":0},{"$f":"IF(Mileage!D169=\"\",0,Mileage!D169)","v":0},{"$f":"IF(Mileage!C169=\"\",0,Mileage!J169)","v":0},0,{"$f":"IF(Mileage!B169=0,0,0)","v":0},{"$f":"IF(Mileage!C169=0,0,0)","v":0},{"$f":"IF(Mileage!C169=0,0,0)","v":0},{"$f":"IF(Mileage!C169=0,0,0)","v":0},{"$f":"IF(Mileage!C169=0,0,0)","v":0},{"$f":"IF(Mileage!E169=0,0,0)","v":0},{"$f":"IF(Mileage!C169=0,0,0)","v":0}]
[{"$f":"IF(Mileage!C170=\"\",0,Mileage!C170)","v":0},{"$f":"IF(Mileage!D170=\"\",0,Mileage!D170)","v":0},{"$f":"IF(Mileage!C170=\"\",0,Mileage!J170)","v":0},0,{"$f":"IF(Mileage!B170=0,0,0)","v":0},{"$f":"IF(Mileage!C170=0,0,0)","v":0},{"$f":"IF(Mileage!C170=0,0,0)","v":0},{"$f":"IF(Mileage!C170=0,0,0)","v":0},{"$f":"IF(Mileage!C170=0,0,0)","v":0},{"$f":"IF(Mileage!E170=0,0,0)","v":0},{"$f":"IF(Mileage!C170=0,0,0)","v":0}]
[{"$f":"IF(Mileage!C171=\"\",0,Mileage!C171)","v":0},{"$f":"IF(Mileage!D171=\"\",0,Mileage!D171)","v":0},{"$f":"IF(Mileage!C171=\"\",0,Mileage!J171)","v":0},0,{"$f":"IF(Mileage!B171=0,0,0)","v":0},{"$f":"IF(Mileage!C171=0,0,0)","v":0},{"$f":"IF(Mileage!C171=0,0,0)","v":0},{"$f":"IF(Mileage!C171=0,0,0)","v":0},{"$f":"IF(Mileage!C171=0,0,0)","v":0},{"$f":"IF(Mileage!E171=0,0,0)","v":0},{"$f":"IF(Mileage!C171=0,0,0)","v":0}]
[{"$f":"IF(Mileage!C172=\"\",0,Mileage!C172)","v":0},{"$f":"IF(Mileage!D172=\"\",0,Mileage!D172)","v":0},{"$f":"IF(Mileage!C172=\"\",0,Mileage!J172)","v":0},0,{"$f":"IF(Mileage!B172=0,0,0)","v":0},{"$f":"IF(Mileage!C172=0,0,0)","v":0},{"$f":"IF(Mileage!C172=0,0,0)","v":0},{"$f":"IF(Mileage!C172=0,0,0)","v":0},{"$f":"IF(Mileage!C172=0,0,0)","v":0},{"$f":"IF(Mileage!E172=0,0,0)","v":0},{"$f":"IF(Mileage!C172=0,0,0)","v":0}]
[{"$f":"IF(Mileage!C173=\"\",0,Mileage!C173)","v":0},{"$f":"IF(Mileage!D173=\"\",0,Mileage!D173)","v":0},{"$f":"IF(Mileage!C173=\"\",0,Mileage!J173)","v":0},0,{"$f":"IF(Mileage!B173=0,0,0)","v":0},{"$f":"IF(Mileage!C173=0,0,0)","v":0},{"$f":"IF(Mileage!C173=0,0,0)","v":0},{"$f":"IF(Mileage!C173=0,0,0)","v":0},{"$f":"IF(Mileage!C173=0,0,0)","v":0},{"$f":"IF(Mileage!E173=0,0,0)","v":0},{"$f":"IF(Mileage!C173=0,0,0)","v":0}]
[{"$f":"IF(Mileage!C174=\"\",0,Mileage!C174)","v":0},{"$f":"IF(Mileage!D174=\"\",0,Mileage!D174)","v":0},{"$f":"IF(Mileage!C174=\"\",0,Mileage!J174)","v":0},0,{"$f":"IF(Mileage!B174=0,0,0)","v":0},{"$f":"IF(Mileage!C174=0,0,0)","v":0},{"$f":"IF(Mileage!C174=0,0,0)","v":0},{"$f":"IF(Mileage!C174=0,0,0)","v":0},{"$f":"IF(Mileage!C174=0,0,0)","v":0},{"$f":"IF(Mileage!E174=0,0,0)","v":0},{"$f":"IF(Mileage!C174=0,0,0)","v":0}]
[{"$f":"IF(Mileage!C175=\"\",0,Mileage!C175)","v":0},{"$f":"IF(Mileage!D175=\"\",0,Mileage!D175)","v":0},{"$f":"IF(Mileage!C175=\"\",0,Mileage!J175)","v":0},0,{"$f":"IF(Mileage!B175=0,0,0)","v":0},{"$f":"IF(Mileage!C175=0,0,0)","v":0},{"$f":"IF(Mileage!C175=0,0,0)","v":0},{"$f":"IF(Mileage!C175=0,0,0)","v":0},{"$f":"IF(Mileage!C175=0,0,0)","v":0},{"$f":"IF(Mileage!E175=0,0,0)","v":0},{"$f":"IF(Mileage!C175=0,0,0)","v":0}]
[{"$f":"IF(Mileage!C176=\"\",0,Mileage!C176)","v":0},{"$f":"IF(Mileage!D176=\"\",0,Mileage!D176)","v":0},{"$f":"IF(Mileage!C176=\"\",0,Mileage!J176)","v":0},0,{"$f":"IF(Mileage!B176=0,0,0)","v":0},{"$f":"IF(Mileage!C176=0,0,0)","v":0},{"$f":"IF(Mileage!C176=0,0,0)","v":0},{"$f":"IF(Mileage!C176=0,0,0)","v":0},{"$f":"IF(Mileage!C176=0,0,0)","v":0},{"$f":"IF(Mileage!E176=0,0,0)","v":0},{"$f":"IF(Mileage!C176=0,0,0)","v":0}]
[{"$f":"IF(Mileage!C177=\"\",0,Mileage!C177)","v":0},{"$f":"IF(Mileage!D177=\"\",0,Mileage!D177)","v":0},{"$f":"IF(Mileage!C177=\"\",0,Mileage!J177)","v":0},0,{"$f":"IF(Mileage!B177=0,0,0)","v":0},{"$f":"IF(Mileage!C177=0,0,0)","v":0},{"$f":"IF(Mileage!C177=0,0,0)","v":0},{"$f":"IF(Mileage!C177=0,0,0)","v":0},{"$f":"IF(Mileage!C177=0,0,0)","v":0},{"$f":"IF(Mileage!E177=0,0,0)","v":0},{"$f":"IF(Mileage!C177=0,0,0)","v":0}]
[{"$f":"IF(Mileage!C178=\"\",0,Mileage!C178)","v":0},{"$f":"IF(Mileage!D178=\"\",0,Mileage!D178)","v":0},{"$f":"IF(Mileage!C178=\"\",0,Mileage!J178)","v":0},0,{"$f":"IF(Mileage!B178=0,0,0)","v":0},{"$f":"IF(Mileage!C178=0,0,0)","v":0},{"$f":"IF(Mileage!C178=0,0,0)","v":0},{"$f":"IF(Mileage!C178=0,0,0)","v":0},{"$f":"IF(Mileage!C178=0,0,0)","v":0},{"$f":"IF(Mileage!E178=0,0,0)","v":0},{"$f":"IF(Mileage!C178=0,0,0)","v":0}]
[{"$f":"IF(Mileage!C179=\"\",0,Mileage!C179)","v":0},{"$f":"IF(Mileage!D179=\"\",0,Mileage!D179)","v":0},{"$f":"IF(Mileage!C179=\"\",0,Mileage!J179)","v":0},0,{"$f":"IF(Mileage!B179=0,0,0)","v":0},{"$f":"IF(Mileage!C179=0,0,0)","v":0},{"$f":"IF(Mileage!C179=0,0,0)","v":0},{"$f":"IF(Mileage!C179=0,0,0)","v":0},{"$f":"IF(Mileage!C179=0,0,0)","v":0},{"$f":"IF(Mileage!E179=0,0,0)","v":0},{"$f":"IF(Mileage!C179=0,0,0)","v":0}]
[{"$f":"IF(Mileage!C180=\"\",0,Mileage!C180)","v":0},{"$f":"IF(Mileage!D180=\"\",0,Mileage!D180)","v":0},{"$f":"IF(Mileage!C180=\"\",0,Mileage!J180)","v":0},0,{"$f":"IF(Mileage!B180=0,0,0)","v":0},{"$f":"IF(Mileage!C180=0,0,0)","v":0},{"$f":"IF(Mileage!C180=0,0,0)","v":0},{"$f":"IF(Mileage!C180=0,0,0)","v":0},{"$f":"IF(Mileage!C180=0,0,0)","v":0},{"$f":"IF(Mileage!E180=0,0,0)","v":0},{"$f":"IF(Mileage!C180=0,0,0)","v":0}]
[{"$f":"IF(Mileage!C181=\"\",0,Mileage!C181)","v":0},{"$f":"IF(Mileage!D181=\"\",0,Mileage!D181)","v":0},{"$f":"IF(Mileage!C181=\"\",0,Mileage!J181)","v":0},0,{"$f":"IF(Mileage!B181=0,0,0)","v":0},{"$f":"IF(Mileage!C181=0,0,0)","v":0},{"$f":"IF(Mileage!C181=0,0,0)","v":0},{"$f":"IF(Mileage!C181=0,0,0)","v":0},{"$f":"IF(Mileage!C181=0,0,0)","v":0},{"$f":"IF(Mileage!E181=0,0,0)","v":0},{"$f":"IF(Mileage!C181=0,0,0)","v":0}]
[{"$f":"IF(Mileage!C182=\"\",0,Mileage!C182)","v":0},{"$f":"IF(Mileage!D182=\"\",0,Mileage!D182)","v":0},{"$f":"IF(Mileage!C182=\"\",0,Mileage!J182)","v":0},0,{"$f":"IF(Mileage!B182=0,0,0)","v":0},{"$f":"IF(Mileage!C182=0,0,0)","v":0},{"$f":"IF(Mileage!C182=0,0,0)","v":0},{"$f":"IF(Mileage!C182=0,0,0)","v":0},{"$f":"IF(Mileage!C182=0,0,0)","v":0},{"$f":"IF(Mileage!E182=0,0,0)","v":0},{"$f":"IF(Mileage!C182=0,0,0)","v":0}]
[{"$f":"IF(Mileage!C183=\"\",0,Mileage!C183)","v":0},{"$f":"IF(Mileage!D183=\"\",0,Mileage!D183)","v":0},{"$f":"IF(Mileage!C183=\"\",0,Mileage!J183)","v":0},0,{"$f":"IF(Mileage!B183=0,0,0)","v":0},{"$f":"IF(Mileage!C183=0,0,0)","v":0},{"$f":"IF(Mileage!C183=0,0,0)","v":0},{"$f":"IF(Mileage!C183=0,0,0)","v":0},{"$f":"IF(Mileage!C183=0,0,0)","v":0},{"$f":"IF(Mileage!E183=0,0,0)","v":0},{"$f":"IF(Mileage!C183=0,0,0)","v":0}]
[{"$f":"IF(Mileage!C184=\"\",0,Mileage!C184)","v":0},{"$f":"IF(Mileage!D184=\"\",0,Mileage!D184)","v":0},{"$f":"IF(Mileage!C184=\"\",0,Mileage!J184)","v":0},0,{"$f":"IF(Mileage!B184=0,0,0)","v":0},{"$f":"IF(Mileage!C184=0,0,0)","v":0},{"$f":"IF(Mileage!C184=0,0,0)","v":0},{"$f":"IF(Mileage!C184=0,0,0)","v":0},{"$f":"IF(Mileage!C184=0,0,0)","v":0},{"$f":"IF(Mileage!E184=0,0,0)","v":0},{"$f":"IF(Mileage!C184=0,0,0)","v":0}]
[{"$f":"IF(Mileage!C185=\"\",0,Mileage!C185)","v":0},{"$f":"IF(Mileage!D185=\"\",0,Mileage!D185)","v":0},{"$f":"IF(Mileage!C185=\"\",0,Mileage!J185)","v":0},0,{"$f":"IF(Mileage!B185=0,0,0)","v":0},{"$f":"IF(Mileage!C185=0,0,0)","v":0},{"$f":"IF(Mileage!C185=0,0,0)","v":0},{"$f":"IF(Mileage!C185=0,0,0)","v":0},{"$f":"IF(Mileage!C185=0,0,0)","v":0},{"$f":"IF(Mileage!E185=0,0,0)","v":0},{"$f":"IF(Mileage!C185=0,0,0)","v":0}]
[{"$f":"IF(Mileage!C186=\"\",0,Mileage!C186)","v":0},{"$f":"IF(Mileage!D186=\"\",0,Mileage!D186)","v":0},{"$f":"IF(Mileage!C186=\"\",0,Mileage!J186)","v":0},0,{"$f":"IF(Mileage!B186=0,0,0)","v":0},{"$f":"IF(Mileage!C186=0,0,0)","v":0},{"$f":"IF(Mileage!C186=0,0,0)","v":0},{"$f":"IF(Mileage!C186=0,0,0)","v":0},{"$f":"IF(Mileage!C186=0,0,0)","v":0},{"$f":"IF(Mileage!E186=0,0,0)","v":0},{"$f":"IF(Mileage!C186=0,0,0)","v":0}]
[{"$f":"IF(Mileage!C187=\"\",0,Mileage!C187)","v":0},{"$f":"IF(Mileage!D187=\"\",0,Mileage!D187)","v":0},{"$f":"IF(Mileage!C187=\"\",0,Mileage!J187)","v":0},0,{"$f":"IF(Mileage!B187=0,0,0)","v":0},{"$f":"IF(Mileage!C187=0,0,0)","v":0},{"$f":"IF(Mileage!C187=0,0,0)","v":0},{"$f":"IF(Mileage!C187=0,0,0)","v":0},{"$f":"IF(Mileage!C187=0,0,0)","v":0},{"$f":"IF(Mileage!E187=0,0,0)","v":0},{"$f":"IF(Mileage!C187=0,0,0)","v":0}]
[{"$f":"IF(Mileage!C188=\"\",0,Mileage!C188)","v":0},{"$f":"IF(Mileage!D188=\"\",0,Mileage!D188)","v":0},{"$f":"IF(Mileage!C188=\"\",0,Mileage!J188)","v":0},0,{"$f":"IF(Mileage!B188=0,0,0)","v":0},{"$f":"IF(Mileage!C188=0,0,0)","v":0},{"$f":"IF(Mileage!C188=0,0,0)","v":0},{"$f":"IF(Mileage!C188=0,0,0)","v":0},{"$f":"IF(Mileage!C188=0,0,0)","v":0},{"$f":"IF(Mileage!E188=0,0,0)","v":0},{"$f":"IF(Mileage!C188=0,0,0)","v":0}]
[{"$f":"IF(Mileage!C189=\"\",0,Mileage!C189)","v":0},{"$f":"IF(Mileage!D189=\"\",0,Mileage!D189)","v":0},{"$f":"IF(Mileage!C189=\"\",0,Mileage!J189)","v":0},0,{"$f":"IF(Mileage!B189=0,0,0)","v":0},{"$f":"IF(Mileage!C189=0,0,0)","v":0},{"$f":"IF(Mileage!C189=0,0,0)","v":0},{"$f":"IF(Mileage!C189=0,0,0)","v":0},{"$f":"IF(Mileage!C189=0,0,0)","v":0},{"$f":"IF(Mileage!E189=0,0,0)","v":0},{"$f":"IF(Mileage!C189=0,0,0)","v":0}]
[{"$f":"IF(Mileage!C190=\"\",0,Mileage!C190)","v":0},{"$f":"IF(Mileage!D190=\"\",0,Mileage!D190)","v":0},{"$f":"IF(Mileage!C190=\"\",0,Mileage!J190)","v":0},0,{"$f":"IF(Mileage!B190=0,0,0)","v":0},{"$f":"IF(Mileage!C190=0,0,0)","v":0},{"$f":"IF(Mileage!C190=0,0,0)","v":0},{"$f":"IF(Mileage!C190=0,0,0)","v":0},{"$f":"IF(Mileage!C190=0,0,0)","v":0},{"$f":"IF(Mileage!E190=0,0,0)","v":0},{"$f":"IF(Mileage!C190=0,0,0)","v":0}]
[{"$f":"IF(Mileage!C191=\"\",0,Mileage!C191)","v":0},{"$f":"IF(Mileage!D191=\"\",0,Mileage!D191)","v":0},{"$f":"IF(Mileage!C191=\"\",0,Mileage!J191)","v":0},0,{"$f":"IF(Mileage!B191=0,0,0)","v":0},{"$f":"IF(Mileage!C191=0,0,0)","v":0},{"$f":"IF(Mileage!C191=0,0,0)","v":0},{"$f":"IF(Mileage!C191=0,0,0)","v":0},{"$f":"IF(Mileage!C191=0,0,0)","v":0},{"$f":"IF(Mileage!E191=0,0,0)","v":0},{"$f":"IF(Mileage!C191=0,0,0)","v":0}]
[{"$f":"IF(Mileage!C192=\"\",0,Mileage!C192)","v":0},{"$f":"IF(Mileage!D192=\"\",0,Mileage!D192)","v":0},{"$f":"IF(Mileage!C192=\"\",0,Mileage!J192)","v":0},0,{"$f":"IF(Mileage!B192=0,0,0)","v":0},{"$f":"IF(Mileage!C192=0,0,0)","v":0},{"$f":"IF(Mileage!C192=0,0,0)","v":0},{"$f":"IF(Mileage!C192=0,0,0)","v":0},{"$f":"IF(Mileage!C192=0,0,0)","v":0},{"$f":"IF(Mileage!E192=0,0,0)","v":0},{"$f":"IF(Mileage!C192=0,0,0)","v":0}]
[{"$f":"IF(Mileage!C193=\"\",0,Mileage!C193)","v":0},{"$f":"IF(Mileage!D193=\"\",0,Mileage!D193)","v":0},{"$f":"IF(Mileage!C193=\"\",0,Mileage!J193)","v":0},0,{"$f":"IF(Mileage!B193=0,0,0)","v":0},{"$f":"IF(Mileage!C193=0,0,0)","v":0},{"$f":"IF(Mileage!C193=0,0,0)","v":0},{"$f":"IF(Mileage!C193=0,0,0)","v":0},{"$f":"IF(Mileage!C193=0,0,0)","v":0},{"$f":"IF(Mileage!E193=0,0,0)","v":0},{"$f":"IF(Mileage!C193=0,0,0)","v":0}]
[{"$f":"IF(Mileage!C194=\"\",0,Mileage!C194)","v":0},{"$f":"IF(Mileage!D194=\"\",0,Mileage!D194)","v":0},{"$f":"IF(Mileage!C194=\"\",0,Mileage!J194)","v":0},0,{"$f":"IF(Mileage!B194=0,0,0)","v":0},{"$f":"IF(Mileage!C194=0,0,0)","v":0},{"$f":"IF(Mileage!C194=0,0,0)","v":0},{"$f":"IF(Mileage!C194=0,0,0)","v":0},{"$f":"IF(Mileage!C194=0,0,0)","v":0},{"$f":"IF(Mileage!E194=0,0,0)","v":0},{"$f":"IF(Mileage!C194=0,0,0)","v":0}]
[{"$f":"IF(Mileage!C195=\"\",0,Mileage!C195)","v":0},{"$f":"IF(Mileage!D195=\"\",0,Mileage!D195)","v":0},{"$f":"IF(Mileage!C195=\"\",0,Mileage!J195)","v":0},0,{"$f":"IF(Mileage!B195=0,0,0)","v":0},{"$f":"IF(Mileage!C195=0,0,0)","v":0},{"$f":"IF(Mileage!C195=0,0,0)","v":0},{"$f":"IF(Mileage!C195=0,0,0)","v":0},{"$f":"IF(Mileage!C195=0,0,0)","v":0},{"$f":"IF(Mileage!E195=0,0,0)","v":0},{"$f":"IF(Mileage!C195=0,0,0)","v":0}]
[{"$f":"IF(Mileage!C196=\"\",0,Mileage!C196)","v":0},{"$f":"IF(Mileage!D196=\"\",0,Mileage!D196)","v":0},{"$f":"IF(Mileage!C196=\"\",0,Mileage!J196)","v":0},0,{"$f":"IF(Mileage!B196=0,0,0)","v":0},{"$f":"IF(Mileage!C196=0,0,0)","v":0},{"$f":"IF(Mileage!C196=0,0,0)","v":0},{"$f":"IF(Mileage!C196=0,0,0)","v":0},{"$f":"IF(Mileage!C196=0,0,0)","v":0},{"$f":"IF(Mileage!E196=0,0,0)","v":0},{"$f":"IF(Mileage!C196=0,0,0)","v":0}]
[{"$f":"IF(Mileage!C197=\"\",0,Mileage!C197)","v":0},{"$f":"IF(Mileage!D197=\"\",0,Mileage!D197)","v":0},{"$f":"IF(Mileage!C197=\"\",0,Mileage!J197)","v":0},0,{"$f":"IF(Mileage!B197=0,0,0)","v":0},{"$f":"IF(Mileage!C197=0,0,0)","v":0},{"$f":"IF(Mileage!C197=0,0,0)","v":0},{"$f":"IF(Mileage!C197=0,0,0)","v":0},{"$f":"IF(Mileage!C197=0,0,0)","v":0},{"$f":"IF(Mileage!E197=0,0,0)","v":0},{"$f":"IF(Mileage!C197=0,0,0)","v":0}]
[{"$f":"IF(Mileage!C198=\"\",0,Mileage!C198)","v":0},{"$f":"IF(Mileage!D198=\"\",0,Mileage!D198)","v":0},{"$f":"IF(Mileage!C198=\"\",0,Mileage!J198)","v":0},{"$f":"IF(A198>0,A198&B198,0)","v":0},{"$f":"IF(Mileage!B198=0,0,0)","v":0},{"$f":"IF(Mileage!C198=0,0,0)","v":0},{"$f":"IF(Mileage!C198=0,0,0)","v":0},{"$f":"IF(Mileage!C198=0,0,0)","v":0},{"$f":"IF(Mileage!C198=0,0,0)","v":0},{"$f":"IF(Mileage!E198=0,0,0)","v":0},{"$f":"IF(Mileage!C198=0,0,0)","v":0}]
[{"$f":"IF(Mileage!C199=\"\",0,Mileage!C199)","v":0},{"$f":"IF(Mileage!D199=\"\",0,Mileage!D199)","v":0},{"$f":"IF(Mileage!C199=\"\",0,Mileage!J199)","v":0},0,{"$f":"IF(Mileage!B199=0,0,0)","v":0},{"$f":"IF(Mileage!C199=0,0,0)","v":0},{"$f":"IF(Mileage!C199=0,0,0)","v":0},{"$f":"IF(Mileage!C199=0,0,0)","v":0},{"$f":"IF(Mileage!C199=0,0,0)","v":0},{"$f":"IF(Mileage!E199=0,0,0)","v":0},{"$f":"IF(Mileage!C199=0,0,0)","v":0}]
[{"$f":"IF(Mileage!C200=\"\",0,Mileage!C200)","v":0},{"$f":"IF(Mileage!D200=\"\",0,Mileage!D200)","v":0},{"$f":"IF(Mileage!C200=\"\",0,Mileage!J200)","v":0},0,{"$f":"IF(Mileage!B200=0,0,0)","v":0},{"$f":"IF(Mileage!C200=0,0,0)","v":0},{"$f":"IF(Mileage!C200=0,0,0)","v":0},{"$f":"IF(Mileage!C200=0,0,0)","v":0},{"$f":"IF(Mileage!C200=0,0,0)","v":0},{"$f":"IF(Mileage!E200=0,0,0)","v":0},{"$f":"IF(Mileage!C200=0,0,0)","v":0}]
[{"$f":"IF(Mileage!C201=\"\",0,Mileage!C201)","v":0},{"$f":"IF(Mileage!D201=\"\",0,Mileage!D201)","v":0},{"$f":"IF(Mileage!C201=\"\",0,Mileage!J201)","v":0},0,{"$f":"IF(Mileage!B201=0,0,0)","v":0},{"$f":"IF(Mileage!C201=0,0,0)","v":0},{"$f":"IF(Mileage!C201=0,0,0)","v":0},{"$f":"IF(Mileage!C201=0,0,0)","v":0},{"$f":"IF(Mileage!C201=0,0,0)","v":0},{"$f":"IF(Mileage!E201=0,0,0)","v":0},{"$f":"IF(Mileage!C201=0,0,0)","v":0}]
[{"$f":"IF(Mileage!C202=\"\",0,Mileage!C202)","v":0},{"$f":"IF(Mileage!D202=\"\",0,Mileage!D202)","v":0},{"$f":"IF(Mileage!C202=\"\",0,Mileage!J202)","v":0},0,{"$f":"IF(Mileage!B202=0,0,0)","v":0},{"$f":"IF(Mileage!C202=0,0,0)","v":0},{"$f":"IF(Mileage!C202=0,0,0)","v":0},{"$f":"IF(Mileage!C202=0,0,0)","v":0},{"$f":"IF(Mileage!C202=0,0,0)","v":0},{"$f":"IF(Mileage!E202=0,0,0)","v":0},{"$f":"IF(Mileage!C202=0,0,0)","v":0}]
[{"$f":"IF(Mileage!C203=\"\",0,Mileage!C203)","v":0},{"$f":"IF(Mileage!D203=\"\",0,Mileage!D203)","v":0},{"$f":"IF(Mileage!C203=\"\",0,Mileage!J203)","v":0},0,{"$f":"IF(Mileage!B203=0,0,0)","v":0},{"$f":"IF(Mileage!C203=0,0,0)","v":0},{"$f":"IF(Mileage!C203=0,0,0)","v":0},{"$f":"IF(Mileage!C203=0,0,0)","v":0},{"$f":"IF(Mileage!C203=0,0,0)","v":0},{"$f":"IF(Mileage!E203=0,0,0)","v":0},{"$f":"IF(Mileage!C203=0,0,0)","v":0}]
[{"$f":"IF(Mileage!C204=\"\",0,Mileage!C204)","v":0},{"$f":"IF(Mileage!D204=\"\",0,Mileage!D204)","v":0},{"$f":"IF(Mileage!C204=\"\",0,Mileage!J204)","v":0},0,{"$f":"IF(Mileage!B204=0,0,0)","v":0},{"$f":"IF(Mileage!C204=0,0,0)","v":0},{"$f":"IF(Mileage!C204=0,0,0)","v":0},{"$f":"IF(Mileage!C204=0,0,0)","v":0},{"$f":"IF(Mileage!C204=0,0,0)","v":0},{"$f":"IF(Mileage!E204=0,0,0)","v":0},{"$f":"IF(Mileage!C204=0,0,0)","v":0}]
[{"$f":"IF(Mileage!C205=\"\",0,Mileage!C205)","v":0},{"$f":"IF(Mileage!D205=\"\",0,Mileage!D205)","v":0},{"$f":"IF(Mileage!C205=\"\",0,Mileage!J205)","v":0},0,{"$f":"IF(Mileage!B205=0,0,0)","v":0},{"$f":"IF(Mileage!C205=0,0,0)","v":0},{"$f":"IF(Mileage!C205=0,0,0)","v":0},{"$f":"IF(Mileage!C205=0,0,0)","v":0},{"$f":"IF(Mileage!C205=0,0,0)","v":0},{"$f":"IF(Mileage!E205=0,0,0)","v":0},{"$f":"IF(Mileage!C205=0,0,0)","v":0}]
[{"$f":"IF(Mileage!C206=\"\",0,Mileage!C206)","v":0},{"$f":"IF(Mileage!D206=\"\",0,Mileage!D206)","v":0},{"$f":"IF(Mileage!C206=\"\",0,Mileage!J206)","v":0},0,{"$f":"IF(Mileage!B206=0,0,0)","v":0},{"$f":"IF(Mileage!C206=0,0,0)","v":0},{"$f":"IF(Mileage!C206=0,0,0)","v":0},{"$f":"IF(Mileage!C206=0,0,0)","v":0},{"$f":"IF(Mileage!C206=0,0,0)","v":0},{"$f":"IF(Mileage!E206=0,0,0)","v":0},{"$f":"IF(Mileage!C206=0,0,0)","v":0}]
[{"$f":"IF(Mileage!C207=\"\",0,Mileage!C207)","v":0},{"$f":"IF(Mileage!D207=\"\",0,Mileage!D207)","v":0},{"$f":"IF(Mileage!C207=\"\",0,Mileage!J207)","v":0},0,{"$f":"IF(Mileage!B207=0,0,0)","v":0},{"$f":"IF(Mileage!C207=0,0,0)","v":0},{"$f":"IF(Mileage!C207=0,0,0)","v":0},{"$f":"IF(Mileage!C207=0,0,0)","v":0},{"$f":"IF(Mileage!C207=0,0,0)","v":0},{"$f":"IF(Mileage!E207=0,0,0)","v":0},{"$f":"IF(Mileage!C207=0,0,0)","v":0}]
[{"$f":"IF(Mileage!C208=\"\",0,Mileage!C208)","v":0},{"$f":"IF(Mileage!D208=\"\",0,Mileage!D208)","v":0},{"$f":"IF(Mileage!C208=\"\",0,Mileage!J208)","v":0},0,{"$f":"IF(Mileage!B208=0,0,0)","v":0},{"$f":"IF(Mileage!C208=0,0,0)","v":0},{"$f":"IF(Mileage!C208=0,0,0)","v":0},{"$f":"IF(Mileage!C208=0,0,0)","v":0},{"$f":"IF(Mileage!C208=0,0,0)","v":0},{"$f":"IF(Mileage!E208=0,0,0)","v":0},{"$f":"IF(Mileage!C208=0,0,0)","v":0}]
[{"$f":"IF(Mileage!C209=\"\",0,Mileage!C209)","v":0},{"$f":"IF(Mileage!D209=\"\",0,Mileage!D209)","v":0},{"$f":"IF(Mileage!C209=\"\",0,Mileage!J209)","v":0},0,{"$f":"IF(Mileage!B209=0,0,0)","v":0},{"$f":"IF(Mileage!C209=0,0,0)","v":0},{"$f":"IF(Mileage!C209=0,0,0)","v":0},{"$f":"IF(Mileage!C209=0,0,0)","v":0},{"$f":"IF(Mileage!C209=0,0,0)","v":0},{"$f":"IF(Mileage!E209=0,0,0)","v":0},{"$f":"IF(Mileage!C209=0,0,0)","v":0}]
[{"$f":"IF(Mileage!C210=\"\",0,Mileage!C210)","v":0},{"$f":"IF(Mileage!D210=\"\",0,Mileage!D210)","v":0},{"$f":"IF(Mileage!C210=\"\",0,Mileage!J210)","v":0},0,{"$f":"IF(Mileage!B210=0,0,0)","v":0},{"$f":"IF(Mileage!C210=0,0,0)","v":0},{"$f":"IF(Mileage!C210=0,0,0)","v":0},{"$f":"IF(Mileage!C210=0,0,0)","v":0},{"$f":"IF(Mileage!C210=0,0,0)","v":0},{"$f":"IF(Mileage!E210=0,0,0)","v":0},{"$f":"IF(Mileage!C210=0,0,0)","v":0}]
[{"$f":"IF(Mileage!C211=\"\",0,Mileage!C211)","v":0},{"$f":"IF(Mileage!D211=\"\",0,Mileage!D211)","v":0},{"$f":"IF(Mileage!C211=\"\",0,Mileage!J211)","v":0},0,{"$f":"IF(Mileage!B211=0,0,0)","v":0},{"$f":"IF(Mileage!C211=0,0,0)","v":0},{"$f":"IF(Mileage!C211=0,0,0)","v":0},{"$f":"IF(Mileage!C211=0,0,0)","v":0},{"$f":"IF(Mileage!C211=0,0,0)","v":0},{"$f":"IF(Mileage!E211=0,0,0)","v":0},{"$f":"IF(Mileage!C211=0,0,0)","v":0}]
[{"$f":"IF(Mileage!C212=\"\",0,Mileage!C212)","v":0},{"$f":"IF(Mileage!D212=\"\",0,Mileage!D212)","v":0},{"$f":"IF(Mileage!C212=\"\",0,Mileage!J212)","v":0},0,{"$f":"IF(Mileage!B212=0,0,0)","v":0},{"$f":"IF(Mileage!C212=0,0,0)","v":0},{"$f":"IF(Mileage!C212=0,0,0)","v":0},{"$f":"IF(Mileage!C212=0,0,0)","v":0},{"$f":"IF(Mileage!C212=0,0,0)","v":0},{"$f":"IF(Mileage!E212=0,0,0)","v":0},{"$f":"IF(Mileage!C212=0,0,0)","v":0}]
[{"$f":"IF(Mileage!C213=\"\",0,Mileage!C213)","v":0},{"$f":"IF(Mileage!D213=\"\",0,Mileage!D213)","v":0},{"$f":"IF(Mileage!C213=\"\",0,Mileage!J213)","v":0},0,{"$f":"IF(Mileage!B213=0,0,0)","v":0},{"$f":"IF(Mileage!C213=0,0,0)","v":0},{"$f":"IF(Mileage!C213=0,0,0)","v":0},{"$f":"IF(Mileage!C213=0,0,0)","v":0},{"$f":"IF(Mileage!C213=0,0,0)","v":0},{"$f":"IF(Mileage!E213=0,0,0)","v":0},{"$f":"IF(Mileage!C213=0,0,0)","v":0}]
[{"$f":"IF(Mileage!C214=\"\",0,Mileage!C214)","v":0},{"$f":"IF(Mileage!D214=\"\",0,Mileage!D214)","v":0},{"$f":"IF(Mileage!C214=\"\",0,Mileage!J214)","v":0},0,{"$f":"IF(Mileage!B214=0,0,0)","v":0},{"$f":"IF(Mileage!C214=0,0,0)","v":0},{"$f":"IF(Mileage!C214=0,0,0)","v":0},{"$f":"IF(Mileage!C214=0,0,0)","v":0},{"$f":"IF(Mileage!C214=0,0,0)","v":0},{"$f":"IF(Mileage!E214=0,0,0)","v":0},{"$f":"IF(Mileage!C214=0,0,0)","v":0}]
[{"$f":"IF(Mileage!C215=\"\",0,Mileage!C215)","v":0},{"$f":"IF(Mileage!D215=\"\",0,Mileage!D215)","v":0},{"$f":"IF(Mileage!C215=\"\",0,Mileage!J215)","v":0},0,{"$f":"IF(Mileage!B215=0,0,0)","v":0},{"$f":"IF(Mileage!C215=0,0,0)","v":0},{"$f":"IF(Mileage!C215=0,0,0)","v":0},{"$f":"IF(Mileage!C215=0,0,0)","v":0},{"$f":"IF(Mileage!C215=0,0,0)","v":0},{"$f":"IF(Mileage!E215=0,0,0)","v":0},{"$f":"IF(Mileage!C215=0,0,0)","v":0}]
[{"$f":"IF(Mileage!C216=\"\",0,Mileage!C216)","v":0},{"$f":"IF(Mileage!D216=\"\",0,Mileage!D216)","v":0},{"$f":"IF(Mileage!C216=\"\",0,Mileage!J216)","v":0},0,{"$f":"IF(Mileage!B216=0,0,0)","v":0},{"$f":"IF(Mileage!C216=0,0,0)","v":0},{"$f":"IF(Mileage!C216=0,0,0)","v":0},{"$f":"IF(Mileage!C216=0,0,0)","v":0},{"$f":"IF(Mileage!C216=0,0,0)","v":0},{"$f":"IF(Mileage!E216=0,0,0)","v":0},{"$f":"IF(Mileage!C216=0,0,0)","v":0}]
[{"$f":"IF(Mileage!C217=\"\",0,Mileage!C217)","v":0},{"$f":"IF(Mileage!D217=\"\",0,Mileage!D217)","v":0},{"$f":"IF(Mileage!C217=\"\",0,Mileage!J217)","v":0},0,{"$f":"IF(Mileage!B217=0,0,0)","v":0},{"$f":"IF(Mileage!C217=0,0,0)","v":0},{"$f":"IF(Mileage!C217=0,0,0)","v":0},{"$f":"IF(Mileage!C217=0,0,0)","v":0},{"$f":"IF(Mileage!C217=0,0,0)","v":0},{"$f":"IF(Mileage!E217=0,0,0)","v":0},{"$f":"IF(Mileage!C217=0,0,0)","v":0}]
[{"$f":"IF(Mileage!C218=\"\",0,Mileage!C218)","v":0},{"$f":"IF(Mileage!D218=\"\",0,Mileage!D218)","v":0},{"$f":"IF(Mileage!C218=\"\",0,Mileage!J218)","v":0},0,{"$f":"IF(Mileage!B218=0,0,0)","v":0},{"$f":"IF(Mileage!C218=0,0,0)","v":0},{"$f":"IF(Mileage!C218=0,0,0)","v":0},{"$f":"IF(Mileage!C218=0,0,0)","v":0},{"$f":"IF(Mileage!C218=0,0,0)","v":0},{"$f":"IF(Mileage!E218=0,0,0)","v":0},{"$f":"IF(Mileage!C218=0,0,0)","v":0}]
[{"$f":"IF(Mileage!C219=\"\",0,Mileage!C219)","v":0},{"$f":"IF(Mileage!D219=\"\",0,Mileage!D219)","v":0},{"$f":"IF(Mileage!C219=\"\",0,Mileage!J219)","v":0},0,{"$f":"IF(Mileage!B219=0,0,0)","v":0},{"$f":"IF(Mileage!C219=0,0,0)","v":0},{"$f":"IF(Mileage!C219=0,0,0)","v":0},{"$f":"IF(Mileage!C219=0,0,0)","v":0},{"$f":"IF(Mileage!C219=0,0,0)","v":0},{"$f":"IF(Mileage!E219=0,0,0)","v":0},{"$f":"IF(Mileage!C219=0,0,0)","v":0}]
[{"$f":"IF(Mileage!C220=\"\",0,Mileage!C220)","v":0},{"$f":"IF(Mileage!D220=\"\",0,Mileage!D220)","v":0},{"$f":"IF(Mileage!C220=\"\",0,Mileage!J220)","v":0},0,{"$f":"IF(Mileage!B220=0,0,0)","v":0},{"$f":"IF(Mileage!C220=0,0,0)","v":0},{"$f":"IF(Mileage!C220=0,0,0)","v":0},{"$f":"IF(Mileage!C220=0,0,0)","v":0},{"$f":"IF(Mileage!C220=0,0,0)","v":0},{"$f":"IF(Mileage!E220=0,0,0)","v":0},{"$f":"IF(Mileage!C220=0,0,0)","v":0}]
[{"$f":"IF(Mileage!C221=\"\",0,Mileage!C221)","v":0},{"$f":"IF(Mileage!D221=\"\",0,Mileage!D221)","v":0},{"$f":"IF(Mileage!C221=\"\",0,Mileage!J221)","v":0},0,{"$f":"IF(Mileage!B221=0,0,0)","v":0},{"$f":"IF(Mileage!C221=0,0,0)","v":0},{"$f":"IF(Mileage!C221=0,0,0)","v":0},{"$f":"IF(Mileage!C221=0,0,0)","v":0},{"$f":"IF(Mileage!C221=0,0,0)","v":0},{"$f":"IF(Mileage!E221=0,0,0)","v":0},{"$f":"IF(Mileage!C221=0,0,0)","v":0}]
[{"$f":"IF(Mileage!C222=\"\",0,Mileage!C222)","v":0},{"$f":"IF(Mileage!D222=\"\",0,Mileage!D222)","v":0},{"$f":"IF(Mileage!C222=\"\",0,Mileage!J222)","v":0},0,{"$f":"IF(Mileage!B222=0,0,0)","v":0},{"$f":"IF(Mileage!C222=0,0,0)","v":0},{"$f":"IF(Mileage!C222=0,0,0)","v":0},{"$f":"IF(Mileage!C222=0,0,0)","v":0},{"$f":"IF(Mileage!C222=0,0,0)","v":0},{"$f":"IF(Mileage!E222=0,0,0)","v":0},{"$f":"IF(Mileage!C222=0,0,0)","v":0}]
[{"$f":"IF(Mileage!C223=\"\",0,Mileage!C223)","v":0},{"$f":"IF(Mileage!D223=\"\",0,Mileage!D223)","v":0},{"$f":"IF(Mileage!C223=\"\",0,Mileage!J223)","v":0},0,{"$f":"IF(Mileage!B223=0,0,0)","v":0},{"$f":"IF(Mileage!C223=0,0,0)","v":0},{"$f":"IF(Mileage!C223=0,0,0)","v":0},{"$f":"IF(Mileage!C223=0,0,0)","v":0},{"$f":"IF(Mileage!C223=0,0,0)","v":0},{"$f":"IF(Mileage!E223=0,0,0)","v":0},{"$f":"IF(Mileage!C223=0,0,0)","v":0}]
[{"$f":"IF(Mileage!C224=\"\",0,Mileage!C224)","v":0},{"$f":"IF(Mileage!D224=\"\",0,Mileage!D224)","v":0},{"$f":"IF(Mileage!C224=\"\",0,Mileage!J224)","v":0},0,{"$f":"IF(Mileage!B224=0,0,0)","v":0},{"$f":"IF(Mileage!C224=0,0,0)","v":0},{"$f":"IF(Mileage!C224=0,0,0)","v":0},{"$f":"IF(Mileage!C224=0,0,0)","v":0},{"$f":"IF(Mileage!C224=0,0,0)","v":0},{"$f":"IF(Mileage!E224=0,0,0)","v":0},{"$f":"IF(Mileage!C224=0,0,0)","v":0}]
[{"$f":"IF(Mileage!C225=\"\",0,Mileage!C225)","v":0},{"$f":"IF(Mileage!D225=\"\",0,Mileage!D225)","v":0},{"$f":"IF(Mileage!C225=\"\",0,Mileage!J225)","v":0},0,{"$f":"IF(Mileage!B225=0,0,0)","v":0},{"$f":"IF(Mileage!C225=0,0,0)","v":0},{"$f":"IF(Mileage!C225=0,0,0)","v":0},{"$f":"IF(Mileage!C225=0,0,0)","v":0},{"$f":"IF(Mileage!C225=0,0,0)","v":0},{"$f":"IF(Mileage!E225=0,0,0)","v":0},{"$f":"IF(Mileage!C225=0,0,0)","v":0}]
[{"$f":"IF(Mileage!C226=\"\",0,Mileage!C226)","v":0},{"$f":"IF(Mileage!D226=\"\",0,Mileage!D226)","v":0},{"$f":"IF(Mileage!C226=\"\",0,Mileage!J226)","v":0},0,{"$f":"IF(Mileage!B226=0,0,0)","v":0},{"$f":"IF(Mileage!C226=0,0,0)","v":0},{"$f":"IF(Mileage!C226=0,0,0)","v":0},{"$f":"IF(Mileage!C226=0,0,0)","v":0},{"$f":"IF(Mileage!C226=0,0,0)","v":0},{"$f":"IF(Mileage!E226=0,0,0)","v":0},{"$f":"IF(Mileage!C226=0,0,0)","v":0}]
[{"$f":"IF(Mileage!C227=\"\",0,Mileage!C227)","v":0},{"$f":"IF(Mileage!D227=\"\",0,Mileage!D227)","v":0},{"$f":"IF(Mileage!C227=\"\",0,Mileage!J227)","v":0},0,{"$f":"IF(Mileage!B227=0,0,0)","v":0},{"$f":"IF(Mileage!C227=0,0,0)","v":0},{"$f":"IF(Mileage!C227=0,0,0)","v":0},{"$f":"IF(Mileage!C227=0,0,0)","v":0},{"$f":"IF(Mileage!C227=0,0,0)","v":0},{"$f":"IF(Mileage!E227=0,0,0)","v":0},{"$f":"IF(Mileage!C227=0,0,0)","v":0}]
[{"$f":"IF(Mileage!C228=\"\",0,Mileage!C228)","v":0},{"$f":"IF(Mileage!D228=\"\",0,Mileage!D228)","v":0},{"$f":"IF(Mileage!C228=\"\",0,Mileage!J228)","v":0},0,{"$f":"IF(Mileage!B228=0,0,0)","v":0},{"$f":"IF(Mileage!C228=0,0,0)","v":0},{"$f":"IF(Mileage!C228=0,0,0)","v":0},{"$f":"IF(Mileage!C228=0,0,0)","v":0},{"$f":"IF(Mileage!C228=0,0,0)","v":0},{"$f":"IF(Mileage!E228=0,0,0)","v":0},{"$f":"IF(Mileage!C228=0,0,0)","v":0}]
[{"$f":"IF(Mileage!C229=\"\",0,Mileage!C229)","v":0},{"$f":"IF(Mileage!D229=\"\",0,Mileage!D229)","v":0},{"$f":"IF(Mileage!C229=\"\",0,Mileage!J229)","v":0},0,{"$f":"IF(Mileage!B229=0,0,0)","v":0},{"$f":"IF(Mileage!C229=0,0,0)","v":0},{"$f":"IF(Mileage!C229=0,0,0)","v":0},{"$f":"IF(Mileage!C229=0,0,0)","v":0},{"$f":"IF(Mileage!C229=0,0,0)","v":0},{"$f":"IF(Mileage!E229=0,0,0)","v":0},{"$f":"IF(Mileage!C229=0,0,0)","v":0}]
[{"$f":"IF(Mileage!C230=\"\",0,Mileage!C230)","v":0},{"$f":"IF(Mileage!D230=\"\",0,Mileage!D230)","v":0},{"$f":"IF(Mileage!C230=\"\",0,Mileage!J230)","v":0},0,{"$f":"IF(Mileage!B230=0,0,0)","v":0},{"$f":"IF(Mileage!C230=0,0,0)","v":0},{"$f":"IF(Mileage!C230=0,0,0)","v":0},{"$f":"IF(Mileage!C230=0,0,0)","v":0},{"$f":"IF(Mileage!C230=0,0,0)","v":0},{"$f":"IF(Mileage!E230=0,0,0)","v":0},{"$f":"IF(Mileage!C230=0,0,0)","v":0}]
[{"$f":"IF(Mileage!C231=\"\",0,Mileage!C231)","v":0},{"$f":"IF(Mileage!D231=\"\",0,Mileage!D231)","v":0},{"$f":"IF(Mileage!C231=\"\",0,Mileage!J231)","v":0},0,{"$f":"IF(Mileage!B231=0,0,0)","v":0},{"$f":"IF(Mileage!C231=0,0,0)","v":0},{"$f":"IF(Mileage!C231=0,0,0)","v":0},{"$f":"IF(Mileage!C231=0,0,0)","v":0},{"$f":"IF(Mileage!C231=0,0,0)","v":0},{"$f":"IF(Mileage!E231=0,0,0)","v":0},{"$f":"IF(Mileage!C231=0,0,0)","v":0}]
[{"$f":"IF(Mileage!C232=\"\",0,Mileage!C232)","v":0},{"$f":"IF(Mileage!D232=\"\",0,Mileage!D232)","v":0},{"$f":"IF(Mileage!C232=\"\",0,Mileage!J232)","v":0},0,{"$f":"IF(Mileage!B232=0,0,0)","v":0},{"$f":"IF(Mileage!C232=0,0,0)","v":0},{"$f":"IF(Mileage!C232=0,0,0)","v":0},{"$f":"IF(Mileage!C232=0,0,0)","v":0},{"$f":"IF(Mileage!C232=0,0,0)","v":0},{"$f":"IF(Mileage!E232=0,0,0)","v":0},{"$f":"IF(Mileage!C232=0,0,0)","v":0}]
[{"$f":"IF(Mileage!C233=\"\",0,Mileage!C233)","v":0},{"$f":"IF(Mileage!D233=\"\",0,Mileage!D233)","v":0},{"$f":"IF(Mileage!C233=\"\",0,Mileage!J233)","v":0},0,{"$f":"IF(Mileage!B233=0,0,0)","v":0},{"$f":"IF(Mileage!C233=0,0,0)","v":0},{"$f":"IF(Mileage!C233=0,0,0)","v":0},{"$f":"IF(Mileage!C233=0,0,0)","v":0},{"$f":"IF(Mileage!C233=0,0,0)","v":0},{"$f":"IF(Mileage!E233=0,0,0)","v":0},{"$f":"IF(Mileage!C233=0,0,0)","v":0}]
[{"$f":"IF(Mileage!C234=\"\",0,Mileage!C234)","v":0},{"$f":"IF(Mileage!D234=\"\",0,Mileage!D234)","v":0},{"$f":"IF(Mileage!C234=\"\",0,Mileage!J234)","v":0},0,{"$f":"IF(Mileage!B234=0,0,0)","v":0},{"$f":"IF(Mileage!C234=0,0,0)","v":0},{"$f":"IF(Mileage!C234=0,0,0)","v":0},{"$f":"IF(Mileage!C234=0,0,0)","v":0},{"$f":"IF(Mileage!C234=0,0,0)","v":0},{"$f":"IF(Mileage!E234=0,0,0)","v":0},{"$f":"IF(Mileage!C234=0,0,0)","v":0}]
[{"$f":"IF(Mileage!C235=\"\",0,Mileage!C235)","v":0},{"$f":"IF(Mileage!D235=\"\",0,Mileage!D235)","v":0},{"$f":"IF(Mileage!C235=\"\",0,Mileage!J235)","v":0},0,{"$f":"IF(Mileage!B235=0,0,0)","v":0},{"$f":"IF(Mileage!C235=0,0,0)","v":0},{"$f":"IF(Mileage!C235=0,0,0)","v":0},{"$f":"IF(Mileage!C235=0,0,0)","v":0},{"$f":"IF(Mileage!C235=0,0,0)","v":0},{"$f":"IF(Mileage!E235=0,0,0)","v":0},{"$f":"IF(Mileage!C235=0,0,0)","v":0}]
[{"$f":"IF(Mileage!C236=\"\",0,Mileage!C236)","v":0},{"$f":"IF(Mileage!D236=\"\",0,Mileage!D236)","v":0},{"$f":"IF(Mileage!C236=\"\",0,Mileage!J236)","v":0},0,{"$f":"IF(Mileage!B236=0,0,0)","v":0},{"$f":"IF(Mileage!C236=0,0,0)","v":0},{"$f":"IF(Mileage!C236=0,0,0)","v":0},{"$f":"IF(Mileage!C236=0,0,0)","v":0},{"$f":"IF(Mileage!C236=0,0,0)","v":0},{"$f":"IF(Mileage!E236=0,0,0)","v":0},{"$f":"IF(Mileage!C236=0,0,0)","v":0}]
[{"$f":"IF(Mileage!C237=\"\",0,Mileage!C237)","v":0},{"$f":"IF(Mileage!D237=\"\",0,Mileage!D237)","v":0},{"$f":"IF(Mileage!C237=\"\",0,Mileage!J237)","v":0},0,{"$f":"IF(Mileage!B237=0,0,0)","v":0},{"$f":"IF(Mileage!C237=0,0,0)","v":0},{"$f":"IF(Mileage!C237=0,0,0)","v":0},{"$f":"IF(Mileage!C237=0,0,0)","v":0},{"$f":"IF(Mileage!C237=0,0,0)","v":0},{"$f":"IF(Mileage!E237=0,0,0)","v":0},{"$f":"IF(Mileage!C237=0,0,0)","v":0}]
[{"$f":"IF(Mileage!C238=\"\",0,Mileage!C238)","v":0},{"$f":"IF(Mileage!D238=\"\",0,Mileage!D238)","v":0},{"$f":"IF(Mileage!C238=\"\",0,Mileage!J238)","v":0},0,{"$f":"IF(Mileage!B238=0,0,0)","v":0},{"$f":"IF(Mileage!C238=0,0,0)","v":0},{"$f":"IF(Mileage!C238=0,0,0)","v":0},{"$f":"IF(Mileage!C238=0,0,0)","v":0},{"$f":"IF(Mileage!C238=0,0,0)","v":0},{"$f":"IF(Mileage!E238=0,0,0)","v":0},{"$f":"IF(Mileage!C238=0,0,0)","v":0}]
[{"$f":"IF(Expenses!C5=\"\",0,Expenses!C5)","v":0},{"$f":"IF(Expenses!D5=\"\",0,Expenses!D5)","v":0},{"$f":"IF(Mileage!C239=\"\",0,Mileage!J239)","v":0},{"$f":"IF(A239>0,A239&B239,0)","v":0},{"$f":"Expenses!E5","v":0},{"$f":"Expenses!F5+Expenses!G5+Expenses!H5","v":0},{"$f":"Expenses!I5","v":0},{"$f":"Expenses!J5","v":0},{"$f":"Expenses!K5","v":0},{"$f":"Expenses!L5","v":0},{"$f":"Expenses!M5","v":0}]
[{"$f":"IF(Expenses!C6=\"\",0,Expenses!C6)","v":0},{"$f":"IF(Expenses!D6=\"\",0,Expenses!D6)","v":0},{"$f":"IF(Mileage!C240=\"\",0,Mileage!J240)","v":0},{"$f":"IF(A240>0,A240&B240,0)","v":0},{"$f":"Expenses!E6","v":0},{"$f":"Expenses!F6+Expenses!G6+Expenses!H6","v":0},{"$f":"Expenses!I6","v":0},{"$f":"Expenses!J6","v":0},{"$f":"Expenses!K6","v":0},{"$f":"Expenses!L6","v":0},{"$f":"Expenses!M6","v":0}]
[{"$f":"IF(Expenses!C7=\"\",0,Expenses!C7)","v":0},{"$f":"IF(Expenses!D7=\"\",0,Expenses!D7)","v":0},{"$f":"IF(Mileage!C241=\"\",0,Mileage!J241)","v":0},0,{"$f":"Expenses!E7","v":0},{"$f":"Expenses!F7+Expenses!G7+Expenses!H7","v":0},{"$f":"Expenses!I7","v":0},{"$f":"Expenses!J7","v":0},{"$f":"Expenses!K7","v":0},{"$f":"Expenses!L7","v":0},{"$f":"Expenses!M7","v":0}]
[{"$f":"IF(Expenses!C8=\"\",0,Expenses!C8)","v":0},{"$f":"IF(Expenses!D8=\"\",0,Expenses!D8)","v":0},{"$f":"IF(Mileage!C242=\"\",0,Mileage!J242)","v":0},0,{"$f":"Expenses!E8","v":0},{"$f":"Expenses!F8+Expenses!G8+Expenses!H8","v":0},{"$f":"Expenses!I8","v":0},{"$f":"Expenses!J8","v":0},{"$f":"Expenses!K8","v":0},{"$f":"Expenses!L8","v":0},{"$f":"Expenses!M8","v":0}]
[{"$f":"IF(Expenses!C9=\"\",0,Expenses!C9)","v":0},{"$f":"IF(Expenses!D9=\"\",0,Expenses!D9)","v":0},{"$f":"IF(Mileage!C243=\"\",0,Mileage!J243)","v":0},0,{"$f":"Expenses!E9","v":0},{"$f":"Expenses!F9+Expenses!G9+Expenses!H9","v":0},{"$f":"Expenses!I9","v":0},{"$f":"Expenses!J9","v":0},{"$f":"Expenses!K9","v":0},{"$f":"Expenses!L9","v":0},{"$f":"Expenses!M9","v":0}]
[{"$f":"IF(Expenses!C10=\"\",0,Expenses!C10)","v":0},{"$f":"IF(Expenses!D10=\"\",0,Expenses!D10)","v":0},{"$f":"IF(Mileage!C244=\"\",0,Mileage!J244)","v":0},0,{"$f":"Expenses!E10","v":0},{"$f":"Expenses!F10+Expenses!G10+Expenses!H10","v":0},{"$f":"Expenses!I10","v":0},{"$f":"Expenses!J10","v":0},{"$f":"Expenses!K10","v":0},{"$f":"Expenses!L10","v":0},{"$f":"Expenses!M10","v":0}]
[{"$f":"IF(Expenses!C11=\"\",0,Expenses!C11)","v":0},{"$f":"IF(Expenses!D11=\"\",0,Expenses!D11)","v":0},{"$f":"IF(Mileage!C245=\"\",0,Mileage!J245)","v":0},0,{"$f":"Expenses!E11","v":0},{"$f":"Expenses!F11+Expenses!G11+Expenses!H11","v":0},{"$f":"Expenses!I11","v":0},{"$f":"Expenses!J11","v":0},{"$f":"Expenses!K11","v":0},{"$f":"Expenses!L11","v":0},{"$f":"Expenses!M11","v":0}]
[{"$f":"IF(Expenses!C12=\"\",0,Expenses!C12)","v":0},{"$f":"IF(Expenses!D12=\"\",0,Expenses!D12)","v":0},{"$f":"IF(Mileage!C246=\"\",0,Mileage!J246)","v":0},0,{"$f":"Expenses!E12","v":0},{"$f":"Expenses!F12+Expenses!G12+Expenses!H12","v":0},{"$f":"Expenses!I12","v":0},{"$f":"Expenses!J12","v":0},{"$f":"Expenses!K12","v":0},{"$f":"Expenses!L12","v":0},{"$f":"Expenses!M12","v":0}]
[{"$f":"IF(Expenses!C13=\"\",0,Expenses!C13)","v":0},{"$f":"IF(Expenses!D13=\"\",0,Expenses!D13)","v":0},{"$f":"IF(Mileage!C247=\"\",0,Mileage!J247)","v":0},0,{"$f":"Expenses!E13","v":0},{"$f":"Expenses!F13+Expenses!G13+Expenses!H13","v":0},{"$f":"Expenses!I13","v":0},{"$f":"Expenses!J13","v":0},{"$f":"Expenses!K13","v":0},{"$f":"Expenses!L13","v":0},{"$f":"Expenses!M13","v":0}]
[{"$f":"IF(Expenses!C14=\"\",0,Expenses!C14)","v":0},{"$f":"IF(Expenses!D14=\"\",0,Expenses!D14)","v":0},{"$f":"IF(Mileage!C248=\"\",0,Mileage!J248)","v":0},0,{"$f":"Expenses!E14","v":0},{"$f":"Expenses!F14+Expenses!G14+Expenses!H14","v":0},{"$f":"Expenses!I14","v":0},{"$f":"Expenses!J14","v":0},{"$f":"Expenses!K14","v":0},{"$f":"Expenses!L14","v":0},{"$f":"Expenses!M14","v":0}]
[{"$f":"IF(Expenses!C15=\"\",0,Expenses!C15)","v":0},{"$f":"IF(Expenses!D15=\"\",0,Expenses!D15)","v":0},{"$f":"IF(Mileage!C249=\"\",0,Mileage!J249)","v":0},0,{"$f":"Expenses!E15","v":0},{"$f":"Expenses!F15+Expenses!G15+Expenses!H15","v":0},{"$f":"Expenses!I15","v":0},{"$f":"Expenses!J15","v":0},{"$f":"Expenses!K15","v":0},{"$f":"Expenses!L15","v":0},{"$f":"Expenses!M15","v":0}]
[{"$f":"IF(Expenses!C16=\"\",0,Expenses!C16)","v":0},{"$f":"IF(Expenses!D16=\"\",0,Expenses!D16)","v":0},{"$f":"IF(Mileage!C250=\"\",0,Mileage!J250)","v":0},0,{"$f":"Expenses!E16","v":0},{"$f":"Expenses!F16+Expenses!G16+Expenses!H16","v":0},{"$f":"Expenses!I16","v":0},{"$f":"Expenses!J16","v":0},{"$f":"Expenses!K16","v":0},{"$f":"Expenses!L16","v":0},{"$f":"Expenses!M16","v":0}]
[{"$f":"IF(Expenses!C17=\"\",0,Expenses!C17)","v":0},{"$f":"IF(Expenses!D17=\"\",0,Expenses!D17)","v":0},{"$f":"IF(Mileage!C251=\"\",0,Mileage!J251)","v":0},0,{"$f":"Expenses!E17","v":0},{"$f":"Expenses!F17+Expenses!G17+Expenses!H17","v":0},{"$f":"Expenses!I17","v":0},{"$f":"Expenses!J17","v":0},{"$f":"Expenses!K17","v":0},{"$f":"Expenses!L17","v":0},{"$f":"Expenses!M17","v":0}]
[{"$f":"IF(Expenses!C18=\"\",0,Expenses!C18)","v":0},{"$f":"IF(Expenses!D18=\"\",0,Expenses!D18)","v":0},{"$f":"IF(Mileage!C252=\"\",0,Mileage!J252)","v":0},0,{"$f":"Expenses!E18","v":0},{"$f":"Expenses!F18+Expenses!G18+Expenses!H18","v":0},{"$f":"Expenses!I18","v":0},{"$f":"Expenses!J18","v":0},{"$f":"Expenses!K18","v":0},{"$f":"Expenses!L18","v":0},{"$f":"Expenses!M18","v":0}]
[{"$f":"IF(Expenses!C19=\"\",0,Expenses!C19)","v":0},{"$f":"IF(Expenses!D19=\"\",0,Expenses!D19)","v":0},{"$f":"IF(Mileage!C253=\"\",0,Mileage!J253)","v":0},0,{"$f":"Expenses!E19","v":0},{"$f":"Expenses!F19+Expenses!G19+Expenses!H19","v":0},{"$f":"Expenses!I19","v":0},{"$f":"Expenses!J19","v":0},{"$f":"Expenses!K19","v":0},{"$f":"Expenses!L19","v":0},{"$f":"Expenses!M19","v":0}]
[{"$f":"IF(Expenses!C20=\"\",0,Expenses!C20)","v":0},{"$f":"IF(Expenses!D20=\"\",0,Expenses!D20)","v":0},{"$f":"IF(Mileage!C254=\"\",0,Mileage!J254)","v":0},0,{"$f":"Expenses!E20","v":0},{"$f":"Expenses!F20+Expenses!G20+Expenses!H20","v":0},{"$f":"Expenses!I20","v":0},{"$f":"Expenses!J20","v":0},{"$f":"Expenses!K20","v":0},{"$f":"Expenses!L20","v":0},{"$f":"Expenses!M20","v":0}]
[{"$f":"IF(Expenses!C21=\"\",0,Expenses!C21)","v":0},{"$f":"IF(Expenses!D21=\"\",0,Expenses!D21)","v":0},{"$f":"IF(Mileage!C255=\"\",0,Mileage!J255)","v":0},0,{"$f":"Expenses!E21","v":0},{"$f":"Expenses!F21+Expenses!G21+Expenses!H21","v":0},{"$f":"Expenses!I21","v":0},{"$f":"Expenses!J21","v":0},{"$f":"Expenses!K21","v":0},{"$f":"Expenses!L21","v":0},{"$f":"Expenses!M21","v":0}]
[{"$f":"IF(Expenses!C22=\"\",0,Expenses!C22)","v":0},{"$f":"IF(Expenses!D22=\"\",0,Expenses!D22)","v":0},{"$f":"IF(Mileage!C256=\"\",0,Mileage!J256)","v":0},0,{"$f":"Expenses!E22","v":0},{"$f":"Expenses!F22+Expenses!G22+Expenses!H22","v":0},{"$f":"Expenses!I22","v":0},{"$f":"Expenses!J22","v":0},{"$f":"Expenses!K22","v":0},{"$f":"Expenses!L22","v":0},{"$f":"Expenses!M22","v":0}]
[{"$f":"IF(Expenses!C23=\"\",0,Expenses!C23)","v":0},{"$f":"IF(Expenses!D23=\"\",0,Expenses!D23)","v":0},{"$f":"IF(Mileage!C257=\"\",0,Mileage!J257)","v":0},0,{"$f":"Expenses!E23","v":0},{"$f":"Expenses!F23+Expenses!G23+Expenses!H23","v":0},{"$f":"Expenses!I23","v":0},{"$f":"Expenses!J23","v":0},{"$f":"Expenses!K23","v":0},{"$f":"Expenses!L23","v":0},{"$f":"Expenses!M23","v":0}]
[{"$f":"IF(Expenses!C24=\"\",0,Expenses!C24)","v":0},{"$f":"IF(Expenses!D24=\"\",0,Expenses!D24)","v":0},{"$f":"IF(Mileage!C258=\"\",0,Mileage!J258)","v":0},0,{"$f":"Expenses!E24","v":0},{"$f":"Expenses!F24+Expenses!G24+Expenses!H24","v":0},{"$f":"Expenses!I24","v":0},{"$f":"Expenses!J24","v":0},{"$f":"Expenses!K24","v":0},{"$f":"Expenses!L24","v":0},{"$f":"Expenses!M24","v":0}]
[{"$f":"IF(Expenses!C25=\"\",0,Expenses!C25)","v":0},{"$f":"IF(Expenses!D25=\"\",0,Expenses!D25)","v":0},{"$f":"IF(Mileage!C259=\"\",0,Mileage!J259)","v":0},0,{"$f":"Expenses!E25","v":0},{"$f":"Expenses!F25+Expenses!G25+Expenses!H25","v":0},{"$f":"Expenses!I25","v":0},{"$f":"Expenses!J25","v":0},{"$f":"Expenses!K25","v":0},{"$f":"Expenses!L25","v":0},{"$f":"Expenses!M25","v":0}]
[{"$f":"IF(Expenses!C26=\"\",0,Expenses!C26)","v":0},{"$f":"IF(Expenses!D26=\"\",0,Expenses!D26)","v":0},{"$f":"IF(Mileage!C260=\"\",0,Mileage!J260)","v":0},0,{"$f":"Expenses!E26","v":0},{"$f":"Expenses!F26+Expenses!G26+Expenses!H26","v":0},{"$f":"Expenses!I26","v":0},{"$f":"Expenses!J26","v":0},{"$f":"Expenses!K26","v":0},{"$f":"Expenses!L26","v":0},{"$f":"Expenses!M26","v":0}]
[{"$f":"IF(Expenses!C27=\"\",0,Expenses!C27)","v":0},{"$f":"IF(Expenses!D27=\"\",0,Expenses!D27)","v":0},{"$f":"IF(Mileage!C261=\"\",0,Mileage!J261)","v":0},0,{"$f":"Expenses!E27","v":0},{"$f":"Expenses!F27+Expenses!G27+Expenses!H27","v":0},{"$f":"Expenses!I27","v":0},{"$f":"Expenses!J27","v":0},{"$f":"Expenses!K27","v":0},{"$f":"Expenses!L27","v":0},{"$f":"Expenses!M27","v":0}]
[{"$f":"IF(Expenses!C28=\"\",0,Expenses!C28)","v":0},{"$f":"IF(Expenses!D28=\"\",0,Expenses!D28)","v":0},{"$f":"IF(Mileage!C262=\"\",0,Mileage!J262)","v":0},0,{"$f":"Expenses!E28","v":0},{"$f":"Expenses!F28+Expenses!G28+Expenses!H28","v":0},{"$f":"Expenses!I28","v":0},{"$f":"Expenses!J28","v":0},{"$f":"Expenses!K28","v":0},{"$f":"Expenses!L28","v":0},{"$f":"Expenses!M28","v":0}]
[{"$f":"IF(Expenses!C29=\"\",0,Expenses!C29)","v":0},{"$f":"IF(Expenses!D29=\"\",0,Expenses!D29)","v":0},{"$f":"IF(Mileage!C263=\"\",0,Mileage!J263)","v":0},0,{"$f":"Expenses!E29","v":0},{"$f":"Expenses!F29+Expenses!G29+Expenses!H29","v":0},{"$f":"Expenses!I29","v":0},{"$f":"Expenses!J29","v":0},{"$f":"Expenses!K29","v":0},{"$f":"Expenses!L29","v":0},{"$f":"Expenses!M29","v":0}]
[{"$f":"IF(Expenses!C30=\"\",0,Expenses!C30)","v":0},{"$f":"IF(Expenses!D30=\"\",0,Expenses!D30)","v":0},{"$f":"IF(Mileage!C264=\"\",0,Mileage!J264)","v":0},0,{"$f":"Expenses!E30","v":0},{"$f":"Expenses!F30+Expenses!G30+Expenses!H30","v":0},{"$f":"Expenses!I30","v":0},{"$f":"Expenses!J30","v":0},{"$f":"Expenses!K30","v":0},{"$f":"Expenses!L30","v":0},{"$f":"Expenses!M30","v":0}]
[{"$f":"IF(Expenses!C31=\"\",0,Expenses!C31)","v":0},{"$f":"IF(Expenses!D31=\"\",0,Expenses!D31)","v":0},{"$f":"IF(Mileage!C265=\"\",0,Mileage!J265)","v":0},0,{"$f":"Expenses!E31","v":0},{"$f":"Expenses!F31+Expenses!G31+Expenses!H31","v":0},{"$f":"Expenses!I31","v":0},{"$f":"Expenses!J31","v":0},{"$f":"Expenses!K31","v":0},{"$f":"Expenses!L31","v":0},{"$f":"Expenses!M31","v":0}]
[{"$f":"IF(Expenses!C32=\"\",0,Expenses!C32)","v":0},{"$f":"IF(Expenses!D32=\"\",0,Expenses!D32)","v":0},{"$f":"IF(Mileage!C266=\"\",0,Mileage!J266)","v":0},0,{"$f":"Expenses!E32","v":0},{"$f":"Expenses!F32+Expenses!G32+Expenses!H32","v":0},{"$f":"Expenses!I32","v":0},{"$f":"Expenses!J32","v":0},{"$f":"Expenses!K32","v":0},{"$f":"Expenses!L32","v":0},{"$f":"Expenses!M32","v":0}]
[{"$f":"IF(Expenses!C33=\"\",0,Expenses!C33)","v":0},{"$f":"IF(Expenses!D33=\"\",0,Expenses!D33)","v":0},{"$f":"IF(Mileage!C267=\"\",0,Mileage!J267)","v":0},0,{"$f":"Expenses!E33","v":0},{"$f":"Expenses!F33+Expenses!G33+Expenses!H33","v":0},{"$f":"Expenses!I33","v":0},{"$f":"Expenses!J33","v":0},{"$f":"Expenses!K33","v":0},{"$f":"Expenses!L33","v":0},{"$f":"Expenses!M33","v":0}]
[{"$f":"IF(Expenses!C34=\"\",0,Expenses!C34)","v":0},{"$f":"IF(Expenses!D34=\"\",0,Expenses!D34)","v":0},{"$f":"IF(Mileage!C268=\"\",0,Mileage!J268)","v":0},0,{"$f":"Expenses!E34","v":0},{"$f":"Expenses!F34+Expenses!G34+Expenses!H34","v":0},{"$f":"Expenses!I34","v":0},{"$f":"Expenses!J34","v":0},{"$f":"Expenses!K34","v":0},{"$f":"Expenses!L34","v":0},{"$f":"Expenses!M34","v":0}]
[{"$f":"IF(Expenses!C35=\"\",0,Expenses!C35)","v":0},{"$f":"IF(Expenses!D35=\"\",0,Expenses!D35)","v":0},{"$f":"IF(Mileage!C269=\"\",0,Mileage!J269)","v":0},0,{"$f":"Expenses!E35","v":0},{"$f":"Expenses!F35+Expenses!G35+Expenses!H35","v":0},{"$f":"Expenses!I35","v":0},{"$f":"Expenses!J35","v":0},{"$f":"Expenses!K35","v":0},{"$f":"Expenses!L35","v":0},{"$f":"Expenses!M35","v":0}]
[{"$f":"IF(Expenses!C36=\"\",0,Expenses!C36)","v":0},{"$f":"IF(Expenses!D36=\"\",0,Expenses!D36)","v":0},{"$f":"IF(Mileage!C270=\"\",0,Mileage!J270)","v":0},0,{"$f":"Expenses!E36","v":0},{"$f":"Expenses!F36+Expenses!G36+Expenses!H36","v":0},{"$f":"Expenses!I36","v":0},{"$f":"Expenses!J36","v":0},{"$f":"Expenses!K36","v":0},{"$f":"Expenses!L36","v":0},{"$f":"Expenses!M36","v":0}]
[{"$f":"IF(Expenses!C37=\"\",0,Expenses!C37)","v":0},{"$f":"IF(Expenses!D37=\"\",0,Expenses!D37)","v":0},{"$f":"IF(Mileage!C271=\"\",0,Mileage!J271)","v":0},0,{"$f":"Expenses!E37","v":0},{"$f":"Expenses!F37+Expenses!G37+Expenses!H37","v":0},{"$f":"Expenses!I37","v":0},{"$f":"Expenses!J37","v":0},{"$f":"Expenses!K37","v":0},{"$f":"Expenses!L37","v":0},{"$f":"Expenses!M37","v":0}]
[{"$f":"IF(Expenses!C38=\"\",0,Expenses!C38)","v":0},{"$f":"IF(Expenses!D38=\"\",0,Expenses!D38)","v":0},{"$f":"IF(Mileage!C272=\"\",0,Mileage!J272)","v":0},0,{"$f":"Expenses!E38","v":0},{"$f":"Expenses!F38+Expenses!G38+Expenses!H38","v":0},{"$f":"Expenses!I38","v":0},{"$f":"Expenses!J38","v":0},{"$f":"Expenses!K38","v":0},{"$f":"Expenses!L38","v":0},{"$f":"Expenses!M38","v":0}]
[{"$f":"IF(Expenses!C39=\"\",0,Expenses!C39)","v":0},{"$f":"IF(Expenses!D39=\"\",0,Expenses!D39)","v":0},{"$f":"IF(Mileage!C273=\"\",0,Mileage!J273)","v":0},0,{"$f":"Expenses!E39","v":0},{"$f":"Expenses!F39+Expenses!G39+Expenses!H39","v":0},{"$f":"Expenses!I39","v":0},{"$f":"Expenses!J39","v":0},{"$f":"Expenses!K39","v":0},{"$f":"Expenses!L39","v":0},{"$f":"Expenses!M39","v":0}]
[{"$f":"IF(Expenses!C40=\"\",0,Expenses!C40)","v":0},{"$f":"IF(Expenses!D40=\"\",0,Expenses!D40)","v":0},{"$f":"IF(Mileage!C274=\"\",0,Mileage!J274)","v":0},0,{"$f":"Expenses!E40","v":0},{"$f":"Expenses!F40+Expenses!G40+Expenses!H40","v":0},{"$f":"Expenses!I40","v":0},{"$f":"Expenses!J40","v":0},{"$f":"Expenses!K40","v":0},{"$f":"Expenses!L40","v":0},{"$f":"Expenses!M40","v":0}]
[{"$f":"IF(Expenses!C41=\"\",0,Expenses!C41)","v":0},{"$f":"IF(Expenses!D41=\"\",0,Expenses!D41)","v":0},{"$f":"IF(Mileage!C275=\"\",0,Mileage!J275)","v":0},0,{"$f":"Expenses!E41","v":0},{"$f":"Expenses!F41+Expenses!G41+Expenses!H41","v":0},{"$f":"Expenses!I41","v":0},{"$f":"Expenses!J41","v":0},{"$f":"Expenses!K41","v":0},{"$f":"Expenses!L41","v":0},{"$f":"Expenses!M41","v":0}]
[{"$f":"IF(Expenses!C42=\"\",0,Expenses!C42)","v":0},{"$f":"IF(Expenses!D42=\"\",0,Expenses!D42)","v":0},{"$f":"IF(Mileage!C276=\"\",0,Mileage!J276)","v":0},0,{"$f":"Expenses!E42","v":0},{"$f":"Expenses!F42+Expenses!G42+Expenses!H42","v":0},{"$f":"Expenses!I42","v":0},{"$f":"Expenses!J42","v":0},{"$f":"Expenses!K42","v":0},{"$f":"Expenses!L42","v":0},{"$f":"Expenses!M42","v":0}]
[{"$f":"IF(Expenses!C43=\"\",0,Expenses!C43)","v":0},{"$f":"IF(Expenses!D43=\"\",0,Expenses!D43)","v":0},{"$f":"IF(Mileage!C277=\"\",0,Mileage!J277)","v":0},0,{"$f":"Expenses!E43","v":0},{"$f":"Expenses!F43+Expenses!G43+Expenses!H43","v":0},{"$f":"Expenses!I43","v":0},{"$f":"Expenses!J43","v":0},{"$f":"Expenses!K43","v":0},{"$f":"Expenses!L43","v":0},{"$f":"Expenses!M43","v":0}]
[{"$f":"IF(Expenses!C44=\"\",0,Expenses!C44)","v":0},{"$f":"IF(Expenses!D44=\"\",0,Expenses!D44)","v":0},{"$f":"IF(Mileage!C278=\"\",0,Mileage!J278)","v":0},0,{"$f":"Expenses!E44","v":0},{"$f":"Expenses!F44+Expenses!G44+Expenses!H44","v":0},{"$f":"Expenses!I44","v":0},{"$f":"Expenses!J44","v":0},{"$f":"Expenses!K44","v":0},{"$f":"Expenses!L44","v":0},{"$f":"Expenses!M44","v":0}]
[{"$f":"IF(Expenses!C45=\"\",0,Expenses!C45)","v":0},{"$f":"IF(Expenses!D45=\"\",0,Expenses!D45)","v":0},{"$f":"IF(Mileage!C279=\"\",0,Mileage!J279)","v":0},0,{"$f":"Expenses!E45","v":0},{"$f":"Expenses!F45+Expenses!G45+Expenses!H45","v":0},{"$f":"Expenses!I45","v":0},{"$f":"Expenses!J45","v":0},{"$f":"Expenses!K45","v":0},{"$f":"Expenses!L45","v":0},{"$f":"Expenses!M45","v":0}]
[{"$f":"IF(Expenses!C46=\"\",0,Expenses!C46)","v":0},{"$f":"IF(Expenses!D46=\"\",0,Expenses!D46)","v":0},{"$f":"IF(Mileage!C280=\"\",0,Mileage!J280)","v":0},0,{"$f":"Expenses!E46","v":0},{"$f":"Expenses!F46+Expenses!G46+Expenses!H46","v":0},{"$f":"Expenses!I46","v":0},{"$f":"Expenses!J46","v":0},{"$f":"Expenses!K46","v":0},{"$f":"Expenses!L46","v":0},{"$f":"Expenses!M46","v":0}]
[{"$f":"IF(Expenses!C47=\"\",0,Expenses!C47)","v":0},{"$f":"IF(Expenses!D47=\"\",0,Expenses!D47)","v":0},{"$f":"IF(Mileage!C281=\"\",0,Mileage!J281)","v":0},0,{"$f":"Expenses!E47","v":0},{"$f":"Expenses!F47+Expenses!G47+Expenses!H47","v":0},{"$f":"Expenses!I47","v":0},{"$f":"Expenses!J47","v":0},{"$f":"Expenses!K47","v":0},{"$f":"Expenses!L47","v":0},{"$f":"Expenses!M47","v":0}]
[{"$f":"IF(Expenses!C48=\"\",0,Expenses!C48)","v":0},{"$f":"IF(Expenses!D48=\"\",0,Expenses!D48)","v":0},{"$f":"IF(Mileage!C282=\"\",0,Mileage!J282)","v":0},0,{"$f":"Expenses!E48","v":0},{"$f":"Expenses!F48+Expenses!G48+Expenses!H48","v":0},{"$f":"Expenses!I48","v":0},{"$f":"Expenses!J48","v":0},{"$f":"Expenses!K48","v":0},{"$f":"Expenses!L48","v":0},{"$f":"Expenses!M48","v":0}]
[{"$f":"IF(Expenses!C49=\"\",0,Expenses!C49)","v":0},{"$f":"IF(Expenses!D49=\"\",0,Expenses!D49)","v":0},{"$f":"IF(Mileage!C283=\"\",0,Mileage!J283)","v":0},0,{"$f":"Expenses!E49","v":0},{"$f":"Expenses!F49+Expenses!G49+Expenses!H49","v":0},{"$f":"Expenses!I49","v":0},{"$f":"Expenses!J49","v":0},{"$f":"Expenses!K49","v":0},{"$f":"Expenses!L49","v":0},{"$f":"Expenses!M49","v":0}]
[{"$f":"IF(Expenses!C50=\"\",0,Expenses!C50)","v":0},{"$f":"IF(Expenses!D50=\"\",0,Expenses!D50)","v":0},{"$f":"IF(Mileage!C284=\"\",0,Mileage!J284)","v":0},0,{"$f":"Expenses!E50","v":0},{"$f":"Expenses!F50+Expenses!G50+Expenses!H50","v":0},{"$f":"Expenses!I50","v":0},{"$f":"Expenses!J50","v":0},{"$f":"Expenses!K50","v":0},{"$f":"Expenses!L50","v":0},{"$f":"Expenses!M50","v":0}]
[{"$f":"IF(Expenses!C51=\"\",0,Expenses!C51)","v":0},{"$f":"IF(Expenses!D51=\"\",0,Expenses!D51)","v":0},{"$f":"IF(Mileage!C285=\"\",0,Mileage!J285)","v":0},0,{"$f":"Expenses!E51","v":0},{"$f":"Expenses!F51+Expenses!G51+Expenses!H51","v":0},{"$f":"Expenses!I51","v":0},{"$f":"Expenses!J51","v":0},{"$f":"Expenses!K51","v":0},{"$f":"Expenses!L51","v":0},{"$f":"Expenses!M51","v":0}]
[{"$f":"IF(Expenses!C52=\"\",0,Expenses!C52)","v":0},{"$f":"IF(Expenses!D52=\"\",0,Expenses!D52)","v":0},{"$f":"IF(Mileage!C286=\"\",0,Mileage!J286)","v":0},0,{"$f":"Expenses!E52","v":0},{"$f":"Expenses!F52+Expenses!G52+Expenses!H52","v":0},{"$f":"Expenses!I52","v":0},{"$f":"Expenses!J52","v":0},{"$f":"Expenses!K52","v":0},{"$f":"Expenses!L52","v":0},{"$f":"Expenses!M52","v":0}]
[{"$f":"IF(Expenses!C53=\"\",0,Expenses!C53)","v":0},{"$f":"IF(Expenses!D53=\"\",0,Expenses!D53)","v":0},{"$f":"IF(Mileage!C287=\"\",0,Mileage!J287)","v":0},0,{"$f":"Expenses!E53","v":0},{"$f":"Expenses!F53+Expenses!G53+Expenses!H53","v":0},{"$f":"Expenses!I53","v":0},{"$f":"Expenses!J53","v":0},{"$f":"Expenses!K53","v":0},{"$f":"Expenses!L53","v":0},{"$f":"Expenses!M53","v":0}]
[{"$f":"IF(Expenses!C54=\"\",0,Expenses!C54)","v":0},{"$f":"IF(Expenses!D54=\"\",0,Expenses!D54)","v":0},{"$f":"IF(Mileage!C288=\"\",0,Mileage!J288)","v":0},0,{"$f":"Expenses!E54","v":0},{"$f":"Expenses!F54+Expenses!G54+Expenses!H54","v":0},{"$f":"Expenses!I54","v":0},{"$f":"Expenses!J54","v":0},{"$f":"Expenses!K54","v":0},{"$f":"Expenses!L54","v":0},{"$f":"Expenses!M54","v":0}]
[{"$f":"IF(Expenses!C55=\"\",0,Expenses!C55)","v":0},{"$f":"IF(Expenses!D55=\"\",0,Expenses!D55)","v":0},{"$f":"IF(Mileage!C289=\"\",0,Mileage!J289)","v":0},0,{"$f":"Expenses!E55","v":0},{"$f":"Expenses!F55+Expenses!G55+Expenses!H55","v":0},{"$f":"Expenses!I55","v":0},{"$f":"Expenses!J55","v":0},{"$f":"Expenses!K55","v":0},{"$f":"Expenses!L55","v":0},{"$f":"Expenses!M55","v":0}]
[{"$f":"IF(Expenses!C56=\"\",0,Expenses!C56)","v":0},{"$f":"IF(Expenses!D56=\"\",0,Expenses!D56)","v":0},{"$f":"IF(Mileage!C290=\"\",0,Mileage!J290)","v":0},0,{"$f":"Expenses!E56","v":0},{"$f":"Expenses!F56+Expenses!G56+Expenses!H56","v":0},{"$f":"Expenses!I56","v":0},{"$f":"Expenses!J56","v":0},{"$f":"Expenses!K56","v":0},{"$f":"Expenses!L56","v":0},{"$f":"Expenses!M56","v":0}]
[{"$f":"IF(Expenses!C57=\"\",0,Expenses!C57)","v":0},{"$f":"IF(Expenses!D57=\"\",0,Expenses!D57)","v":0},{"$f":"IF(Mileage!C291=\"\",0,Mileage!J291)","v":0},0,{"$f":"Expenses!E57","v":0},{"$f":"Expenses!F57+Expenses!G57+Expenses!H57","v":0},{"$f":"Expenses!I57","v":0},{"$f":"Expenses!J57","v":0},{"$f":"Expenses!K57","v":0},{"$f":"Expenses!L57","v":0},{"$f":"Expenses!M57","v":0}]
[{"$f":"IF(Expenses!C58=\"\",0,Expenses!C58)","v":0},{"$f":"IF(Expenses!D58=\"\",0,Expenses!D58)","v":0},{"$f":"IF(Mileage!C292=\"\",0,Mileage!J292)","v":0},0,{"$f":"Expenses!E58","v":0},{"$f":"Expenses!F58+Expenses!G58+Expenses!H58","v":0},{"$f":"Expenses!I58","v":0},{"$f":"Expenses!J58","v":0},{"$f":"Expenses!K58","v":0},{"$f":"Expenses!L58","v":0},{"$f":"Expenses!M58","v":0}]
[{"$f":"IF(Expenses!C59=\"\",0,Expenses!C59)","v":0},{"$f":"IF(Expenses!D59=\"\",0,Expenses!D59)","v":0},{"$f":"IF(Mileage!C293=\"\",0,Mileage!J293)","v":0},0,{"$f":"Expenses!E59","v":0},{"$f":"Expenses!F59+Expenses!G59+Expenses!H59","v":0},{"$f":"Expenses!I59","v":0},{"$f":"Expenses!J59","v":0},{"$f":"Expenses!K59","v":0},{"$f":"Expenses!L59","v":0},{"$f":"Expenses!M59","v":0}]
[{"$f":"IF(Expenses!C60=\"\",0,Expenses!C60)","v":0},{"$f":"IF(Expenses!D60=\"\",0,Expenses!D60)","v":0},{"$f":"IF(Mileage!C294=\"\",0,Mileage!J294)","v":0},0,{"$f":"Expenses!E60","v":0},{"$f":"Expenses!F60+Expenses!G60+Expenses!H60","v":0},{"$f":"Expenses!I60","v":0},{"$f":"Expenses!J60","v":0},{"$f":"Expenses!K60","v":0},{"$f":"Expenses!L60","v":0},{"$f":"Expenses!M60","v":0}]
[{"$f":"IF(Expenses!C61=\"\",0,Expenses!C61)","v":0},{"$f":"IF(Expenses!D61=\"\",0,Expenses!D61)","v":0},{"$f":"IF(Mileage!C295=\"\",0,Mileage!J295)","v":0},0,{"$f":"Expenses!E61","v":0},{"$f":"Expenses!F61+Expenses!G61+Expenses!H61","v":0},{"$f":"Expenses!I61","v":0},{"$f":"Expenses!J61","v":0},{"$f":"Expenses!K61","v":0},{"$f":"Expenses!L61","v":0},{"$f":"Expenses!M61","v":0}]
[{"$f":"IF(Expenses!C62=\"\",0,Expenses!C62)","v":0},{"$f":"IF(Expenses!D62=\"\",0,Expenses!D62)","v":0},{"$f":"IF(Mileage!C296=\"\",0,Mileage!J296)","v":0},0,{"$f":"Expenses!E62","v":0},{"$f":"Expenses!F62+Expenses!G62+Expenses!H62","v":0},{"$f":"Expenses!I62","v":0},{"$f":"Expenses!J62","v":0},{"$f":"Expenses!K62","v":0},{"$f":"Expenses!L62","v":0},{"$f":"Expenses!M62","v":0}]
[{"$f":"IF(Expenses!C63=\"\",0,Expenses!C63)","v":0},{"$f":"IF(Expenses!D63=\"\",0,Expenses!D63)","v":0},{"$f":"IF(Mileage!C297=\"\",0,Mileage!J297)","v":0},0,{"$f":"Expenses!E63","v":0},{"$f":"Expenses!F63+Expenses!G63+Expenses!H63","v":0},{"$f":"Expenses!I63","v":0},{"$f":"Expenses!J63","v":0},{"$f":"Expenses!K63","v":0},{"$f":"Expenses!L63","v":0},{"$f":"Expenses!M63","v":0}]
[{"$f":"IF(Expenses!C64=\"\",0,Expenses!C64)","v":0},{"$f":"IF(Expenses!D64=\"\",0,Expenses!D64)","v":0},{"$f":"IF(Mileage!C298=\"\",0,Mileage!J298)","v":0},0,{"$f":"Expenses!E64","v":0},{"$f":"Expenses!F64+Expenses!G64+Expenses!H64","v":0},{"$f":"Expenses!I64","v":0},{"$f":"Expenses!J64","v":0},{"$f":"Expenses!K64","v":0},{"$f":"Expenses!L64","v":0},{"$f":"Expenses!M64","v":0}]
[{"$f":"IF(Expenses!C65=\"\",0,Expenses!C65)","v":0},{"$f":"IF(Expenses!D65=\"\",0,Expenses!D65)","v":0},{"$f":"IF(Mileage!C299=\"\",0,Mileage!J299)","v":0},0,{"$f":"Expenses!E65","v":0},{"$f":"Expenses!F65+Expenses!G65+Expenses!H65","v":0},{"$f":"Expenses!I65","v":0},{"$f":"Expenses!J65","v":0},{"$f":"Expenses!K65","v":0},{"$f":"Expenses!L65","v":0},{"$f":"Expenses!M65","v":0}]
[{"$f":"IF(Expenses!C66=\"\",0,Expenses!C66)","v":0},{"$f":"IF(Expenses!D66=\"\",0,Expenses!D66)","v":0},{"$f":"IF(Mileage!C300=\"\",0,Mileage!J300)","v":0},0,{"$f":"Expenses!E66","v":0},{"$f":"Expenses!F66+Expenses!G66+Expenses!H66","v":0},{"$f":"Expenses!I66","v":0},{"$f":"Expenses!J66","v":0},{"$f":"Expenses!K66","v":0},{"$f":"Expenses!L66","v":0},{"$f":"Expenses!M66","v":0}]
[{"$f":"IF(Expenses!C67=\"\",0,Expenses!C67)","v":0},{"$f":"IF(Expenses!D67=\"\",0,Expenses!D67)","v":0},{"$f":"IF(Mileage!C301=\"\",0,Mileage!J301)","v":0},0,{"$f":"Expenses!E67","v":0},{"$f":"Expenses!F67+Expenses!G67+Expenses!H67","v":0},{"$f":"Expenses!I67","v":0},{"$f":"Expenses!J67","v":0},{"$f":"Expenses!K67","v":0},{"$f":"Expenses!L67","v":0},{"$f":"Expenses!M67","v":0}]
[{"$f":"IF(Expenses!C68=\"\",0,Expenses!C68)","v":0},{"$f":"IF(Expenses!D68=\"\",0,Expenses!D68)","v":0},{"$f":"IF(Mileage!C302=\"\",0,Mileage!J302)","v":0},0,{"$f":"Expenses!E68","v":0},{"$f":"Expenses!F68+Expenses!G68+Expenses!H68","v":0},{"$f":"Expenses!I68","v":0},{"$f":"Expenses!J68","v":0},{"$f":"Expenses!K68","v":0},{"$f":"Expenses!L68","v":0},{"$f":"Expenses!M68","v":0}]
[{"$f":"IF(Expenses!C69=\"\",0,Expenses!C69)","v":0},{"$f":"IF(Expenses!D69=\"\",0,Expenses!D69)","v":0},{"$f":"IF(Mileage!C303=\"\",0,Mileage!J303)","v":0},0,{"$f":"Expenses!E69","v":0},{"$f":"Expenses!F69+Expenses!G69+Expenses!H69","v":0},{"$f":"Expenses!I69","v":0},{"$f":"Expenses!J69","v":0},{"$f":"Expenses!K69","v":0},{"$f":"Expenses!L69","v":0},{"$f":"Expenses!M69","v":0}]
[{"$f":"IF(Expenses!C70=\"\",0,Expenses!C70)","v":0},{"$f":"IF(Expenses!D70=\"\",0,Expenses!D70)","v":0},{"$f":"IF(Mileage!C304=\"\",0,Mileage!J304)","v":0},{"$f":"IF(A304>0,A304&B304,0)","v":0},{"$f":"Expenses!E70","v":0},{"$f":"Expenses!F70+Expenses!G70+Expenses!H70","v":0},{"$f":"Expenses!I70","v":0},{"$f":"Expenses!J70","v":0},{"$f":"Expenses!K70","v":0},{"$f":"Expenses!L70","v":0},{"$f":"Expenses!M70","v":0}]
[{"$f":"IF(Expenses!C71=\"\",0,Expenses!C71)","v":0},{"$f":"IF(Expenses!D71=\"\",0,Expenses!D71)","v":0},{"$f":"IF(Mileage!C305=\"\",0,Mileage!J305)","v":0},0,{"$f":"Expenses!E71","v":0},{"$f":"Expenses!F71+Expenses!G71+Expenses!H71","v":0},{"$f":"Expenses!I71","v":0},{"$f":"Expenses!J71","v":0},{"$f":"Expenses!K71","v":0},{"$f":"Expenses!L71","v":0},{"$f":"Expenses!M71","v":0}]
[{"$f":"IF(Expenses!C72=\"\",0,Expenses!C72)","v":0},{"$f":"IF(Expenses!D72=\"\",0,Expenses!D72)","v":0},{"$f":"IF(Mileage!C306=\"\",0,Mileage!J306)","v":0},0,{"$f":"Expenses!E72","v":0},{"$f":"Expenses!F72+Expenses!G72+Expenses!H72","v":0},{"$f":"Expenses!I72","v":0},{"$f":"Expenses!J72","v":0},{"$f":"Expenses!K72","v":0},{"$f":"Expenses!L72","v":0},{"$f":"Expenses!M72","v":0}]
[{"$f":"IF(Expenses!C73=\"\",0,Expenses!C73)","v":0},{"$f":"IF(Expenses!D73=\"\",0,Expenses!D73)","v":0},{"$f":"IF(Mileage!C307=\"\",0,Mileage!J307)","v":0},0,{"$f":"Expenses!E73","v":0},{"$f":"Expenses!F73+Expenses!G73+Expenses!H73","v":0},{"$f":"Expenses!I73","v":0},{"$f":"Expenses!J73","v":0},{"$f":"Expenses!K73","v":0},{"$f":"Expenses!L73","v":0},{"$f":"Expenses!M73","v":0}]
[{"$f":"IF(Expenses!C74=\"\",0,Expenses!C74)","v":0},{"$f":"IF(Expenses!D74=\"\",0,Expenses!D74)","v":0},{"$f":"IF(Mileage!C308=\"\",0,Mileage!J308)","v":0},0,{"$f":"Expenses!E74","v":0},{"$f":"Expenses!F74+Expenses!G74+Expenses!H74","v":0},{"$f":"Expenses!I74","v":0},{"$f":"Expenses!J74","v":0},{"$f":"Expenses!K74","v":0},{"$f":"Expenses!L74","v":0},{"$f":"Expenses!M74","v":0}]
[{"$f":"IF(Expenses!C75=\"\",0,Expenses!C75)","v":0},{"$f":"IF(Expenses!D75=\"\",0,Expenses!D75)","v":0},{"$f":"IF(Mileage!C309=\"\",0,Mileage!J309)","v":0},0,{"$f":"Expenses!E75","v":0},{"$f":"Expenses!F75+Expenses!G75+Expenses!H75","v":0},{"$f":"Expenses!I75","v":0},{"$f":"Expenses!J75","v":0},{"$f":"Expenses!K75","v":0},{"$f":"Expenses!L75","v":0},{"$f":"Expenses!M75","v":0}]
[{"$f":"IF(Expenses!C76=\"\",0,Expenses!C76)","v":0},{"$f":"IF(Expenses!D76=\"\",0,Expenses!D76)","v":0},{"$f":"IF(Mileage!C310=\"\",0,Mileage!J310)","v":0},0,{"$f":"Expenses!E76","v":0},{"$f":"Expenses!F76+Expenses!G76+Expenses!H76","v":0},{"$f":"Expenses!I76","v":0},{"$f":"Expenses!J76","v":0},{"$f":"Expenses!K76","v":0},{"$f":"Expenses!L76","v":0},{"$f":"Expenses!M76","v":0}]
[{"$f":"IF(Expenses!C77=\"\",0,Expenses!C77)","v":0},{"$f":"IF(Expenses!D77=\"\",0,Expenses!D77)","v":0},{"$f":"IF(Mileage!C311=\"\",0,Mileage!J311)","v":0},0,{"$f":"Expenses!E77","v":0},{"$f":"Expenses!F77+Expenses!G77+Expenses!H77","v":0},{"$f":"Expenses!I77","v":0},{"$f":"Expenses!J77","v":0},{"$f":"Expenses!K77","v":0},{"$f":"Expenses!L77","v":0},{"$f":"Expenses!M77","v":0}]
[{"$f":"IF(Expenses!C78=\"\",0,Expenses!C78)","v":0},{"$f":"IF(Expenses!D78=\"\",0,Expenses!D78)","v":0},{"$f":"IF(Mileage!C312=\"\",0,Mileage!J312)","v":0},0,{"$f":"Expenses!E78","v":0},{"$f":"Expenses!F78+Expenses!G78+Expenses!H78","v":0},{"$f":"Expenses!I78","v":0},{"$f":"Expenses!J78","v":0},{"$f":"Expenses!K78","v":0},{"$f":"Expenses!L78","v":0},{"$f":"Expenses!M78","v":0}]
[{"$f":"IF(Expenses!C79=\"\",0,Expenses!C79)","v":0},{"$f":"IF(Expenses!D79=\"\",0,Expenses!D79)","v":0},{"$f":"IF(Mileage!C313=\"\",0,Mileage!J313)","v":0},0,{"$f":"Expenses!E79","v":0},{"$f":"Expenses!F79+Expenses!G79+Expenses!H79","v":0},{"$f":"Expenses!I79","v":0},{"$f":"Expenses!J79","v":0},{"$f":"Expenses!K79","v":0},{"$f":"Expenses!L79","v":0},{"$f":"Expenses!M79","v":0}]
[{"$f":"IF(Expenses!C80=\"\",0,Expenses!C80)","v":0},{"$f":"IF(Expenses!D80=\"\",0,Expenses!D80)","v":0},{"$f":"IF(Mileage!C314=\"\",0,Mileage!J314)","v":0},0,{"$f":"Expenses!E80","v":0},{"$f":"Expenses!F80+Expenses!G80+Expenses!H80","v":0},{"$f":"Expenses!I80","v":0},{"$f":"Expenses!J80","v":0},{"$f":"Expenses!K80","v":0},{"$f":"Expenses!L80","v":0},{"$f":"Expenses!M80","v":0}]
[{"$f":"IF(Expenses!C81=\"\",0,Expenses!C81)","v":0},{"$f":"IF(Expenses!D81=\"\",0,Expenses!D81)","v":0},{"$f":"IF(Mileage!C315=\"\",0,Mileage!J315)","v":0},0,{"$f":"Expenses!E81","v":0},{"$f":"Expenses!F81+Expenses!G81+Expenses!H81","v":0},{"$f":"Expenses!I81","v":0},{"$f":"Expenses!J81","v":0},{"$f":"Expenses!K81","v":0},{"$f":"Expenses!L81","v":0},{"$f":"Expenses!M81","v":0}]
[{"$f":"IF(Expenses!C82=\"\",0,Expenses!C82)","v":0},{"$f":"IF(Expenses!D82=\"\",0,Expenses!D82)","v":0},{"$f":"IF(Mileage!C316=\"\",0,Mileage!J316)","v":0},0,{"$f":"Expenses!E82","v":0},{"$f":"Expenses!F82+Expenses!G82+Expenses!H82","v":0},{"$f":"Expenses!I82","v":0},{"$f":"Expenses!J82","v":0},{"$f":"Expenses!K82","v":0},{"$f":"Expenses!L82","v":0},{"$f":"Expenses!M82","v":0}]
[{"$f":"IF(Expenses!C83=\"\",0,Expenses!C83)","v":0},{"$f":"IF(Expenses!D83=\"\",0,Expenses!D83)","v":0},{"$f":"IF(Mileage!C317=\"\",0,Mileage!J317)","v":0},0,{"$f":"Expenses!E83","v":0},{"$f":"Expenses!F83+Expenses!G83+Expenses!H83","v":0},{"$f":"Expenses!I83","v":0},{"$f":"Expenses!J83","v":0},{"$f":"Expenses!K83","v":0},{"$f":"Expenses!L83","v":0},{"$f":"Expenses!M83","v":0}]
[{"$f":"IF(Expenses!C84=\"\",0,Expenses!C84)","v":0},{"$f":"IF(Expenses!D84=\"\",0,Expenses!D84)","v":0},{"$f":"IF(Mileage!C318=\"\",0,Mileage!J318)","v":0},0,{"$f":"Expenses!E84","v":0},{"$f":"Expenses!F84+Expenses!G84+Expenses!H84","v":0},{"$f":"Expenses!I84","v":0},{"$f":"Expenses!J84","v":0},{"$f":"Expenses!K84","v":0},{"$f":"Expenses!L84","v":0},{"$f":"Expenses!M84","v":0}]
[{"$f":"IF(Expenses!C85=\"\",0,Expenses!C85)","v":0},{"$f":"IF(Expenses!D85=\"\",0,Expenses!D85)","v":0},{"$f":"IF(Mileage!C319=\"\",0,Mileage!J319)","v":0},0,{"$f":"Expenses!E85","v":0},{"$f":"Expenses!F85+Expenses!G85+Expenses!H85","v":0},{"$f":"Expenses!I85","v":0},{"$f":"Expenses!J85","v":0},{"$f":"Expenses!K85","v":0},{"$f":"Expenses!L85","v":0},{"$f":"Expenses!M85","v":0}]
[{"$f":"IF(Expenses!C86=\"\",0,Expenses!C86)","v":0},{"$f":"IF(Expenses!D86=\"\",0,Expenses!D86)","v":0},{"$f":"IF(Mileage!C320=\"\",0,Mileage!J320)","v":0},0,{"$f":"Expenses!E86","v":0},{"$f":"Expenses!F86+Expenses!G86+Expenses!H86","v":0},{"$f":"Expenses!I86","v":0},{"$f":"Expenses!J86","v":0},{"$f":"Expenses!K86","v":0},{"$f":"Expenses!L86","v":0},{"$f":"Expenses!M86","v":0}]
[{"$f":"IF(Expenses!C87=\"\",0,Expenses!C87)","v":0},{"$f":"IF(Expenses!D87=\"\",0,Expenses!D87)","v":0},{"$f":"IF(Mileage!C321=\"\",0,Mileage!J321)","v":0},0,{"$f":"Expenses!E87","v":0},{"$f":"Expenses!F87+Expenses!G87+Expenses!H87","v":0},{"$f":"Expenses!I87","v":0},{"$f":"Expenses!J87","v":0},{"$f":"Expenses!K87","v":0},{"$f":"Expenses!L87","v":0},{"$f":"Expenses!M87","v":0}]
[{"$f":"IF(Expenses!C88=\"\",0,Expenses!C88)","v":0},{"$f":"IF(Expenses!D88=\"\",0,Expenses!D88)","v":0},{"$f":"IF(Mileage!C322=\"\",0,Mileage!J322)","v":0},0,{"$f":"Expenses!E88","v":0},{"$f":"Expenses!F88+Expenses!G88+Expenses!H88","v":0},{"$f":"Expenses!I88","v":0},{"$f":"Expenses!J88","v":0},{"$f":"Expenses!K88","v":0},{"$f":"Expenses!L88","v":0},{"$f":"Expenses!M88","v":0}]
[{"$f":"IF(Expenses!C89=\"\",0,Expenses!C89)","v":0},{"$f":"IF(Expenses!D89=\"\",0,Expenses!D89)","v":0},{"$f":"IF(Mileage!C323=\"\",0,Mileage!J323)","v":0},0,{"$f":"Expenses!E89","v":0},{"$f":"Expenses!F89+Expenses!G89+Expenses!H89","v":0},{"$f":"Expenses!I89","v":0},{"$f":"Expenses!J89","v":0},{"$f":"Expenses!K89","v":0},{"$f":"Expenses!L89","v":0},{"$f":"Expenses!M89","v":0}]
[{"$f":"IF(Expenses!C90=\"\",0,Expenses!C90)","v":0},{"$f":"IF(Expenses!D90=\"\",0,Expenses!D90)","v":0},{"$f":"IF(Mileage!C324=\"\",0,Mileage!J324)","v":0},0,{"$f":"Expenses!E90","v":0},{"$f":"Expenses!F90+Expenses!G90+Expenses!H90","v":0},{"$f":"Expenses!I90","v":0},{"$f":"Expenses!J90","v":0},{"$f":"Expenses!K90","v":0},{"$f":"Expenses!L90","v":0},{"$f":"Expenses!M90","v":0}]
[{"$f":"IF(Expenses!C91=\"\",0,Expenses!C91)","v":0},{"$f":"IF(Expenses!D91=\"\",0,Expenses!D91)","v":0},{"$f":"IF(Mileage!C325=\"\",0,Mileage!J325)","v":0},0,{"$f":"Expenses!E91","v":0},{"$f":"Expenses!F91+Expenses!G91+Expenses!H91","v":0},{"$f":"Expenses!I91","v":0},{"$f":"Expenses!J91","v":0},{"$f":"Expenses!K91","v":0},{"$f":"Expenses!L91","v":0},{"$f":"Expenses!M91","v":0}]
[{"$f":"IF(Expenses!C92=\"\",0,Expenses!C92)","v":0},{"$f":"IF(Expenses!D92=\"\",0,Expenses!D92)","v":0},{"$f":"IF(Mileage!C326=\"\",0,Mileage!J326)","v":0},0,{"$f":"Expenses!E92","v":0},{"$f":"Expenses!F92+Expenses!G92+Expenses!H92","v":0},{"$f":"Expenses!I92","v":0},{"$f":"Expenses!J92","v":0},{"$f":"Expenses!K92","v":0},{"$f":"Expenses!L92","v":0},{"$f":"Expenses!M92","v":0}]
[{"$f":"IF(Expenses!C93=\"\",0,Expenses!C93)","v":0},{"$f":"IF(Expenses!D93=\"\",0,Expenses!D93)","v":0},{"$f":"IF(Mileage!C327=\"\",0,Mileage!J327)","v":0},0,{"$f":"Expenses!E93","v":0},{"$f":"Expenses!F93+Expenses!G93+Expenses!H93","v":0},{"$f":"Expenses!I93","v":0},{"$f":"Expenses!J93","v":0},{"$f":"Expenses!K93","v":0},{"$f":"Expenses!L93","v":0},{"$f":"Expenses!M93","v":0}]
[{"$f":"IF(Expenses!C94=\"\",0,Expenses!C94)","v":0},{"$f":"IF(Expenses!D94=\"\",0,Expenses!D94)","v":0},{"$f":"IF(Mileage!C328=\"\",0,Mileage!J328)","v":0},0,{"$f":"Expenses!E94","v":0},{"$f":"Expenses!F94+Expenses!G94+Expenses!H94","v":0},{"$f":"Expenses!I94","v":0},{"$f":"Expenses!J94","v":0},{"$f":"Expenses!K94","v":0},{"$f":"Expenses!L94","v":0},{"$f":"Expenses!M94","v":0}]
[{"$f":"IF(Expenses!C95=\"\",0,Expenses!C95)","v":0},{"$f":"IF(Expenses!D95=\"\",0,Expenses!D95)","v":0},{"$f":"IF(Mileage!C329=\"\",0,Mileage!J329)","v":0},0,{"$f":"Expenses!E95","v":0},{"$f":"Expenses!F95+Expenses!G95+Expenses!H95","v":0},{"$f":"Expenses!I95","v":0},{"$f":"Expenses!J95","v":0},{"$f":"Expenses!K95","v":0},{"$f":"Expenses!L95","v":0},{"$f":"Expenses!M95","v":0}]
[{"$f":"IF(Expenses!C96=\"\",0,Expenses!C96)","v":0},{"$f":"IF(Expenses!D96=\"\",0,Expenses!D96)","v":0},{"$f":"IF(Mileage!C330=\"\",0,Mileage!J330)","v":0},0,{"$f":"Expenses!E96","v":0},{"$f":"Expenses!F96+Expenses!G96+Expenses!H96","v":0},{"$f":"Expenses!I96","v":0},{"$f":"Expenses!J96","v":0},{"$f":"Expenses!K96","v":0},{"$f":"Expenses!L96","v":0},{"$f":"Expenses!M96","v":0}]
[{"$f":"IF(Expenses!C97=\"\",0,Expenses!C97)","v":0},{"$f":"IF(Expenses!D97=\"\",0,Expenses!D97)","v":0},{"$f":"IF(Mileage!C331=\"\",0,Mileage!J331)","v":0},0,{"$f":"Expenses!E97","v":0},{"$f":"Expenses!F97+Expenses!G97+Expenses!H97","v":0},{"$f":"Expenses!I97","v":0},{"$f":"Expenses!J97","v":0},{"$f":"Expenses!K97","v":0},{"$f":"Expenses!L97","v":0},{"$f":"Expenses!M97","v":0}]
[{"$f":"IF(Expenses!C98=\"\",0,Expenses!C98)","v":0},{"$f":"IF(Expenses!D98=\"\",0,Expenses!D98)","v":0},{"$f":"IF(Mileage!C332=\"\",0,Mileage!J332)","v":0},0,{"$f":"Expenses!E98","v":0},{"$f":"Expenses!F98+Expenses!G98+Expenses!H98","v":0},{"$f":"Expenses!I98","v":0},{"$f":"Expenses!J98","v":0},{"$f":"Expenses!K98","v":0},{"$f":"Expenses!L98","v":0},{"$f":"Expenses!M98","v":0}]
[{"$f":"IF(Expenses!C99=\"\",0,Expenses!C99)","v":0},{"$f":"IF(Expenses!D99=\"\",0,Expenses!D99)","v":0},{"$f":"IF(Mileage!C333=\"\",0,Mileage!J333)","v":0},0,{"$f":"Expenses!E99","v":0},{"$f":"Expenses!F99+Expenses!G99+Expenses!H99","v":0},{"$f":"Expenses!I99","v":0},{"$f":"Expenses!J99","v":0},{"$f":"Expenses!K99","v":0},{"$f":"Expenses!L99","v":0},{"$f":"Expenses!M99","v":0}]
[{"$f":"IF(Expenses!C100=\"\",0,Expenses!C100)","v":0},{"$f":"IF(Expenses!D100=\"\",0,Expenses!D100)","v":0},{"$f":"IF(Mileage!C334=\"\",0,Mileage!J334)","v":0},0,{"$f":"Expenses!E100","v":0},{"$f":"Expenses!F100+Expenses!G100+Expenses!H100","v":0},{"$f":"Expenses!I100","v":0},{"$f":"Expenses!J100","v":0},{"$f":"Expenses!K100","v":0},{"$f":"Expenses!L100","v":0},{"$f":"Expenses!M100","v":0}]
[{"$f":"IF(Expenses!C101=\"\",0,Expenses!C101)","v":0},{"$f":"IF(Expenses!D101=\"\",0,Expenses!D101)","v":0},{"$f":"IF(Mileage!C335=\"\",0,Mileage!J335)","v":0},0,{"$f":"Expenses!E101","v":0},{"$f":"Expenses!F101+Expenses!G101+Expenses!H101","v":0},{"$f":"Expenses!I101","v":0},{"$f":"Expenses!J101","v":0},{"$f":"Expenses!K101","v":0},{"$f":"Expenses!L101","v":0},{"$f":"Expenses!M101","v":0}]
[{"$f":"IF(Expenses!C102=\"\",0,Expenses!C102)","v":0},{"$f":"IF(Expenses!D102=\"\",0,Expenses!D102)","v":0},{"$f":"IF(Mileage!C336=\"\",0,Mileage!J336)","v":0},0,{"$f":"Expenses!E102","v":0},{"$f":"Expenses!F102+Expenses!G102+Expenses!H102","v":0},{"$f":"Expenses!I102","v":0},{"$f":"Expenses!J102","v":0},{"$f":"Expenses!K102","v":0},{"$f":"Expenses!L102","v":0},{"$f":"Expenses!M102","v":0}]
[{"$f":"IF(Expenses!C103=\"\",0,Expenses!C103)","v":0},{"$f":"IF(Expenses!D103=\"\",0,Expenses!D103)","v":0},{"$f":"IF(Mileage!C337=\"\",0,Mileage!J337)","v":0},0,{"$f":"Expenses!E103","v":0},{"$f":"Expenses!F103+Expenses!G103+Expenses!H103","v":0},{"$f":"Expenses!I103","v":0},{"$f":"Expenses!J103","v":0},{"$f":"Expenses!K103","v":0},{"$f":"Expenses!L103","v":0},{"$f":"Expenses!M103","v":0}]
[{"$f":"IF(Expenses!C104=\"\",0,Expenses!C104)","v":0},{"$f":"IF(Expenses!D104=\"\",0,Expenses!D104)","v":0},{"$f":"IF(Mileage!C338=\"\",0,Mileage!J338)","v":0},0,{"$f":"Expenses!E104","v":0},{"$f":"Expenses!F104+Expenses!G104+Expenses!H104","v":0},{"$f":"Expenses!I104","v":0},{"$f":"Expenses!J104","v":0},{"$f":"Expenses!K104","v":0},{"$f":"Expenses!L104","v":0},{"$f":"Expenses!M104","v":0}]
[{"$f":"IF(Expenses!C105=\"\",0,Expenses!C105)","v":0},{"$f":"IF(Expenses!D105=\"\",0,Expenses!D105)","v":0},{"$f":"IF(Mileage!C339=\"\",0,Mileage!J339)","v":0},0,{"$f":"Expenses!E105","v":0},{"$f":"Expenses!F105+Expenses!G105+Expenses!H105","v":0},{"$f":"Expenses!I105","v":0},{"$f":"Expenses!J105","v":0},{"$f":"Expenses!K105","v":0},{"$f":"Expenses!L105","v":0},{"$f":"Expenses!M105","v":0}]
[{"$f":"IF(Expenses!C106=\"\",0,Expenses!C106)","v":0},{"$f":"IF(Expenses!D106=\"\",0,Expenses!D106)","v":0},{"$f":"IF(Mileage!C340=\"\",0,Mileage!J340)","v":0},0,{"$f":"Expenses!E106","v":0},{"$f":"Expenses!F106+Expenses!G106+Expenses!H106","v":0},{"$f":"Expenses!I106","v":0},{"$f":"Expenses!J106","v":0},{"$f":"Expenses!K106","v":0},{"$f":"Expenses!L106","v":0},{"$f":"Expenses!M106","v":0}]
[{"$f":"IF(Expenses!C107=\"\",0,Expenses!C107)","v":0},{"$f":"IF(Expenses!D107=\"\",0,Expenses!D107)","v":0},{"$f":"IF(Mileage!C341=\"\",0,Mileage!J341)","v":0},0,{"$f":"Expenses!E107","v":0},{"$f":"Expenses!F107+Expenses!G107+Expenses!H107","v":0},{"$f":"Expenses!I107","v":0},{"$f":"Expenses!J107","v":0},{"$f":"Expenses!K107","v":0},{"$f":"Expenses!L107","v":0},{"$f":"Expenses!M107","v":0}]
[{"$f":"IF(Expenses!C108=\"\",0,Expenses!C108)","v":0},{"$f":"IF(Expenses!D108=\"\",0,Expenses!D108)","v":0},{"$f":"IF(Mileage!C342=\"\",0,Mileage!J342)","v":0},0,{"$f":"Expenses!E108","v":0},{"$f":"Expenses!F108+Expenses!G108+Expenses!H108","v":0},{"$f":"Expenses!I108","v":0},{"$f":"Expenses!J108","v":0},{"$f":"Expenses!K108","v":0},{"$f":"Expenses!L108","v":0},{"$f":"Expenses!M108","v":0}]
[{"$f":"IF(Expenses!C109=\"\",0,Expenses!C109)","v":0},{"$f":"IF(Expenses!D109=\"\",0,Expenses!D109)","v":0},{"$f":"IF(Mileage!C343=\"\",0,Mileage!J343)","v":0},0,{"$f":"Expenses!E109","v":0},{"$f":"Expenses!F109+Expenses!G109+Expenses!H109","v":0},{"$f":"Expenses!I109","v":0},{"$f":"Expenses!J109","v":0},{"$f":"Expenses!K109","v":0},{"$f":"Expenses!L109","v":0},{"$f":"Expenses!M109","v":0}]
[{"$f":"IF(Expenses!C110=\"\",0,Expenses!C110)","v":0},{"$f":"IF(Expenses!D110=\"\",0,Expenses!D110)","v":0},{"$f":"IF(Mileage!C344=\"\",0,Mileage!J344)","v":0},0,{"$f":"Expenses!E110","v":0},{"$f":"Expenses!F110+Expenses!G110+Expenses!H110","v":0},{"$f":"Expenses!I110","v":0},{"$f":"Expenses!J110","v":0},{"$f":"Expenses!K110","v":0},{"$f":"Expenses!L110","v":0},{"$f":"Expenses!M110","v":0}]
[{"$f":"IF(Expenses!C111=\"\",0,Expenses!C111)","v":0},{"$f":"IF(Expenses!D111=\"\",0,Expenses!D111)","v":0},{"$f":"IF(Mileage!C345=\"\",0,Mileage!J345)","v":0},0,{"$f":"Expenses!E111","v":0},{"$f":"Expenses!F111+Expenses!G111+Expenses!H111","v":0},{"$f":"Expenses!I111","v":0},{"$f":"Expenses!J111","v":0},{"$f":"Expenses!K111","v":0},{"$f":"Expenses!L111","v":0},{"$f":"Expenses!M111","v":0}]
[{"$f":"IF(Expenses!C112=\"\",0,Expenses!C112)","v":0},{"$f":"IF(Expenses!D112=\"\",0,Expenses!D112)","v":0},{"$f":"IF(Mileage!C346=\"\",0,Mileage!J346)","v":0},0,{"$f":"Expenses!E112","v":0},{"$f":"Expenses!F112+Expenses!G112+Expenses!H112","v":0},{"$f":"Expenses!I112","v":0},{"$f":"Expenses!J112","v":0},{"$f":"Expenses!K112","v":0},{"$f":"Expenses!L112","v":0},{"$f":"Expenses!M112","v":0}]
[{"$f":"IF(Expenses!C113=\"\",0,Expenses!C113)","v":0},{"$f":"IF(Expenses!D113=\"\",0,Expenses!D113)","v":0},{"$f":"IF(Mileage!C347=\"\",0,Mileage!J347)","v":0},0,{"$f":"Expenses!E113","v":0},{"$f":"Expenses!F113+Expenses!G113+Expenses!H113","v":0},{"$f":"Expenses!I113","v":0},{"$f":"Expenses!J113","v":0},{"$f":"Expenses!K113","v":0},{"$f":"Expenses!L113","v":0},{"$f":"Expenses!M113","v":0}]
[{"$f":"IF(Expenses!C114=\"\",0,Expenses!C114)","v":0},{"$f":"IF(Expenses!D114=\"\",0,Expenses!D114)","v":0},{"$f":"IF(Mileage!C348=\"\",0,Mileage!J348)","v":0},0,{"$f":"Expenses!E114","v":0},{"$f":"Expenses!F114+Expenses!G114+Expenses!H114","v":0},{"$f":"Expenses!I114","v":0},{"$f":"Expenses!J114","v":0},{"$f":"Expenses!K114","v":0},{"$f":"Expenses!L114","v":0},{"$f":"Expenses!M114","v":0}]
[{"$f":"IF(Expenses!C115=\"\",0,Expenses!C115)","v":0},{"$f":"IF(Expenses!D115=\"\",0,Expenses!D115)","v":0},{"$f":"IF(Mileage!C349=\"\",0,Mileage!J349)","v":0},0,{"$f":"Expenses!E115","v":0},{"$f":"Expenses!F115+Expenses!G115+Expenses!H115","v":0},{"$f":"Expenses!I115","v":0},{"$f":"Expenses!J115","v":0},{"$f":"Expenses!K115","v":0},{"$f":"Expenses!L115","v":0},{"$f":"Expenses!M115","v":0}]
[{"$f":"IF(Expenses!C116=\"\",0,Expenses!C116)","v":0},{"$f":"IF(Expenses!D116=\"\",0,Expenses!D116)","v":0},{"$f":"IF(Mileage!C350=\"\",0,Mileage!J350)","v":0},0,{"$f":"Expenses!E116","v":0},{"$f":"Expenses!F116+Expenses!G116+Expenses!H116","v":0},{"$f":"Expenses!I116","v":0},{"$f":"Expenses!J116","v":0},{"$f":"Expenses!K116","v":0},{"$f":"Expenses!L116","v":0},{"$f":"Expenses!M116","v":0}]
[{"$f":"IF(Expenses!C117=\"\",0,Expenses!C117)","v":0},{"$f":"IF(Expenses!D117=\"\",0,Expenses!D117)","v":0},{"$f":"IF(Mileage!C351=\"\",0,Mileage!J351)","v":0},0,{"$f":"Expenses!E117","v":0},{"$f":"Expenses!F117+Expenses!G117+Expenses!H117","v":0},{"$f":"Expenses!I117","v":0},{"$f":"Expenses!J117","v":0},{"$f":"Expenses!K117","v":0},{"$f":"Expenses!L117","v":0},{"$f":"Expenses!M117","v":0}]
[{"$f":"IF(Expenses!C118=\"\",0,Expenses!C118)","v":0},{"$f":"IF(Expenses!D118=\"\",0,Expenses!D118)","v":0},{"$f":"IF(Mileage!C352=\"\",0,Mileage!J352)","v":0},0,{"$f":"Expenses!E118","v":0},{"$f":"Expenses!F118+Expenses!G118+Expenses!H118","v":0},{"$f":"Expenses!I118","v":0},{"$f":"Expenses!J118","v":0},{"$f":"Expenses!K118","v":0},{"$f":"Expenses!L118","v":0},{"$f":"Expenses!M118","v":0}]
[{"$f":"IF(Expenses!C119=\"\",0,Expenses!C119)","v":0},{"$f":"IF(Expenses!D119=\"\",0,Expenses!D119)","v":0},{"$f":"IF(Mileage!C353=\"\",0,Mileage!J353)","v":0},0,{"$f":"Expenses!E119","v":0},{"$f":"Expenses!F119+Expenses!G119+Expenses!H119","v":0},{"$f":"Expenses!I119","v":0},{"$f":"Expenses!J119","v":0},{"$f":"Expenses!K119","v":0},{"$f":"Expenses!L119","v":0},{"$f":"Expenses!M119","v":0}]
[{"$f":"IF(Expenses!C120=\"\",0,Expenses!C120)","v":0},{"$f":"IF(Expenses!D120=\"\",0,Expenses!D120)","v":0},{"$f":"IF(Mileage!C354=\"\",0,Mileage!J354)","v":0},0,{"$f":"Expenses!E120","v":0},{"$f":"Expenses!F120+Expenses!G120+Expenses!H120","v":0},{"$f":"Expenses!I120","v":0},{"$f":"Expenses!J120","v":0},{"$f":"Expenses!K120","v":0},{"$f":"Expenses!L120","v":0},{"$f":"Expenses!M120","v":0}]
[{"$f":"IF(Expenses!C121=\"\",0,Expenses!C121)","v":0},{"$f":"IF(Expenses!D121=\"\",0,Expenses!D121)","v":0},{"$f":"IF(Mileage!C355=\"\",0,Mileage!J355)","v":0},0,{"$f":"Expenses!E121","v":0},{"$f":"Expenses!F121+Expenses!G121+Expenses!H121","v":0},{"$f":"Expenses!I121","v":0},{"$f":"Expenses!J121","v":0},{"$f":"Expenses!K121","v":0},{"$f":"Expenses!L121","v":0},{"$f":"Expenses!M121","v":0}]
[{"$f":"IF(Expenses!C122=\"\",0,Expenses!C122)","v":0},{"$f":"IF(Expenses!D122=\"\",0,Expenses!D122)","v":0},{"$f":"IF(Mileage!C356=\"\",0,Mileage!J356)","v":0},0,{"$f":"Expenses!E122","v":0},{"$f":"Expenses!F122+Expenses!G122+Expenses!H122","v":0},{"$f":"Expenses!I122","v":0},{"$f":"Expenses!J122","v":0},{"$f":"Expenses!K122","v":0},{"$f":"Expenses!L122","v":0},{"$f":"Expenses!M122","v":0}]
[{"$f":"IF(Expenses!C123=\"\",0,Expenses!C123)","v":0},{"$f":"IF(Expenses!D123=\"\",0,Expenses!D123)","v":0},{"$f":"IF(Mileage!C357=\"\",0,Mileage!J357)","v":0},0,{"$f":"Expenses!E123","v":0},{"$f":"Expenses!F123+Expenses!G123+Expenses!H123","v":0},{"$f":"Expenses!I123","v":0},{"$f":"Expenses!J123","v":0},{"$f":"Expenses!K123","v":0},{"$f":"Expenses!L123","v":0},{"$f":"Expenses!M123","v":0}]
[{"$f":"IF(Expenses!C124=\"\",0,Expenses!C124)","v":0},{"$f":"IF(Expenses!D124=\"\",0,Expenses!D124)","v":0},{"$f":"IF(Mileage!C358=\"\",0,Mileage!J358)","v":0},0,{"$f":"Expenses!E124","v":0},{"$f":"Expenses!F124+Expenses!G124+Expenses!H124","v":0},{"$f":"Expenses!I124","v":0},{"$f":"Expenses!J124","v":0},{"$f":"Expenses!K124","v":0},{"$f":"Expenses!L124","v":0},{"$f":"Expenses!M124","v":0}]
[{"$f":"IF(Expenses!C125=\"\",0,Expenses!C125)","v":0},{"$f":"IF(Expenses!D125=\"\",0,Expenses!D125)","v":0},{"$f":"IF(Mileage!C359=\"\",0,Mileage!J359)","v":0},0,{"$f":"Expenses!E125","v":0},{"$f":"Expenses!F125+Expenses!G125+Expenses!H125","v":0},{"$f":"Expenses!I125","v":0},{"$f":"Expenses!J125","v":0},{"$f":"Expenses!K125","v":0},{"$f":"Expenses!L125","v":0},{"$f":"Expenses!M125","v":0}]
[{"$f":"IF(Expenses!C126=\"\",0,Expenses!C126)","v":0},{"$f":"IF(Expenses!D126=\"\",0,Expenses!D126)","v":0},{"$f":"IF(Mileage!C360=\"\",0,Mileage!J360)","v":0},0,{"$f":"Expenses!E126","v":0},{"$f":"Expenses!F126+Expenses!G126+Expenses!H126","v":0},{"$f":"Expenses!I126","v":0},{"$f":"Expenses!J126","v":0},{"$f":"Expenses!K126","v":0},{"$f":"Expenses!L126","v":0},{"$f":"Expenses!M126","v":0}]
[{"$f":"IF(Expenses!C127=\"\",0,Expenses!C127)","v":0},{"$f":"IF(Expenses!D127=\"\",0,Expenses!D127)","v":0},{"$f":"IF(Mileage!C361=\"\",0,Mileage!J361)","v":0},0,{"$f":"Expenses!E127","v":0},{"$f":"Expenses!F127+Expenses!G127+Expenses!H127","v":0},{"$f":"Expenses!I127","v":0},{"$f":"Expenses!J127","v":0},{"$f":"Expenses!K127","v":0},{"$f":"Expenses!L127","v":0},{"$f":"Expenses!M127","v":0}]
[{"$f":"IF(Expenses!C128=\"\",0,Expenses!C128)","v":0},{"$f":"IF(Expenses!D128=\"\",0,Expenses!D128)","v":0},{"$f":"IF(Mileage!C362=\"\",0,Mileage!J362)","v":0},0,{"$f":"Expenses!E128","v":0},{"$f":"Expenses!F128+Expenses!G128+Expenses!H128","v":0},{"$f":"Expenses!I128","v":0},{"$f":"Expenses!J128","v":0},{"$f":"Expenses!K128","v":0},{"$f":"Expenses!L128","v":0},{"$f":"Expenses!M128","v":0}]
[{"$f":"IF(Expenses!C129=\"\",0,Expenses!C129)","v":0},{"$f":"IF(Expenses!D129=\"\",0,Expenses!D129)","v":0},{"$f":"IF(Mileage!C363=\"\",0,Mileage!J363)","v":0},0,{"$f":"Expenses!E129","v":0},{"$f":"Expenses!F129+Expenses!G129+Expenses!H129","v":0},{"$f":"Expenses!I129","v":0},{"$f":"Expenses!J129","v":0},{"$f":"Expenses!K129","v":0},{"$f":"Expenses!L129","v":0},{"$f":"Expenses!M129","v":0}]
[{"$f":"IF(Expenses!C130=\"\",0,Expenses!C130)","v":0},{"$f":"IF(Expenses!D130=\"\",0,Expenses!D130)","v":0},{"$f":"IF(Mileage!C364=\"\",0,Mileage!J364)","v":0},0,{"$f":"Expenses!E130","v":0},{"$f":"Expenses!F130+Expenses!G130+Expenses!H130","v":0},{"$f":"Expenses!I130","v":0},{"$f":"Expenses!J130","v":0},{"$f":"Expenses!K130","v":0},{"$f":"Expenses!L130","v":0},{"$f":"Expenses!M130","v":0}]
[{"$f":"IF(Expenses!C131=\"\",0,Expenses!C131)","v":0},{"$f":"IF(Expenses!D131=\"\",0,Expenses!D131)","v":0},{"$f":"IF(Mileage!C365=\"\",0,Mileage!J365)","v":0},0,{"$f":"Expenses!E131","v":0},{"$f":"Expenses!F131+Expenses!G131+Expenses!H131","v":0},{"$f":"Expenses!I131","v":0},{"$f":"Expenses!J131","v":0},{"$f":"Expenses!K131","v":0},{"$f":"Expenses!L131","v":0},{"$f":"Expenses!M131","v":0}]
[{"$f":"IF(Expenses!C132=\"\",0,Expenses!C132)","v":0},{"$f":"IF(Expenses!D132=\"\",0,Expenses!D132)","v":0},{"$f":"IF(Mileage!C366=\"\",0,Mileage!J366)","v":0},0,{"$f":"Expenses!E132","v":0},{"$f":"Expenses!F132+Expenses!G132+Expenses!H132","v":0},{"$f":"Expenses!I132","v":0},{"$f":"Expenses!J132","v":0},{"$f":"Expenses!K132","v":0},{"$f":"Expenses!L132","v":0},{"$f":"Expenses!M132","v":0}]
[{"$f":"IF(Expenses!C133=\"\",0,Expenses!C133)","v":0},{"$f":"IF(Expenses!D133=\"\",0,Expenses!D133)","v":0},{"$f":"IF(Mileage!C367=\"\",0,Mileage!J367)","v":0},0,{"$f":"Expenses!E133","v":0},{"$f":"Expenses!F133+Expenses!G133+Expenses!H133","v":0},{"$f":"Expenses!I133","v":0},{"$f":"Expenses!J133","v":0},{"$f":"Expenses!K133","v":0},{"$f":"Expenses!L133","v":0},{"$f":"Expenses!M133","v":0}]
[{"$f":"IF(Expenses!C134=\"\",0,Expenses!C134)","v":0},{"$f":"IF(Expenses!D134=\"\",0,Expenses!D134)","v":0},{"$f":"IF(Mileage!C368=\"\",0,Mileage!J368)","v":0},{"$f":"IF(A368>0,A368&B368,0)","v":0},{"$f":"Expenses!E134","v":0},{"$f":"Expenses!F134+Expenses!G134+Expenses!H134","v":0},{"$f":"Expenses!I134","v":0},{"$f":"Expenses!J134","v":0},{"$f":"Expenses!K134","v":0},{"$f":"Expenses!L134","v":0},{"$f":"Expenses!M134","v":0}]
[{"$f":"IF(Expenses!C135=\"\",0,Expenses!C135)","v":0},{"$f":"IF(Expenses!D135=\"\",0,Expenses!D135)","v":0},{"$f":"IF(Mileage!C369=\"\",0,Mileage!J369)","v":0},0,{"$f":"Expenses!E135","v":0},{"$f":"Expenses!F135+Expenses!G135+Expenses!H135","v":0},{"$f":"Expenses!I135","v":0},{"$f":"Expenses!J135","v":0},{"$f":"Expenses!K135","v":0},{"$f":"Expenses!L135","v":0},{"$f":"Expenses!M135","v":0}]
[{"$f":"IF(Expenses!C136=\"\",0,Expenses!C136)","v":0},{"$f":"IF(Expenses!D136=\"\",0,Expenses!D136)","v":0},{"$f":"IF(Mileage!C370=\"\",0,Mileage!J370)","v":0},0,{"$f":"Expenses!E136","v":0},{"$f":"Expenses!F136+Expenses!G136+Expenses!H136","v":0},{"$f":"Expenses!I136","v":0},{"$f":"Expenses!J136","v":0},{"$f":"Expenses!K136","v":0},{"$f":"Expenses!L136","v":0},{"$f":"Expenses!M136","v":0}]
[{"$f":"IF(Expenses!C137=\"\",0,Expenses!C137)","v":0},{"$f":"IF(Expenses!D137=\"\",0,Expenses!D137)","v":0},{"$f":"IF(Mileage!C371=\"\",0,Mileage!J371)","v":0},0,{"$f":"Expenses!E137","v":0},{"$f":"Expenses!F137+Expenses!G137+Expenses!H137","v":0},{"$f":"Expenses!I137","v":0},{"$f":"Expenses!J137","v":0},{"$f":"Expenses!K137","v":0},{"$f":"Expenses!L137","v":0},{"$f":"Expenses!M137","v":0}]
[{"$f":"IF(Expenses!C138=\"\",0,Expenses!C138)","v":0},{"$f":"IF(Expenses!D138=\"\",0,Expenses!D138)","v":0},{"$f":"IF(Mileage!C372=\"\",0,Mileage!J372)","v":0},0,{"$f":"Expenses!E138","v":0},{"$f":"Expenses!F138+Expenses!G138+Expenses!H138","v":0},{"$f":"Expenses!I138","v":0},{"$f":"Expenses!J138","v":0},{"$f":"Expenses!K138","v":0},{"$f":"Expenses!L138","v":0},{"$f":"Expenses!M138","v":0}]
[{"$f":"IF(Expenses!C139=\"\",0,Expenses!C139)","v":0},{"$f":"IF(Expenses!D139=\"\",0,Expenses!D139)","v":0},{"$f":"IF(Mileage!C373=\"\",0,Mileage!J373)","v":0},0,{"$f":"Expenses!E139","v":0},{"$f":"Expenses!F139+Expenses!G139+Expenses!H139","v":0},{"$f":"Expenses!I139","v":0},{"$f":"Expenses!J139","v":0},{"$f":"Expenses!K139","v":0},{"$f":"Expenses!L139","v":0},{"$f":"Expenses!M139","v":0}]
[{"$f":"IF(Expenses!C140=\"\",0,Expenses!C140)","v":0},{"$f":"IF(Expenses!D140=\"\",0,Expenses!D140)","v":0},{"$f":"IF(Mileage!C374=\"\",0,Mileage!J374)","v":0},0,{"$f":"Expenses!E140","v":0},{"$f":"Expenses!F140+Expenses!G140+Expenses!H140","v":0},{"$f":"Expenses!I140","v":0},{"$f":"Expenses!J140","v":0},{"$f":"Expenses!K140","v":0},{"$f":"Expenses!L140","v":0},{"$f":"Expenses!M140","v":0}]
[{"$f":"IF(Expenses!C141=\"\",0,Expenses!C141)","v":0},{"$f":"IF(Expenses!D141=\"\",0,Expenses!D141)","v":0},{"$f":"IF(Mileage!C375=\"\",0,Mileage!J375)","v":0},0,{"$f":"Expenses!E141","v":0},{"$f":"Expenses!F141+Expenses!G141+Expenses!H141","v":0},{"$f":"Expenses!I141","v":0},{"$f":"Expenses!J141","v":0},{"$f":"Expenses!K141","v":0},{"$f":"Expenses!L141","v":0},{"$f":"Expenses!M141","v":0}]
[{"$f":"IF(Expenses!C142=\"\",0,Expenses!C142)","v":0},{"$f":"IF(Expenses!D142=\"\",0,Expenses!D142)","v":0},{"$f":"IF(Mileage!C376=\"\",0,Mileage!J376)","v":0},0,{"$f":"Expenses!E142","v":0},{"$f":"Expenses!F142+Expenses!G142+Expenses!H142","v":0},{"$f":"Expenses!I142","v":0},{"$f":"Expenses!J142","v":0},{"$f":"Expenses!K142","v":0},{"$f":"Expenses!L142","v":0},{"$f":"Expenses!M142","v":0}]
[{"$f":"IF(Expenses!C143=\"\",0,Expenses!C143)","v":0},{"$f":"IF(Expenses!D143=\"\",0,Expenses!D143)","v":0},{"$f":"IF(Mileage!C377=\"\",0,Mileage!J377)","v":0},0,{"$f":"Expenses!E143","v":0},{"$f":"Expenses!F143+Expenses!G143+Expenses!H143","v":0},{"$f":"Expenses!I143","v":0},{"$f":"Expenses!J143","v":0},{"$f":"Expenses!K143","v":0},{"$f":"Expenses!L143","v":0},{"$f":"Expenses!M143","v":0}]
[{"$f":"IF(Expenses!C144=\"\",0,Expenses!C144)","v":0},{"$f":"IF(Expenses!D144=\"\",0,Expenses!D144)","v":0},{"$f":"IF(Mileage!C378=\"\",0,Mileage!J378)","v":0},0,{"$f":"Expenses!E144","v":0},{"$f":"Expenses!F144+Expenses!G144+Expenses!H144","v":0},{"$f":"Expenses!I144","v":0},{"$f":"Expenses!J144","v":0},{"$f":"Expenses!K144","v":0},{"$f":"Expenses!L144","v":0},{"$f":"Expenses!M144","v":0}]
[{"$f":"IF(Expenses!C145=\"\",0,Expenses!C145)","v":0},{"$f":"IF(Expenses!D145=\"\",0,Expenses!D145)","v":0},{"$f":"IF(Mileage!C379=\"\",0,Mileage!J379)","v":0},0,{"$f":"Expenses!E145","v":0},{"$f":"Expenses!F145+Expenses!G145+Expenses!H145","v":0},{"$f":"Expenses!I145","v":0},{"$f":"Expenses!J145","v":0},{"$f":"Expenses!K145","v":0},{"$f":"Expenses!L145","v":0},{"$f":"Expenses!M145","v":0}]
[{"$f":"IF(Expenses!C146=\"\",0,Expenses!C146)","v":0},{"$f":"IF(Expenses!D146=\"\",0,Expenses!D146)","v":0},{"$f":"IF(Mileage!C380=\"\",0,Mileage!J380)","v":0},0,{"$f":"Expenses!E146","v":0},{"$f":"Expenses!F146+Expenses!G146+Expenses!H146","v":0},{"$f":"Expenses!I146","v":0},{"$f":"Expenses!J146","v":0},{"$f":"Expenses!K146","v":0},{"$f":"Expenses!L146","v":0},{"$f":"Expenses!M146","v":0}]
[{"$f":"IF(Expenses!C147=\"\",0,Expenses!C147)","v":0},{"$f":"IF(Expenses!D147=\"\",0,Expenses!D147)","v":0},{"$f":"IF(Mileage!C381=\"\",0,Mileage!J381)","v":0},0,{"$f":"Expenses!E147","v":0},{"$f":"Expenses!F147+Expenses!G147+Expenses!H147","v":0},{"$f":"Expenses!I147","v":0},{"$f":"Expenses!J147","v":0},{"$f":"Expenses!K147","v":0},{"$f":"Expenses!L147","v":0},{"$f":"Expenses!M147","v":0}]
[{"$f":"IF(Expenses!C148=\"\",0,Expenses!C148)","v":0},{"$f":"IF(Expenses!D148=\"\",0,Expenses!D148)","v":0},{"$f":"IF(Mileage!C382=\"\",0,Mileage!J382)","v":0},0,{"$f":"Expenses!E148","v":0},{"$f":"Expenses!F148+Expenses!G148+Expenses!H148","v":0},{"$f":"Expenses!I148","v":0},{"$f":"Expenses!J148","v":0},{"$f":"Expenses!K148","v":0},{"$f":"Expenses!L148","v":0},{"$f":"Expenses!M148","v":0}]
[{"$f":"IF(Expenses!C149=\"\",0,Expenses!C149)","v":0},{"$f":"IF(Expenses!D149=\"\",0,Expenses!D149)","v":0},{"$f":"IF(Mileage!C383=\"\",0,Mileage!J383)","v":0},0,{"$f":"Expenses!E149","v":0},{"$f":"Expenses!F149+Expenses!G149+Expenses!H149","v":0},{"$f":"Expenses!I149","v":0},{"$f":"Expenses!J149","v":0},{"$f":"Expenses!K149","v":0},{"$f":"Expenses!L149","v":0},{"$f":"Expenses!M149","v":0}]
[{"$f":"IF(Expenses!C150=\"\",0,Expenses!C150)","v":0},{"$f":"IF(Expenses!D150=\"\",0,Expenses!D150)","v":0},{"$f":"IF(Mileage!C384=\"\",0,Mileage!J384)","v":0},0,{"$f":"Expenses!E150","v":0},{"$f":"Expenses!F150+Expenses!G150+Expenses!H150","v":0},{"$f":"Expenses!I150","v":0},{"$f":"Expenses!J150","v":0},{"$f":"Expenses!K150","v":0},{"$f":"Expenses!L150","v":0},{"$f":"Expenses!M150","v":0}]
[{"$f":"IF(Expenses!C151=\"\",0,Expenses!C151)","v":0},{"$f":"IF(Expenses!D151=\"\",0,Expenses!D151)","v":0},{"$f":"IF(Mileage!C385=\"\",0,Mileage!J385)","v":0},0,{"$f":"Expenses!E151","v":0},{"$f":"Expenses!F151+Expenses!G151+Expenses!H151","v":0},{"$f":"Expenses!I151","v":0},{"$f":"Expenses!J151","v":0},{"$f":"Expenses!K151","v":0},{"$f":"Expenses!L151","v":0},{"$f":"Expenses!M151","v":0}]
[{"$f":"IF(Expenses!C152=\"\",0,Expenses!C152)","v":0},{"$f":"IF(Expenses!D152=\"\",0,Expenses!D152)","v":0},{"$f":"IF(Mileage!C386=\"\",0,Mileage!J386)","v":0},0,{"$f":"Expenses!E152","v":0},{"$f":"Expenses!F152+Expenses!G152+Expenses!H152","v":0},{"$f":"Expenses!I152","v":0},{"$f":"Expenses!J152","v":0},{"$f":"Expenses!K152","v":0},{"$f":"Expenses!L152","v":0},{"$f":"Expenses!M152","v":0}]
[{"$f":"IF(Expenses!C153=\"\",0,Expenses!C153)","v":0},{"$f":"IF(Expenses!D153=\"\",0,Expenses!D153)","v":0},{"$f":"IF(Mileage!C387=\"\",0,Mileage!J387)","v":0},0,{"$f":"Expenses!E153","v":0},{"$f":"Expenses!F153+Expenses!G153+Expenses!H153","v":0},{"$f":"Expenses!I153","v":0},{"$f":"Expenses!J153","v":0},{"$f":"Expenses!K153","v":0},{"$f":"Expenses!L153","v":0},{"$f":"Expenses!M153","v":0}]
[{"$f":"IF(Expenses!C154=\"\",0,Expenses!C154)","v":0},{"$f":"IF(Expenses!D154=\"\",0,Expenses!D154)","v":0},{"$f":"IF(Mileage!C388=\"\",0,Mileage!J388)","v":0},0,{"$f":"Expenses!E154","v":0},{"$f":"Expenses!F154+Expenses!G154+Expenses!H154","v":0},{"$f":"Expenses!I154","v":0},{"$f":"Expenses!J154","v":0},{"$f":"Expenses!K154","v":0},{"$f":"Expenses!L154","v":0},{"$f":"Expenses!M154","v":0}]
[{"$f":"IF(Expenses!C155=\"\",0,Expenses!C155)","v":0},{"$f":"IF(Expenses!D155=\"\",0,Expenses!D155)","v":0},{"$f":"IF(Mileage!C389=\"\",0,Mileage!J389)","v":0},0,{"$f":"Expenses!E155","v":0},{"$f":"Expenses!F155+Expenses!G155+Expenses!H155","v":0},{"$f":"Expenses!I155","v":0},{"$f":"Expenses!J155","v":0},{"$f":"Expenses!K155","v":0},{"$f":"Expenses!L155","v":0},{"$f":"Expenses!M155","v":0}]
[{"$f":"IF(Expenses!C156=\"\",0,Expenses!C156)","v":0},{"$f":"IF(Expenses!D156=\"\",0,Expenses!D156)","v":0},{"$f":"IF(Mileage!C390=\"\",0,Mileage!J390)","v":0},0,{"$f":"Expenses!E156","v":0},{"$f":"Expenses!F156+Expenses!G156+Expenses!H156","v":0},{"$f":"Expenses!I156","v":0},{"$f":"Expenses!J156","v":0},{"$f":"Expenses!K156","v":0},{"$f":"Expenses!L156","v":0},{"$f":"Expenses!M156","v":0}]
[{"$f":"IF(Expenses!C157=\"\",0,Expenses!C157)","v":0},{"$f":"IF(Expenses!D157=\"\",0,Expenses!D157)","v":0},{"$f":"IF(Mileage!C391=\"\",0,Mileage!J391)","v":0},0,{"$f":"Expenses!E157","v":0},{"$f":"Expenses!F157+Expenses!G157+Expenses!H157","v":0},{"$f":"Expenses!I157","v":0},{"$f":"Expenses!J157","v":0},{"$f":"Expenses!K157","v":0},{"$f":"Expenses!L157","v":0},{"$f":"Expenses!M157","v":0}]
[{"$f":"IF(Expenses!C158=\"\",0,Expenses!C158)","v":0},{"$f":"IF(Expenses!D158=\"\",0,Expenses!D158)","v":0},{"$f":"IF(Mileage!C392=\"\",0,Mileage!J392)","v":0},0,{"$f":"Expenses!E158","v":0},{"$f":"Expenses!F158+Expenses!G158+Expenses!H158","v":0},{"$f":"Expenses!I158","v":0},{"$f":"Expenses!J158","v":0},{"$f":"Expenses!K158","v":0},{"$f":"Expenses!L158","v":0},{"$f":"Expenses!M158","v":0}]
[{"$f":"IF(Expenses!C159=\"\",0,Expenses!C159)","v":0},{"$f":"IF(Expenses!D159=\"\",0,Expenses!D159)","v":0},{"$f":"IF(Mileage!C393=\"\",0,Mileage!J393)","v":0},0,{"$f":"Expenses!E159","v":0},{"$f":"Expenses!F159+Expenses!G159+Expenses!H159","v":0},{"$f":"Expenses!I159","v":0},{"$f":"Expenses!J159","v":0},{"$f":"Expenses!K159","v":0},{"$f":"Expenses!L159","v":0},{"$f":"Expenses!M159","v":0}]
[{"$f":"IF(Expenses!C160=\"\",0,Expenses!C160)","v":0},{"$f":"IF(Expenses!D160=\"\",0,Expenses!D160)","v":0},{"$f":"IF(Mileage!C394=\"\",0,Mileage!J394)","v":0},0,{"$f":"Expenses!E160","v":0},{"$f":"Expenses!F160+Expenses!G160+Expenses!H160","v":0},{"$f":"Expenses!I160","v":0},{"$f":"Expenses!J160","v":0},{"$f":"Expenses!K160","v":0},{"$f":"Expenses!L160","v":0},{"$f":"Expenses!M160","v":0}]
[{"$f":"IF(Expenses!C161=\"\",0,Expenses!C161)","v":0},{"$f":"IF(Expenses!D161=\"\",0,Expenses!D161)","v":0},{"$f":"IF(Mileage!C395=\"\",0,Mileage!J395)","v":0},0,{"$f":"Expenses!E161","v":0},{"$f":"Expenses!F161+Expenses!G161+Expenses!H161","v":0},{"$f":"Expenses!I161","v":0},{"$f":"Expenses!J161","v":0},{"$f":"Expenses!K161","v":0},{"$f":"Expenses!L161","v":0},{"$f":"Expenses!M161","v":0}]
[{"$f":"IF(Expenses!C162=\"\",0,Expenses!C162)","v":0},{"$f":"IF(Expenses!D162=\"\",0,Expenses!D162)","v":0},{"$f":"IF(Mileage!C396=\"\",0,Mileage!J396)","v":0},0,{"$f":"Expenses!E162","v":0},{"$f":"Expenses!F162+Expenses!G162+Expenses!H162","v":0},{"$f":"Expenses!I162","v":0},{"$f":"Expenses!J162","v":0},{"$f":"Expenses!K162","v":0},{"$f":"Expenses!L162","v":0},{"$f":"Expenses!M162","v":0}]
[{"$f":"IF(Expenses!C163=\"\",0,Expenses!C163)","v":0},{"$f":"IF(Expenses!D163=\"\",0,Expenses!D163)","v":0},{"$f":"IF(Mileage!C397=\"\",0,Mileage!J397)","v":0},0,{"$f":"Expenses!E163","v":0},{"$f":"Expenses!F163+Expenses!G163+Expenses!H163","v":0},{"$f":"Expenses!I163","v":0},{"$f":"Expenses!J163","v":0},{"$f":"Expenses!K163","v":0},{"$f":"Expenses!L163","v":0},{"$f":"Expenses!M163","v":0}]
[{"$f":"IF(Expenses!C164=\"\",0,Expenses!C164)","v":0},{"$f":"IF(Expenses!D164=\"\",0,Expenses!D164)","v":0},{"$f":"IF(Mileage!C398=\"\",0,Mileage!J398)","v":0},0,{"$f":"Expenses!E164","v":0},{"$f":"Expenses!F164+Expenses!G164+Expenses!H164","v":0},{"$f":"Expenses!I164","v":0},{"$f":"Expenses!J164","v":0},{"$f":"Expenses!K164","v":0},{"$f":"Expenses!L164","v":0},{"$f":"Expenses!M164","v":0}]
[{"$f":"IF(Expenses!C165=\"\",0,Expenses!C165)","v":0},{"$f":"IF(Expenses!D165=\"\",0,Expenses!D165)","v":0},{"$f":"IF(Mileage!C399=\"\",0,Mileage!J399)","v":0},0,{"$f":"Expenses!E165","v":0},{"$f":"Expenses!F165+Expenses!G165+Expenses!H165","v":0},{"$f":"Expenses!I165","v":0},{"$f":"Expenses!J165","v":0},{"$f":"Expenses!K165","v":0},{"$f":"Expenses!L165","v":0},{"$f":"Expenses!M165","v":0}]
[{"$f":"IF(Expenses!C166=\"\",0,Expenses!C166)","v":0},{"$f":"IF(Expenses!D166=\"\",0,Expenses!D166)","v":0},{"$f":"IF(Mileage!C400=\"\",0,Mileage!J400)","v":0},0,{"$f":"Expenses!E166","v":0},{"$f":"Expenses!F166+Expenses!G166+Expenses!H166","v":0},{"$f":"Expenses!I166","v":0},{"$f":"Expenses!J166","v":0},{"$f":"Expenses!K166","v":0},{"$f":"Expenses!L166","v":0},{"$f":"Expenses!M166","v":0}]
[{"$f":"IF(Expenses!C167=\"\",0,Expenses!C167)","v":0},{"$f":"IF(Expenses!D167=\"\",0,Expenses!D167)","v":0},{"$f":"IF(Mileage!C401=\"\",0,Mileage!J401)","v":0},0,{"$f":"Expenses!E167","v":0},{"$f":"Expenses!F167+Expenses!G167+Expenses!H167","v":0},{"$f":"Expenses!I167","v":0},{"$f":"Expenses!J167","v":0},{"$f":"Expenses!K167","v":0},{"$f":"Expenses!L167","v":0},{"$f":"Expenses!M167","v":0}]
[{"$f":"IF(Expenses!C168=\"\",0,Expenses!C168)","v":0},{"$f":"IF(Expenses!D168=\"\",0,Expenses!D168)","v":0},{"$f":"IF(Mileage!C402=\"\",0,Mileage!J402)","v":0},0,{"$f":"Expenses!E168","v":0},{"$f":"Expenses!F168+Expenses!G168+Expenses!H168","v":0},{"$f":"Expenses!I168","v":0},{"$f":"Expenses!J168","v":0},{"$f":"Expenses!K168","v":0},{"$f":"Expenses!L168","v":0},{"$f":"Expenses!M168","v":0}]
[{"$f":"IF(Expenses!C169=\"\",0,Expenses!C169)","v":0},{"$f":"IF(Expenses!D169=\"\",0,Expenses!D169)","v":0},{"$f":"IF(Mileage!C403=\"\",0,Mileage!J403)","v":0},0,{"$f":"Expenses!E169","v":0},{"$f":"Expenses!F169+Expenses!G169+Expenses!H169","v":0},{"$f":"Expenses!I169","v":0},{"$f":"Expenses!J169","v":0},{"$f":"Expenses!K169","v":0},{"$f":"Expenses!L169","v":0},{"$f":"Expenses!M169","v":0}]
[{"$f":"IF(Expenses!C170=\"\",0,Expenses!C170)","v":0},{"$f":"IF(Expenses!D170=\"\",0,Expenses!D170)","v":0},{"$f":"IF(Mileage!C404=\"\",0,Mileage!J404)","v":0},0,{"$f":"Expenses!E170","v":0},{"$f":"Expenses!F170+Expenses!G170+Expenses!H170","v":0},{"$f":"Expenses!I170","v":0},{"$f":"Expenses!J170","v":0},{"$f":"Expenses!K170","v":0},{"$f":"Expenses!L170","v":0},{"$f":"Expenses!M170","v":0}]
[{"$f":"IF(Expenses!C171=\"\",0,Expenses!C171)","v":0},{"$f":"IF(Expenses!D171=\"\",0,Expenses!D171)","v":0},{"$f":"IF(Mileage!C405=\"\",0,Mileage!J405)","v":0},0,{"$f":"Expenses!E171","v":0},{"$f":"Expenses!F171+Expenses!G171+Expenses!H171","v":0},{"$f":"Expenses!I171","v":0},{"$f":"Expenses!J171","v":0},{"$f":"Expenses!K171","v":0},{"$f":"Expenses!L171","v":0},{"$f":"Expenses!M171","v":0}]
[{"$f":"IF(Expenses!C172=\"\",0,Expenses!C172)","v":0},{"$f":"IF(Expenses!D172=\"\",0,Expenses!D172)","v":0},{"$f":"IF(Mileage!C406=\"\",0,Mileage!J406)","v":0},0,{"$f":"Expenses!E172","v":0},{"$f":"Expenses!F172+Expenses!G172+Expenses!H172","v":0},{"$f":"Expenses!I172","v":0},{"$f":"Expenses!J172","v":0},{"$f":"Expenses!K172","v":0},{"$f":"Expenses!L172","v":0},{"$f":"Expenses!M172","v":0}]
[{"$f":"IF(Expenses!C173=\"\",0,Expenses!C173)","v":0},{"$f":"IF(Expenses!D173=\"\",0,Expenses!D173)","v":0},{"$f":"IF(Mileage!C407=\"\",0,Mileage!J407)","v":0},0,{"$f":"Expenses!E173","v":0},{"$f":"Expenses!F173+Expenses!G173+Expenses!H173","v":0},{"$f":"Expenses!I173","v":0},{"$f":"Expenses!J173","v":0},{"$f":"Expenses!K173","v":0},{"$f":"Expenses!L173","v":0},{"$f":"Expenses!M173","v":0}]
[{"$f":"IF(Expenses!C174=\"\",0,Expenses!C174)","v":0},{"$f":"IF(Expenses!D174=\"\",0,Expenses!D174)","v":0},{"$f":"IF(Mileage!C408=\"\",0,Mileage!J408)","v":0},0,{"$f":"Expenses!E174","v":0},{"$f":"Expenses!F174+Expenses!G174+Expenses!H174","v":0},{"$f":"Expenses!I174","v":0},{"$f":"Expenses!J174","v":0},{"$f":"Expenses!K174","v":0},{"$f":"Expenses!L174","v":0},{"$f":"Expenses!M174","v":0}]
[{"$f":"IF(Expenses!C175=\"\",0,Expenses!C175)","v":0},{"$f":"IF(Expenses!D175=\"\",0,Expenses!D175)","v":0},{"$f":"IF(Mileage!C409=\"\",0,Mileage!J409)","v":0},0,{"$f":"Expenses!E175","v":0},{"$f":"Expenses!F175+Expenses!G175+Expenses!H175","v":0},{"$f":"Expenses!I175","v":0},{"$f":"Expenses!J175","v":0},{"$f":"Expenses!K175","v":0},{"$f":"Expenses!L175","v":0},{"$f":"Expenses!M175","v":0}]
[{"$f":"IF(Expenses!C176=\"\",0,Expenses!C176)","v":0},{"$f":"IF(Expenses!D176=\"\",0,Expenses!D176)","v":0},{"$f":"IF(Mileage!C410=\"\",0,Mileage!J410)","v":0},0,{"$f":"Expenses!E176","v":0},{"$f":"Expenses!F176+Expenses!G176+Expenses!H176","v":0},{"$f":"Expenses!I176","v":0},{"$f":"Expenses!J176","v":0},{"$f":"Expenses!K176","v":0},{"$f":"Expenses!L176","v":0},{"$f":"Expenses!M176","v":0}]
[{"$f":"IF(Expenses!C177=\"\",0,Expenses!C177)","v":0},{"$f":"IF(Expenses!D177=\"\",0,Expenses!D177)","v":0},{"$f":"IF(Mileage!C411=\"\",0,Mileage!J411)","v":0},0,{"$f":"Expenses!E177","v":0},{"$f":"Expenses!F177+Expenses!G177+Expenses!H177","v":0},{"$f":"Expenses!I177","v":0},{"$f":"Expenses!J177","v":0},{"$f":"Expenses!K177","v":0},{"$f":"Expenses!L177","v":0},{"$f":"Expenses!M177","v":0}]
[{"$f":"IF(Expenses!C178=\"\",0,Expenses!C178)","v":0},{"$f":"IF(Expenses!D178=\"\",0,Expenses!D178)","v":0},{"$f":"IF(Mileage!C412=\"\",0,Mileage!J412)","v":0},0,{"$f":"Expenses!E178","v":0},{"$f":"Expenses!F178+Expenses!G178+Expenses!H178","v":0},{"$f":"Expenses!I178","v":0},{"$f":"Expenses!J178","v":0},{"$f":"Expenses!K178","v":0},{"$f":"Expenses!L178","v":0},{"$f":"Expenses!M178","v":0}]
[{"$f":"IF(Expenses!C179=\"\",0,Expenses!C179)","v":0},{"$f":"IF(Expenses!D179=\"\",0,Expenses!D179)","v":0},{"$f":"IF(Mileage!C413=\"\",0,Mileage!J413)","v":0},0,{"$f":"Expenses!E179","v":0},{"$f":"Expenses!F179+Expenses!G179+Expenses!H179","v":0},{"$f":"Expenses!I179","v":0},{"$f":"Expenses!J179","v":0},{"$f":"Expenses!K179","v":0},{"$f":"Expenses!L179","v":0},{"$f":"Expenses!M179","v":0}]
[{"$f":"IF(Expenses!C180=\"\",0,Expenses!C180)","v":0},{"$f":"IF(Expenses!D180=\"\",0,Expenses!D180)","v":0},{"$f":"IF(Mileage!C414=\"\",0,Mileage!J414)","v":0},0,{"$f":"Expenses!E180","v":0},{"$f":"Expenses!F180+Expenses!G180+Expenses!H180","v":0},{"$f":"Expenses!I180","v":0},{"$f":"Expenses!J180","v":0},{"$f":"Expenses!K180","v":0},{"$f":"Expenses!L180","v":0},{"$f":"Expenses!M180","v":0}]
[{"$f":"IF(Expenses!C181=\"\",0,Expenses!C181)","v":0},{"$f":"IF(Expenses!D181=\"\",0,Expenses!D181)","v":0},{"$f":"IF(Mileage!C415=\"\",0,Mileage!J415)","v":0},0,{"$f":"Expenses!E181","v":0},{"$f":"Expenses!F181+Expenses!G181+Expenses!H181","v":0},{"$f":"Expenses!I181","v":0},{"$f":"Expenses!J181","v":0},{"$f":"Expenses!K181","v":0},{"$f":"Expenses!L181","v":0},{"$f":"Expenses!M181","v":0}]
[{"$f":"IF(Expenses!C182=\"\",0,Expenses!C182)","v":0},{"$f":"IF(Expenses!D182=\"\",0,Expenses!D182)","v":0},{"$f":"IF(Mileage!C416=\"\",0,Mileage!J416)","v":0},0,{"$f":"Expenses!E182","v":0},{"$f":"Expenses!F182+Expenses!G182+Expenses!H182","v":0},{"$f":"Expenses!I182","v":0},{"$f":"Expenses!J182","v":0},{"$f":"Expenses!K182","v":0},{"$f":"Expenses!L182","v":0},{"$f":"Expenses!M182","v":0}]
[{"$f":"IF(Expenses!C183=\"\",0,Expenses!C183)","v":0},{"$f":"IF(Expenses!D183=\"\",0,Expenses!D183)","v":0},{"$f":"IF(Mileage!C417=\"\",0,Mileage!J417)","v":0},0,{"$f":"Expenses!E183","v":0},{"$f":"Expenses!F183+Expenses!G183+Expenses!H183","v":0},{"$f":"Expenses!I183","v":0},{"$f":"Expenses!J183","v":0},{"$f":"Expenses!K183","v":0},{"$f":"Expenses!L183","v":0},{"$f":"Expenses!M183","v":0}]
[{"$f":"IF(Expenses!C184=\"\",0,Expenses!C184)","v":0},{"$f":"IF(Expenses!D184=\"\",0,Expenses!D184)","v":0},{"$f":"IF(Mileage!C418=\"\",0,Mileage!J418)","v":0},0,{"$f":"Expenses!E184","v":0},{"$f":"Expenses!F184+Expenses!G184+Expenses!H184","v":0},{"$f":"Expenses!I184","v":0},{"$f":"Expenses!J184","v":0},{"$f":"Expenses!K184","v":0},{"$f":"Expenses!L184","v":0},{"$f":"Expenses!M184","v":0}]
[{"$f":"IF(Expenses!C185=\"\",0,Expenses!C185)","v":0},{"$f":"IF(Expenses!D185=\"\",0,Expenses!D185)","v":0},{"$f":"IF(Mileage!C419=\"\",0,Mileage!J419)","v":0},0,{"$f":"Expenses!E185","v":0},{"$f":"Expenses!F185+Expenses!G185+Expenses!H185","v":0},{"$f":"Expenses!I185","v":0},{"$f":"Expenses!J185","v":0},{"$f":"Expenses!K185","v":0},{"$f":"Expenses!L185","v":0},{"$f":"Expenses!M185","v":0}]
[{"$f":"IF(Expenses!C186=\"\",0,Expenses!C186)","v":0},{"$f":"IF(Expenses!D186=\"\",0,Expenses!D186)","v":0},{"$f":"IF(Mileage!C420=\"\",0,Mileage!J420)","v":0},0,{"$f":"Expenses!E186","v":0},{"$f":"Expenses!F186+Expenses!G186+Expenses!H186","v":0},{"$f":"Expenses!I186","v":0},{"$f":"Expenses!J186","v":0},{"$f":"Expenses!K186","v":0},{"$f":"Expenses!L186","v":0},{"$f":"Expenses!M186","v":0}]
[{"$f":"IF(Expenses!C187=\"\",0,Expenses!C187)","v":0},{"$f":"IF(Expenses!D187=\"\",0,Expenses!D187)","v":0},{"$f":"IF(Mileage!C421=\"\",0,Mileage!J421)","v":0},0,{"$f":"Expenses!E187","v":0},{"$f":"Expenses!F187+Expenses!G187+Expenses!H187","v":0},{"$f":"Expenses!I187","v":0},{"$f":"Expenses!J187","v":0},{"$f":"Expenses!K187","v":0},{"$f":"Expenses!L187","v":0},{"$f":"Expenses!M187","v":0}]
[{"$f":"IF(Expenses!C188=\"\",0,Expenses!C188)","v":0},{"$f":"IF(Expenses!D188=\"\",0,Expenses!D188)","v":0},{"$f":"IF(Mileage!C422=\"\",0,Mileage!J422)","v":0},0,{"$f":"Expenses!E188","v":0},{"$f":"Expenses!F188+Expenses!G188+Expenses!H188","v":0},{"$f":"Expenses!I188","v":0},{"$f":"Expenses!J188","v":0},{"$f":"Expenses!K188","v":0},{"$f":"Expenses!L188","v":0},{"$f":"Expenses!M188","v":0}]
[{"$f":"IF(Expenses!C189=\"\",0,Expenses!C189)","v":0},{"$f":"IF(Expenses!D189=\"\",0,Expenses!D189)","v":0},{"$f":"IF(Mileage!C423=\"\",0,Mileage!J423)","v":0},0,{"$f":"Expenses!E189","v":0},{"$f":"Expenses!F189+Expenses!G189+Expenses!H189","v":0},{"$f":"Expenses!I189","v":0},{"$f":"Expenses!J189","v":0},{"$f":"Expenses!K189","v":0},{"$f":"Expenses!L189","v":0},{"$f":"Expenses!M189","v":0}]
[{"$f":"IF(Expenses!C190=\"\",0,Expenses!C190)","v":0},{"$f":"IF(Expenses!D190=\"\",0,Expenses!D190)","v":0},{"$f":"IF(Mileage!C424=\"\",0,Mileage!J424)","v":0},0,{"$f":"Expenses!E190","v":0},{"$f":"Expenses!F190+Expenses!G190+Expenses!H190","v":0},{"$f":"Expenses!I190","v":0},{"$f":"Expenses!J190","v":0},{"$f":"Expenses!K190","v":0},{"$f":"Expenses!L190","v":0},{"$f":"Expenses!M190","v":0}]
[{"$f":"IF(Expenses!C191=\"\",0,Expenses!C191)","v":0},{"$f":"IF(Expenses!D191=\"\",0,Expenses!D191)","v":0},{"$f":"IF(Mileage!C425=\"\",0,Mileage!J425)","v":0},0,{"$f":"Expenses!E191","v":0},{"$f":"Expenses!F191+Expenses!G191+Expenses!H191","v":0},{"$f":"Expenses!I191","v":0},{"$f":"Expenses!J191","v":0},{"$f":"Expenses!K191","v":0},{"$f":"Expenses!L191","v":0},{"$f":"Expenses!M191","v":0}]
[{"$f":"IF(Expenses!C192=\"\",0,Expenses!C192)","v":0},{"$f":"IF(Expenses!D192=\"\",0,Expenses!D192)","v":0},{"$f":"IF(Mileage!C426=\"\",0,Mileage!J426)","v":0},0,{"$f":"Expenses!E192","v":0},{"$f":"Expenses!F192+Expenses!G192+Expenses!H192","v":0},{"$f":"Expenses!I192","v":0},{"$f":"Expenses!J192","v":0},{"$f":"Expenses!K192","v":0},{"$f":"Expenses!L192","v":0},{"$f":"Expenses!M192","v":0}]
[{"$f":"IF(Expenses!C193=\"\",0,Expenses!C193)","v":0},{"$f":"IF(Expenses!D193=\"\",0,Expenses!D193)","v":0},{"$f":"IF(Mileage!C427=\"\",0,Mileage!J427)","v":0},0,{"$f":"Expenses!E193","v":0},{"$f":"Expenses!F193+Expenses!G193+Expenses!H193","v":0},{"$f":"Expenses!I193","v":0},{"$f":"Expenses!J193","v":0},{"$f":"Expenses!K193","v":0},{"$f":"Expenses!L193","v":0},{"$f":"Expenses!M193","v":0}]
[{"$f":"IF(Expenses!C194=\"\",0,Expenses!C194)","v":0},{"$f":"IF(Expenses!D194=\"\",0,Expenses!D194)","v":0},{"$f":"IF(Mileage!C428=\"\",0,Mileage!J428)","v":0},0,{"$f":"Expenses!E194","v":0},{"$f":"Expenses!F194+Expenses!G194+Expenses!H194","v":0},{"$f":"Expenses!I194","v":0},{"$f":"Expenses!J194","v":0},{"$f":"Expenses!K194","v":0},{"$f":"Expenses!L194","v":0},{"$f":"Expenses!M194","v":0}]
[{"$f":"IF(Expenses!C195=\"\",0,Expenses!C195)","v":0},{"$f":"IF(Expenses!D195=\"\",0,Expenses!D195)","v":0},{"$f":"IF(Mileage!C429=\"\",0,Mileage!J429)","v":0},0,{"$f":"Expenses!E195","v":0},{"$f":"Expenses!F195+Expenses!G195+Expenses!H195","v":0},{"$f":"Expenses!I195","v":0},{"$f":"Expenses!J195","v":0},{"$f":"Expenses!K195","v":0},{"$f":"Expenses!L195","v":0},{"$f":"Expenses!M195","v":0}]
[{"$f":"IF(Expenses!C196=\"\",0,Expenses!C196)","v":0},{"$f":"IF(Expenses!D196=\"\",0,Expenses!D196)","v":0},{"$f":"IF(Mileage!C430=\"\",0,Mileage!J430)","v":0},0,{"$f":"Expenses!E196","v":0},{"$f":"Expenses!F196+Expenses!G196+Expenses!H196","v":0},{"$f":"Expenses!I196","v":0},{"$f":"Expenses!J196","v":0},{"$f":"Expenses!K196","v":0},{"$f":"Expenses!L196","v":0},{"$f":"Expenses!M196","v":0}]
[{"$f":"IF(Expenses!C197=\"\",0,Expenses!C197)","v":0},{"$f":"IF(Expenses!D197=\"\",0,Expenses!D197)","v":0},{"$f":"IF(Mileage!C431=\"\",0,Mileage!J431)","v":0},0,{"$f":"Expenses!E197","v":0},{"$f":"Expenses!F197+Expenses!G197+Expenses!H197","v":0},{"$f":"Expenses!I197","v":0},{"$f":"Expenses!J197","v":0},{"$f":"Expenses!K197","v":0},{"$f":"Expenses!L197","v":0},{"$f":"Expenses!M197","v":0}]
[{"$f":"IF(Expenses!C198=\"\",0,Expenses!C198)","v":0},{"$f":"IF(Expenses!D198=\"\",0,Expenses!D198)","v":0},{"$f":"IF(Mileage!C432=\"\",0,Mileage!J432)","v":0},{"$f":"IF(A432>0,A432&B432,0)","v":0},{"$f":"Expenses!E198","v":0},{"$f":"Expenses!F198+Expenses!G198+Expenses!H198","v":0},{"$f":"Expenses!I198","v":0},{"$f":"Expenses!J198","v":0},{"$f":"Expenses!K198","v":0},{"$f":"Expenses!L198","v":0},{"$f":"Expenses!M198","v":0}]
[{"$f":"IF(Expenses!C199=\"\",0,Expenses!C199)","v":0},{"$f":"IF(Expenses!D199=\"\",0,Expenses!D199)","v":0},{"$f":"IF(Mileage!C433=\"\",0,Mileage!J433)","v":0},0,{"$f":"Expenses!E199","v":0},{"$f":"Expenses!F199+Expenses!G199+Expenses!H199","v":0},{"$f":"Expenses!I199","v":0},{"$f":"Expenses!J199","v":0},{"$f":"Expenses!K199","v":0},{"$f":"Expenses!L199","v":0},{"$f":"Expenses!M199","v":0}]
[{"$f":"IF(Expenses!C200=\"\",0,Expenses!C200)","v":0},{"$f":"IF(Expenses!D200=\"\",0,Expenses!D200)","v":0},{"$f":"IF(Mileage!C434=\"\",0,Mileage!J434)","v":0},0,{"$f":"Expenses!E200","v":0},{"$f":"Expenses!F200+Expenses!G200+Expenses!H200","v":0},{"$f":"Expenses!I200","v":0},{"$f":"Expenses!J200","v":0},{"$f":"Expenses!K200","v":0},{"$f":"Expenses!L200","v":0},{"$f":"Expenses!M200","v":0}]
[{"$f":"IF(Expenses!C201=\"\",0,Expenses!C201)","v":0},{"$f":"IF(Expenses!D201=\"\",0,Expenses!D201)","v":0},{"$f":"IF(Mileage!C435=\"\",0,Mileage!J435)","v":0},0,{"$f":"Expenses!E201","v":0},{"$f":"Expenses!F201+Expenses!G201+Expenses!H201","v":0},{"$f":"Expenses!I201","v":0},{"$f":"Expenses!J201","v":0},{"$f":"Expenses!K201","v":0},{"$f":"Expenses!L201","v":0},{"$f":"Expenses!M201","v":0}]
[{"$f":"IF(Expenses!C202=\"\",0,Expenses!C202)","v":0},{"$f":"IF(Expenses!D202=\"\",0,Expenses!D202)","v":0},{"$f":"IF(Mileage!C436=\"\",0,Mileage!J436)","v":0},0,{"$f":"Expenses!E202","v":0},{"$f":"Expenses!F202+Expenses!G202+Expenses!H202","v":0},{"$f":"Expenses!I202","v":0},{"$f":"Expenses!J202","v":0},{"$f":"Expenses!K202","v":0},{"$f":"Expenses!L202","v":0},{"$f":"Expenses!M202","v":0}]
[{"$f":"IF(Expenses!C203=\"\",0,Expenses!C203)","v":0},{"$f":"IF(Expenses!D203=\"\",0,Expenses!D203)","v":0},{"$f":"IF(Mileage!C437=\"\",0,Mileage!J437)","v":0},0,{"$f":"Expenses!E203","v":0},{"$f":"Expenses!F203+Expenses!G203+Expenses!H203","v":0},{"$f":"Expenses!I203","v":0},{"$f":"Expenses!J203","v":0},{"$f":"Expenses!K203","v":0},{"$f":"Expenses!L203","v":0},{"$f":"Expenses!M203","v":0}]
[{"$f":"IF(Expenses!C204=\"\",0,Expenses!C204)","v":0},{"$f":"IF(Expenses!D204=\"\",0,Expenses!D204)","v":0},{"$f":"IF(Mileage!C438=\"\",0,Mileage!J438)","v":0},0,{"$f":"Expenses!E204","v":0},{"$f":"Expenses!F204+Expenses!G204+Expenses!H204","v":0},{"$f":"Expenses!I204","v":0},{"$f":"Expenses!J204","v":0},{"$f":"Expenses!K204","v":0},{"$f":"Expenses!L204","v":0},{"$f":"Expenses!M204","v":0}]
[{"$f":"IF(Expenses!C205=\"\",0,Expenses!C205)","v":0},{"$f":"IF(Expenses!D205=\"\",0,Expenses!D205)","v":0},{"$f":"IF(Mileage!C439=\"\",0,Mileage!J439)","v":0},0,{"$f":"Expenses!E205","v":0},{"$f":"Expenses!F205+Expenses!G205+Expenses!H205","v":0},{"$f":"Expenses!I205","v":0},{"$f":"Expenses!J205","v":0},{"$f":"Expenses!K205","v":0},{"$f":"Expenses!L205","v":0},{"$f":"Expenses!M205","v":0}]
[{"$f":"IF(Expenses!C206=\"\",0,Expenses!C206)","v":0},{"$f":"IF(Expenses!D206=\"\",0,Expenses!D206)","v":0},{"$f":"IF(Mileage!C440=\"\",0,Mileage!J440)","v":0},0,{"$f":"Expenses!E206","v":0},{"$f":"Expenses!F206+Expenses!G206+Expenses!H206","v":0},{"$f":"Expenses!I206","v":0},{"$f":"Expenses!J206","v":0},{"$f":"Expenses!K206","v":0},{"$f":"Expenses!L206","v":0},{"$f":"Expenses!M206","v":0}]
[{"$f":"IF(Expenses!C207=\"\",0,Expenses!C207)","v":0},{"$f":"IF(Expenses!D207=\"\",0,Expenses!D207)","v":0},{"$f":"IF(Mileage!C441=\"\",0,Mileage!J441)","v":0},0,{"$f":"Expenses!E207","v":0},{"$f":"Expenses!F207+Expenses!G207+Expenses!H207","v":0},{"$f":"Expenses!I207","v":0},{"$f":"Expenses!J207","v":0},{"$f":"Expenses!K207","v":0},{"$f":"Expenses!L207","v":0},{"$f":"Expenses!M207","v":0}]
[{"$f":"IF(Expenses!C208=\"\",0,Expenses!C208)","v":0},{"$f":"IF(Expenses!D208=\"\",0,Expenses!D208)","v":0},{"$f":"IF(Mileage!C442=\"\",0,Mileage!J442)","v":0},0,{"$f":"Expenses!E208","v":0},{"$f":"Expenses!F208+Expenses!G208+Expenses!H208","v":0},{"$f":"Expenses!I208","v":0},{"$f":"Expenses!J208","v":0},{"$f":"Expenses!K208","v":0},{"$f":"Expenses!L208","v":0},{"$f":"Expenses!M208","v":0}]
[{"$f":"IF(Expenses!C209=\"\",0,Expenses!C209)","v":0},{"$f":"IF(Expenses!D209=\"\",0,Expenses!D209)","v":0},{"$f":"IF(Mileage!C443=\"\",0,Mileage!J443)","v":0},0,{"$f":"Expenses!E209","v":0},{"$f":"Expenses!F209+Expenses!G209+Expenses!H209","v":0},{"$f":"Expenses!I209","v":0},{"$f":"Expenses!J209","v":0},{"$f":"Expenses!K209","v":0},{"$f":"Expenses!L209","v":0},{"$f":"Expenses!M209","v":0}]
[{"$f":"IF(Expenses!C210=\"\",0,Expenses!C210)","v":0},{"$f":"IF(Expenses!D210=\"\",0,Expenses!D210)","v":0},{"$f":"IF(Mileage!C444=\"\",0,Mileage!J444)","v":0},0,{"$f":"Expenses!E210","v":0},{"$f":"Expenses!F210+Expenses!G210+Expenses!H210","v":0},{"$f":"Expenses!I210","v":0},{"$f":"Expenses!J210","v":0},{"$f":"Expenses!K210","v":0},{"$f":"Expenses!L210","v":0},{"$f":"Expenses!M210","v":0}]
[{"$f":"IF(Expenses!C211=\"\",0,Expenses!C211)","v":0},{"$f":"IF(Expenses!D211=\"\",0,Expenses!D211)","v":0},{"$f":"IF(Mileage!C445=\"\",0,Mileage!J445)","v":0},0,{"$f":"Expenses!E211","v":0},{"$f":"Expenses!F211+Expenses!G211+Expenses!H211","v":0},{"$f":"Expenses!I211","v":0},{"$f":"Expenses!J211","v":0},{"$f":"Expenses!K211","v":0},{"$f":"Expenses!L211","v":0},{"$f":"Expenses!M211","v":0}]
[{"$f":"IF(Expenses!C212=\"\",0,Expenses!C212)","v":0},{"$f":"IF(Expenses!D212=\"\",0,Expenses!D212)","v":0},{"$f":"IF(Mileage!C446=\"\",0,Mileage!J446)","v":0},0,{"$f":"Expenses!E212","v":0},{"$f":"Expenses!F212+Expenses!G212+Expenses!H212","v":0},{"$f":"Expenses!I212","v":0},{"$f":"Expenses!J212","v":0},{"$f":"Expenses!K212","v":0},{"$f":"Expenses!L212","v":0},{"$f":"Expenses!M212","v":0}]
[{"$f":"IF(Expenses!C213=\"\",0,Expenses!C213)","v":0},{"$f":"IF(Expenses!D213=\"\",0,Expenses!D213)","v":0},{"$f":"IF(Mileage!C447=\"\",0,Mileage!J447)","v":0},0,{"$f":"Expenses!E213","v":0},{"$f":"Expenses!F213+Expenses!G213+Expenses!H213","v":0},{"$f":"Expenses!I213","v":0},{"$f":"Expenses!J213","v":0},{"$f":"Expenses!K213","v":0},{"$f":"Expenses!L213","v":0},{"$f":"Expenses!M213","v":0}]
[{"$f":"IF(Expenses!C214=\"\",0,Expenses!C214)","v":0},{"$f":"IF(Expenses!D214=\"\",0,Expenses!D214)","v":0},{"$f":"IF(Mileage!C448=\"\",0,Mileage!J448)","v":0},0,{"$f":"Expenses!E214","v":0},{"$f":"Expenses!F214+Expenses!G214+Expenses!H214","v":0},{"$f":"Expenses!I214","v":0},{"$f":"Expenses!J214","v":0},{"$f":"Expenses!K214","v":0},{"$f":"Expenses!L214","v":0},{"$f":"Expenses!M214","v":0}]
[{"$f":"IF(Expenses!C215=\"\",0,Expenses!C215)","v":0},{"$f":"IF(Expenses!D215=\"\",0,Expenses!D215)","v":0},{"$f":"IF(Mileage!C449=\"\",0,Mileage!J449)","v":0},0,{"$f":"Expenses!E215","v":0},{"$f":"Expenses!F215+Expenses!G215+Expenses!H215","v":0},{"$f":"Expenses!I215","v":0},{"$f":"Expenses!J215","v":0},{"$f":"Expenses!K215","v":0},{"$f":"Expenses!L215","v":0},{"$f":"Expenses!M215","v":0}]
[{"$f":"IF(Expenses!C216=\"\",0,Expenses!C216)","v":0},{"$f":"IF(Expenses!D216=\"\",0,Expenses!D216)","v":0},{"$f":"IF(Mileage!C450=\"\",0,Mileage!J450)","v":0},0,{"$f":"Expenses!E216","v":0},{"$f":"Expenses!F216+Expenses!G216+Expenses!H216","v":0},{"$f":"Expenses!I216","v":0},{"$f":"Expenses!J216","v":0},{"$f":"Expenses!K216","v":0},{"$f":"Expenses!L216","v":0},{"$f":"Expenses!M216","v":0}]
[{"$f":"IF(Expenses!C217=\"\",0,Expenses!C217)","v":0},{"$f":"IF(Expenses!D217=\"\",0,Expenses!D217)","v":0},{"$f":"IF(Mileage!C451=\"\",0,Mileage!J451)","v":0},0,{"$f":"Expenses!E217","v":0},{"$f":"Expenses!F217+Expenses!G217+Expenses!H217","v":0},{"$f":"Expenses!I217","v":0},{"$f":"Expenses!J217","v":0},{"$f":"Expenses!K217","v":0},{"$f":"Expenses!L217","v":0},{"$f":"Expenses!M217","v":0}]
[{"$f":"IF(Expenses!C218=\"\",0,Expenses!C218)","v":0},{"$f":"IF(Expenses!D218=\"\",0,Expenses!D218)","v":0},{"$f":"IF(Mileage!C452=\"\",0,Mileage!J452)","v":0},0,{"$f":"Expenses!E218","v":0},{"$f":"Expenses!F218+Expenses!G218+Expenses!H218","v":0},{"$f":"Expenses!I218","v":0},{"$f":"Expenses!J218","v":0},{"$f":"Expenses!K218","v":0},{"$f":"Expenses!L218","v":0},{"$f":"Expenses!M218","v":0}]
[{"$f":"IF(Expenses!C219=\"\",0,Expenses!C219)","v":0},{"$f":"IF(Expenses!D219=\"\",0,Expenses!D219)","v":0},{"$f":"IF(Mileage!C453=\"\",0,Mileage!J453)","v":0},0,{"$f":"Expenses!E219","v":0},{"$f":"Expenses!F219+Expenses!G219+Expenses!H219","v":0},{"$f":"Expenses!I219","v":0},{"$f":"Expenses!J219","v":0},{"$f":"Expenses!K219","v":0},{"$f":"Expenses!L219","v":0},{"$f":"Expenses!M219","v":0}]
[{"$f":"IF(Expenses!C220=\"\",0,Expenses!C220)","v":0},{"$f":"IF(Expenses!D220=\"\",0,Expenses!D220)","v":0},{"$f":"IF(Mileage!C454=\"\",0,Mileage!J454)","v":0},0,{"$f":"Expenses!E220","v":0},{"$f":"Expenses!F220+Expenses!G220+Expenses!H220","v":0},{"$f":"Expenses!I220","v":0},{"$f":"Expenses!J220","v":0},{"$f":"Expenses!K220","v":0},{"$f":"Expenses!L220","v":0},{"$f":"Expenses!M220","v":0}]
[{"$f":"IF(Expenses!C221=\"\",0,Expenses!C221)","v":0},{"$f":"IF(Expenses!D221=\"\",0,Expenses!D221)","v":0},{"$f":"IF(Mileage!C455=\"\",0,Mileage!J455)","v":0},0,{"$f":"Expenses!E221","v":0},{"$f":"Expenses!F221+Expenses!G221+Expenses!H221","v":0},{"$f":"Expenses!I221","v":0},{"$f":"Expenses!J221","v":0},{"$f":"Expenses!K221","v":0},{"$f":"Expenses!L221","v":0},{"$f":"Expenses!M221","v":0}]
[{"$f":"IF(Expenses!C222=\"\",0,Expenses!C222)","v":0},{"$f":"IF(Expenses!D222=\"\",0,Expenses!D222)","v":0},{"$f":"IF(Mileage!C456=\"\",0,Mileage!J456)","v":0},0,{"$f":"Expenses!E222","v":0},{"$f":"Expenses!F222+Expenses!G222+Expenses!H222","v":0},{"$f":"Expenses!I222","v":0},{"$f":"Expenses!J222","v":0},{"$f":"Expenses!K222","v":0},{"$f":"Expenses!L222","v":0},{"$f":"Expenses!M222","v":0}]
[{"$f":"IF(Expenses!C223=\"\",0,Expenses!C223)","v":0},{"$f":"IF(Expenses!D223=\"\",0,Expenses!D223)","v":0},{"$f":"IF(Mileage!C457=\"\",0,Mileage!J457)","v":0},0,{"$f":"Expenses!E223","v":0},{"$f":"Expenses!F223+Expenses!G223+Expenses!H223","v":0},{"$f":"Expenses!I223","v":0},{"$f":"Expenses!J223","v":0},{"$f":"Expenses!K223","v":0},{"$f":"Expenses!L223","v":0},{"$f":"Expenses!M223","v":0}]
[{"$f":"IF(Expenses!C224=\"\",0,Expenses!C224)","v":0},{"$f":"IF(Expenses!D224=\"\",0,Expenses!D224)","v":0},{"$f":"IF(Mileage!C458=\"\",0,Mileage!J458)","v":0},0,{"$f":"Expenses!E224","v":0},{"$f":"Expenses!F224+Expenses!G224+Expenses!H224","v":0},{"$f":"Expenses!I224","v":0},{"$f":"Expenses!J224","v":0},{"$f":"Expenses!K224","v":0},{"$f":"Expenses!L224","v":0},{"$f":"Expenses!M224","v":0}]
[{"$f":"IF(Expenses!C225=\"\",0,Expenses!C225)","v":0},{"$f":"IF(Expenses!D225=\"\",0,Expenses!D225)","v":0},{"$f":"IF(Mileage!C459=\"\",0,Mileage!J459)","v":0},0,{"$f":"Expenses!E225","v":0},{"$f":"Expenses!F225+Expenses!G225+Expenses!H225","v":0},{"$f":"Expenses!I225","v":0},{"$f":"Expenses!J225","v":0},{"$f":"Expenses!K225","v":0},{"$f":"Expenses!L225","v":0},{"$f":"Expenses!M225","v":0}]
[{"$f":"IF(Expenses!C226=\"\",0,Expenses!C226)","v":0},{"$f":"IF(Expenses!D226=\"\",0,Expenses!D226)","v":0},{"$f":"IF(Mileage!C460=\"\",0,Mileage!J460)","v":0},0,{"$f":"Expenses!E226","v":0},{"$f":"Expenses!F226+Expenses!G226+Expenses!H226","v":0},{"$f":"Expenses!I226","v":0},{"$f":"Expenses!J226","v":0},{"$f":"Expenses!K226","v":0},{"$f":"Expenses!L226","v":0},{"$f":"Expenses!M226","v":0}]
[{"$f":"IF(Expenses!C227=\"\",0,Expenses!C227)","v":0},{"$f":"IF(Expenses!D227=\"\",0,Expenses!D227)","v":0},{"$f":"IF(Mileage!C461=\"\",0,Mileage!J461)","v":0},0,{"$f":"Expenses!E227","v":0},{"$f":"Expenses!F227+Expenses!G227+Expenses!H227","v":0},{"$f":"Expenses!I227","v":0},{"$f":"Expenses!J227","v":0},{"$f":"Expenses!K227","v":0},{"$f":"Expenses!L227","v":0},{"$f":"Expenses!M227","v":0}]
[{"$f":"IF(Expenses!C228=\"\",0,Expenses!C228)","v":0},{"$f":"IF(Expenses!D228=\"\",0,Expenses!D228)","v":0},{"$f":"IF(Mileage!C462=\"\",0,Mileage!J462)","v":0},0,{"$f":"Expenses!E228","v":0},{"$f":"Expenses!F228+Expenses!G228+Expenses!H228","v":0},{"$f":"Expenses!I228","v":0},{"$f":"Expenses!J228","v":0},{"$f":"Expenses!K228","v":0},{"$f":"Expenses!L228","v":0},{"$f":"Expenses!M228","v":0}]
[{"$f":"IF(Expenses!C229=\"\",0,Expenses!C229)","v":0},{"$f":"IF(Expenses!D229=\"\",0,Expenses!D229)","v":0},{"$f":"IF(Mileage!C463=\"\",0,Mileage!J463)","v":0},0,{"$f":"Expenses!E229","v":0},{"$f":"Expenses!F229+Expenses!G229+Expenses!H229","v":0},{"$f":"Expenses!I229","v":0},{"$f":"Expenses!J229","v":0},{"$f":"Expenses!K229","v":0},{"$f":"Expenses!L229","v":0},{"$f":"Expenses!M229","v":0}]
[{"$f":"IF(Expenses!C230=\"\",0,Expenses!C230)","v":0},{"$f":"IF(Expenses!D230=\"\",0,Expenses!D230)","v":0},{"$f":"IF(Mileage!C464=\"\",0,Mileage!J464)","v":0},0,{"$f":"Expenses!E230","v":0},{"$f":"Expenses!F230+Expenses!G230+Expenses!H230","v":0},{"$f":"Expenses!I230","v":0},{"$f":"Expenses!J230","v":0},{"$f":"Expenses!K230","v":0},{"$f":"Expenses!L230","v":0},{"$f":"Expenses!M230","v":0}]
[{"$f":"IF(Expenses!C231=\"\",0,Expenses!C231)","v":0},{"$f":"IF(Expenses!D231=\"\",0,Expenses!D231)","v":0},{"$f":"IF(Mileage!C465=\"\",0,Mileage!J465)","v":0},0,{"$f":"Expenses!E231","v":0},{"$f":"Expenses!F231+Expenses!G231+Expenses!H231","v":0},{"$f":"Expenses!I231","v":0},{"$f":"Expenses!J231","v":0},{"$f":"Expenses!K231","v":0},{"$f":"Expenses!L231","v":0},{"$f":"Expenses!M231","v":0}]
[{"$f":"IF(Expenses!C232=\"\",0,Expenses!C232)","v":0},{"$f":"IF(Expenses!D232=\"\",0,Expenses!D232)","v":0},{"$f":"IF(Mileage!C466=\"\",0,Mileage!J466)","v":0},0,{"$f":"Expenses!E232","v":0},{"$f":"Expenses!F232+Expenses!G232+Expenses!H232","v":0},{"$f":"Expenses!I232","v":0},{"$f":"Expenses!J232","v":0},{"$f":"Expenses!K232","v":0},{"$f":"Expenses!L232","v":0},{"$f":"Expenses!M232","v":0}]
[{"$f":"IF(Expenses!C233=\"\",0,Expenses!C233)","v":0},{"$f":"IF(Expenses!D233=\"\",0,Expenses!D233)","v":0},{"$f":"IF(Mileage!C467=\"\",0,Mileage!J467)","v":0},0,{"$f":"Expenses!E233","v":0},{"$f":"Expenses!F233+Expenses!G233+Expenses!H233","v":0},{"$f":"Expenses!I233","v":0},{"$f":"Expenses!J233","v":0},{"$f":"Expenses!K233","v":0},{"$f":"Expenses!L233","v":0},{"$f":"Expenses!M233","v":0}]
[{"$f":"IF(Expenses!C234=\"\",0,Expenses!C234)","v":0},{"$f":"IF(Expenses!D234=\"\",0,Expenses!D234)","v":0},{"$f":"IF(Mileage!C468=\"\",0,Mileage!J468)","v":0},0,{"$f":"Expenses!E234","v":0},{"$f":"Expenses!F234+Expenses!G234+Expenses!H234","v":0},{"$f":"Expenses!I234","v":0},{"$f":"Expenses!J234","v":0},{"$f":"Expenses!K234","v":0},{"$f":"Expenses!L234","v":0},{"$f":"Expenses!M234","v":0}]
[{"$f":"IF(Expenses!C235=\"\",0,Expenses!C235)","v":0},{"$f":"IF(Expenses!D235=\"\",0,Expenses!D235)","v":0},{"$f":"IF(Mileage!C469=\"\",0,Mileage!J469)","v":0},0,{"$f":"Expenses!E235","v":0},{"$f":"Expenses!F235+Expenses!G235+Expenses!H235","v":0},{"$f":"Expenses!I235","v":0},{"$f":"Expenses!J235","v":0},{"$f":"Expenses!K235","v":0},{"$f":"Expenses!L235","v":0},{"$f":"Expenses!M235","v":0}]
[{"$f":"IF(Expenses!C236=\"\",0,Expenses!C236)","v":0},{"$f":"IF(Expenses!D236=\"\",0,Expenses!D236)","v":0},{"$f":"IF(Mileage!C470=\"\",0,Mileage!J470)","v":0},0,{"$f":"Expenses!E236","v":0},{"$f":"Expenses!F236+Expenses!G236+Expenses!H236","v":0},{"$f":"Expenses!I236","v":0},{"$f":"Expenses!J236","v":0},{"$f":"Expenses!K236","v":0},{"$f":"Expenses!L236","v":0},{"$f":"Expenses!M236","v":0}]
[{"$f":"IF(Expenses!C237=\"\",0,Expenses!C237)","v":0},{"$f":"IF(Expenses!D237=\"\",0,Expenses!D237)","v":0},{"$f":"IF(Mileage!C471=\"\",0,Mileage!J471)","v":0},0,{"$f":"Expenses!E237","v":0},{"$f":"Expenses!F237+Expenses!G237+Expenses!H237","v":0},{"$f":"Expenses!I237","v":0},{"$f":"Expenses!J237","v":0},{"$f":"Expenses!K237","v":0},{"$f":"Expenses!L237","v":0},{"$f":"Expenses!M237","v":0}]
[{"$f":"IF(Expenses!C238=\"\",0,Expenses!C238)","v":0},{"$f":"IF(Expenses!D238=\"\",0,Expenses!D238)","v":0},{"$f":"IF(Mileage!C472=\"\",0,Mileage!J472)","v":0},0,{"$f":"Expenses!E238","v":0},{"$f":"Expenses!F238+Expenses!G238+Expenses!H238","v":0},{"$f":"Expenses!I238","v":0},{"$f":"Expenses!J238","v":0},{"$f":"Expenses!K238","v":0},{"$f":"Expenses!L238","v":0},{"$f":"Expenses!M238","v":0}]
[{"$f":"IF(Expenses!C239=\"\",0,Expenses!C239)","v":0},{"$f":"IF(Expenses!D239=\"\",0,Expenses!D239)","v":0},{"$f":"IF(Mileage!C473=\"\",0,Mileage!J473)","v":0},0,{"$f":"Expenses!E239","v":0},{"$f":"Expenses!F239+Expenses!G239+Expenses!H239","v":0},{"$f":"Expenses!I239","v":0},{"$f":"Expenses!J239","v":0},{"$f":"Expenses!K239","v":0},{"$f":"Expenses!L239","v":0},{"$f":"Expenses!M239","v":0}]
[{"$f":"IF(Expenses!C240=\"\",0,Expenses!C240)","v":0},{"$f":"IF(Expenses!D240=\"\",0,Expenses!D240)","v":0},{"$f":"IF(Mileage!C474=\"\",0,Mileage!J474)","v":0},0,{"$f":"Expenses!E240","v":0},{"$f":"Expenses!F240+Expenses!G240+Expenses!H240","v":0},{"$f":"Expenses!I240","v":0},{"$f":"Expenses!J240","v":0},{"$f":"Expenses!K240","v":0},{"$f":"Expenses!L240","v":0},{"$f":"Expenses!M240","v":0}]
[{"$f":"IF(Expenses!C241=\"\",0,Expenses!C241)","v":0},{"$f":"IF(Expenses!D241=\"\",0,Expenses!D241)","v":0},{"$f":"IF(Mileage!C475=\"\",0,Mileage!J475)","v":0},0,{"$f":"Expenses!E241","v":0},{"$f":"Expenses!F241+Expenses!G241+Expenses!H241","v":0},{"$f":"Expenses!I241","v":0},{"$f":"Expenses!J241","v":0},{"$f":"Expenses!K241","v":0},{"$f":"Expenses!L241","v":0},{"$f":"Expenses!M241","v":0}]
[{"$f":"IF(Expenses!C242=\"\",0,Expenses!C242)","v":0},{"$f":"IF(Expenses!D242=\"\",0,Expenses!D242)","v":0},{"$f":"IF(Mileage!C476=\"\",0,Mileage!J476)","v":0},0,{"$f":"Expenses!E242","v":0},{"$f":"Expenses!F242+Expenses!G242+Expenses!H242","v":0},{"$f":"Expenses!I242","v":0},{"$f":"Expenses!J242","v":0},{"$f":"Expenses!K242","v":0},{"$f":"Expenses!L242","v":0},{"$f":"Expenses!M242","v":0}]
[{"$f":"IF(Expenses!C243=\"\",0,Expenses!C243)","v":0},{"$f":"IF(Expenses!D243=\"\",0,Expenses!D243)","v":0},{"$f":"IF(Mileage!C477=\"\",0,Mileage!J477)","v":0},0,{"$f":"Expenses!E243","v":0},{"$f":"Expenses!F243+Expenses!G243+Expenses!H243","v":0},{"$f":"Expenses!I243","v":0},{"$f":"Expenses!J243","v":0},{"$f":"Expenses!K243","v":0},{"$f":"Expenses!L243","v":0},{"$f":"Expenses!M243","v":0}]
[{"$f":"IF(Expenses!C244=\"\",0,Expenses!C244)","v":0},{"$f":"IF(Expenses!D244=\"\",0,Expenses!D244)","v":0},{"$f":"IF(Mileage!C478=\"\",0,Mileage!J478)","v":0},0,{"$f":"Expenses!E244","v":0},{"$f":"Expenses!F244+Expenses!G244+Expenses!H244","v":0},{"$f":"Expenses!I244","v":0},{"$f":"Expenses!J244","v":0},{"$f":"Expenses!K244","v":0},{"$f":"Expenses!L244","v":0},{"$f":"Expenses!M244","v":0}]
[{"$f":"IF(Expenses!C245=\"\",0,Expenses!C245)","v":0},{"$f":"IF(Expenses!D245=\"\",0,Expenses!D245)","v":0},{"$f":"IF(Mileage!C479=\"\",0,Mileage!J479)","v":0},0,{"$f":"Expenses!E245","v":0},{"$f":"Expenses!F245+Expenses!G245+Expenses!H245","v":0},{"$f":"Expenses!I245","v":0},{"$f":"Expenses!J245","v":0},{"$f":"Expenses!K245","v":0},{"$f":"Expenses!L245","v":0},{"$f":"Expenses!M245","v":0}]
[{"$f":"IF(Expenses!C246=\"\",0,Expenses!C246)","v":0},{"$f":"IF(Expenses!D246=\"\",0,Expenses!D246)","v":0},{"$f":"IF(Mileage!C480=\"\",0,Mileage!J480)","v":0},0,{"$f":"Expenses!E246","v":0},{"$f":"Expenses!F246+Expenses!G246+Expenses!H246","v":0},{"$f":"Expenses!I246","v":0},{"$f":"Expenses!J246","v":0},{"$f":"Expenses!K246","v":0},{"$f":"Expenses!L246","v":0},{"$f":"Expenses!M246","v":0}]
[{"$f":"IF(Expenses!C247=\"\",0,Expenses!C247)","v":0},{"$f":"IF(Expenses!D247=\"\",0,Expenses!D247)","v":0},{"$f":"IF(Mileage!C481=\"\",0,Mileage!J481)","v":0},0,{"$f":"Expenses!E247","v":0},{"$f":"Expenses!F247+Expenses!G247+Expenses!H247","v":0},{"$f":"Expenses!I247","v":0},{"$f":"Expenses!J247","v":0},{"$f":"Expenses!K247","v":0},{"$f":"Expenses!L247","v":0},{"$f":"Expenses!M247","v":0}]
[{"$f":"IF(Expenses!C248=\"\",0,Expenses!C248)","v":0},{"$f":"IF(Expenses!D248=\"\",0,Expenses!D248)","v":0},{"$f":"IF(Mileage!C482=\"\",0,Mileage!J482)","v":0},0,{"$f":"Expenses!E248","v":0},{"$f":"Expenses!F248+Expenses!G248+Expenses!H248","v":0},{"$f":"Expenses!I248","v":0},{"$f":"Expenses!J248","v":0},{"$f":"Expenses!K248","v":0},{"$f":"Expenses!L248","v":0},{"$f":"Expenses!M248","v":0}]
[{"$f":"IF(Expenses!C249=\"\",0,Expenses!C249)","v":0},{"$f":"IF(Expenses!D249=\"\",0,Expenses!D249)","v":0},{"$f":"IF(Mileage!C483=\"\",0,Mileage!J483)","v":0},0,{"$f":"Expenses!E249","v":0},{"$f":"Expenses!F249+Expenses!G249+Expenses!H249","v":0},{"$f":"Expenses!I249","v":0},{"$f":"Expenses!J249","v":0},{"$f":"Expenses!K249","v":0},{"$f":"Expenses!L249","v":0},{"$f":"Expenses!M249","v":0}]
[{"$f":"IF(Expenses!C250=\"\",0,Expenses!C250)","v":0},{"$f":"IF(Expenses!D250=\"\",0,Expenses!D250)","v":0},{"$f":"IF(Mileage!C484=\"\",0,Mileage!J484)","v":0},0,{"$f":"Expenses!E250","v":0},{"$f":"Expenses!F250+Expenses!G250+Expenses!H250","v":0},{"$f":"Expenses!I250","v":0},{"$f":"Expenses!J250","v":0},{"$f":"Expenses!K250","v":0},{"$f":"Expenses!L250","v":0},{"$f":"Expenses!M250","v":0}]
[{"$f":"IF(Expenses!C251=\"\",0,Expenses!C251)","v":0},{"$f":"IF(Expenses!D251=\"\",0,Expenses!D251)","v":0},{"$f":"IF(Mileage!C485=\"\",0,Mileage!J485)","v":0},0,{"$f":"Expenses!E251","v":0},{"$f":"Expenses!F251+Expenses!G251+Expenses!H251","v":0},{"$f":"Expenses!I251","v":0},{"$f":"Expenses!J251","v":0},{"$f":"Expenses!K251","v":0},{"$f":"Expenses!L251","v":0},{"$f":"Expenses!M251","v":0}]
[{"$f":"IF(Expenses!C252=\"\",0,Expenses!C252)","v":0},{"$f":"IF(Expenses!D252=\"\",0,Expenses!D252)","v":0},{"$f":"IF(Mileage!C486=\"\",0,Mileage!J486)","v":0},0,{"$f":"Expenses!E252","v":0},{"$f":"Expenses!F252+Expenses!G252+Expenses!H252","v":0},{"$f":"Expenses!I252","v":0},{"$f":"Expenses!J252","v":0},{"$f":"Expenses!K252","v":0},{"$f":"Expenses!L252","v":0},{"$f":"Expenses!M252","v":0}]
[{"$f":"IF(Expenses!C253=\"\",0,Expenses!C253)","v":0},{"$f":"IF(Expenses!D253=\"\",0,Expenses!D253)","v":0},{"$f":"IF(Mileage!C487=\"\",0,Mileage!J487)","v":0},0,{"$f":"Expenses!E253","v":0},{"$f":"Expenses!F253+Expenses!G253+Expenses!H253","v":0},{"$f":"Expenses!I253","v":0},{"$f":"Expenses!J253","v":0},{"$f":"Expenses!K253","v":0},{"$f":"Expenses!L253","v":0},{"$f":"Expenses!M253","v":0}]
[{"$f":"IF(Expenses!C254=\"\",0,Expenses!C254)","v":0},{"$f":"IF(Expenses!D254=\"\",0,Expenses!D254)","v":0},{"$f":"IF(Mileage!C488=\"\",0,Mileage!J488)","v":0},0,{"$f":"Expenses!E254","v":0},{"$f":"Expenses!F254+Expenses!G254+Expenses!H254","v":0},{"$f":"Expenses!I254","v":0},{"$f":"Expenses!J254","v":0},{"$f":"Expenses!K254","v":0},{"$f":"Expenses!L254","v":0},{"$f":"Expenses!M254","v":0}]
[{"$f":"IF(Expenses!C255=\"\",0,Expenses!C255)","v":0},{"$f":"IF(Expenses!D255=\"\",0,Expenses!D255)","v":0},{"$f":"IF(Mileage!C489=\"\",0,Mileage!J489)","v":0},0,{"$f":"Expenses!E255","v":0},{"$f":"Expenses!F255+Expenses!G255+Expenses!H255","v":0},{"$f":"Expenses!I255","v":0},{"$f":"Expenses!J255","v":0},{"$f":"Expenses!K255","v":0},{"$f":"Expenses!L255","v":0},{"$f":"Expenses!M255","v":0}]

{"sheet":"Formulas","index":4,"n_rows":486,"n_cols":11,"rows_kept":486,"cut":false,"hidden":false,"merged":[]}
["Fund #","Org #","Mileage Charged","FundOrg","Lodging","Meals","Registration","Parking","Ground Trans.","Flight","Other"]
[0,0,0,0,0,0,0,0,0,0,0]
[0,0,0,0,0,0,0,0,0,0,0]
[0,0,0,0,0,0,0,0,0,0,0]
[0,0,0,0,0,0,0,0,0,0,0]
[0,0,0,0,0,0,0,0,0,0,0]
[0,0,0,0,0,0,0,0,0,0,0]
[0,0,0,0,0,0,0,0,0,0,0]
[0,0,0,0,0,0,0,0,0,0,0]
[0,0,0,0,0,0,0,0,0,0,0]
[0,0,0,0,0,0,0,0,0,0,0]
[0,0,0,0,0,0,0,0,0,0,0]
[0,0,0,0,0,0,0,0,0,0,0]
[0,0,0,0,0,0,0,0,0,0,0]
[0,0,0,0,0,0,0,0,0,0,0]
[0,0,0,0,0,0,0,0,0,0,0]
[0,0,0,0,0,0,0,0,0,0,0]
[0,0,0,0,0,0,0,0,0,0,0]
[0,0,0,0,0,0,0,0,0,0,0]
[0,0,0,0,0,0,0,0,0,0,0]
[0,0,0,0,0,0,0,0,0,0,0]
[0,0,0,0,0,0,0,0,0,0,0]
[0,0,0,0,0,0,0,0,0,0,0]
[0,0,0,0,0,0,0,0,0,0,0]
[0,0,0,0,0,0,0,0,0,0,0]
[0,0,0,0,0,0,0,0,0,0,0]
[0,0,0,0,0,0,0,0,0,0,0]
[0,0,0,0,0,0,0,0,0,0,0]
[0,0,0,0,0,0,0,0,0,0,0]
[0,0,0,0,0,0,0,0,0,0,0]
[0,0,0,0,0,0,0,0,0,0,0]
[0,0,0,0,0,0,0,0,0,0,0]
[0,0,0,0,0,0,0,0,0,0,0]
[0,0,0,0,0,0,0,0,0,0,0]
[0,0,0,0,0,0,0,0,0,0,0]
[0,0,0,0,0,0,0,0,0,0,0]
[0,0,0,0,0,0,0,0,0,0,0]
[0,0,0,0,0,0,0,0,0,0,0]
[0,0,0,0,0,0,0,0,0,0,0]
[0,0,0,0,0,0,0,0,0,0,0]
[0,0,0,0,0,0,0,0,0,0,0]
[0,0,0,0,0,0,0,0,0,0,0]
[0,0,0,0,0,0,0,0,0,0,0]
[0,0,0,0,0,0,0,0,0,0,0]
[0,0,0,0,0,0,0,0,0,0,0]
[0,0,0,0,0,0,0,0,0,0,0]
[0,0,0,0,0,0,0,0,0,0,0]
[0,0,0,0,0,0,0,0,0,0,0]
[0,0,0,0,0,0,0,0,0,0,0]
[0,0,0,0,0,0,0,0,0,0,0]
[0,0,0,0,0,0,0,0,0,0,0]
[0,0,0,0,0,0,0,0,0,0,0]
[0,0,0,0,0,0,0,0,0,0,0]
[0,0,0,0,0,0,0,0,0,0,0]
[0,0,0,0,0,0,0,0,0,0,0]
[0,0,0,0,0,0,0,0,0,0,0]
[0,0,0,0,0,0,0,0,0,0,0]
[0,0,0,0,0,0,0,0,0,0,0]
[0,0,0,0,0,0,0,0,0,0,0]
[0,0,0,0,0,0,0,0,0,0,0]
[0,0,0,0,0,0,0,0,0,0,0]
[0,0,0,0,0,0,0,0,0,0,0]
[0,0,0,0,0,0,0,0,0,0,0]
[0,0,0,0,0,0,0,0,0,0,0]
[0,0,0,0,0,0,0,0,0,0,0]
[0,0,0,0,0,0,0,0,0,0,0]
[0,0,0,0,0,0,0,0,0,0,0]
[0,0,0,0,0,0,0,0,0,0,0]
[0,0,0,0,0,0,0,0,0,0,0]
[0,0,0,0,0,0,0,0,0,0,0]
[0,0,0,0,0,0,0,0,0,0,0]
[0,0,0,0,0,0,0,0,0,0,0]
[0,0,0,0,0,0,0,0,0,0,0]
[0,0,0,0,0,0,0,0,0,0,0]
[0,0,0,0,0,0,0,0,0,0,0]
[0,0,0,0,0,0,0,0,0,0,0]
[0,0,0,0,0,0,0,0,0,0,0]
[0,0,0,0,0,0,0,0,0,0,0]
[0,0,0,0,0,0,0,0,0,0,0]
[0,0,0,0,0,0,0,0,0,0,0]
[0,0,0,0,0,0,0,0,0,0,0]
[0,0,0,0,0,0,0,0,0,0,0]
[0,0,0,0,0,0,0,0,0,0,0]
[0,0,0,0,0,0,0,0,0,0,0]
[0,0,0,0,0,0,0,0,0,0,0]
[0,0,0,0,0,0,0,0,0,0,0]
[0,0,0,0,0,0,0,0,0,0,0]
[0,0,0,0,0,0,0,0,0,0,0]
[0,0,0,0,0,0,0,0,0,0,0]
[0,0,0,0,0,0,0,0,0,0,0]
[0,0,0,0,0,0,0,0,0,0,0]
[0,0,0,0,0,0,0,0,0,0,0]
[0,0,0,0,0,0,0,0,0,0,0]
[0,0,0,0,0,0,0,0,0,0,0]
[0,0,0,0,0,0,0,0,0,0,0]
[0,0,0,0,0,0,0,0,0,0,0]
[0,0,0,0,0,0,0,0,0,0,0]
[0,0,0,0,0,0,0,0,0,0,0]
[0,0,0,0,0,0,0,0,0,0,0]
[0,0,0,0,0,0,0,0,0,0,0]
[0,0,0,0,0,0,0,0,0,0,0]
[0,0,0,0,0,0,0,0,0,0,0]
[0,0,0,0,0,0,0,0,0,0,0]
[0,0,0,0,0,0,0,0,0,0,0]
[0,0,0,0,0,0,0,0,0,0,0]
[0,0,0,0,0,0,0,0,0,0,0]
[0,0,0,0,0,0,0,0,0,0,0]
[0,0,0,0,0,0,0,0,0,0,0]
[0,0,0,0,0,0,0,0,0,0,0]
[0,0,0,0,0,0,0,0,0,0,0]
[0,0,0,0,0,0,0,0,0,0,0]
[0,0,0,0,0,0,0,0,0,0,0]
[0,0,0,0,0,0,0,0,0,0,0]
[0,0,0,0,0,0,0,0,0,0,0]
[0,0,0,0,0,0,0,0,0,0,0]
[0,0,0,0,0,0,0,0,0,0,0]
[0,0,0,0,0,0,0,0,0,0,0]
[0,0,0,0,0,0,0,0,0,0,0]
[0,0,0,0,0,0,0,0,0,0,0]
[0,0,0,0,0,0,0,0,0,0,0]
[0,0,0,0,0,0,0,0,0,0,0]
[0,0,0,0,0,0,0,0,0,0,0]
[0,0,0,0,0,0,0,0,0,0,0]
[0,0,0,0,0,0,0,0,0,0,0]
[0,0,0,0,0,0,0,0,0,0,0]
[0,0,0,0,0,0,0,0,0,0,0]
[0,0,0,0,0,0,0,0,0,0,0]
[0,0,0,0,0,0,0,0,0,0,0]
[0,0,0,0,0,0,0,0,0,0,0]
[0,0,0,0,0,0,0,0,0,0,0]
[0,0,0,0,0,0,0,0,0,0,0]
[0,0,0,0,0,0,0,0,0,0,0]
[0,0,0,0,0,0,0,0,0,0,0]
[0,0,0,0,0,0,0,0,0,0,0]
[0,0,0,0,0,0,0,0,0,0,0]
[0,0,0,0,0,0,0,0,0,0,0]
[0,0,0,0,0,0,0,0,0,0,0]
[0,0,0,0,0,0,0,0,0,0,0]
[0,0,0,0,0,0,0,0,0,0,0]
[0,0,0,0,0,0,0,0,0,0,0]
[0,0,0,0,0,0,0,0,0,0,0]
[0,0,0,0,0,0,0,0,0,0,0]
[0,0,0,0,0,0,0,0,0,0,0]
[0,0,0,0,0,0,0,0,0,0,0]
[0,0,0,0,0,0,0,0,0,0,0]
[0,0,0,0,0,0,0,0,0,0,0]
[0,0,0,0,0,0,0,0,0,0,0]
[0,0,0,0,0,0,0,0,0,0,0]
[0,0,0,0,0,0,0,0,0,0,0]
[0,0,0,0,0,0,0,0,0,0,0]
[0,0,0,0,0,0,0,0,0,0,0]
[0,0,0,0,0,0,0,0,0,0,0]
[0,0,0,0,0,0,0,0,0,0,0]
[0,0,0,0,0,0,0,0,0,0,0]
[0,0,0,0,0,0,0,0,0,0,0]
[0,0,0,0,0,0,0,0,0,0,0]
[0,0,0,0,0,0,0,0,0,0,0]
[0,0,0,0,0,0,0,0,0,0,0]
[0,0,0,0,0,0,0,0,0,0,0]
[0,0,0,0,0,0,0,0,0,0,0]
[0,0,0,0,0,0,0,0,0,0,0]
[0,0,0,0,0,0,0,0,0,0,0]
[0,0,0,0,0,0,0,0,0,0,0]
[0,0,0,0,0,0,0,0,0,0,0]
[0,0,0,0,0,0,0,0,0,0,0]
[0,0,0,0,0,0,0,0,0,0,0]
[0,0,0,0,0,0,0,0,0,0,0]
[0,0,0,0,0,0,0,0,0,0,0]
[0,0,0,0,0,0,0,0,0,0,0]
[0,0,0,0,0,0,0,0,0,0,0]
[0,0,0,0,0,0,0,0,0,0,0]
[0,0,0,0,0,0,0,0,0,0,0]
[0,0,0,0,0,0,0,0,0,0,0]
[0,0,0,0,0,0,0,0,0,0,0]
[0,0,0,0,0,0,0,0,0,0,0]
[0,0,0,0,0,0,0,0,0,0,0]
[0,0,0,0,0,0,0,0,0,0,0]
[0,0,0,0,0,0,0,0,0,0,0]
[0,0,0,0,0,0,0,0,0,0,0]
[0,0,0,0,0,0,0,0,0,0,0]
[0,0,0,0,0,0,0,0,0,0,0]
[0,0,0,0,0,0,0,0,0,0,0]
[0,0,0,0,0,0,0,0,0,0,0]
[0,0,0,0,0,0,0,0,0,0,0]
[0,0,0,0,0,0,0,0,0,0,0]
[0,0,0,0,0,0,0,0,0,0,0]
[0,0,0,0,0,0,0,0,0,0,0]
[0,0,0,0,0,0,0,0,0,0,0]
[0,0,0,0,0,0,0,0,0,0,0]
[0,0,0,0,0,0,0,0,0,0,0]
[0,0,0,0,0,0,0,0,0,0,0]
[0,0,0,0,0,0,0,0,0,0,0]
[0,0,0,0,0,0,0,0,0,0,0]
[0,0,0,0,0,0,0,0,0,0,0]
[0,0,0,0,0,0,0,0,0,0,0]
[0,0,0,0,0,0,0,0,0,0,0]
[0,0,0,0,0,0,0,0,0,0,0]
[0,0,0,0,0,0,0,0,0,0,0]
[0,0,0,0,0,0,0,0,0,0,0]
[0,0,0,0,0,0,0,0,0,0,0]
[0,0,0,0,0,0,0,0,0,0,0]
[0,0,0,0,0,0,0,0,0,0,0]
[0,0,0,0,0,0,0,0,0,0,0]
[0,0,0,0,0,0,0,0,0,0,0]
[0,0,0,0,0,0,0,0,0,0,0]
[0,0,0,0,0,0,0,0,0,0,0]
[0,0,0,0,0,0,0,0,0,0,0]
[0,0,0,0,0,0,0,0,0,0,0]
[0,0,0,0,0,0,0,0,0,0,0]
[0,0,0,0,0,0,0,0,0,0,0]
[0,0,0,0,0,0,0,0,0,0,0]
[0,0,0,0,0,0,0,0,0,0,0]
[0,0,0,0,0,0,0,0,0,0,0]
[0,0,0,0,0,0,0,0,0,0,0]
[0,0,0,0,0,0,0,0,0,0,0]
[0,0,0,0,0,0,0,0,0,0,0]
[0,0,0,0,0,0,0,0,0,0,0]
[0,0,0,0,0,0,0,0,0,0,0]
[0,0,0,0,0,0,0,0,0,0,0]
[0,0,0,0,0,0,0,0,0,0,0]
[0,0,0,0,0,0,0,0,0,0,0]
[0,0,0,0,0,0,0,0,0,0,0]
[0,0,0,0,0,0,0,0,0,0,0]
[0,0,0,0,0,0,0,0,0,0,0]
[0,0,0,0,0,0,0,0,0,0,0]
[0,0,0,0,0,0,0,0,0,0,0]
[0,0,0,0,0,0,0,0,0,0,0]
[0,0,0,0,0,0,0,0,0,0,0]
[0,0,0,0,0,0,0,0,0,0,0]
[0,0,0,0,0,0,0,0,0,0,0]
[0,0,0,0,0,0,0,0,0,0,0]
[0,0,0,0,0,0,0,0,0,0,0]
[0,0,0,0,0,0,0,0,0,0,0]
[0,0,0,0,0,0,0,0,0,0,0]
[0,0,0,0,0,0,0,0,0,0,0]
[0,0,0,0,0,0,0,0,0,0,0]
[0,0,0,0,0,0,0,0,0,0,0]
[0,0,0,0,0,0,0,0,0,0,0]
[0,0,0,0,0,0,0,0,0,0,0]
[0,0,0,0,0,0,0,0,0,0,0]
[0,0,0,0,0,0,0,0,0,0,0]
[0,0,0,0,0,0,0,0,0,0,0]
[0,0,0,0,0,0,0,0,0,0,0]
[0,0,0,0,0,0,0,0,0,0,0]
[0,0,0,0,0,0,0,0,0,0,0]
[0,0,0,0,0,0,0,0,0,0,0]
[0,0,0,0,0,0,0,0,0,0,0]
[0,0,0,0,0,0,0,0,0,0,0]
[0,0,0,0,0,0,0,0,0,0,0]
[0,0,0,0,0,0,0,0,0,0,0]
[0,0,0,0,0,0,0,0,0,0,0]
[0,0,0,0,0,0,0,0,0,0,0]
[0,0,0,0,0,0,0,0,0,0,0]
[0,0,0,0,0,0,0,0,0,0,0]
[0,0,0,0,0,0,0,0,0,0,0]
[0,0,0,0,0,0,0,0,0,0,0]
[0,0,0,0,0,0,0,0,0,0,0]
[0,0,0,0,0,0,0,0,0,0,0]
[0,0,0,0,0,0,0,0,0,0,0]
[0,0,0,0,0,0,0,0,0,0,0]
[0,0,0,0,0,0,0,0,0,0,0]
[0,0,0,0,0,0,0,0,0,0,0]
[0,0,0,0,0,0,0,0,0,0,0]
[0,0,0,0,0,0,0,0,0,0,0]
[0,0,0,0,0,0,0,0,0,0,0]
[0,0,0,0,0,0,0,0,0,0,0]
[0,0,0,0,0,0,0,0,0,0,0]
[0,0,0,0,0,0,0,0,0,0,0]
[0,0,0,0,0,0,0,0,0,0,0]
[0,0,0,0,0,0,0,0,0,0,0]
[0,0,0,0,0,0,0,0,0,0,0]
[0,0,0,0,0,0,0,0,0,0,0]
[0,0,0,0,0,0,0,0,0,0,0]
[0,0,0,0,0,0,0,0,0,0,0]
[0,0,0,0,0,0,0,0,0,0,0]
[0,0,0,0,0,0,0,0,0,0,0]
[0,0,0,0,0,0,0,0,0,0,0]
[0,0,0,0,0,0,0,0,0,0,0]
[0,0,0,0,0,0,0,0,0,0,0]
[0,0,0,0,0,0,0,0,0,0,0]
[0,0,0,0,0,0,0,0,0,0,0]
[0,0,0,0,0,0,0,0,0,0,0]
[0,0,0,0,0,0,0,0,0,0,0]
[0,0,0,0,0,0,0,0,0,0,0]
[0,0,0,0,0,0,0,0,0,0,0]
[0,0,0,0,0,0,0,0,0,0,0]
[0,0,0,0,0,0,0,0,0,0,0]
[0,0,0,0,0,0,0,0,0,0,0]
[0,0,0,0,0,0,0,0,0,0,0]
[0,0,0,0,0,0,0,0,0,0,0]
[0,0,0,0,0,0,0,0,0,0,0]
[0,0,0,0,0,0,0,0,0,0,0]
[0,0,0,0,0,0,0,0,0,0,0]
[0,0,0,0,0,0,0,0,0,0,0]
[0,0,0,0,0,0,0,0,0,0,0]
[0,0,0,0,0,0,0,0,0,0,0]
[0,0,0,0,0,0,0,0,0,0,0]
[0,0,0,0,0,0,0,0,0,0,0]
[0,0,0,0,0,0,0,0,0,0,0]
[0,0,0,0,0,0,0,0,0,0,0]
[0,0,0,0,0,0,0,0,0,0,0]
[0,0,0,0,0,0,0,0,0,0,0]
[0,0,0,0,0,0,0,0,0,0,0]
[0,0,0,0,0,0,0,0,0,0,0]
[0,0,0,0,0,0,0,0,0,0,0]
[0,0,0,0,0,0,0,0,0,0,0]
[0,0,0,0,0,0,0,0,0,0,0]
[0,0,0,0,0,0,0,0,0,0,0]
[0,0,0,0,0,0,0,0,0,0,0]
[0,0,0,0,0,0,0,0,0,0,0]
[0,0,0,0,0,0,0,0,0,0,0]
[0,0,0,0,0,0,0,0,0,0,0]
[0,0,0,0,0,0,0,0,0,0,0]
[0,0,0,0,0,0,0,0,0,0,0]
[0,0,0,0,0,0,0,0,0,0,0]
[0,0,0,0,0,0,0,0,0,0,0]
[0,0,0,0,0,0,0,0,0,0,0]
[0,0,0,0,0,0,0,0,0,0,0]
[0,0,0,0,0,0,0,0,0,0,0]
[0,0,0,0,0,0,0,0,0,0,0]
[0,0,0,0,0,0,0,0,0,0,0]
[0,0,0,0,0,0,0,0,0,0,0]
[0,0,0,0,0,0,0,0,0,0,0]
[0,0,0,0,0,0,0,0,0,0,0]
[0,0,0,0,0,0,0,0,0,0,0]
[0,0,0,0,0,0,0,0,0,0,0]
[0,0,0,0,0,0,0,0,0,0,0]
[0,0,0,0,0,0,0,0,0,0,0]
[0,0,0,0,0,0,0,0,0,0,0]
[0,0,0,0,0,0,0,0,0,0,0]
[0,0,0,0,0,0,0,0,0,0,0]
[0,0,0,0,0,0,0,0,0,0,0]
[0,0,0,0,0,0,0,0,0,0,0]
[0,0,0,0,0,0,0,0,0,0,0]
[0,0,0,0,0,0,0,0,0,0,0]
[0,0,0,0,0,0,0,0,0,0,0]
[0,0,0,0,0,0,0,0,0,0,0]
[0,0,0,0,0,0,0,0,0,0,0]
[0,0,0,0,0,0,0,0,0,0,0]
[0,0,0,0,0,0,0,0,0,0,0]
[0,0,0,0,0,0,0,0,0,0,0]
[0,0,0,0,0,0,0,0,0,0,0]
[0,0,0,0,0,0,0,0,0,0,0]
[0,0,0,0,0,0,0,0,0,0,0]
[0,0,0,0,0,0,0,0,0,0,0]
[0,0,0,0,0,0,0,0,0,0,0]
[0,0,0,0,0,0,0,0,0,0,0]
[0,0,0,0,0,0,0,0,0,0,0]
[0,0,0,0,0,0,0,0,0,0,0]
[0,0,0,0,0,0,0,0,0,0,0]
[0,0,0,0,0,0,0,0,0,0,0]
[0,0,0,0,0,0,0,0,0,0,0]
[0,0,0,0,0,0,0,0,0,0,0]
[0,0,0,0,0,0,0,0,0,0,0]
[0,0,0,0,0,0,0,0,0,0,0]
[0,0,0,0,0,0,0,0,0,0,0]
[0,0,0,0,0,0,0,0,0,0,0]
[0,0,0,0,0,0,0,0,0,0,0]
[0,0,0,0,0,0,0,0,0,0,0]
[0,0,0,0,0,0,0,0,0,0,0]
[0,0,0,0,0,0,0,0,0,0,0]
[0,0,0,0,0,0,0,0,0,0,0]
[0,0,0,0,0,0,0,0,0,0,0]
[0,0,0,0,0,0,0,0,0,0,0]
[0,0,0,0,0,0,0,0,0,0,0]
[0,0,0,0,0,0,0,0,0,0,0]
[0,0,0,0,0,0,0,0,0,0,0]
[0,0,0,0,0,0,0,0,0,0,0]
[0,0,0,0,0,0,0,0,0,0,0]
[0,0,0,0,0,0,0,0,0,0,0]
[0,0,0,0,0,0,0,0,0,0,0]
[0,0,0,0,0,0,0,0,0,0,0]
[0,0,0,0,0,0,0,0,0,0,0]
[0,0,0,0,0,0,0,0,0,0,0]
[0,0,0,0,0,0,0,0,0,0,0]
[0,0,0,0,0,0,0,0,0,0,0]
[0,0,0,0,0,0,0,0,0,0,0]
[0,0,0,0,0,0,0,0,0,0,0]
[0,0,0,0,0,0,0,0,0,0,0]
[0,0,0,0,0,0,0,0,0,0,0]
[0,0,0,0,0,0,0,0,0,0,0]
[0,0,0,0,0,0,0,0,0,0,0]
[0,0,0,0,0,0,0,0,0,0,0]
[0,0,0,0,0,0,0,0,0,0,0]
[0,0,0,0,0,0,0,0,0,0,0]
[0,0,0,0,0,0,0,0,0,0,0]
[0,0,0,0,0,0,0,0,0,0,0]
[0,0,0,0,0,0,0,0,0,0,0]
[0,0,0,0,0,0,0,0,0,0,0]
[0,0,0,0,0,0,0,0,0,0,0]
[0,0,0,0,0,0,0,0,0,0,0]
[0,0,0,0,0,0,0,0,0,0,0]
[0,0,0,0,0,0,0,0,0,0,0]
[0,0,0,0,0,0,0,0,0,0,0]
[0,0,0,0,0,0,0,0,0,0,0]
[0,0,0,0,0,0,0,0,0,0,0]
[0,0,0,0,0,0,0,0,0,0,0]
[0,0,0,0,0,0,0,0,0,0,0]
[0,0,0,0,0,0,0,0,0,0,0]
[0,0,0,0,0,0,0,0,0,0,0]
[0,0,0,0,0,0,0,0,0,0,0]
[0,0,0,0,0,0,0,0,0,0,0]
[0,0,0,0,0,0,0,0,0,0,0]
[0,0,0,0,0,0,0,0,0,0,0]
[0,0,0,0,0,0,0,0,0,0,0]
[0,0,0,0,0,0,0,0,0,0,0]
[0,0,0,0,0,0,0,0,0,0,0]
[0,0,0,0,0,0,0,0,0,0,0]
[0,0,0,0,0,0,0,0,0,0,0]
[0,0,0,0,0,0,0,0,0,0,0]
[0,0,0,0,0,0,0,0,0,0,0]
[0,0,0,0,0,0,0,0,0,0,0]
[0,0,0,0,0,0,0,0,0,0,0]
[0,0,0,0,0,0,0,0,0,0,0]
[0,0,0,0,0,0,0,0,0,0,0]
[0,0,0,0,0,0,0,0,0,0,0]
[0,0,0,0,0,0,0,0,0,0,0]
[0,0,0,0,0,0,0,0,0,0,0]
[0,0,0,0,0,0,0,0,0,0,0]
[0,0,0,0,0,0,0,0,0,0,0]
[0,0,0,0,0,0,0,0,0,0,0]
[0,0,0,0,0,0,0,0,0,0,0]
[0,0,0,0,0,0,0,0,0,0,0]
[0,0,0,0,0,0,0,0,0,0,0]
[0,0,0,0,0,0,0,0,0,0,0]
[0,0,0,0,0,0,0,0,0,0,0]
[0,0,0,0,0,0,0,0,0,0,0]
[0,0,0,0,0,0,0,0,0,0,0]
[0,0,0,0,0,0,0,0,0,0,0]
[0,0,0,0,0,0,0,0,0,0,0]
[0,0,0,0,0,0,0,0,0,0,0]
[0,0,0,0,0,0,0,0,0,0,0]
[0,0,0,0,0,0,0,0,0,0,0]
[0,0,0,0,0,0,0,0,0,0,0]
[0,0,0,0,0,0,0,0,0,0,0]
[0,0,0,0,0,0,0,0,0,0,0]
[0,0,0,0,0,0,0,0,0,0,0]
[0,0,0,0,0,0,0,0,0,0,0]
[0,0,0,0,0,0,0,0,0,0,0]
[0,0,0,0,0,0,0,0,0,0,0]
[0,0,0,0,0,0,0,0,0,0,0]
[0,0,0,0,0,0,0,0,0,0,0]
[0,0,0,0,0,0,0,0,0,0,0]
[0,0,0,0,0,0,0,0,0,0,0]
[0,0,0,0,0,0,0,0,0,0,0]
[0,0,0,0,0,0,0,0,0,0,0]
[0,0,0,0,0,0,0,0,0,0,0]
[0,0,0,0,0,0,0,0,0,0,0]
[0,0,0,0,0,0,0,0,0,0,0]
[0,0,0,0,0,0,0,0,0,0,0]
[0,0,0,0,0,0,0,0,0,0,0]
[0,0,0,0,0,0,0,0,0,0,0]
[0,0,0,0,0,0,0,0,0,0,0]
[0,0,0,0,0,0,0,0,0,0,0]
[0,0,0,0,0,0,0,0,0,0,0]
[0,0,0,0,0,0,0,0,0,0,0]
[0,0,0,0,0,0,0,0,0,0,0]
[0,0,0,0,0,0,0,0,0,0,0]
[0,0,0,0,0,0,0,0,0,0,0]
[0,0,0,0,0,0,0,0,0,0,0]
[0,0,0,0,0,0,0,0,0,0,0]
[0,0,0,0,0,0,0,0,0,0,0]
[0,0,0,0,0,0,0,0,0,0,0]
[0,0,0,0,0,0,0,0,0,0,0]
[0,0,0,0,0,0,0,0,0,0,0]
[0,0,0,0,0,0,0,0,0,0,0]
[0,0,0,0,0,0,0,0,0,0,0]
[0,0,0,0,0,0,0,0,0,0,0]
[0,0,0,0,0,0,0,0,0,0,0]
[0,0,0,0,0,0,0,0,0,0,0]
[0,0,0,0,0,0,0,0,0,0,0]
[0,0,0,0,0,0,0,0,0,0,0]
[0,0,0,0,0,0,0,0,0,0,0]
[0,0,0,0,0,0,0,0,0,0,0]
[0,0,0,0,0,0,0,0,0,0,0]
[0,0,0,0,0,0,0,0,0,0,0]
[0,0,0,0,0,0,0,0,0,0,0]
[0,0,0,0,0,0,0,0,0,0,0]
[0,0,0,0,0,0,0,0,0,0,0]
[0,0,0,0,0,0,0,0,0,0,0]
[0,0,0,0,0,0,0,0,0,0,0]
[0,0,0,0,0,0,0,0,0,0,0]
[0,0,0,0,0,0,0,0,0,0,0]
[0,0,0,0,0,0,0,0,0,0,0]
[14000,6300,0,"140006300",10,90,10,5,10,100,50]
[14000,6301,0,"140006301",0,0,0,0,0,0,0]

{"sheet":"Totals","index":5,"n_rows":513,"n_cols":22,"rows_kept":513,"cut":false,"hidden":false,"merged":[]}
["Fund #","Org #","Mileage Charged","FundOrg","Lodging","Meals","Registration","Parking","Ground Trans.","Flight","Other",null,"Fund #","Org #","Mileage Charged","Lodging","Meals","Registration","Parking","Ground Trans.","Flight","Other"]
[0,0,0,0,0,0,0,0,0,0,0,{"$f":"IF(A2=\"\",IF(D2=\"\",\"\",\"Total\"),\"\")","v":""},{"$f":"IF(L2=\"Total\",LEFT(D2,5),\"\")","v":""},{"$f":"IF(L2=\"Total\",MID(D2,6,4),0)","v":0},{"$f":"IF(L2=\"Total\",C2,0)","v":0},{"$f":"IF(L2=\"Total\",E2,0)","v":0},{"$f":"IF(L2=\"Total\",F2,0)","v":0},{"$f":"IF(L2=\"Total\",G2,0)","v":0},{"$f":"IF(L2=\"Total\",H2,0)","v":0},{"$f":"IF(L2=\"Total\",I2,0)","v":0},{"$f":"IF(L2=\"Total\",J2,0)","v":0},{"$f":"IF(L2=\"Total\",K2,0)","v":0}]
[0,0,0,0,0,0,0,0,0,0,0,{"$f":"IF(A3=\"\",IF(D3=\"\",\"\",\"Total\"),\"\")","v":""},{"$f":"IF(L3=\"Total\",LEFT(D3,5),\"\")","v":""},{"$f":"IF(L3=\"Total\",MID(D3,6,4),0)","v":0},{"$f":"IF(L3=\"Total\",C3,0)","v":0},{"$f":"IF(L3=\"Total\",E3,0)","v":0},{"$f":"IF(L3=\"Total\",F3,0)","v":0},{"$f":"IF(L3=\"Total\",G3,0)","v":0},{"$f":"IF(L3=\"Total\",H3,0)","v":0},{"$f":"IF(L3=\"Total\",I3,0)","v":0},{"$f":"IF(L3=\"Total\",J3,0)","v":0},{"$f":"IF(L3=\"Total\",K3,0)","v":0}]
[0,0,0,0,0,0,0,0,0,0,0,"","",0,0,0,0,0,0,0,0,0]
[0,0,0,0,0,0,0,0,0,0,0,"","",0,0,0,0,0,0,0,0,0]
[0,0,0,0,0,0,0,0,0,0,0,"","",0,0,0,0,0,0,0,0,0]
[0,0,0,0,0,0,0,0,0,0,0,"","",0,0,0,0,0,0,0,0,0]
[0,0,0,0,0,0,0,0,0,0,0,"","",0,0,0,0,0,0,0,0,0]
[0,0,0,0,0,0,0,0,0,0,0,"","",0,0,0,0,0,0,0,0,0]
[0,0,0,0,0,0,0,0,0,0,0,"","",0,0,0,0,0,0,0,0,0]
[0,0,0,0,0,0,0,0,0,0,0,"","",0,0,0,0,0,0,0,0,0]
[0,0,0,0,0,0,0,0,0,0,0,"","",0,0,0,0,0,0,0,0,0]
[0,0,0,0,0,0,0,0,0,0,0,"","",0,0,0,0,0,0,0,0,0]
[0,0,0,0,0,0,0,0,0,0,0,"","",0,0,0,0,0,0,0,0,0]
[0,0,0,0,0,0,0,0,0,0,0,"","",0,0,0,0,0,0,0,0,0]
[0,0,0,0,0,0,0,0,0,0,0,"","",0,0,0,0,0,0,0,0,0]
[0,0,0,0,0,0,0,0,0,0,0,"","",0,0,0,0,0,0,0,0,0]
[0,0,0,0,0,0,0,0,0,0,0,"","",0,0,0,0,0,0,0,0,0]
[0,0,0,0,0,0,0,0,0,0,0,"","",0,0,0,0,0,0,0,0,0]
[0,0,0,0,0,0,0,0,0,0,0,"","",0,0,0,0,0,0,0,0,0]
[0,0,0,0,0,0,0,0,0,0,0,"","",0,0,0,0,0,0,0,0,0]
[0,0,0,0,0,0,0,0,0,0,0,"","",0,0,0,0,0,0,0,0,0]
[0,0,0,0,0,0,0,0,0,0,0,"","",0,0,0,0,0,0,0,0,0]
[0,0,0,0,0,0,0,0,0,0,0,"","",0,0,0,0,0,0,0,0,0]
[0,0,0,0,0,0,0,0,0,0,0,"","",0,0,0,0,0,0,0,0,0]
[0,0,0,0,0,0,0,0,0,0,0,"","",0,0,0,0,0,0,0,0,0]
[0,0,0,0,0,0,0,0,0,0,0,"","",0,0,0,0,0,0,0,0,0]
[0,0,0,0,0,0,0,0,0,0,0,"","",0,0,0,0,0,0,0,0,0]
[0,0,0,0,0,0,0,0,0,0,0,"","",0,0,0,0,0,0,0,0,0]
[0,0,0,0,0,0,0,0,0,0,0,"","",0,0,0,0,0,0,0,0,0]
[0,0,0,0,0,0,0,0,0,0,0,"","",0,0,0,0,0,0,0,0,0]
[0,0,0,0,0,0,0,0,0,0,0,"","",0,0,0,0,0,0,0,0,0]
[0,0,0,0,0,0,0,0,0,0,0,"","",0,0,0,0,0,0,0,0,0]
[0,0,0,0,0,0,0,0,0,0,0,"","",0,0,0,0,0,0,0,0,0]
[0,0,0,0,0,0,0,0,0,0,0,"","",0,0,0,0,0,0,0,0,0]
[0,0,0,0,0,0,0,0,0,0,0,"","",0,0,0,0,0,0,0,0,0]
[0,0,0,0,0,0,0,0,0,0,0,"","",0,0,0,0,0,0,0,0,0]
[0,0,0,0,0,0,0,0,0,0,0,"","",0,0,0,0,0,0,0,0,0]
[0,0,0,0,0,0,0,0,0,0,0,"","",0,0,0,0,0,0,0,0,0]
[0,0,0,0,0,0,0,0,0,0,0,"","",0,0,0,0,0,0,0,0,0]
[0,0,0,0,0,0,0,0,0,0,0,"","",0,0,0,0,0,0,0,0,0]
[0,0,0,0,0,0,0,0,0,0,0,"","",0,0,0,0,0,0,0,0,0]
[0,0,0,0,0,0,0,0,0,0,0,"","",0,0,0,0,0,0,0,0,0]
[0,0,0,0,0,0,0,0,0,0,0,"","",0,0,0,0,0,0,0,0,0]
[0,0,0,0,0,0,0,0,0,0,0,"","",0,0,0,0,0,0,0,0,0]
[0,0,0,0,0,0,0,0,0,0,0,"","",0,0,0,0,0,0,0,0,0]
[0,0,0,0,0,0,0,0,0,0,0,"","",0,0,0,0,0,0,0,0,0]
[0,0,0,0,0,0,0,0,0,0,0,"","",0,0,0,0,0,0,0,0,0]
[0,0,0,0,0,0,0,0,0,0,0,"","",0,0,0,0,0,0,0,0,0]
[0,0,0,0,0,0,0,0,0,0,0,"","",0,0,0,0,0,0,0,0,0]
[0,0,0,0,0,0,0,0,0,0,0,"","",0,0,0,0,0,0,0,0,0]
[0,0,0,0,0,0,0,0,0,0,0,"","",0,0,0,0,0,0,0,0,0]
[0,0,0,0,0,0,0,0,0,0,0,"","",0,0,0,0,0,0,0,0,0]
[0,0,0,0,0,0,0,0,0,0,0,"","",0,0,0,0,0,0,0,0,0]
[0,0,0,0,0,0,0,0,0,0,0,"","",0,0,0,0,0,0,0,0,0]
[0,0,0,0,0,0,0,0,0,0,0,"","",0,0,0,0,0,0,0,0,0]
[0,0,0,0,0,0,0,0,0,0,0,"","",0,0,0,0,0,0,0,0,0]
[0,0,0,0,0,0,0,0,0,0,0,"","",0,0,0,0,0,0,0,0,0]
[0,0,0,0,0,0,0,0,0,0,0,"","",0,0,0,0,0,0,0,0,0]
[0,0,0,0,0,0,0,0,0,0,0,"","",0,0,0,0,0,0,0,0,0]
[0,0,0,0,0,0,0,0,0,0,0,"","",0,0,0,0,0,0,0,0,0]
[0,0,0,0,0,0,0,0,0,0,0,"","",0,0,0,0,0,0,0,0,0]
[0,0,0,0,0,0,0,0,0,0,0,"","",0,0,0,0,0,0,0,0,0]
[0,0,0,0,0,0,0,0,0,0,0,"","",0,0,0,0,0,0,0,0,0]
[0,0,0,0,0,0,0,0,0,0,0,"","",0,0,0,0,0,0,0,0,0]
[0,0,0,0,0,0,0,0,0,0,0,"","",0,0,0,0,0,0,0,0,0]
[0,0,0,0,0,0,0,0,0,0,0,{"$f":"IF(A67=\"\",IF(D67=\"\",\"\",\"Total\"),\"\")","v":""},{"$f":"IF(L67=\"Total\",LEFT(D67,5),\"\")","v":""},{"$f":"IF(L67=\"Total\",MID(D67,6,4),0)","v":0},{"$f":"IF(L67=\"Total\",C67,0)","v":0},{"$f":"IF(L67=\"Total\",E67,0)","v":0},{"$f":"IF(L67=\"Total\",F67,0)","v":0},{"$f":"IF(L67=\"Total\",G67,0)","v":0},{"$f":"IF(L67=\"Total\",H67,0)","v":0},{"$f":"IF(L67=\"Total\",I67,0)","v":0},{"$f":"IF(L67=\"Total\",J67,0)","v":0},{"$f":"IF(L67=\"Total\",K67,0)","v":0}]
[0,0,0,0,0,0,0,0,0,0,0,"","",0,0,0,0,0,0,0,0,0]
[0,0,0,0,0,0,0,0,0,0,0,"","",0,0,0,0,0,0,0,0,0]
[0,0,0,0,0,0,0,0,0,0,0,"","",0,0,0,0,0,0,0,0,0]
[0,0,0,0,0,0,0,0,0,0,0,"","",0,0,0,0,0,0,0,0,0]
[0,0,0,0,0,0,0,0,0,0,0,"","",0,0,0,0,0,0,0,0,0]
[0,0,0,0,0,0,0,0,0,0,0,"","",0,0,0,0,0,0,0,0,0]
[0,0,0,0,0,0,0,0,0,0,0,"","",0,0,0,0,0,0,0,0,0]
[0,0,0,0,0,0,0,0,0,0,0,"","",0,0,0,0,0,0,0,0,0]
[0,0,0,0,0,0,0,0,0,0,0,"","",0,0,0,0,0,0,0,0,0]
[0,0,0,0,0,0,0,0,0,0,0,"","",0,0,0,0,0,0,0,0,0]
[0,0,0,0,0,0,0,0,0,0,0,"","",0,0,0,0,0,0,0,0,0]
[0,0,0,0,0,0,0,0,0,0,0,"","",0,0,0,0,0,0,0,0,0]
[0,0,0,0,0,0,0,0,0,0,0,"","",0,0,0,0,0,0,0,0,0]
[0,0,0,0,0,0,0,0,0,0,0,"","",0,0,0,0,0,0,0,0,0]
[0,0,0,0,0,0,0,0,0,0,0,"","",0,0,0,0,0,0,0,0,0]
[0,0,0,0,0,0,0,0,0,0,0,"","",0,0,0,0,0,0,0,0,0]
[0,0,0,0,0,0,0,0,0,0,0,"","",0,0,0,0,0,0,0,0,0]
[0,0,0,0,0,0,0,0,0,0,0,"","",0,0,0,0,0,0,0,0,0]
[0,0,0,0,0,0,0,0,0,0,0,"","",0,0,0,0,0,0,0,0,0]
[0,0,0,0,0,0,0,0,0,0,0,"","",0,0,0,0,0,0,0,0,0]
[0,0,0,0,0,0,0,0,0,0,0,"","",0,0,0,0,0,0,0,0,0]
[0,0,0,0,0,0,0,0,0,0,0,"","",0,0,0,0,0,0,0,0,0]
[0,0,0,0,0,0,0,0,0,0,0,"","",0,0,0,0,0,0,0,0,0]
[0,0,0,0,0,0,0,0,0,0,0,"","",0,0,0,0,0,0,0,0,0]
[0,0,0,0,0,0,0,0,0,0,0,"","",0,0,0,0,0,0,0,0,0]
[0,0,0,0,0,0,0,0,0,0,0,"","",0,0,0,0,0,0,0,0,0]
[0,0,0,0,0,0,0,0,0,0,0,"","",0,0,0,0,0,0,0,0,0]
[0,0,0,0,0,0,0,0,0,0,0,"","",0,0,0,0,0,0,0,0,0]
[0,0,0,0,0,0,0,0,0,0,0,"","",0,0,0,0,0,0,0,0,0]
[0,0,0,0,0,0,0,0,0,0,0,"","",0,0,0,0,0,0,0,0,0]
[0,0,0,0,0,0,0,0,0,0,0,"","",0,0,0,0,0,0,0,0,0]
[0,0,0,0,0,0,0,0,0,0,0,"","",0,0,0,0,0,0,0,0,0]
[0,0,0,0,0,0,0,0,0,0,0,"","",0,0,0,0,0,0,0,0,0]
[0,0,0,0,0,0,0,0,0,0,0,"","",0,0,0,0,0,0,0,0,0]
[0,0,0,0,0,0,0,0,0,0,0,"","",0,0,0,0,0,0,0,0,0]
[0,0,0,0,0,0,0,0,0,0,0,"","",0,0,0,0,0,0,0,0,0]
[0,0,0,0,0,0,0,0,0,0,0,"","",0,0,0,0,0,0,0,0,0]
[0,0,0,0,0,0,0,0,0,0,0,"","",0,0,0,0,0,0,0,0,0]
[0,0,0,0,0,0,0,0,0,0,0,"","",0,0,0,0,0,0,0,0,0]
[0,0,0,0,0,0,0,0,0,0,0,"","",0,0,0,0,0,0,0,0,0]
[0,0,0,0,0,0,0,0,0,0,0,"","",0,0,0,0,0,0,0,0,0]
[0,0,0,0,0,0,0,0,0,0,0,"","",0,0,0,0,0,0,0,0,0]
[0,0,0,0,0,0,0,0,0,0,0,"","",0,0,0,0,0,0,0,0,0]
[0,0,0,0,0,0,0,0,0,0,0,"","",0,0,0,0,0,0,0,0,0]
[0,0,0,0,0,0,0,0,0,0,0,"","",0,0,0,0,0,0,0,0,0]
[0,0,0,0,0,0,0,0,0,0,0,"","",0,0,0,0,0,0,0,0,0]
[0,0,0,0,0,0,0,0,0,0,0,"","",0,0,0,0,0,0,0,0,0]
[0,0,0,0,0,0,0,0,0,0,0,"","",0,0,0,0,0,0,0,0,0]
[0,0,0,0,0,0,0,0,0,0,0,"","",0,0,0,0,0,0,0,0,0]
[0,0,0,0,0,0,0,0,0,0,0,"","",0,0,0,0,0,0,0,0,0]
[0,0,0,0,0,0,0,0,0,0,0,"","",0,0,0,0,0,0,0,0,0]
[0,0,0,0,0,0,0,0,0,0,0,"","",0,0,0,0,0,0,0,0,0]
[0,0,0,0,0,0,0,0,0,0,0,"","",0,0,0,0,0,0,0,0,0]
[0,0,0,0,0,0,0,0,0,0,0,"","",0,0,0,0,0,0,0,0,0]
[0,0,0,0,0,0,0,0,0,0,0,"","",0,0,0,0,0,0,0,0,0]
[0,0,0,0,0,0,0,0,0,0,0,"","",0,0,0,0,0,0,0,0,0]
[0,0,0,0,0,0,0,0,0,0,0,"","",0,0,0,0,0,0,0,0,0]
[0,0,0,0,0,0,0,0,0,0,0,"","",0,0,0,0,0,0,0,0,0]
[0,0,0,0,0,0,0,0,0,0,0,"","",0,0,0,0,0,0,0,0,0]
[0,0,0,0,0,0,0,0,0,0,0,"","",0,0,0,0,0,0,0,0,0]
[0,0,0,0,0,0,0,0,0,0,0,"","",0,0,0,0,0,0,0,0,0]
[0,0,0,0,0,0,0,0,0,0,0,"","",0,0,0,0,0,0,0,0,0]
[0,0,0,0,0,0,0,0,0,0,0,"","",0,0,0,0,0,0,0,0,0]
[0,0,0,0,0,0,0,0,0,0,0,{"$f":"IF(A131=\"\",IF(D131=\"\",\"\",\"Total\"),\"\")","v":""},{"$f":"IF(L131=\"Total\",LEFT(D131,5),\"\")","v":""},{"$f":"IF(L131=\"Total\",MID(D131,6,4),0)","v":0},{"$f":"IF(L131=\"Total\",C131,0)","v":0},{"$f":"IF(L131=\"Total\",E131,0)","v":0},{"$f":"IF(L131=\"Total\",F131,0)","v":0},{"$f":"IF(L131=\"Total\",G131,0)","v":0},{"$f":"IF(L131=\"Total\",H131,0)","v":0},{"$f":"IF(L131=\"Total\",I131,0)","v":0},{"$f":"IF(L131=\"Total\",J131,0)","v":0},{"$f":"IF(L131=\"Total\",K131,0)","v":0}]
[0,0,0,0,0,0,0,0,0,0,0,"","",0,0,0,0,0,0,0,0,0]
[0,0,0,0,0,0,0,0,0,0,0,"","",0,0,0,0,0,0,0,0,0]
[0,0,0,0,0,0,0,0,0,0,0,"","",0,0,0,0,0,0,0,0,0]
[0,0,0,0,0,0,0,0,0,0,0,"","",0,0,0,0,0,0,0,0,0]
[0,0,0,0,0,0,0,0,0,0,0,"","",0,0,0,0,0,0,0,0,0]
[0,0,0,0,0,0,0,0,0,0,0,"","",0,0,0,0,0,0,0,0,0]
[0,0,0,0,0,0,0,0,0,0,0,"","",0,0,0,0,0,0,0,0,0]
[0,0,0,0,0,0,0,0,0,0,0,"","",0,0,0,0,0,0,0,0,0]
[0,0,0,0,0,0,0,0,0,0,0,"","",0,0,0,0,0,0,0,0,0]
[0,0,0,0,0,0,0,0,0,0,0,"","",0,0,0,0,0,0,0,0,0]
[0,0,0,0,0,0,0,0,0,0,0,"","",0,0,0,0,0,0,0,0,0]
[0,0,0,0,0,0,0,0,0,0,0,"","",0,0,0,0,0,0,0,0,0]
[0,0,0,0,0,0,0,0,0,0,0,"","",0,0,0,0,0,0,0,0,0]
[0,0,0,0,0,0,0,0,0,0,0,"","",0,0,0,0,0,0,0,0,0]
[0,0,0,0,0,0,0,0,0,0,0,"","",0,0,0,0,0,0,0,0,0]
[0,0,0,0,0,0,0,0,0,0,0,"","",0,0,0,0,0,0,0,0,0]
[0,0,0,0,0,0,0,0,0,0,0,"","",0,0,0,0,0,0,0,0,0]
[0,0,0,0,0,0,0,0,0,0,0,"","",0,0,0,0,0,0,0,0,0]
[0,0,0,0,0,0,0,0,0,0,0,"","",0,0,0,0,0,0,0,0,0]
[0,0,0,0,0,0,0,0,0,0,0,"","",0,0,0,0,0,0,0,0,0]
[0,0,0,0,0,0,0,0,0,0,0,"","",0,0,0,0,0,0,0,0,0]
[0,0,0,0,0,0,0,0,0,0,0,"","",0,0,0,0,0,0,0,0,0]
[0,0,0,0,0,0,0,0,0,0,0,"","",0,0,0,0,0,0,0,0,0]
[0,0,0,0,0,0,0,0,0,0,0,"","",0,0,0,0,0,0,0,0,0]
[0,0,0,0,0,0,0,0,0,0,0,"","",0,0,0,0,0,0,0,0,0]
[0,0,0,0,0,0,0,0,0,0,0,"","",0,0,0,0,0,0,0,0,0]
[0,0,0,0,0,0,0,0,0,0,0,"","",0,0,0,0,0,0,0,0,0]
[0,0,0,0,0,0,0,0,0,0,0,"","",0,0,0,0,0,0,0,0,0]
[0,0,0,0,0,0,0,0,0,0,0,"","",0,0,0,0,0,0,0,0,0]
[0,0,0,0,0,0,0,0,0,0,0,"","",0,0,0,0,0,0,0,0,0]
[0,0,0,0,0,0,0,0,0,0,0,"","",0,0,0,0,0,0,0,0,0]
[0,0,0,0,0,0,0,0,0,0,0,"","",0,0,0,0,0,0,0,0,0]
[0,0,0,0,0,0,0,0,0,0,0,"","",0,0,0,0,0,0,0,0,0]
[0,0,0,0,0,0,0,0,0,0,0,"","",0,0,0,0,0,0,0,0,0]
[0,0,0,0,0,0,0,0,0,0,0,"","",0,0,0,0,0,0,0,0,0]
[0,0,0,0,0,0,0,0,0,0,0,"","",0,0,0,0,0,0,0,0,0]
[0,0,0,0,0,0,0,0,0,0,0,"","",0,0,0,0,0,0,0,0,0]
[0,0,0,0,0,0,0,0,0,0,0,"","",0,0,0,0,0,0,0,0,0]
[0,0,0,0,0,0,0,0,0,0,0,"","",0,0,0,0,0,0,0,0,0]
[0,0,0,0,0,0,0,0,0,0,0,"","",0,0,0,0,0,0,0,0,0]
[0,0,0,0,0,0,0,0,0,0,0,"","",0,0,0,0,0,0,0,0,0]
[0,0,0,0,0,0,0,0,0,0,0,"","",0,0,0,0,0,0,0,0,0]
[0,0,0,0,0,0,0,0,0,0,0,"","",0,0,0,0,0,0,0,0,0]
[0,0,0,0,0,0,0,0,0,0,0,"","",0,0,0,0,0,0,0,0,0]
[0,0,0,0,0,0,0,0,0,0,0,"","",0,0,0,0,0,0,0,0,0]
[0,0,0,0,0,0,0,0,0,0,0,"","",0,0,0,0,0,0,0,0,0]
[0,0,0,0,0,0,0,0,0,0,0,"","",0,0,0,0,0,0,0,0,0]
[0,0,0,0,0,0,0,0,0,0,0,"","",0,0,0,0,0,0,0,0,0]
[0,0,0,0,0,0,0,0,0,0,0,"","",0,0,0,0,0,0,0,0,0]
[0,0,0,0,0,0,0,0,0,0,0,"","",0,0,0,0,0,0,0,0,0]
[0,0,0,0,0,0,0,0,0,0,0,"","",0,0,0,0,0,0,0,0,0]
[0,0,0,0,0,0,0,0,0,0,0,"","",0,0,0,0,0,0,0,0,0]
[0,0,0,0,0,0,0,0,0,0,0,"","",0,0,0,0,0,0,0,0,0]
[0,0,0,0,0,0,0,0,0,0,0,"","",0,0,0,0,0,0,0,0,0]
[0,0,0,0,0,0,0,0,0,0,0,"","",0,0,0,0,0,0,0,0,0]
[0,0,0,0,0,0,0,0,0,0,0,"","",0,0,0,0,0,0,0,0,0]
[0,0,0,0,0,0,0,0,0,0,0,"","",0,0,0,0,0,0,0,0,0]
[0,0,0,0,0,0,0,0,0,0,0,"","",0,0,0,0,0,0,0,0,0]
[0,0,0,0,0,0,0,0,0,0,0,"","",0,0,0,0,0,0,0,0,0]
[0,0,0,0,0,0,0,0,0,0,0,"","",0,0,0,0,0,0,0,0,0]
[0,0,0,0,0,0,0,0,0,0,0,"","",0,0,0,0,0,0,0,0,0]
[0,0,0,0,0,0,0,0,0,0,0,"","",0,0,0,0,0,0,0,0,0]
[0,0,0,0,0,0,0,0,0,0,0,"","",0,0,0,0,0,0,0,0,0]
[0,0,0,0,0,0,0,0,0,0,0,{"$f":"IF(A195=\"\",IF(D195=\"\",\"\",\"Total\"),\"\")","v":""},{"$f":"IF(L195=\"Total\",LEFT(D195,5),\"\")","v":""},{"$f":"IF(L195=\"Total\",MID(D195,6,4),0)","v":0},{"$f":"IF(L195=\"Total\",C195,0)","v":0},{"$f":"IF(L195=\"Total\",E195,0)","v":0},{"$f":"IF(L195=\"Total\",F195,0)","v":0},{"$f":"IF(L195=\"Total\",G195,0)","v":0},{"$f":"IF(L195=\"Total\",H195,0)","v":0},{"$f":"IF(L195=\"Total\",I195,0)","v":0},{"$f":"IF(L195=\"Total\",J195,0)","v":0},{"$f":"IF(L195=\"Total\",K195,0)","v":0}]
[0,0,0,0,0,0,0,0,0,0,0,"","",0,0,0,0,0,0,0,0,0]
[0,0,0,0,0,0,0,0,0,0,0,"","",0,0,0,0,0,0,0,0,0]
[0,0,0,0,0,0,0,0,0,0,0,"","",0,0,0,0,0,0,0,0,0]
[0,0,0,0,0,0,0,0,0,0,0,"","",0,0,0,0,0,0,0,0,0]
[0,0,0,0,0,0,0,0,0,0,0,"","",0,0,0,0,0,0,0,0,0]
[0,0,0,0,0,0,0,0,0,0,0,"","",0,0,0,0,0,0,0,0,0]
[0,0,0,0,0,0,0,0,0,0,0,"","",0,0,0,0,0,0,0,0,0]
[0,0,0,0,0,0,0,0,0,0,0,"","",0,0,0,0,0,0,0,0,0]
[0,0,0,0,0,0,0,0,0,0,0,"","",0,0,0,0,0,0,0,0,0]
[0,0,0,0,0,0,0,0,0,0,0,"","",0,0,0,0,0,0,0,0,0]
[0,0,0,0,0,0,0,0,0,0,0,"","",0,0,0,0,0,0,0,0,0]
[0,0,0,0,0,0,0,0,0,0,0,"","",0,0,0,0,0,0,0,0,0]
[0,0,0,0,0,0,0,0,0,0,0,"","",0,0,0,0,0,0,0,0,0]
[0,0,0,0,0,0,0,0,0,0,0,"","",0,0,0,0,0,0,0,0,0]
[0,0,0,0,0,0,0,0,0,0,0,"","",0,0,0,0,0,0,0,0,0]
[0,0,0,0,0,0,0,0,0,0,0,"","",0,0,0,0,0,0,0,0,0]
[0,0,0,0,0,0,0,0,0,0,0,"","",0,0,0,0,0,0,0,0,0]
[0,0,0,0,0,0,0,0,0,0,0,"","",0,0,0,0,0,0,0,0,0]
[0,0,0,0,0,0,0,0,0,0,0,"","",0,0,0,0,0,0,0,0,0]
[0,0,0,0,0,0,0,0,0,0,0,"","",0,0,0,0,0,0,0,0,0]
[0,0,0,0,0,0,0,0,0,0,0,"","",0,0,0,0,0,0,0,0,0]
[0,0,0,0,0,0,0,0,0,0,0,"","",0,0,0,0,0,0,0,0,0]
[0,0,0,0,0,0,0,0,0,0,0,"","",0,0,0,0,0,0,0,0,0]
[0,0,0,0,0,0,0,0,0,0,0,"","",0,0,0,0,0,0,0,0,0]
[0,0,0,0,0,0,0,0,0,0,0,"","",0,0,0,0,0,0,0,0,0]
[0,0,0,0,0,0,0,0,0,0,0,"","",0,0,0,0,0,0,0,0,0]
[0,0,0,0,0,0,0,0,0,0,0,"","",0,0,0,0,0,0,0,0,0]
[0,0,0,0,0,0,0,0,0,0,0,"","",0,0,0,0,0,0,0,0,0]
[0,0,0,0,0,0,0,0,0,0,0,"","",0,0,0,0,0,0,0,0,0]
[0,0,0,0,0,0,0,0,0,0,0,"","",0,0,0,0,0,0,0,0,0]
[0,0,0,0,0,0,0,0,0,0,0,"","",0,0,0,0,0,0,0,0,0]
[0,0,0,0,0,0,0,0,0,0,0,"","",0,0,0,0,0,0,0,0,0]
[0,0,0,0,0,0,0,0,0,0,0,"","",0,0,0,0,0,0,0,0,0]
[0,0,0,0,0,0,0,0,0,0,0,"","",0,0,0,0,0,0,0,0,0]
[0,0,0,0,0,0,0,0,0,0,0,"","",0,0,0,0,0,0,0,0,0]
[0,0,0,0,0,0,0,0,0,0,0,"","",0,0,0,0,0,0,0,0,0]
[0,0,0,0,0,0,0,0,0,0,0,"","",0,0,0,0,0,0,0,0,0]
[0,0,0,0,0,0,0,0,0,0,0,"","",0,0,0,0,0,0,0,0,0]
[0,0,0,0,0,0,0,0,0,0,0,"","",0,0,0,0,0,0,0,0,0]
[0,0,0,0,0,0,0,0,0,0,0,"","",0,0,0,0,0,0,0,0,0]
[0,0,0,0,0,0,0,0,0,0,0,"","",0,0,0,0,0,0,0,0,0]
[0,0,0,0,0,0,0,0,0,0,0,"","",0,0,0,0,0,0,0,0,0]
[0,0,0,0,0,0,0,0,0,0,0,"","",0,0,0,0,0,0,0,0,0]
[0,0,0,0,0,0,0,0,0,0,0,"","",0,0,0,0,0,0,0,0,0]
[0,0,0,0,0,0,0,0,0,0,0,"","",0,0,0,0,0,0,0,0,0]
[0,0,0,0,0,0,0,0,0,0,0,"","",0,0,0,0,0,0,0,0,0]
[0,0,0,0,0,0,0,0,0,0,0,"","",0,0,0,0,0,0,0,0,0]
[0,0,0,0,0,0,0,0,0,0,0,"","",0,0,0,0,0,0,0,0,0]
[0,0,0,0,0,0,0,0,0,0,0,"","",0,0,0,0,0,0,0,0,0]
[0,0,0,0,0,0,0,0,0,0,0,"","",0,0,0,0,0,0,0,0,0]
[0,0,0,0,0,0,0,0,0,0,0,"","",0,0,0,0,0,0,0,0,0]
[0,0,0,0,0,0,0,0,0,0,0,"","",0,0,0,0,0,0,0,0,0]
[0,0,0,0,0,0,0,0,0,0,0,"","",0,0,0,0,0,0,0,0,0]
[0,0,0,0,0,0,0,0,0,0,0,"","",0,0,0,0,0,0,0,0,0]
[0,0,0,0,0,0,0,0,0,0,0,"","",0,0,0,0,0,0,0,0,0]
[0,0,0,0,0,0,0,0,0,0,0,"","",0,0,0,0,0,0,0,0,0]
[0,0,0,0,0,0,0,0,0,0,0,"","",0,0,0,0,0,0,0,0,0]
[0,0,0,0,0,0,0,0,0,0,0,"","",0,0,0,0,0,0,0,0,0]
[0,0,0,0,0,0,0,0,0,0,0,"","",0,0,0,0,0,0,0,0,0]
[0,0,0,0,0,0,0,0,0,0,0,"","",0,0,0,0,0,0,0,0,0]
[0,0,0,0,0,0,0,0,0,0,0,"","",0,0,0,0,0,0,0,0,0]
[0,0,0,0,0,0,0,0,0,0,0,"","",0,0,0,0,0,0,0,0,0]
[0,0,0,0,0,0,0,0,0,0,0,"","",0,0,0,0,0,0,0,0,0]
[0,0,0,0,0,0,0,0,0,0,0,{"$f":"IF(A259=\"\",IF(D259=\"\",\"\",\"Total\"),\"\")","v":""},{"$f":"IF(L259=\"Total\",LEFT(D259,5),\"\")","v":""},{"$f":"IF(L259=\"Total\",MID(D259,6,4),0)","v":0},{"$f":"IF(L259=\"Total\",C259,0)","v":0},{"$f":"IF(L259=\"Total\",E259,0)","v":0},{"$f":"IF(L259=\"Total\",F259,0)","v":0},{"$f":"IF(L259=\"Total\",G259,0)","v":0},{"$f":"IF(L259=\"Total\",H259,0)","v":0},{"$f":"IF(L259=\"Total\",I259,0)","v":0},{"$f":"IF(L259=\"Total\",J259,0)","v":0},{"$f":"IF(L259=\"Total\",K259,0)","v":0}]
[0,0,0,0,0,0,0,0,0,0,0,"","",0,0,0,0,0,0,0,0,0]
[0,0,0,0,0,0,0,0,0,0,0,"","",0,0,0,0,0,0,0,0,0]
[0,0,0,0,0,0,0,0,0,0,0,"","",0,0,0,0,0,0,0,0,0]
[0,0,0,0,0,0,0,0,0,0,0,"","",0,0,0,0,0,0,0,0,0]
[0,0,0,0,0,0,0,0,0,0,0,"","",0,0,0,0,0,0,0,0,0]
[0,0,0,0,0,0,0,0,0,0,0,"","",0,0,0,0,0,0,0,0,0]
[0,0,0,0,0,0,0,0,0,0,0,"","",0,0,0,0,0,0,0,0,0]
[0,0,0,0,0,0,0,0,0,0,0,"","",0,0,0,0,0,0,0,0,0]
[0,0,0,0,0,0,0,0,0,0,0,"","",0,0,0,0,0,0,0,0,0]
[0,0,0,0,0,0,0,0,0,0,0,"","",0,0,0,0,0,0,0,0,0]
[0,0,0,0,0,0,0,0,0,0,0,"","",0,0,0,0,0,0,0,0,0]
[0,0,0,0,0,0,0,0,0,0,0,"","",0,0,0,0,0,0,0,0,0]
[0,0,0,0,0,0,0,0,0,0,0,"","",0,0,0,0,0,0,0,0,0]
[0,0,0,0,0,0,0,0,0,0,0,"","",0,0,0,0,0,0,0,0,0]
[0,0,0,0,0,0,0,0,0,0,0,"","",0,0,0,0,0,0,0,0,0]
[0,0,0,0,0,0,0,0,0,0,0,"","",0,0,0,0,0,0,0,0,0]
[0,0,0,0,0,0,0,0,0,0,0,"","",0,0,0,0,0,0,0,0,0]
[0,0,0,0,0,0,0,0,0,0,0,"","",0,0,0,0,0,0,0,0,0]
[0,0,0,0,0,0,0,0,0,0,0,"","",0,0,0,0,0,0,0,0,0]
[0,0,0,0,0,0,0,0,0,0,0,"","",0,0,0,0,0,0,0,0,0]
[0,0,0,0,0,0,0,0,0,0,0,"","",0,0,0,0,0,0,0,0,0]
[0,0,0,0,0,0,0,0,0,0,0,"","",0,0,0,0,0,0,0,0,0]
[0,0,0,0,0,0,0,0,0,0,0,"","",0,0,0,0,0,0,0,0,0]
[0,0,0,0,0,0,0,0,0,0,0,"","",0,0,0,0,0,0,0,0,0]
[0,0,0,0,0,0,0,0,0,0,0,"","",0,0,0,0,0,0,0,0,0]
[0,0,0,0,0,0,0,0,0,0,0,"","",0,0,0,0,0,0,0,0,0]
[0,0,0,0,0,0,0,0,0,0,0,"","",0,0,0,0,0,0,0,0,0]
[0,0,0,0,0,0,0,0,0,0,0,"","",0,0,0,0,0,0,0,0,0]
[0,0,0,0,0,0,0,0,0,0,0,"","",0,0,0,0,0,0,0,0,0]
[0,0,0,0,0,0,0,0,0,0,0,"","",0,0,0,0,0,0,0,0,0]
[0,0,0,0,0,0,0,0,0,0,0,"","",0,0,0,0,0,0,0,0,0]
[0,0,0,0,0,0,0,0,0,0,0,"","",0,0,0,0,0,0,0,0,0]
[0,0,0,0,0,0,0,0,0,0,0,"","",0,0,0,0,0,0,0,0,0]
[0,0,0,0,0,0,0,0,0,0,0,"","",0,0,0,0,0,0,0,0,0]
[0,0,0,0,0,0,0,0,0,0,0,"","",0,0,0,0,0,0,0,0,0]
[0,0,0,0,0,0,0,0,0,0,0,"","",0,0,0,0,0,0,0,0,0]
[0,0,0,0,0,0,0,0,0,0,0,"","",0,0,0,0,0,0,0,0,0]
[0,0,0,0,0,0,0,0,0,0,0,"","",0,0,0,0,0,0,0,0,0]
[0,0,0,0,0,0,0,0,0,0,0,"","",0,0,0,0,0,0,0,0,0]
[0,0,0,0,0,0,0,0,0,0,0,"","",0,0,0,0,0,0,0,0,0]
[0,0,0,0,0,0,0,0,0,0,0,"","",0,0,0,0,0,0,0,0,0]
[0,0,0,0,0,0,0,0,0,0,0,"","",0,0,0,0,0,0,0,0,0]
[0,0,0,0,0,0,0,0,0,0,0,"","",0,0,0,0,0,0,0,0,0]
[0,0,0,0,0,0,0,0,0,0,0,"","",0,0,0,0,0,0,0,0,0]
[0,0,0,0,0,0,0,0,0,0,0,"","",0,0,0,0,0,0,0,0,0]
[0,0,0,0,0,0,0,0,0,0,0,"","",0,0,0,0,0,0,0,0,0]
[0,0,0,0,0,0,0,0,0,0,0,"","",0,0,0,0,0,0,0,0,0]
[0,0,0,0,0,0,0,0,0,0,0,"","",0,0,0,0,0,0,0,0,0]
[0,0,0,0,0,0,0,0,0,0,0,"","",0,0,0,0,0,0,0,0,0]
[0,0,0,0,0,0,0,0,0,0,0,"","",0,0,0,0,0,0,0,0,0]
[0,0,0,0,0,0,0,0,0,0,0,"","",0,0,0,0,0,0,0,0,0]
[0,0,0,0,0,0,0,0,0,0,0,"","",0,0,0,0,0,0,0,0,0]
[0,0,0,0,0,0,0,0,0,0,0,"","",0,0,0,0,0,0,0,0,0]
[0,0,0,0,0,0,0,0,0,0,0,"","",0,0,0,0,0,0,0,0,0]
[0,0,0,0,0,0,0,0,0,0,0,"","",0,0,0,0,0,0,0,0,0]
[0,0,0,0,0,0,0,0,0,0,0,"","",0,0,0,0,0,0,0,0,0]
[0,0,0,0,0,0,0,0,0,0,0,"","",0,0,0,0,0,0,0,0,0]
[0,0,0,0,0,0,0,0,0,0,0,"","",0,0,0,0,0,0,0,0,0]
[0,0,0,0,0,0,0,0,0,0,0,"","",0,0,0,0,0,0,0,0,0]
[0,0,0,0,0,0,0,0,0,0,0,"","",0,0,0,0,0,0,0,0,0]
[0,0,0,0,0,0,0,0,0,0,0,"","",0,0,0,0,0,0,0,0,0]
[0,0,0,0,0,0,0,0,0,0,0,"","",0,0,0,0,0,0,0,0,0]
[0,0,0,0,0,0,0,0,0,0,0,"","",0,0,0,0,0,0,0,0,0]
[0,0,0,0,0,0,0,0,0,0,0,{"$f":"IF(A323=\"\",IF(D323=\"\",\"\",\"Total\"),\"\")","v":""},{"$f":"IF(L323=\"Total\",LEFT(D323,5),\"\")","v":""},{"$f":"IF(L323=\"Total\",MID(D323,6,4),0)","v":0},{"$f":"IF(L323=\"Total\",C323,0)","v":0},{"$f":"IF(L323=\"Total\",E323,0)","v":0},{"$f":"IF(L323=\"Total\",F323,0)","v":0},{"$f":"IF(L323=\"Total\",G323,0)","v":0},{"$f":"IF(L323=\"Total\",H323,0)","v":0},{"$f":"IF(L323=\"Total\",I323,0)","v":0},{"$f":"IF(L323=\"Total\",J323,0)","v":0},{"$f":"IF(L323=\"Total\",K323,0)","v":0}]
[0,0,0,0,0,0,0,0,0,0,0,"","",0,0,0,0,0,0,0,0,0]
[0,0,0,0,0,0,0,0,0,0,0,"","",0,0,0,0,0,0,0,0,0]
[0,0,0,0,0,0,0,0,0,0,0,"","",0,0,0,0,0,0,0,0,0]
[0,0,0,0,0,0,0,0,0,0,0,"","",0,0,0,0,0,0,0,0,0]
[0,0,0,0,0,0,0,0,0,0,0,"","",0,0,0,0,0,0,0,0,0]
[0,0,0,0,0,0,0,0,0,0,0,"","",0,0,0,0,0,0,0,0,0]
[0,0,0,0,0,0,0,0,0,0,0,"","",0,0,0,0,0,0,0,0,0]
[0,0,0,0,0,0,0,0,0,0,0,"","",0,0,0,0,0,0,0,0,0]
[0,0,0,0,0,0,0,0,0,0,0,"","",0,0,0,0,0,0,0,0,0]
[0,0,0,0,0,0,0,0,0,0,0,"","",0,0,0,0,0,0,0,0,0]
[0,0,0,0,0,0,0,0,0,0,0,"","",0,0,0,0,0,0,0,0,0]
[0,0,0,0,0,0,0,0,0,0,0,"","",0,0,0,0,0,0,0,0,0]
[0,0,0,0,0,0,0,0,0,0,0,"","",0,0,0,0,0,0,0,0,0]
[0,0,0,0,0,0,0,0,0,0,0,"","",0,0,0,0,0,0,0,0,0]
[0,0,0,0,0,0,0,0,0,0,0,"","",0,0,0,0,0,0,0,0,0]
[0,0,0,0,0,0,0,0,0,0,0,"","",0,0,0,0,0,0,0,0,0]
[0,0,0,0,0,0,0,0,0,0,0,"","",0,0,0,0,0,0,0,0,0]
[0,0,0,0,0,0,0,0,0,0,0,"","",0,0,0,0,0,0,0,0,0]
[0,0,0,0,0,0,0,0,0,0,0,"","",0,0,0,0,0,0,0,0,0]
[0,0,0,0,0,0,0,0,0,0,0,"","",0,0,0,0,0,0,0,0,0]
[0,0,0,0,0,0,0,0,0,0,0,"","",0,0,0,0,0,0,0,0,0]
[0,0,0,0,0,0,0,0,0,0,0,"","",0,0,0,0,0,0,0,0,0]
[0,0,0,0,0,0,0,0,0,0,0,"","",0,0,0,0,0,0,0,0,0]
[0,0,0,0,0,0,0,0,0,0,0,"","",0,0,0,0,0,0,0,0,0]
[0,0,0,0,0,0,0,0,0,0,0,"","",0,0,0,0,0,0,0,0,0]
[0,0,0,0,0,0,0,0,0,0,0,"","",0,0,0,0,0,0,0,0,0]
[0,0,0,0,0,0,0,0,0,0,0,"","",0,0,0,0,0,0,0,0,0]
[0,0,0,0,0,0,0,0,0,0,0,"","",0,0,0,0,0,0,0,0,0]
[0,0,0,0,0,0,0,0,0,0,0,"","",0,0,0,0,0,0,0,0,0]
[0,0,0,0,0,0,0,0,0,0,0,"","",0,0,0,0,0,0,0,0,0]
[0,0,0,0,0,0,0,0,0,0,0,"","",0,0,0,0,0,0,0,0,0]
[0,0,0,0,0,0,0,0,0,0,0,"","",0,0,0,0,0,0,0,0,0]
[0,0,0,0,0,0,0,0,0,0,0,"","",0,0,0,0,0,0,0,0,0]
[0,0,0,0,0,0,0,0,0,0,0,"","",0,0,0,0,0,0,0,0,0]
[0,0,0,0,0,0,0,0,0,0,0,"","",0,0,0,0,0,0,0,0,0]
[0,0,0,0,0,0,0,0,0,0,0,"","",0,0,0,0,0,0,0,0,0]
[0,0,0,0,0,0,0,0,0,0,0,"","",0,0,0,0,0,0,0,0,0]
[0,0,0,0,0,0,0,0,0,0,0,"","",0,0,0,0,0,0,0,0,0]
[0,0,0,0,0,0,0,0,0,0,0,"","",0,0,0,0,0,0,0,0,0]
[0,0,0,0,0,0,0,0,0,0,0,"","",0,0,0,0,0,0,0,0,0]
[0,0,0,0,0,0,0,0,0,0,0,"","",0,0,0,0,0,0,0,0,0]
[0,0,0,0,0,0,0,0,0,0,0,"","",0,0,0,0,0,0,0,0,0]
[0,0,0,0,0,0,0,0,0,0,0,"","",0,0,0,0,0,0,0,0,0]
[0,0,0,0,0,0,0,0,0,0,0,"","",0,0,0,0,0,0,0,0,0]
[0,0,0,0,0,0,0,0,0,0,0,"","",0,0,0,0,0,0,0,0,0]
[0,0,0,0,0,0,0,0,0,0,0,"","",0,0,0,0,0,0,0,0,0]
[0,0,0,0,0,0,0,0,0,0,0,"","",0,0,0,0,0,0,0,0,0]
[0,0,0,0,0,0,0,0,0,0,0,"","",0,0,0,0,0,0,0,0,0]
[0,0,0,0,0,0,0,0,0,0,0,"","",0,0,0,0,0,0,0,0,0]
[0,0,0,0,0,0,0,0,0,0,0,"","",0,0,0,0,0,0,0,0,0]
[0,0,0,0,0,0,0,0,0,0,0,"","",0,0,0,0,0,0,0,0,0]
[0,0,0,0,0,0,0,0,0,0,0,"","",0,0,0,0,0,0,0,0,0]
[0,0,0,0,0,0,0,0,0,0,0,"","",0,0,0,0,0,0,0,0,0]
[0,0,0,0,0,0,0,0,0,0,0,"","",0,0,0,0,0,0,0,0,0]
[0,0,0,0,0,0,0,0,0,0,0,"","",0,0,0,0,0,0,0,0,0]
[0,0,0,0,0,0,0,0,0,0,0,"","",0,0,0,0,0,0,0,0,0]
[0,0,0,0,0,0,0,0,0,0,0,"","",0,0,0,0,0,0,0,0,0]
[0,0,0,0,0,0,0,0,0,0,0,"","",0,0,0,0,0,0,0,0,0]
[0,0,0,0,0,0,0,0,0,0,0,"","",0,0,0,0,0,0,0,0,0]
[0,0,0,0,0,0,0,0,0,0,0,"","",0,0,0,0,0,0,0,0,0]
[0,0,0,0,0,0,0,0,0,0,0,"","",0,0,0,0,0,0,0,0,0]
[0,0,0,0,0,0,0,0,0,0,0,"","",0,0,0,0,0,0,0,0,0]
[0,0,0,0,0,0,0,0,0,0,0,"","",0,0,0,0,0,0,0,0,0]
[0,0,0,0,0,0,0,0,0,0,0,{"$f":"IF(A387=\"\",IF(D387=\"\",\"\",\"Total\"),\"\")","v":""},{"$f":"IF(L387=\"Total\",LEFT(D387,5),\"\")","v":""},{"$f":"IF(L387=\"Total\",MID(D387,6,4),0)","v":0},{"$f":"IF(L387=\"Total\",C387,0)","v":0},{"$f":"IF(L387=\"Total\",E387,0)","v":0},{"$f":"IF(L387=\"Total\",F387,0)","v":0},{"$f":"IF(L387=\"Total\",G387,0)","v":0},{"$f":"IF(L387=\"Total\",H387,0)","v":0},{"$f":"IF(L387=\"Total\",I387,0)","v":0},{"$f":"IF(L387=\"Total\",J387,0)","v":0},{"$f":"IF(L387=\"Total\",K387,0)","v":0}]
[0,0,0,0,0,0,0,0,0,0,0,"","",0,0,0,0,0,0,0,0,0]
[0,0,0,0,0,0,0,0,0,0,0,"","",0,0,0,0,0,0,0,0,0]
[0,0,0,0,0,0,0,0,0,0,0,"","",0,0,0,0,0,0,0,0,0]
[0,0,0,0,0,0,0,0,0,0,0,"","",0,0,0,0,0,0,0,0,0]
[0,0,0,0,0,0,0,0,0,0,0,"","",0,0,0,0,0,0,0,0,0]
[0,0,0,0,0,0,0,0,0,0,0,"","",0,0,0,0,0,0,0,0,0]
[0,0,0,0,0,0,0,0,0,0,0,"","",0,0,0,0,0,0,0,0,0]
[0,0,0,0,0,0,0,0,0,0,0,"","",0,0,0,0,0,0,0,0,0]
[0,0,0,0,0,0,0,0,0,0,0,"","",0,0,0,0,0,0,0,0,0]
[0,0,0,0,0,0,0,0,0,0,0,"","",0,0,0,0,0,0,0,0,0]
[0,0,0,0,0,0,0,0,0,0,0,"","",0,0,0,0,0,0,0,0,0]
[0,0,0,0,0,0,0,0,0,0,0,"","",0,0,0,0,0,0,0,0,0]
[0,0,0,0,0,0,0,0,0,0,0,"","",0,0,0,0,0,0,0,0,0]
[0,0,0,0,0,0,0,0,0,0,0,"","",0,0,0,0,0,0,0,0,0]
[0,0,0,0,0,0,0,0,0,0,0,"","",0,0,0,0,0,0,0,0,0]
[0,0,0,0,0,0,0,0,0,0,0,"","",0,0,0,0,0,0,0,0,0]
[0,0,0,0,0,0,0,0,0,0,0,"","",0,0,0,0,0,0,0,0,0]
[0,0,0,0,0,0,0,0,0,0,0,"","",0,0,0,0,0,0,0,0,0]
[0,0,0,0,0,0,0,0,0,0,0,"","",0,0,0,0,0,0,0,0,0]
[0,0,0,0,0,0,0,0,0,0,0,"","",0,0,0,0,0,0,0,0,0]
[0,0,0,0,0,0,0,0,0,0,0,"","",0,0,0,0,0,0,0,0,0]
[0,0,0,0,0,0,0,0,0,0,0,"","",0,0,0,0,0,0,0,0,0]
[0,0,0,0,0,0,0,0,0,0,0,"","",0,0,0,0,0,0,0,0,0]
[0,0,0,0,0,0,0,0,0,0,0,"","",0,0,0,0,0,0,0,0,0]
[0,0,0,0,0,0,0,0,0,0,0,"","",0,0,0,0,0,0,0,0,0]
[0,0,0,0,0,0,0,0,0,0,0,"","",0,0,0,0,0,0,0,0,0]
[0,0,0,0,0,0,0,0,0,0,0,"","",0,0,0,0,0,0,0,0,0]
[0,0,0,0,0,0,0,0,0,0,0,"","",0,0,0,0,0,0,0,0,0]
[0,0,0,0,0,0,0,0,0,0,0,"","",0,0,0,0,0,0,0,0,0]
[0,0,0,0,0,0,0,0,0,0,0,"","",0,0,0,0,0,0,0,0,0]
[0,0,0,0,0,0,0,0,0,0,0,"","",0,0,0,0,0,0,0,0,0]
[0,0,0,0,0,0,0,0,0,0,0,"","",0,0,0,0,0,0,0,0,0]
[0,0,0,0,0,0,0,0,0,0,0,"","",0,0,0,0,0,0,0,0,0]
[0,0,0,0,0,0,0,0,0,0,0,"","",0,0,0,0,0,0,0,0,0]
[0,0,0,0,0,0,0,0,0,0,0,"","",0,0,0,0,0,0,0,0,0]
[0,0,0,0,0,0,0,0,0,0,0,"","",0,0,0,0,0,0,0,0,0]
[0,0,0,0,0,0,0,0,0,0,0,"","",0,0,0,0,0,0,0,0,0]
[0,0,0,0,0,0,0,0,0,0,0,"","",0,0,0,0,0,0,0,0,0]
[0,0,0,0,0,0,0,0,0,0,0,"","",0,0,0,0,0,0,0,0,0]
[0,0,0,0,0,0,0,0,0,0,0,"","",0,0,0,0,0,0,0,0,0]
[0,0,0,0,0,0,0,0,0,0,0,"","",0,0,0,0,0,0,0,0,0]
[0,0,0,0,0,0,0,0,0,0,0,"","",0,0,0,0,0,0,0,0,0]
[0,0,0,0,0,0,0,0,0,0,0,"","",0,0,0,0,0,0,0,0,0]
[0,0,0,0,0,0,0,0,0,0,0,"","",0,0,0,0,0,0,0,0,0]
[0,0,0,0,0,0,0,0,0,0,0,"","",0,0,0,0,0,0,0,0,0]
[0,0,0,0,0,0,0,0,0,0,0,"","",0,0,0,0,0,0,0,0,0]
[0,0,0,0,0,0,0,0,0,0,0,"","",0,0,0,0,0,0,0,0,0]
[0,0,0,0,0,0,0,0,0,0,0,"","",0,0,0,0,0,0,0,0,0]
[0,0,0,0,0,0,0,0,0,0,0,"","",0,0,0,0,0,0,0,0,0]
[0,0,0,0,0,0,0,0,0,0,0,"","",0,0,0,0,0,0,0,0,0]
[0,0,0,0,0,0,0,0,0,0,0,"","",0,0,0,0,0,0,0,0,0]
[0,0,0,0,0,0,0,0,0,0,0,"","",0,0,0,0,0,0,0,0,0]
[0,0,0,0,0,0,0,0,0,0,0,"","",0,0,0,0,0,0,0,0,0]
[0,0,0,0,0,0,0,0,0,0,0,"","",0,0,0,0,0,0,0,0,0]
[0,0,0,0,0,0,0,0,0,0,0,"","",0,0,0,0,0,0,0,0,0]
[0,0,0,0,0,0,0,0,0,0,0,"","",0,0,0,0,0,0,0,0,0]
[0,0,0,0,0,0,0,0,0,0,0,"","",0,0,0,0,0,0,0,0,0]
[0,0,0,0,0,0,0,0,0,0,0,"","",0,0,0,0,0,0,0,0,0]
[0,0,0,0,0,0,0,0,0,0,0,"","",0,0,0,0,0,0,0,0,0]
[0,0,0,0,0,0,0,0,0,0,0,"","",0,0,0,0,0,0,0,0,0]
[0,0,0,0,0,0,0,0,0,0,0,"","",0,0,0,0,0,0,0,0,0]
[0,0,0,0,0,0,0,0,0,0,0,"","",0,0,0,0,0,0,0,0,0]
[0,0,0,0,0,0,0,0,0,0,0,"","",0,0,0,0,0,0,0,0,0]
[0,0,0,0,0,0,0,0,0,0,0,{"$f":"IF(A451=\"\",IF(D451=\"\",\"\",\"Total\"),\"\")","v":""},{"$f":"IF(L451=\"Total\",LEFT(D451,5),\"\")","v":""},{"$f":"IF(L451=\"Total\",MID(D451,6,4),0)","v":0},{"$f":"IF(L451=\"Total\",C451,0)","v":0},{"$f":"IF(L451=\"Total\",E451,0)","v":0},{"$f":"IF(L451=\"Total\",F451,0)","v":0},{"$f":"IF(L451=\"Total\",G451,0)","v":0},{"$f":"IF(L451=\"Total\",H451,0)","v":0},{"$f":"IF(L451=\"Total\",I451,0)","v":0},{"$f":"IF(L451=\"Total\",J451,0)","v":0},{"$f":"IF(L451=\"Total\",K451,0)","v":0}]
[0,0,0,0,0,0,0,0,0,0,0,"","",0,0,0,0,0,0,0,0,0]
[0,0,0,0,0,0,0,0,0,0,0,"","",0,0,0,0,0,0,0,0,0]
[0,0,0,0,0,0,0,0,0,0,0,"","",0,0,0,0,0,0,0,0,0]
[0,0,0,0,0,0,0,0,0,0,0,"","",0,0,0,0,0,0,0,0,0]
[0,0,0,0,0,0,0,0,0,0,0,"","",0,0,0,0,0,0,0,0,0]
[0,0,0,0,0,0,0,0,0,0,0,"","",0,0,0,0,0,0,0,0,0]
[0,0,0,0,0,0,0,0,0,0,0,"","",0,0,0,0,0,0,0,0,0]
[0,0,0,0,0,0,0,0,0,0,0,"","",0,0,0,0,0,0,0,0,0]
[0,0,0,0,0,0,0,0,0,0,0,"","",0,0,0,0,0,0,0,0,0]
[0,0,0,0,0,0,0,0,0,0,0,"","",0,0,0,0,0,0,0,0,0]
[0,0,0,0,0,0,0,0,0,0,0,"","",0,0,0,0,0,0,0,0,0]
[0,0,0,0,0,0,0,0,0,0,0,"","",0,0,0,0,0,0,0,0,0]
[0,0,0,0,0,0,0,0,0,0,0,"","",0,0,0,0,0,0,0,0,0]
[0,0,0,0,0,0,0,0,0,0,0,"","",0,0,0,0,0,0,0,0,0]
[0,0,0,0,0,0,0,0,0,0,0,"","",0,0,0,0,0,0,0,0,0]
[0,0,0,0,0,0,0,0,0,0,0,"","",0,0,0,0,0,0,0,0,0]
[0,0,0,0,0,0,0,0,0,0,0,"","",0,0,0,0,0,0,0,0,0]
[0,0,0,0,0,0,0,0,0,0,0,"","",0,0,0,0,0,0,0,0,0]
[0,0,0,0,0,0,0,0,0,0,0,"","",0,0,0,0,0,0,0,0,0]
[0,0,0,0,0,0,0,0,0,0,0,"","",0,0,0,0,0,0,0,0,0]
[0,0,0,0,0,0,0,0,0,0,0,"","",0,0,0,0,0,0,0,0,0]
[0,0,0,0,0,0,0,0,0,0,0,"","",0,0,0,0,0,0,0,0,0]
[0,0,0,0,0,0,0,0,0,0,0,"","",0,0,0,0,0,0,0,0,0]
[0,0,0,0,0,0,0,0,0,0,0,"","",0,0,0,0,0,0,0,0,0]
[0,0,0,0,0,0,0,0,0,0,0,"","",0,0,0,0,0,0,0,0,0]
[0,0,0,0,0,0,0,0,0,0,0,"","",0,0,0,0,0,0,0,0,0]
[0,0,0,0,0,0,0,0,0,0,0,"","",0,0,0,0,0,0,0,0,0]
[0,0,0,0,0,0,0,0,0,0,0,"","",0,0,0,0,0,0,0,0,0]
[0,0,0,0,0,0,0,0,0,0,0,"","",0,0,0,0,0,0,0,0,0]
[0,0,0,0,0,0,0,0,0,0,0,"","",0,0,0,0,0,0,0,0,0]
[0,0,0,0,0,0,0,0,0,0,0,"","",0,0,0,0,0,0,0,0,0]
[0,0,0,0,0,0,0,0,0,0,0,"","",0,0,0,0,0,0,0,0,0]
[0,0,0,0,0,0,0,0,0,0,0,"","",0,0,0,0,0,0,0,0,0]
[null,null,0,"0 Total",0,0,0,0,0,0,0,"Total","0 Tot","al",0,0,0,0,0,0,0,0]
[14000,6300,0,"140006300",10,90,10,5,10,100,50,"","",0,0,0,0,0,0,0,0,0]
[null,null,0,"140006300 Total",10,90,10,5,10,100,50,"Total","14000","6300",0,10,90,10,5,10,100,50]
[14000,6301,0,"140006301",0,0,0,0,0,0,0,"","",0,0,0,0,0,0,0,0,0]
[null,null,0,"140006301 Total",0,0,0,0,0,0,0,"Total","14000","6301",0,0,0,0,0,0,0,0]
[null,null,0,"Grand Total",10,90,10,5,10,100,50,"Total","Grand"," Tot",0,10,90,10,5,10,100,50]
[null,null,null,null,null,null,null,null,null,null,null,"","",0,0,0,0,0,0,0,0,0]
[null,null,null,null,null,null,null,null,null,null,null,"","",0,0,0,0,0,0,0,0,0]
[null,null,null,null,null,null,null,null,null,null,null,"","",0,0,0,0,0,0,0,0,0]
[null,null,null,null,null,null,null,null,null,null,null,"","",0,0,0,0,0,0,0,0,0]
[null,null,null,null,null,null,null,null,null,null,null,"","",0,0,0,0,0,0,0,0,0]
[null,null,null,null,null,null,null,null,null,null,null,"","",0,0,0,0,0,0,0,0,0]
[null,null,null,null,null,null,null,null,null,null,null,"","",0,0,0,0,0,0,0,0,0]
[null,null,null,null,null,null,null,null,null,null,null,"",{"$f":"IF(K498=\"Total\",LEFT(D498,5),0)","v":0},{"$f":"IF(K498=\"Total\",MID(D498,6,4),0)","v":0},{"$f":"IF(K498=\"Total\",C498,0)","v":0},{"$f":"IF(K498=\"Total\",E498,0)","v":0},{"$f":"IF(K498=\"Total\",F498,0)","v":0},{"$f":"IF(K498=\"Total\",G498,0)","v":0},{"$f":"IF(K498=\"Total\",H498,0)","v":0},{"$f":"IF(K498=\"Total\",I498,0)","v":0},{"$f":"IF(K498=\"Total\",J498,0)","v":0}]
[null,null,null,null,null,null,null,null,null,null,null,"",0,0,0,0,0,0,0,0,0]
[null,null,null,null,null,null,null,null,null,null,null,"",0,0,0,0,0,0,0,0,0]
[null,null,null,null,null,null,null,null,null,null,null,"",0,0,0,0,0,0,0,0,0]
[null,null,null,null,null,null,null,null,null,null,null,null,0,0,0,0,0,0,0,0,0]
[null,null,null,null,null,null,null,null,null,null,null,null,0,0,0,0,0,0,0,0,0]
[null,null,null,null,null,null,null,null,null,null,null,null,0,0,0,0,0,0,0,0,0]
[null,null,null,null,null,null,null,null,null,null,null,null,0,0,0,0,0,0,0,0,0]
[null,null,null,null,null,null,null,null,null,null,null,null,0,0,0,0,0,0,0,0,0]
[null,null,null,null,null,null,null,null,null,null,null,null,0,0,0,0,0,0,0,0,0]
[null,null,null,null,null,null,null,null,null,null,null,null,0,0,0,0,0,0,0,0,0]
[null,null,null,null,null,null,null,null,null,null,null,null,0,0,0,0,0,0,0,0,0]
[null,null,null,null,null,null,null,null,null,null,null,null,0,0,0,0,0,0,0,0,0]
[null,null,null,null,null,null,null,null,null,null,null,null,0,0,0,0,0,0,0,0,0]
[null,null,null,null,null,null,null,null,null,null,null,null,0,0,0,0,0,0,0,0,0]
[null,null,null,null,null,null,null,null,null,null,null,null,0,0,0,0,0,0,0,0,0]

{"sheet":"Finals","index":6,"n_rows":513,"n_cols":20,"rows_kept":513,"cut":false,"hidden":false,"merged":[]}
["Fund #","Org #","Mileage Charged","Lodging","Meals","Registration","Parking","Ground Trans.","Flight","Other","Fund #","Org #","Mileage Charged","Lodging","Meals","Registration","Parking","Ground Trans.","Flight","Other"]
["",0,0,0,0,0,0,0,0,0,{"$f":"IF(IF(AND(A2=\"0 Tot\",B2=\"al\"),\"\",A2)=0,\"\",IF(A2=\"0 Tot\",\"\",A2))","v":""},{"$f":"IF(IF(AND(B2=\"0 Tot\",C2=\"al\"),\"\",B2)=0,\"\",IF(B2=\"0 Tot\",\"\",B2))","v":""},{"$f":"IF(IF(AND(C2=\"0 Tot\",D2=\"al\"),\"\",C2)=0,\"\",IF(C2=\"0 Tot\",\"\",C2))","v":""},{"$f":"IF(IF(AND(D2=\"0 Tot\",E2=\"al\"),\"\",D2)=0,\"\",IF(D2=\"0 Tot\",\"\",D2))","v":""},{"$f":"IF(IF(AND(E2=\"0 Tot\",F2=\"al\"),\"\",E2)=0,\"\",IF(E2=\"0 Tot\",\"\",E2))","v":""},{"$f":"IF(IF(AND(F2=\"0 Tot\",G2=\"al\"),\"\",F2)=0,\"\",IF(F2=\"0 Tot\",\"\",F2))","v":""},{"$f":"IF(IF(AND(G2=\"0 Tot\",H2=\"al\"),\"\",G2)=0,\"\",IF(G2=\"0 Tot\",\"\",G2))","v":""},{"$f":"IF(IF(AND(H2=\"0 Tot\",I2=\"al\"),\"\",H2)=0,\"\",IF(H2=\"0 Tot\",\"\",H2))","v":""},"",""]
["",0,0,0,0,0,0,0,0,0,{"$f":"IF(IF(AND(A3=\"0 Tot\",B3=\"al\"),\"\",A3)=0,\"\",IF(A3=\"0 Tot\",\"\",A3))","v":""},{"$f":"IF(IF(AND(B3=\"0 Tot\",C3=\"al\"),\"\",B3)=0,\"\",IF(B3=\"0 Tot\",\"\",B3))","v":""},{"$f":"IF(IF(AND(C3=\"0 Tot\",D3=\"al\"),\"\",C3)=0,\"\",IF(C3=\"0 Tot\",\"\",C3))","v":""},{"$f":"IF(IF(AND(D3=\"0 Tot\",E3=\"al\"),\"\",D3)=0,\"\",IF(D3=\"0 Tot\",\"\",D3))","v":""},{"$f":"IF(IF(AND(E3=\"0 Tot\",F3=\"al\"),\"\",E3)=0,\"\",IF(E3=\"0 Tot\",\"\",E3))","v":""},{"$f":"IF(IF(AND(F3=\"0 Tot\",G3=\"al\"),\"\",F3)=0,\"\",IF(F3=\"0 Tot\",\"\",F3))","v":""},{"$f":"IF(IF(AND(G3=\"0 Tot\",H3=\"al\"),\"\",G3)=0,\"\",IF(G3=\"0 Tot\",\"\",G3))","v":""},{"$f":"IF(IF(AND(H3=\"0 Tot\",I3=\"al\"),\"\",H3)=0,\"\",IF(H3=\"0 Tot\",\"\",H3))","v":""},"",""]
["",0,0,0,0,0,0,0,0,0,"","","","","","","","","",""]
["",0,0,0,0,0,0,0,0,0,"","","","","","","","","",""]
["",0,0,0,0,0,0,0,0,0,"","","","","","","","","",""]
["",0,0,0,0,0,0,0,0,0,"","","","","","","","","",""]
["",0,0,0,0,0,0,0,0,0,"","","","","","","","","",""]
["",0,0,0,0,0,0,0,0,0,"","","","","","","","","",""]
["",0,0,0,0,0,0,0,0,0,"","","","","","","","","",""]
["",0,0,0,0,0,0,0,0,0,"","","","","","","","","",""]
["",0,0,0,0,0,0,0,0,0,"","","","","","","","","",""]
["",0,0,0,0,0,0,0,0,0,"","","","","","","","","",""]
["",0,0,0,0,0,0,0,0,0,"","","","","","","","","",""]
["",0,0,0,0,0,0,0,0,0,"","","","","","","","","",""]
["",0,0,0,0,0,0,0,0,0,"","","","","","","","","",""]
["",0,0,0,0,0,0,0,0,0,"","","","","","","","","",""]
["",0,0,0,0,0,0,0,0,0,"","","","","","","","","",""]
["",0,0,0,0,0,0,0,0,0,"","","","","","","","","",""]
["",0,0,0,0,0,0,0,0,0,"","","","","","","","","",""]
["",0,0,0,0,0,0,0,0,0,"","","","","","","","","",""]
["",0,0,0,0,0,0,0,0,0,"","","","","","","","","",""]
["",0,0,0,0,0,0,0,0,0,"","","","","","","","","",""]
["",0,0,0,0,0,0,0,0,0,"","","","","","","","","",""]
["",0,0,0,0,0,0,0,0,0,"","","","","","","","","",""]
["",0,0,0,0,0,0,0,0,0,"","","","","","","","","",""]
["",0,0,0,0,0,0,0,0,0,"","","","","","","","","",""]
["",0,0,0,0,0,0,0,0,0,"","","","","","","","","",""]
["",0,0,0,0,0,0,0,0,0,"","","","","","","","","",""]
["",0,0,0,0,0,0,0,0,0,"","","","","","","","","",""]
["",0,0,0,0,0,0,0,0,0,"","","","","","","","","",""]
["",0,0,0,0,0,0,0,0,0,"","","","","","","","","",""]
["",0,0,0,0,0,0,0,0,0,"","","","","","","","","",""]
["",0,0,0,0,0,0,0,0,0,"","","","","","","","","",""]
["",0,0,0,0,0,0,0,0,0,"","","","","","","","","",""]
["",0,0,0,0,0,0,0,0,0,"","","","","","","","","",""]
["",0,0,0,0,0,0,0,0,0,"","","","","","","","","",""]
["",0,0,0,0,0,0,0,0,0,"","","","","","","","","",""]
["",0,0,0,0,0,0,0,0,0,"","","","","","","","","",""]
["",0,0,0,0,0,0,0,0,0,"","","","","","","","","",""]
["",0,0,0,0,0,0,0,0,0,"","","","","","","","","",""]
["",0,0,0,0,0,0,0,0,0,"","","","","","","","","",""]
["",0,0,0,0,0,0,0,0,0,"","","","","","","","","",""]
["",0,0,0,0,0,0,0,0,0,"","","","","","","","","",""]
["",0,0,0,0,0,0,0,0,0,"","","","","","","","","",""]
["",0,0,0,0,0,0,0,0,0,"","","","","","","","","",""]
["",0,0,0,0,0,0,0,0,0,"","","","","","","","","",""]
["",0,0,0,0,0,0,0,0,0,"","","","","","","","","",""]
["",0,0,0,0,0,0,0,0,0,"","","","","","","","","",""]
["",0,0,0,0,0,0,0,0,0,"","","","","","","","","",""]
["",0,0,0,0,0,0,0,0,0,"","","","","","","","","",""]
["",0,0,0,0,0,0,0,0,0,"","","","","","","","","",""]
["",0,0,0,0,0,0,0,0,0,"","","","","","","","","",""]
["",0,0,0,0,0,0,0,0,0,"","","","","","","","","",""]
["",0,0,0,0,0,0,0,0,0,"","","","","","","","","",""]
["",0,0,0,0,0,0,0,0,0,"","","","","","","","","",""]
["",0,0,0,0,0,0,0,0,0,"","","","","","","","","",""]
["",0,0,0,0,0,0,0,0,0,"","","","","","","","","",""]
["",0,0,0,0,0,0,0,0,0,"","","","","","","","","",""]
["",0,0,0,0,0,0,0,0,0,"","","","","","","","","",""]
["",0,0,0,0,0,0,0,0,0,"","","","","","","","","",""]
["",0,0,0,0,0,0,0,0,0,"","","","","","","","","",""]
["",0,0,0,0,0,0,0,0,0,"","","","","","","","","",""]
["",0,0,0,0,0,0,0,0,0,"","","","","","","","","",""]
["",0,0,0,0,0,0,0,0,0,"","","","","","","","","",""]
["",0,0,0,0,0,0,0,0,0,"","","","","","","","","",""]
["",0,0,0,0,0,0,0,0,0,{"$f":"IF(IF(AND(A67=\"0 Tot\",B67=\"al\"),\"\",A67)=0,\"\",IF(A67=\"0 Tot\",\"\",A67))","v":""},{"$f":"IF(IF(AND(B67=\"0 Tot\",C67=\"al\"),\"\",B67)=0,\"\",IF(B67=\"0 Tot\",\"\",B67))","v":""},{"$f":"IF(IF(AND(C67=\"0 Tot\",D67=\"al\"),\"\",C67)=0,\"\",IF(C67=\"0 Tot\",\"\",C67))","v":""},{"$f":"IF(IF(AND(D67=\"0 Tot\",E67=\"al\"),\"\",D67)=0,\"\",IF(D67=\"0 Tot\",\"\",D67))","v":""},{"$f":"IF(IF(AND(E67=\"0 Tot\",F67=\"al\"),\"\",E67)=0,\"\",IF(E67=\"0 Tot\",\"\",E67))","v":""},{"$f":"IF(IF(AND(F67=\"0 Tot\",G67=\"al\"),\"\",F67)=0,\"\",IF(F67=\"0 Tot\",\"\",F67))","v":""},{"$f":"IF(IF(AND(G67=\"0 Tot\",H67=\"al\"),\"\",G67)=0,\"\",IF(G67=\"0 Tot\",\"\",G67))","v":""},{"$f":"IF(IF(AND(H67=\"0 Tot\",I67=\"al\"),\"\",H67)=0,\"\",IF(H67=\"0 Tot\",\"\",H67))","v":""},"",""]
["",0,0,0,0,0,0,0,0,0,"","","","","","","","","",""]
["",0,0,0,0,0,0,0,0,0,"","","","","","","","","",""]
["",0,0,0,0,0,0,0,0,0,"","","","","","","","","",""]
["",0,0,0,0,0,0,0,0,0,"","","","","","","","","",""]
["",0,0,0,0,0,0,0,0,0,"","","","","","","","","",""]
["",0,0,0,0,0,0,0,0,0,"","","","","","","","","",""]
["",0,0,0,0,0,0,0,0,0,"","","","","","","","","",""]
["",0,0,0,0,0,0,0,0,0,"","","","","","","","","",""]
["",0,0,0,0,0,0,0,0,0,"","","","","","","","","",""]
["",0,0,0,0,0,0,0,0,0,"","","","","","","","","",""]
["",0,0,0,0,0,0,0,0,0,"","","","","","","","","",""]
["",0,0,0,0,0,0,0,0,0,"","","","","","","","","",""]
["",0,0,0,0,0,0,0,0,0,"","","","","","","","","",""]
["",0,0,0,0,0,0,0,0,0,"","","","","","","","","",""]
["",0,0,0,0,0,0,0,0,0,"","","","","","","","","",""]
["",0,0,0,0,0,0,0,0,0,"","","","","","","","","",""]
["",0,0,0,0,0,0,0,0,0,"","","","","","","","","",""]
["",0,0,0,0,0,0,0,0,0,"","","","","","","","","",""]
["",0,0,0,0,0,0,0,0,0,"","","","","","","","","",""]
["",0,0,0,0,0,0,0,0,0,"","","","","","","","","",""]
["",0,0,0,0,0,0,0,0,0,"","","","","","","","","",""]
["",0,0,0,0,0,0,0,0,0,"","","","","","","","","",""]
["",0,0,0,0,0,0,0,0,0,"","","","","","","","","",""]
["",0,0,0,0,0,0,0,0,0,"","","","","","","","","",""]
["",0,0,0,0,0,0,0,0,0,"","","","","","","","","",""]
["",0,0,0,0,0,0,0,0,0,"","","","","","","","","",""]
["",0,0,0,0,0,0,0,0,0,"","","","","","","","","",""]
["",0,0,0,0,0,0,0,0,0,"","","","","","","","","",""]
["",0,0,0,0,0,0,0,0,0,"","","","","","","","","",""]
["",0,0,0,0,0,0,0,0,0,"","","","","","","","","",""]
["",0,0,0,0,0,0,0,0,0,"","","","","","","","","",""]
["",0,0,0,0,0,0,0,0,0,"","","","","","","","","",""]
["",0,0,0,0,0,0,0,0,0,"","","","","","","","","",""]
["",0,0,0,0,0,0,0,0,0,"","","","","","","","","",""]
["",0,0,0,0,0,0,0,0,0,"","","","","","","","","",""]
["",0,0,0,0,0,0,0,0,0,"","","","","","","","","",""]
["",0,0,0,0,0,0,0,0,0,"","","","","","","","","",""]
["",0,0,0,0,0,0,0,0,0,"","","","","","","","","",""]
["",0,0,0,0,0,0,0,0,0,"","","","","","","","","",""]
["",0,0,0,0,0,0,0,0,0,"","","","","","","","","",""]
["",0,0,0,0,0,0,0,0,0,"","","","","","","","","",""]
["",0,0,0,0,0,0,0,0,0,"","","","","","","","","",""]
["",0,0,0,0,0,0,0,0,0,"","","","","","","","","",""]
["",0,0,0,0,0,0,0,0,0,"","","","","","","","","",""]
["",0,0,0,0,0,0,0,0,0,"","","","","","","","","",""]
["",0,0,0,0,0,0,0,0,0,"","","","","","","","","",""]
["",0,0,0,0,0,0,0,0,0,"","","","","","","","","",""]
["",0,0,0,0,0,0,0,0,0,"","","","","","","","","",""]
["",0,0,0,0,0,0,0,0,0,"","","","","","","","","",""]
["",0,0,0,0,0,0,0,0,0,"","","","","","","","","",""]
["",0,0,0,0,0,0,0,0,0,"","","","","","","","","",""]
["",0,0,0,0,0,0,0,0,0,"","","","","","","","","",""]
["",0,0,0,0,0,0,0,0,0,"","","","","","","","","",""]
["",0,0,0,0,0,0,0,0,0,"","","","","","","","","",""]
["",0,0,0,0,0,0,0,0,0,"","","","","","","","","",""]
["",0,0,0,0,0,0,0,0,0,"","","","","","","","","",""]
["",0,0,0,0,0,0,0,0,0,"","","","","","","","","",""]
["",0,0,0,0,0,0,0,0,0,"","","","","","","","","",""]
["",0,0,0,0,0,0,0,0,0,"","","","","","","","","",""]
["",0,0,0,0,0,0,0,0,0,"","","","","","","","","",""]
["",0,0,0,0,0,0,0,0,0,"","","","","","","","","",""]
["",0,0,0,0,0,0,0,0,0,"","","","","","","","","",""]
["",0,0,0,0,0,0,0,0,0,"","","","","","","","","",""]
["",0,0,0,0,0,0,0,0,0,{"$f":"IF(IF(AND(A131=\"0 Tot\",B131=\"al\"),\"\",A131)=0,\"\",IF(A131=\"0 Tot\",\"\",A131))","v":""},{"$f":"IF(IF(AND(B131=\"0 Tot\",C131=\"al\"),\"\",B131)=0,\"\",IF(B131=\"0 Tot\",\"\",B131))","v":""},{"$f":"IF(IF(AND(C131=\"0 Tot\",D131=\"al\"),\"\",C131)=0,\"\",IF(C131=\"0 Tot\",\"\",C131))","v":""},{"$f":"IF(IF(AND(D131=\"0 Tot\",E131=\"al\"),\"\",D131)=0,\"\",IF(D131=\"0 Tot\",\"\",D131))","v":""},{"$f":"IF(IF(AND(E131=\"0 Tot\",F131=\"al\"),\"\",E131)=0,\"\",IF(E131=\"0 Tot\",\"\",E131))","v":""},{"$f":"IF(IF(AND(F131=\"0 Tot\",G131=\"al\"),\"\",F131)=0,\"\",IF(F131=\"0 Tot\",\"\",F131))","v":""},{"$f":"IF(IF(AND(G131=\"0 Tot\",H131=\"al\"),\"\",G131)=0,\"\",IF(G131=\"0 Tot\",\"\",G131))","v":""},{"$f":"IF(IF(AND(H131=\"0 Tot\",I131=\"al\"),\"\",H131)=0,\"\",IF(H131=\"0 Tot\",\"\",H131))","v":""},"",""]
["",0,0,0,0,0,0,0,0,0,"","","","","","","","","",""]
["",0,0,0,0,0,0,0,0,0,"","","","","","","","","",""]
["",0,0,0,0,0,0,0,0,0,"","","","","","","","","",""]
["",0,0,0,0,0,0,0,0,0,"","","","","","","","","",""]
["",0,0,0,0,0,0,0,0,0,"","","","","","","","","",""]
["",0,0,0,0,0,0,0,0,0,"","","","","","","","","",""]
["",0,0,0,0,0,0,0,0,0,"","","","","","","","","",""]
["",0,0,0,0,0,0,0,0,0,"","","","","","","","","",""]
["",0,0,0,0,0,0,0,0,0,"","","","","","","","","",""]
["",0,0,0,0,0,0,0,0,0,"","","","","","","","","",""]
["",0,0,0,0,0,0,0,0,0,"","","","","","","","","",""]
["",0,0,0,0,0,0,0,0,0,"","","","","","","","","",""]
["",0,0,0,0,0,0,0,0,0,"","","","","","","","","",""]
["",0,0,0,0,0,0,0,0,0,"","","","","","","","","",""]
["",0,0,0,0,0,0,0,0,0,"","","","","","","","","",""]
["",0,0,0,0,0,0,0,0,0,"","","","","","","","","",""]
["",0,0,0,0,0,0,0,0,0,"","","","","","","","","",""]
["",0,0,0,0,0,0,0,0,0,"","","","","","","","","",""]
["",0,0,0,0,0,0,0,0,0,"","","","","","","","","",""]
["",0,0,0,0,0,0,0,0,0,"","","","","","","","","",""]
["",0,0,0,0,0,0,0,0,0,"","","","","","","","","",""]
["",0,0,0,0,0,0,0,0,0,"","","","","","","","","",""]
["",0,0,0,0,0,0,0,0,0,"","","","","","","","","",""]
["",0,0,0,0,0,0,0,0,0,"","","","","","","","","",""]
["",0,0,0,0,0,0,0,0,0,"","","","","","","","","",""]
["",0,0,0,0,0,0,0,0,0,"","","","","","","","","",""]
["",0,0,0,0,0,0,0,0,0,"","","","","","","","","",""]
["",0,0,0,0,0,0,0,0,0,"","","","","","","","","",""]
["",0,0,0,0,0,0,0,0,0,"","","","","","","","","",""]
["",0,0,0,0,0,0,0,0,0,"","","","","","","","","",""]
["",0,0,0,0,0,0,0,0,0,"","","","","","","","","",""]
["",0,0,0,0,0,0,0,0,0,"","","","","","","","","",""]
["",0,0,0,0,0,0,0,0,0,"","","","","","","","","",""]
["",0,0,0,0,0,0,0,0,0,"","","","","","","","","",""]
["",0,0,0,0,0,0,0,0,0,"","","","","","","","","",""]
["",0,0,0,0,0,0,0,0,0,"","","","","","","","","",""]
["",0,0,0,0,0,0,0,0,0,"","","","","","","","","",""]
["",0,0,0,0,0,0,0,0,0,"","","","","","","","","",""]
["",0,0,0,0,0,0,0,0,0,"","","","","","","","","",""]
["",0,0,0,0,0,0,0,0,0,"","","","","","","","","",""]
["",0,0,0,0,0,0,0,0,0,"","","","","","","","","",""]
["",0,0,0,0,0,0,0,0,0,"","","","","","","","","",""]
["",0,0,0,0,0,0,0,0,0,"","","","","","","","","",""]
["",0,0,0,0,0,0,0,0,0,"","","","","","","","","",""]
["",0,0,0,0,0,0,0,0,0,"","","","","","","","","",""]
["",0,0,0,0,0,0,0,0,0,"","","","","","","","","",""]
["",0,0,0,0,0,0,0,0,0,"","","","","","","","","",""]
["",0,0,0,0,0,0,0,0,0,"","","","","","","","","",""]
["",0,0,0,0,0,0,0,0,0,"","","","","","","","","",""]
["",0,0,0,0,0,0,0,0,0,"","","","","","","","","",""]
["",0,0,0,0,0,0,0,0,0,"","","","","","","","","",""]
["",0,0,0,0,0,0,0,0,0,"","","","","","","","","",""]
["",0,0,0,0,0,0,0,0,0,"","","","","","","","","",""]
["",0,0,0,0,0,0,0,0,0,"","","","","","","","","",""]
["",0,0,0,0,0,0,0,0,0,"","","","","","","","","",""]
["",0,0,0,0,0,0,0,0,0,"","","","","","","","","",""]
["",0,0,0,0,0,0,0,0,0,"","","","","","","","","",""]
["",0,0,0,0,0,0,0,0,0,"","","","","","","","","",""]
["",0,0,0,0,0,0,0,0,0,"","","","","","","","","",""]
["",0,0,0,0,0,0,0,0,0,"","","","","","","","","",""]
["",0,0,0,0,0,0,0,0,0,"","","","","","","","","",""]
["",0,0,0,0,0,0,0,0,0,"","","","","","","","","",""]
["",0,0,0,0,0,0,0,0,0,"","","","","","","","","",""]
["",0,0,0,0,0,0,0,0,0,{"$f":"IF(IF(AND(A195=\"0 Tot\",B195=\"al\"),\"\",A195)=0,\"\",IF(A195=\"0 Tot\",\"\",A195))","v":""},{"$f":"IF(IF(AND(B195=\"0 Tot\",C195=\"al\"),\"\",B195)=0,\"\",IF(B195=\"0 Tot\",\"\",B195))","v":""},{"$f":"IF(IF(AND(C195=\"0 Tot\",D195=\"al\"),\"\",C195)=0,\"\",IF(C195=\"0 Tot\",\"\",C195))","v":""},{"$f":"IF(IF(AND(D195=\"0 Tot\",E195=\"al\"),\"\",D195)=0,\"\",IF(D195=\"0 Tot\",\"\",D195))","v":""},{"$f":"IF(IF(AND(E195=\"0 Tot\",F195=\"al\"),\"\",E195)=0,\"\",IF(E195=\"0 Tot\",\"\",E195))","v":""},{"$f":"IF(IF(AND(F195=\"0 Tot\",G195=\"al\"),\"\",F195)=0,\"\",IF(F195=\"0 Tot\",\"\",F195))","v":""},{"$f":"IF(IF(AND(G195=\"0 Tot\",H195=\"al\"),\"\",G195)=0,\"\",IF(G195=\"0 Tot\",\"\",G195))","v":""},{"$f":"IF(IF(AND(H195=\"0 Tot\",I195=\"al\"),\"\",H195)=0,\"\",IF(H195=\"0 Tot\",\"\",H195))","v":""},"",""]
["",0,0,0,0,0,0,0,0,0,"","","","","","","","","",""]
["",0,0,0,0,0,0,0,0,0,"","","","","","","","","",""]
["",0,0,0,0,0,0,0,0,0,"","","","","","","","","",""]
["",0,0,0,0,0,0,0,0,0,"","","","","","","","","",""]
["",0,0,0,0,0,0,0,0,0,"","","","","","","","","",""]
["",0,0,0,0,0,0,0,0,0,"","","","","","","","","",""]
["",0,0,0,0,0,0,0,0,0,"","","","","","","","","",""]
["",0,0,0,0,0,0,0,0,0,"","","","","","","","","",""]
["",0,0,0,0,0,0,0,0,0,"","","","","","","","","",""]
["",0,0,0,0,0,0,0,0,0,"","","","","","","","","",""]
["",0,0,0,0,0,0,0,0,0,"","","","","","","","","",""]
["",0,0,0,0,0,0,0,0,0,"","","","","","","","","",""]
["",0,0,0,0,0,0,0,0,0,"","","","","","","","","",""]
["",0,0,0,0,0,0,0,0,0,"","","","","","","","","",""]
["",0,0,0,0,0,0,0,0,0,"","","","","","","","","",""]
["",0,0,0,0,0,0,0,0,0,"","","","","","","","","",""]
["",0,0,0,0,0,0,0,0,0,"","","","","","","","","",""]
["",0,0,0,0,0,0,0,0,0,"","","","","","","","","",""]
["",0,0,0,0,0,0,0,0,0,"","","","","","","","","",""]
["",0,0,0,0,0,0,0,0,0,"","","","","","","","","",""]
["",0,0,0,0,0,0,0,0,0,"","","","","","","","","",""]
["",0,0,0,0,0,0,0,0,0,"","","","","","","","","",""]
["",0,0,0,0,0,0,0,0,0,"","","","","","","","","",""]
["",0,0,0,0,0,0,0,0,0,"","","","","","","","","",""]
["",0,0,0,0,0,0,0,0,0,"","","","","","","","","",""]
["",0,0,0,0,0,0,0,0,0,"","","","","","","","","",""]
["",0,0,0,0,0,0,0,0,0,"","","","","","","","","",""]
["",0,0,0,0,0,0,0,0,0,"","","","","","","","","",""]
["",0,0,0,0,0,0,0,0,0,"","","","","","","","","",""]
["",0,0,0,0,0,0,0,0,0,"","","","","","","","","",""]
["",0,0,0,0,0,0,0,0,0,"","","","","","","","","",""]
["",0,0,0,0,0,0,0,0,0,"","","","","","","","","",""]
["",0,0,0,0,0,0,0,0,0,"","","","","","","","","",""]
["",0,0,0,0,0,0,0,0,0,"","","","","","","","","",""]
["",0,0,0,0,0,0,0,0,0,"","","","","","","","","",""]
["",0,0,0,0,0,0,0,0,0,"","","","","","","","","",""]
["",0,0,0,0,0,0,0,0,0,"","","","","","","","","",""]
["",0,0,0,0,0,0,0,0,0,"","","","","","","","","",""]
["",0,0,0,0,0,0,0,0,0,"","","","","","","","","",""]
["",0,0,0,0,0,0,0,0,0,"","","","","","","","","",""]
["",0,0,0,0,0,0,0,0,0,"","","","","","","","","",""]
["",0,0,0,0,0,0,0,0,0,"","","","","","","","","",""]
["",0,0,0,0,0,0,0,0,0,"","","","","","","","","",""]
["",0,0,0,0,0,0,0,0,0,"","","","","","","","","",""]
["",0,0,0,0,0,0,0,0,0,"","","","","","","","","",""]
["",0,0,0,0,0,0,0,0,0,"","","","","","","","","",""]
["",0,0,0,0,0,0,0,0,0,"","","","","","","","","",""]
["",0,0,0,0,0,0,0,0,0,"","","","","","","","","",""]
["",0,0,0,0,0,0,0,0,0,"","","","","","","","","",""]
["",0,0,0,0,0,0,0,0,0,"","","","","","","","","",""]
["",0,0,0,0,0,0,0,0,0,"","","","","","","","","",""]
["",0,0,0,0,0,0,0,0,0,"","","","","","","","","",""]
["",0,0,0,0,0,0,0,0,0,"","","","","","","","","",""]
["",0,0,0,0,0,0,0,0,0,"","","","","","","","","",""]
["",0,0,0,0,0,0,0,0,0,"","","","","","","","","",""]
["",0,0,0,0,0,0,0,0,0,"","","","","","","","","",""]
["",0,0,0,0,0,0,0,0,0,"","","","","","","","","",""]
["",0,0,0,0,0,0,0,0,0,"","","","","","","","","",""]
["",0,0,0,0,0,0,0,0,0,"","","","","","","","","",""]
["",0,0,0,0,0,0,0,0,0,"","","","","","","","","",""]
["",0,0,0,0,0,0,0,0,0,"","","","","","","","","",""]
["",0,0,0,0,0,0,0,0,0,"","","","","","","","","",""]
["",0,0,0,0,0,0,0,0,0,"","","","","","","","","",""]
["",0,0,0,0,0,0,0,0,0,{"$f":"IF(IF(AND(A259=\"0 Tot\",B259=\"al\"),\"\",A259)=0,\"\",IF(A259=\"0 Tot\",\"\",A259))","v":""},{"$f":"IF(IF(AND(B259=\"0 Tot\",C259=\"al\"),\"\",B259)=0,\"\",IF(B259=\"0 Tot\",\"\",B259))","v":""},{"$f":"IF(IF(AND(C259=\"0 Tot\",D259=\"al\"),\"\",C259)=0,\"\",IF(C259=\"0 Tot\",\"\",C259))","v":""},{"$f":"IF(IF(AND(D259=\"0 Tot\",E259=\"al\"),\"\",D259)=0,\"\",IF(D259=\"0 Tot\",\"\",D259))","v":""},{"$f":"IF(IF(AND(E259=\"0 Tot\",F259=\"al\"),\"\",E259)=0,\"\",IF(E259=\"0 Tot\",\"\",E259))","v":""},{"$f":"IF(IF(AND(F259=\"0 Tot\",G259=\"al\"),\"\",F259)=0,\"\",IF(F259=\"0 Tot\",\"\",F259))","v":""},{"$f":"IF(IF(AND(G259=\"0 Tot\",H259=\"al\"),\"\",G259)=0,\"\",IF(G259=\"0 Tot\",\"\",G259))","v":""},{"$f":"IF(IF(AND(H259=\"0 Tot\",I259=\"al\"),\"\",H259)=0,\"\",IF(H259=\"0 Tot\",\"\",H259))","v":""},"",""]
["",0,0,0,0,0,0,0,0,0,"","","","","","","","","",""]
["",0,0,0,0,0,0,0,0,0,"","","","","","","","","",""]
["",0,0,0,0,0,0,0,0,0,"","","","","","","","","",""]
["",0,0,0,0,0,0,0,0,0,"","","","","","","","","",""]
["",0,0,0,0,0,0,0,0,0,"","","","","","","","","",""]
["",0,0,0,0,0,0,0,0,0,"","","","","","","","","",""]
["",0,0,0,0,0,0,0,0,0,"","","","","","","","","",""]
["",0,0,0,0,0,0,0,0,0,"","","","","","","","","",""]
["",0,0,0,0,0,0,0,0,0,"","","","","","","","","",""]
["",0,0,0,0,0,0,0,0,0,"","","","","","","","","",""]
["",0,0,0,0,0,0,0,0,0,"","","","","","","","","",""]
["",0,0,0,0,0,0,0,0,0,"","","","","","","","","",""]
["",0,0,0,0,0,0,0,0,0,"","","","","","","","","",""]
["",0,0,0,0,0,0,0,0,0,"","","","","","","","","",""]
["",0,0,0,0,0,0,0,0,0,"","","","","","","","","",""]
["",0,0,0,0,0,0,0,0,0,"","","","","","","","","",""]
["",0,0,0,0,0,0,0,0,0,"","","","","","","","","",""]
["",0,0,0,0,0,0,0,0,0,"","","","","","","","","",""]
["",0,0,0,0,0,0,0,0,0,"","","","","","","","","",""]
["",0,0,0,0,0,0,0,0,0,"","","","","","","","","",""]
["",0,0,0,0,0,0,0,0,0,"","","","","","","","","",""]
["",0,0,0,0,0,0,0,0,0,"","","","","","","","","",""]
["",0,0,0,0,0,0,0,0,0,"","","","","","","","","",""]
["",0,0,0,0,0,0,0,0,0,"","","","","","","","","",""]
["",0,0,0,0,0,0,0,0,0,"","","","","","","","","",""]
["",0,0,0,0,0,0,0,0,0,"","","","","","","","","",""]
["",0,0,0,0,0,0,0,0,0,"","","","","","","","","",""]
["",0,0,0,0,0,0,0,0,0,"","","","","","","","","",""]
["",0,0,0,0,0,0,0,0,0,"","","","","","","","","",""]
["",0,0,0,0,0,0,0,0,0,"","","","","","","","","",""]
["",0,0,0,0,0,0,0,0,0,"","","","","","","","","",""]
["",0,0,0,0,0,0,0,0,0,"","","","","","","","","",""]
["",0,0,0,0,0,0,0,0,0,"","","","","","","","","",""]
["",0,0,0,0,0,0,0,0,0,"","","","","","","","","",""]
["",0,0,0,0,0,0,0,0,0,"","","","","","","","","",""]
["",0,0,0,0,0,0,0,0,0,"","","","","","","","","",""]
["",0,0,0,0,0,0,0,0,0,"","","","","","","","","",""]
["",0,0,0,0,0,0,0,0,0,"","","","","","","","","",""]
["",0,0,0,0,0,0,0,0,0,"","","","","","","","","",""]
["",0,0,0,0,0,0,0,0,0,"","","","","","","","","",""]
["",0,0,0,0,0,0,0,0,0,"","","","","","","","","",""]
["",0,0,0,0,0,0,0,0,0,"","","","","","","","","",""]
["",0,0,0,0,0,0,0,0,0,"","","","","","","","","",""]
["",0,0,0,0,0,0,0,0,0,"","","","","","","","","",""]
["",0,0,0,0,0,0,0,0,0,"","","","","","","","","",""]
["",0,0,0,0,0,0,0,0,0,"","","","","","","","","",""]
["",0,0,0,0,0,0,0,0,0,"","","","","","","","","",""]
["",0,0,0,0,0,0,0,0,0,"","","","","","","","","",""]
["",0,0,0,0,0,0,0,0,0,"","","","","","","","","",""]
["",0,0,0,0,0,0,0,0,0,"","","","","","","","","",""]
["",0,0,0,0,0,0,0,0,0,"","","","","","","","","",""]
["",0,0,0,0,0,0,0,0,0,"","","","","","","","","",""]
["",0,0,0,0,0,0,0,0,0,"","","","","","","","","",""]
["",0,0,0,0,0,0,0,0,0,"","","","","","","","","",""]
["",0,0,0,0,0,0,0,0,0,"","","","","","","","","",""]
["",0,0,0,0,0,0,0,0,0,"","","","","","","","","",""]
["",0,0,0,0,0,0,0,0,0,"","","","","","","","","",""]
["",0,0,0,0,0,0,0,0,0,"","","","","","","","","",""]
["",0,0,0,0,0,0,0,0,0,"","","","","","","","","",""]
["",0,0,0,0,0,0,0,0,0,"","","","","","","","","",""]
["",0,0,0,0,0,0,0,0,0,"","","","","","","","","",""]
["",0,0,0,0,0,0,0,0,0,"","","","","","","","","",""]
["",0,0,0,0,0,0,0,0,0,"","","","","","","","","",""]
["",0,0,0,0,0,0,0,0,0,{"$f":"IF(IF(AND(A323=\"0 Tot\",B323=\"al\"),\"\",A323)=0,\"\",IF(A323=\"0 Tot\",\"\",A323))","v":""},{"$f":"IF(IF(AND(B323=\"0 Tot\",C323=\"al\"),\"\",B323)=0,\"\",IF(B323=\"0 Tot\",\"\",B323))","v":""},{"$f":"IF(IF(AND(C323=\"0 Tot\",D323=\"al\"),\"\",C323)=0,\"\",IF(C323=\"0 Tot\",\"\",C323))","v":""},{"$f":"IF(IF(AND(D323=\"0 Tot\",E323=\"al\"),\"\",D323)=0,\"\",IF(D323=\"0 Tot\",\"\",D323))","v":""},{"$f":"IF(IF(AND(E323=\"0 Tot\",F323=\"al\"),\"\",E323)=0,\"\",IF(E323=\"0 Tot\",\"\",E323))","v":""},{"$f":"IF(IF(AND(F323=\"0 Tot\",G323=\"al\"),\"\",F323)=0,\"\",IF(F323=\"0 Tot\",\"\",F323))","v":""},{"$f":"IF(IF(AND(G323=\"0 Tot\",H323=\"al\"),\"\",G323)=0,\"\",IF(G323=\"0 Tot\",\"\",G323))","v":""},{"$f":"IF(IF(AND(H323=\"0 Tot\",I323=\"al\"),\"\",H323)=0,\"\",IF(H323=\"0 Tot\",\"\",H323))","v":""},"",""]
["",0,0,0,0,0,0,0,0,0,"","","","","","","","","",""]
["",0,0,0,0,0,0,0,0,0,"","","","","","","","","",""]
["",0,0,0,0,0,0,0,0,0,"","","","","","","","","",""]
["",0,0,0,0,0,0,0,0,0,"","","","","","","","","",""]
["",0,0,0,0,0,0,0,0,0,"","","","","","","","","",""]
["",0,0,0,0,0,0,0,0,0,"","","","","","","","","",""]
["",0,0,0,0,0,0,0,0,0,"","","","","","","","","",""]
["",0,0,0,0,0,0,0,0,0,"","","","","","","","","",""]
["",0,0,0,0,0,0,0,0,0,"","","","","","","","","",""]
["",0,0,0,0,0,0,0,0,0,"","","","","","","","","",""]
["",0,0,0,0,0,0,0,0,0,"","","","","","","","","",""]
["",0,0,0,0,0,0,0,0,0,"","","","","","","","","",""]
["",0,0,0,0,0,0,0,0,0,"","","","","","","","","",""]
["",0,0,0,0,0,0,0,0,0,"","","","","","","","","",""]
["",0,0,0,0,0,0,0,0,0,"","","","","","","","","",""]
["",0,0,0,0,0,0,0,0,0,"","","","","","","","","",""]
["",0,0,0,0,0,0,0,0,0,"","","","","","","","","",""]
["",0,0,0,0,0,0,0,0,0,"","","","","","","","","",""]
["",0,0,0,0,0,0,0,0,0,"","","","","","","","","",""]
["",0,0,0,0,0,0,0,0,0,"","","","","","","","","",""]
["",0,0,0,0,0,0,0,0,0,"","","","","","","","","",""]
["",0,0,0,0,0,0,0,0,0,"","","","","","","","","",""]
["",0,0,0,0,0,0,0,0,0,"","","","","","","","","",""]
["",0,0,0,0,0,0,0,0,0,"","","","","","","","","",""]
["",0,0,0,0,0,0,0,0,0,"","","","","","","","","",""]
["",0,0,0,0,0,0,0,0,0,"","","","","","","","","",""]
["",0,0,0,0,0,0,0,0,0,"","","","","","","","","",""]
["",0,0,0,0,0,0,0,0,0,"","","","","","","","","",""]
["",0,0,0,0,0,0,0,0,0,"","","","","","","","","",""]
["",0,0,0,0,0,0,0,0,0,"","","","","","","","","",""]
["",0,0,0,0,0,0,0,0,0,"","","","","","","","","",""]
["",0,0,0,0,0,0,0,0,0,"","","","","","","","","",""]
["",0,0,0,0,0,0,0,0,0,"","","","","","","","","",""]
["",0,0,0,0,0,0,0,0,0,"","","","","","","","","",""]
["",0,0,0,0,0,0,0,0,0,"","","","","","","","","",""]
["",0,0,0,0,0,0,0,0,0,"","","","","","","","","",""]
["",0,0,0,0,0,0,0,0,0,"","","","","","","","","",""]
["",0,0,0,0,0,0,0,0,0,"","","","","","","","","",""]
["",0,0,0,0,0,0,0,0,0,"","","","","","","","","",""]
["",0,0,0,0,0,0,0,0,0,"","","","","","","","","",""]
["",0,0,0,0,0,0,0,0,0,"","","","","","","","","",""]
["",0,0,0,0,0,0,0,0,0,"","","","","","","","","",""]
["",0,0,0,0,0,0,0,0,0,"","","","","","","","","",""]
["",0,0,0,0,0,0,0,0,0,"","","","","","","","","",""]
["",0,0,0,0,0,0,0,0,0,"","","","","","","","","",""]
["",0,0,0,0,0,0,0,0,0,"","","","","","","","","",""]
["",0,0,0,0,0,0,0,0,0,"","","","","","","","","",""]
["",0,0,0,0,0,0,0,0,0,"","","","","","","","","",""]
["",0,0,0,0,0,0,0,0,0,"","","","","","","","","",""]
["",0,0,0,0,0,0,0,0,0,"","","","","","","","","",""]
["",0,0,0,0,0,0,0,0,0,"","","","","","","","","",""]
["",0,0,0,0,0,0,0,0,0,"","","","","","","","","",""]
["",0,0,0,0,0,0,0,0,0,"","","","","","","","","",""]
["",0,0,0,0,0,0,0,0,0,"","","","","","","","","",""]
["",0,0,0,0,0,0,0,0,0,"","","","","","","","","",""]
["",0,0,0,0,0,0,0,0,0,"","","","","","","","","",""]
["",0,0,0,0,0,0,0,0,0,"","","","","","","","","",""]
["",0,0,0,0,0,0,0,0,0,"","","","","","","","","",""]
["",0,0,0,0,0,0,0,0,0,"","","","","","","","","",""]
["",0,0,0,0,0,0,0,0,0,"","","","","","","","","",""]
["",0,0,0,0,0,0,0,0,0,"","","","","","","","","",""]
["",0,0,0,0,0,0,0,0,0,"","","","","","","","","",""]
["",0,0,0,0,0,0,0,0,0,"","","","","","","","","",""]
["",0,0,0,0,0,0,0,0,0,{"$f":"IF(IF(AND(A387=\"0 Tot\",B387=\"al\"),\"\",A387)=0,\"\",IF(A387=\"0 Tot\",\"\",A387))","v":""},{"$f":"IF(IF(AND(B387=\"0 Tot\",C387=\"al\"),\"\",B387)=0,\"\",IF(B387=\"0 Tot\",\"\",B387))","v":""},{"$f":"IF(IF(AND(C387=\"0 Tot\",D387=\"al\"),\"\",C387)=0,\"\",IF(C387=\"0 Tot\",\"\",C387))","v":""},{"$f":"IF(IF(AND(D387=\"0 Tot\",E387=\"al\"),\"\",D387)=0,\"\",IF(D387=\"0 Tot\",\"\",D387))","v":""},{"$f":"IF(IF(AND(E387=\"0 Tot\",F387=\"al\"),\"\",E387)=0,\"\",IF(E387=\"0 Tot\",\"\",E387))","v":""},{"$f":"IF(IF(AND(F387=\"0 Tot\",G387=\"al\"),\"\",F387)=0,\"\",IF(F387=\"0 Tot\",\"\",F387))","v":""},{"$f":"IF(IF(AND(G387=\"0 Tot\",H387=\"al\"),\"\",G387)=0,\"\",IF(G387=\"0 Tot\",\"\",G387))","v":""},{"$f":"IF(IF(AND(H387=\"0 Tot\",I387=\"al\"),\"\",H387)=0,\"\",IF(H387=\"0 Tot\",\"\",H387))","v":""},"",""]
["",0,0,0,0,0,0,0,0,0,"","","","","","","","","",""]
["",0,0,0,0,0,0,0,0,0,"","","","","","","","","",""]
["",0,0,0,0,0,0,0,0,0,"","","","","","","","","",""]
["",0,0,0,0,0,0,0,0,0,"","","","","","","","","",""]
["",0,0,0,0,0,0,0,0,0,"","","","","","","","","",""]
["",0,0,0,0,0,0,0,0,0,"","","","","","","","","",""]
["",0,0,0,0,0,0,0,0,0,"","","","","","","","","",""]
["",0,0,0,0,0,0,0,0,0,"","","","","","","","","",""]
["",0,0,0,0,0,0,0,0,0,"","","","","","","","","",""]
["",0,0,0,0,0,0,0,0,0,"","","","","","","","","",""]
["",0,0,0,0,0,0,0,0,0,"","","","","","","","","",""]
["",0,0,0,0,0,0,0,0,0,"","","","","","","","","",""]
["",0,0,0,0,0,0,0,0,0,"","","","","","","","","",""]
["",0,0,0,0,0,0,0,0,0,"","","","","","","","","",""]
["",0,0,0,0,0,0,0,0,0,"","","","","","","","","",""]
["",0,0,0,0,0,0,0,0,0,"","","","","","","","","",""]
["",0,0,0,0,0,0,0,0,0,"","","","","","","","","",""]
["",0,0,0,0,0,0,0,0,0,"","","","","","","","","",""]
["",0,0,0,0,0,0,0,0,0,"","","","","","","","","",""]
["",0,0,0,0,0,0,0,0,0,"","","","","","","","","",""]
["",0,0,0,0,0,0,0,0,0,"","","","","","","","","",""]
["",0,0,0,0,0,0,0,0,0,"","","","","","","","","",""]
["",0,0,0,0,0,0,0,0,0,"","","","","","","","","",""]
["",0,0,0,0,0,0,0,0,0,"","","","","","","","","",""]
["",0,0,0,0,0,0,0,0,0,"","","","","","","","","",""]
["",0,0,0,0,0,0,0,0,0,"","","","","","","","","",""]
["",0,0,0,0,0,0,0,0,0,"","","","","","","","","",""]
["",0,0,0,0,0,0,0,0,0,"","","","","","","","","",""]
["",0,0,0,0,0,0,0,0,0,"","","","","","","","","",""]
["",0,0,0,0,0,0,0,0,0,"","","","","","","","","",""]
["",0,0,0,0,0,0,0,0,0,"","","","","","","","","",""]
["",0,0,0,0,0,0,0,0,0,"","","","","","","","","",""]
["",0,0,0,0,0,0,0,0,0,"","","","","","","","","",""]
["",0,0,0,0,0,0,0,0,0,"","","","","","","","","",""]
["",0,0,0,0,0,0,0,0,0,"","","","","","","","","",""]
["",0,0,0,0,0,0,0,0,0,"","","","","","","","","",""]
["",0,0,0,0,0,0,0,0,0,"","","","","","","","","",""]
["",0,0,0,0,0,0,0,0,0,"","","","","","","","","",""]
["",0,0,0,0,0,0,0,0,0,"","","","","","","","","",""]
["",0,0,0,0,0,0,0,0,0,"","","","","","","","","",""]
["",0,0,0,0,0,0,0,0,0,"","","","","","","","","",""]
["",0,0,0,0,0,0,0,0,0,"","","","","","","","","",""]
["",0,0,0,0,0,0,0,0,0,"","","","","","","","","",""]
["",0,0,0,0,0,0,0,0,0,"","","","","","","","","",""]
["",0,0,0,0,0,0,0,0,0,"","","","","","","","","",""]
["",0,0,0,0,0,0,0,0,0,"","","","","","","","","",""]
["",0,0,0,0,0,0,0,0,0,"","","","","","","","","",""]
["",0,0,0,0,0,0,0,0,0,"","","","","","","","","",""]
["",0,0,0,0,0,0,0,0,0,"","","","","","","","","",""]
["",0,0,0,0,0,0,0,0,0,"","","","","","","","","",""]
["",0,0,0,0,0,0,0,0,0,"","","","","","","","","",""]
["",0,0,0,0,0,0,0,0,0,"","","","","","","","","",""]
["",0,0,0,0,0,0,0,0,0,"","","","","","","","","",""]
["",0,0,0,0,0,0,0,0,0,"","","","","","","","","",""]
["",0,0,0,0,0,0,0,0,0,"","","","","","","","","",""]
["",0,0,0,0,0,0,0,0,0,"","","","","","","","","",""]
["",0,0,0,0,0,0,0,0,0,"","","","","","","","","",""]
["",0,0,0,0,0,0,0,0,0,"","","","","","","","","",""]
["",0,0,0,0,0,0,0,0,0,"","","","","","","","","",""]
["",0,0,0,0,0,0,0,0,0,"","","","","","","","","",""]
["",0,0,0,0,0,0,0,0,0,"","","","","","","","","",""]
["",0,0,0,0,0,0,0,0,0,"","","","","","","","","",""]
["",0,0,0,0,0,0,0,0,0,"","","","","","","","","",""]
["",0,0,0,0,0,0,0,0,0,{"$f":"IF(IF(AND(A451=\"0 Tot\",B451=\"al\"),\"\",A451)=0,\"\",IF(A451=\"0 Tot\",\"\",A451))","v":""},{"$f":"IF(IF(AND(B451=\"0 Tot\",C451=\"al\"),\"\",B451)=0,\"\",IF(B451=\"0 Tot\",\"\",B451))","v":""},{"$f":"IF(IF(AND(C451=\"0 Tot\",D451=\"al\"),\"\",C451)=0,\"\",IF(C451=\"0 Tot\",\"\",C451))","v":""},{"$f":"IF(IF(AND(D451=\"0 Tot\",E451=\"al\"),\"\",D451)=0,\"\",IF(D451=\"0 Tot\",\"\",D451))","v":""},{"$f":"IF(IF(AND(E451=\"0 Tot\",F451=\"al\"),\"\",E451)=0,\"\",IF(E451=\"0 Tot\",\"\",E451))","v":""},{"$f":"IF(IF(AND(F451=\"0 Tot\",G451=\"al\"),\"\",F451)=0,\"\",IF(F451=\"0 Tot\",\"\",F451))","v":""},{"$f":"IF(IF(AND(G451=\"0 Tot\",H451=\"al\"),\"\",G451)=0,\"\",IF(G451=\"0 Tot\",\"\",G451))","v":""},{"$f":"IF(IF(AND(H451=\"0 Tot\",I451=\"al\"),\"\",H451)=0,\"\",IF(H451=\"0 Tot\",\"\",H451))","v":""},"",""]
["",0,0,0,0,0,0,0,0,0,"","","","","","","","","",""]
["",0,0,0,0,0,0,0,0,0,"","","","","","","","","",""]
["",0,0,0,0,0,0,0,0,0,"","","","","","","","","",""]
["",0,0,0,0,0,0,0,0,0,"","","","","","","","","",""]
["",0,0,0,0,0,0,0,0,0,"","","","","","","","","",""]
["",0,0,0,0,0,0,0,0,0,"","","","","","","","","",""]
["",0,0,0,0,0,0,0,0,0,"","","","","","","","","",""]
["",0,0,0,0,0,0,0,0,0,"","","","","","","","","",""]
["",0,0,0,0,0,0,0,0,0,"","","","","","","","","",""]
["",0,0,0,0,0,0,0,0,0,"","","","","","","","","",""]
["",0,0,0,0,0,0,0,0,0,"","","","","","","","","",""]
["",0,0,0,0,0,0,0,0,0,"","","","","","","","","",""]
["",0,0,0,0,0,0,0,0,0,"","","","","","","","","",""]
["",0,0,0,0,0,0,0,0,0,"","","","","","","","","",""]
["",0,0,0,0,0,0,0,0,0,"","","","","","","","","",""]
["",0,0,0,0,0,0,0,0,0,"","","","","","","","","",""]
["",0,0,0,0,0,0,0,0,0,"","","","","","","","","",""]
["",0,0,0,0,0,0,0,0,0,"","","","","","","","","",""]
["",0,0,0,0,0,0,0,0,0,"","","","","","","","","",""]
["",0,0,0,0,0,0,0,0,0,"","","","","","","","","",""]
["",0,0,0,0,0,0,0,0,0,"","","","","","","","","",""]
["",0,0,0,0,0,0,0,0,0,"","","","","","","","","",""]
["",0,0,0,0,0,0,0,0,0,"","","","","","","","","",""]
["",0,0,0,0,0,0,0,0,0,"","","","","","","","","",""]
["",0,0,0,0,0,0,0,0,0,"","","","","","","","","",""]
["",0,0,0,0,0,0,0,0,0,"","","","","","","","","",""]
["",0,0,0,0,0,0,0,0,0,"","","","","","","","","",""]
["",0,0,0,0,0,0,0,0,0,"","","","","","","","","",""]
["",0,0,0,0,0,0,0,0,0,"","","","","","","","","",""]
["",0,0,0,0,0,0,0,0,0,"","","","","","","","","",""]
["",0,0,0,0,0,0,0,0,0,"","","","","","","","","",""]
["",0,0,0,0,0,0,0,0,0,"","","","","","","","","",""]
["",0,0,0,0,0,0,0,0,0,"","","","","","","","","",""]
["0 Tot","al",0,0,0,0,0,0,0,0,"","al","","","","","","","",""]
["",0,0,0,0,0,0,0,0,0,"","","","","","","","","",""]
["14000","6300",0,10,90,10,5,10,100,50,"14000","6300","",10,90,10,5,10,100,50]
["",0,0,0,0,0,0,0,0,0,{"$f":"IF(IF(AND(A488=\"0 Tot\",B488=\"al\"),\"\",A488)=0,\"\",IF(A488=\"0 Tot\",\"\",A488))","v":""},"","","","","","","","",""]
["14000","6301",0,0,0,0,0,0,0,0,"14000","6301","","","","","","","",""]
["Grand"," Tot",0,10,90,10,5,10,100,50,"Grand"," Tot","",10,90,10,5,10,100,50]
["",0,0,0,0,0,0,0,0,0,"","","","","","","","","",""]
["",0,0,0,0,0,0,0,0,0,"","","","","","","","","",""]
["",0,0,0,0,0,0,0,0,0,"","","","","","","","","",""]
["",0,0,0,0,0,0,0,0,0,"","","","","","","","","",""]
["",0,0,0,0,0,0,0,0,0,"","","","","","","","","",""]
["",0,0,0,0,0,0,0,0,0,"","","","","","","","","",""]
["",0,0,0,0,0,0,0,0,0,"","","","","","","","","",""]
[0,0,0,0,0,0,0,0,0,null,"","","","","","","","","",""]
[0,0,0,0,0,0,0,0,0,null,"","","","","","","","","",""]
[0,0,0,0,0,0,0,0,0,null,"","","","","","","","","",""]
[0,0,0,0,0,0,0,0,0,null,"","","","","","","","","",""]
[0,0,0,0,0,0,0,0,0,null,"","","","","","","","","",""]
[0,0,0,0,0,0,0,0,0,null,"","","","","","","","","",""]
[0,0,0,0,0,0,0,0,0,null,"","","","","","","","","",""]
[0,0,0,0,0,0,0,0,0,null,"","","","","","","","","",""]
[0,0,0,0,0,0,0,0,0,null,"","","","","","","","","",""]
[0,0,0,0,0,0,0,0,0]
[0,0,0,0,0,0,0,0,0]
[0,0,0,0,0,0,0,0,0]
[0,0,0,0,0,0,0,0,0]
[0,0,0,0,0,0,0,0,0]
[0,0,0,0,0,0,0,0,0]
[0,0,0,0,0,0,0,0,0]

{"sheet":"Sheet4","index":7,"n_rows":1,"n_cols":10,"rows_kept":1,"cut":false,"hidden":false,"merged":[]}
["Fund #","Org #","Mileage Charged","Lodging","Meals","Registration","Parking","Ground Trans.","Flight","Other"]

{"sheet":"Print","index":8,"n_rows":0,"n_cols":0,"rows_kept":0,"cut":false,"hidden":false,"merged":[]}